{"text_format":"1","workbook":"xlsx","n_sheets":19,"sheets":["Database","Identitas","catatan","kd","data","KI","induk2","induk","kur","nipts","legerpts","legerpat","nilai","sekolah","raport","pts","mutasi","raport2","raport3"],"not_rendered":{"charts":0,"images":4,"macros":1,"external_links":0,"defined_names":49,"comments":0,"pivot_tables":0},"unopened":[],"bounds":{"document_bytes":16777216,"sheet_cells":100000,"rows_first":2000,"rows_last":500,"rows_between":2000,"halvings":0,"cell_chars":16384,"cell_head_chars":4096},"cells_cut":0,"cells_raw":0,"read":"whole","date_system":"1900"}

{"sheet":"Database","index":0,"n_rows":54,"n_cols":24,"rows_kept":54,"cut":false,"hidden":true,"merged":[[1,7,2,7],[1,11,2,11],[1,12,1,13],[1,0,2,0],[1,1,2,1],[1,2,2,2],[1,3,2,3],[1,6,2,6],[1,5,2,5],[1,4,2,4],[1,8,2,8],[1,14,1,15],[1,16,1,20],[1,21,1,23],[1,10,2,10],[1,9,2,9]]}
[]
["No","No. Induk","NISN","Nama Siswa","Tempat Lahir","Tanggal Lahir","Jenis Kelamin","Agama","Status Anak","Sekolah Tingkat Sebelumnya","Diterima Tanggal","Alamat Siswa","Nama Orang Tua",null,"Pekerjaan Orang Tua",null,"Alamat Orang Tua",null,null,null,null,"Wali Siswa"]
[null,null,null,null,null,null,null,null,null,null,null,null,"Ayah","Ibu","Ayah","Ibu","Jalan","Desa / Kelurahan","Kecamatan","Kabupaten","Provinsi","Nama","Pekerjaan ","Alamat"]
[{"$f":"IF(D4=\"\",\"\",1)","v":1},1234,6786545673,"jaya","Sampang","Jogja/xx-yy-zzzz","Jogja","Heaven","Opa","Free Lance","Bantu sesama"]
[{"$f":"IF(D5=\"\",\"\",MAX($A$4:$A4)+1)","v":2},231,null,"IMG_CTV","Surabaya","Blue Water/xx-yy-zzzz","Blue Water","Heaven","Gadis Desa","Free Lance","Bantu sesama"]
[{"$f":"IF(D6=\"\",\"\",MAX($A$4:$A5)+1)","v":3},null,null,"sadi","Jakarta","Jakarta/10-10-95","Kudus","Rekayasa","Gadis","RS","nlg sesama"]
[{"$f":"IF(D7=\"\",\"\",MAX($A$4:$A6)+1)","v":4},null,null,"INDAH","321","Jakarta/07-07-97","Jogja","Rekayasa","Gadis Kota","MHS","masak"]
[{"$f":"IF(D8=\"\",\"\",MAX($A$4:$A7)+1)","v":5},null,null,"riski",45446,"Jakarta/07-07-97","Jogja","Rekayasa","Gadis Kota","MHS","masak"]
[{"$f":"IF(D9=\"\",\"\",MAX($A$4:$A8)+1)","v":6},null,null,"risal"]
[{"$f":"IF(D10=\"\",\"\",MAX($A$4:$A9)+1)","v":7},null,null,"saya"]
[{"$f":"IF(D11=\"\",\"\",MAX($A$4:$A10)+1)","v":8},null,null,"dia"]
[{"$f":"IF(D12=\"\",\"\",MAX($A$4:$A11)+1)","v":""}]
[{"$f":"IF(D13=\"\",\"\",MAX($A$4:$A12)+1)","v":""}]
[{"$f":"IF(D14=\"\",\"\",MAX($A$4:$A13)+1)","v":""}]
[{"$f":"IF(D15=\"\",\"\",MAX($A$4:$A14)+1)","v":""}]
[{"$f":"IF(D16=\"\",\"\",MAX($A$4:$A15)+1)","v":""}]
[{"$f":"IF(D17=\"\",\"\",MAX($A$4:$A16)+1)","v":""}]
[{"$f":"IF(D18=\"\",\"\",MAX($A$4:$A17)+1)","v":""}]
[{"$f":"IF(D19=\"\",\"\",MAX($A$4:$A18)+1)","v":""}]
[{"$f":"IF(D20=\"\",\"\",MAX($A$4:$A19)+1)","v":""}]
[{"$f":"IF(D21=\"\",\"\",MAX($A$4:$A20)+1)","v":""}]
[{"$f":"IF(D22=\"\",\"\",MAX($A$4:$A21)+1)","v":""}]
[{"$f":"IF(D23=\"\",\"\",MAX($A$4:$A22)+1)","v":""}]
[{"$f":"IF(D24=\"\",\"\",MAX($A$4:$A23)+1)","v":""}]
[{"$f":"IF(D25=\"\",\"\",MAX($A$4:$A24)+1)","v":""}]
[{"$f":"IF(D26=\"\",\"\",MAX($A$4:$A25)+1)","v":""}]
[{"$f":"IF(D27=\"\",\"\",MAX($A$4:$A26)+1)","v":""}]
[{"$f":"IF(D28=\"\",\"\",MAX($A$4:$A27)+1)","v":""}]
[{"$f":"IF(D29=\"\",\"\",MAX($A$4:$A28)+1)","v":""}]
[{"$f":"IF(D30=\"\",\"\",MAX($A$4:$A29)+1)","v":""}]
[{"$f":"IF(D31=\"\",\"\",MAX($A$4:$A30)+1)","v":""}]
[{"$f":"IF(D32=\"\",\"\",MAX($A$4:$A31)+1)","v":""}]
[{"$f":"IF(D33=\"\",\"\",MAX($A$4:$A32)+1)","v":""}]
[{"$f":"IF(D34=\"\",\"\",MAX($A$4:$A33)+1)","v":""}]
[{"$f":"IF(D35=\"\",\"\",MAX($A$4:$A34)+1)","v":""}]
[{"$f":"IF(D36=\"\",\"\",MAX($A$4:$A35)+1)","v":""}]
[{"$f":"IF(D37=\"\",\"\",MAX($A$4:$A36)+1)","v":""}]
[{"$f":"IF(D38=\"\",\"\",MAX($A$4:$A37)+1)","v":""}]
[{"$f":"IF(D39=\"\",\"\",MAX($A$4:$A38)+1)","v":""}]
[{"$f":"IF(D40=\"\",\"\",MAX($A$4:$A39)+1)","v":""}]
[{"$f":"IF(D41=\"\",\"\",MAX($A$4:$A40)+1)","v":""}]
[{"$f":"IF(D42=\"\",\"\",MAX($A$4:$A41)+1)","v":""}]
[{"$f":"IF(D43=\"\",\"\",MAX($A$4:$A42)+1)","v":""}]
[{"$f":"IF(D44=\"\",\"\",MAX($A$4:$A43)+1)","v":""}]
[{"$f":"IF(D45=\"\",\"\",MAX($A$4:$A44)+1)","v":""}]
[{"$f":"IF(D46=\"\",\"\",MAX($A$4:$A45)+1)","v":""}]
[{"$f":"IF(D47=\"\",\"\",MAX($A$4:$A46)+1)","v":""}]
[{"$f":"IF(D48=\"\",\"\",MAX($A$4:$A47)+1)","v":""}]
[{"$f":"IF(D49=\"\",\"\",MAX($A$4:$A48)+1)","v":""}]
[{"$f":"IF(D50=\"\",\"\",MAX($A$4:$A49)+1)","v":""}]
[{"$f":"IF(D51=\"\",\"\",MAX($A$4:$A50)+1)","v":""}]
[{"$f":"IF(D52=\"\",\"\",MAX($A$4:$A51)+1)","v":""}]
[{"$f":"IF(D53=\"\",\"\",MAX($A$4:$A52)+1)","v":""}]
[null,null,null,{"$f":"COUNTA($D$4:$D$53)","v":8}]

{"sheet":"Identitas","index":1,"n_rows":14,"n_cols":7,"rows_kept":14,"cut":false,"hidden":true,"merged":[[5,0,5,2]]}
[]
["PT SUKA BANTU",null,"SUSTER_RS",null,"Max Rec",{"$f":"Database!$D$54","v":8},8]
["JOGJA"]
[]
[]
["DATA"]
["NAMA",{"$f":"VLOOKUP(G2,siswa,4,0)","v":"dia"}]
["NO. KTP                    ",{"$f":"VLOOKUP($B$7,Database!$D$4:$K$102,2,FALSE)","v":0}]
["TEMPAT/TGL LAHIR",{"$f":"VLOOKUP($B$7,Database!$D$4:$K$102,3,FALSE)","v":0}]
["ALAMAT KTP",{"$f":"VLOOKUP($B$7,Database!$D$4:$K$102,4,FALSE)","v":0}]
["ALAMAT SEKARANG",{"$f":"VLOOKUP($B$7,Database!$D$4:$K$102,5,FALSE)","v":0}]
["STATUS",{"$f":"VLOOKUP($B$7,Database!$D$4:$K$102,6,FALSE)","v":0}]
["PEKERJAAN",{"$f":"VLOOKUP($B$7,Database!$D$4:$K$102,7,FALSE)","v":0}]
["HOBI",{"$f":"VLOOKUP($B$7,Database!$D$4:$K$102,8,FALSE)","v":0}]

{"sheet":"catatan","index":2,"n_rows":57,"n_cols":54,"rows_kept":57,"cut":false,"hidden":true,"merged":[[4,0,6,0],[4,1,6,1],[5,20,6,20],[5,21,6,21],[5,22,6,22],[4,20,4,23],[5,23,6,23],[5,5,5,6],[5,13,5,14],[5,15,5,16],[4,5,4,10],[4,18,5,19],[1,1,2,6],[1,10,2,12],[1,16,2,17],[4,11,4,16],[5,11,5,12],[4,17,6,17],[5,7,5,8],[5,9,5,10],[5,4,6,4],[1,7,2,9],[1,13,2,15],[4,2,4,4],[5,2,6,2],[5,3,6,3],[5,47,6,47],[5,48,6,48],[5,34,5,35],[5,36,5,37],[5,42,5,43],[5,38,5,39],[5,40,5,41],[4,44,6,44],[4,32,4,37],[4,38,4,43],[5,32,5,33],[4,27,6,27],[4,28,6,28],[5,29,6,29],[5,30,6,30],[5,31,6,31],[1,52,2,52],[1,20,2,23],[4,45,5,46],[4,47,4,50],[4,51,4,53],[4,24,4,26],[5,49,6,49],[5,50,6,50],[1,25,2,25],[1,47,2,50],[1,34,2,36],[1,40,2,42],[4,29,4,31],[1,28,2,33],[1,37,2,39],[1,43,2,44]]}
[]
[null,{"$f":"\"CATATAN SISWA KELAS   \"&sekolah!$E$20&\"  SEMESTER GANJIL\"","v":"CATATAN SISWA KELAS   9  SEMESTER GANJIL"},null,null,null,null,null,"ISI  KEGIATAN PENGEMBANGAN DIRI DI KOLOM MERAH",null,null,{"$f":"\"CATATAN SISWA KELAS  \"&sekolah!$E$20&\"  SEMESTER GANJIL\"","v":"CATATAN SISWA KELAS  9  SEMESTER GANJIL"},null,null,"ISI EKSTRAKURIKULER DI KOLOM KUNING",null,null,{"$f":"\"CATATAN SISWA KELAS  \"&sekolah!$E$20&\"  SEMESTER GANJIL\"","v":"CATATAN SISWA KELAS  9  SEMESTER GANJIL"},null,null,null,"DIAGNOSA KESEHATAN SISWA BISA DIUBAH SESUAI KEBUTUHAN SEKOLAH BILA INGIN DITAMBAH TAMBAH DIKOLOM KUNING",null,null,null,null,"ISI PRESTASI SISWA DIKOLOM MERAH",null,null,{"$f":"\"CATATAN SISWA KELAS   \"&sekolah!$E$20&\"  SEMESTER GENAP\"","v":"CATATAN SISWA KELAS   9  SEMESTER GENAP"},null,null,null,null,null,"ISI  KEGIATAN PENGEMBANGAN DIRI DI KOLOM MERAH",null,null,{"$f":"\"CATATAN SISWA KELAS   \"&sekolah!$E$20&\"  SEMESTER GENAP\"","v":"CATATAN SISWA KELAS   9  SEMESTER GENAP"},null,null,"ISI EKSTRAKURIKULER DI KOLOM KUNING",null,null,{"$f":"\"CATATAN SISWA KELAS   \"&sekolah!$E$20&\"  SEMESTER GENAP\"","v":"CATATAN SISWA KELAS   9  SEMESTER GENAP"},null,null,null,"DIAGNOSA KESEHATAN SISWA BISA DIUBAH SESUAI KEBUTUHAN SEKOLAH BILA INGIN DITAMBAH TAMBAH DIKOLOM KUNING",null,null,null,null,"ISI PRESTASI SISWA DIKOLOM MERAH"]
[]
["1","2","3","4","5","6","7","8","9","10","11","12","13","14","15","16","17","18","19","20","21","22","23","24","25","26","27"]
["NO","NAMA SISWA","DAFTAR HADIR SISWA",null,null,"BENTUK KEGIATAN PENGEMBANGAN DIRI",null,null,null,null,null,"EKSTRAKURIKULER",null,null,null,null,null,"SARAN - SARAN / CATATAN SISWA","TINGGI DAN BERAT BADAN SISWA SEMESTER 1",null,"DIAGNOSA KONDISI KESEHATAN SISWA",null,null,null,"JENIS KEGIATAN PRESTASI SISWA",null,null,"NO","NAMA SISWA","DAFTAR HADIR SISWA",null,null,"BENTUK KEGIATAN PENGEMBANGAN DIRI",null,null,null,null,null,"EKSTRAKURIKULER",null,null,null,null,null,"SARAN - SARAN / CATATAN SISWA","TINGGI DAN BERAT BADAN SISWA SEMESTER 2",null,"DIAGNOSA KONDISI KESEHATAN SISWA SEMESTER 2",null,null,null,"JENIS KEGIATAN PRESTASI SISWA"]
[null,null,"Sakit","Izin","Tanpa Keterangan","FERS",null,null,null,null,null,null,null,null,null,null,null,null,null,null,"Pendengaran","Penglihatan","Gigi","lainnya",null,null,null,null,null,"Sakit","Izin","Tanpa Keterangan",{"$f":"IF(F6=\"\",\"\",F46)","v":0},null,{"$f":"IF(H6=\"\",\"\",H46)","v":""},null,{"$f":"IF(J6=\"\",\"\",J46)","v":""},null,{"$f":"IF(L6=\"\",\"\",L6)","v":""},null,{"$f":"IF(N6=\"\",\"\",N6)","v":""},null,{"$f":"IF(P6=\"\",\"\",P6)","v":""},null,null,null,null,"Pendengaran","Penglihatan","Gigi","Lainnya",{"$f":"IF(Y6=\"\",\"\",Y6)","v":""},{"$f":"IF(Z6=\"\",\"\",Z6)","v":""},{"$f":"IF(AA6=\"\",\"\",AA6)","v":""}]
[null,null,null,null,null,"NILAI","DESKRIPSI","NILAI","DESKRIPSI","NILAI","DESKRIPSI","NILAI","DESKRIPSI","NILAI","DESKRIPSI","NILAI","DESKRIPSI",null,"Tinggi badan","Berat badan",null,null,null,null,"Keterangan prestasi","Keterangan prestasi","Keterangan prestasi",null,null,null,null,null,"NILAI","DESKRIPSI","NILAI","DESKRIPSI","NILAI","DESKRIPSI","NILAI","DESKRIPSI","NILAI","DESKRIPSI","NILAI","DESKRIPSI",null,"Tinggi badan","Berat badan",null,null,null,null,"Keterangan","Keterangan","Keterangan"]
[{"$f":"IF(Database!$A4=\"\",\"\",Database!$A4)","v":1},{"$f":"IF(Database!$D4=\"\",\"\",Database!$D4)","v":"jaya"},"-","-","-",null,null,null,null,null,null,null,null,null,null,null,null,null,125,null,"langsung nyaman",null,null,null,null,null,null,{"$f":"IF(AC8=\"\",\"\",1)","v":1},{"$f":"IF(Database!$D4=\"\",\"\",Database!$D4)","v":"jaya"},"-","-","-",null,null,null,null,null,null,null,null,null,null,null,null,"ananda erfan sangat baik mohon pertahankan"]
[{"$f":"IF(Database!$A5=\"\",\"\",Database!$A5)","v":2},{"$f":"IF(Database!$D5=\"\",\"\",Database!$D5)","v":"IMG_CTV"},"-","-","-",null,null,null,null,null,null,null,null,null,null,null,null,null,null,null,null,null,"lobeng",null,null,null,null,{"$f":"IF(AC9=\"\",\"\",MAX($AB$8:AB8)+1)","v":2},{"$f":"IF(Database!$D5=\"\",\"\",Database!$D5)","v":"IMG_CTV"},"-","-","-"]
[{"$f":"IF(Database!$A6=\"\",\"\",Database!$A6)","v":3},{"$f":"IF(Database!$D6=\"\",\"\",Database!$D6)","v":"sadi"},"-","-","-",null,null,null,null,null,null,null,null,null,null,null,null,null,null,null,"tak ngeding",null,null,null,null,null,null,{"$f":"IF(AC10=\"\",\"\",MAX($AB$8:AB9)+1)","v":3},{"$f":"IF(Database!$D6=\"\",\"\",Database!$D6)","v":"sadi"},"-","-","-"]
[{"$f":"IF(Database!$A7=\"\",\"\",Database!$A7)","v":4},{"$f":"IF(Database!$D7=\"\",\"\",Database!$D7)","v":"INDAH"},"-","-","-",null,null,null,null,null,null,null,null,null,null,null,null,null,null,null,null,null,null,null,null,null,null,{"$f":"IF(AC11=\"\",\"\",MAX($AB$8:AB10)+1)","v":4},{"$f":"IF(Database!$D7=\"\",\"\",Database!$D7)","v":"INDAH"},"-","-","-"]
[{"$f":"IF(Database!$A8=\"\",\"\",Database!$A8)","v":5},{"$f":"IF(Database!$D8=\"\",\"\",Database!$D8)","v":"riski"},"-","-","-",null,null,null,null,null,null,null,null,null,null,null,null,null,null,null,null,null,null,null,null,null,null,{"$f":"IF(AC12=\"\",\"\",MAX($AB$8:AB11)+1)","v":5},{"$f":"IF(Database!$D8=\"\",\"\",Database!$D8)","v":"riski"},"-","-","-"]
[{"$f":"IF(Database!$A9=\"\",\"\",Database!$A9)","v":6},{"$f":"IF(Database!$D9=\"\",\"\",Database!$D9)","v":"risal"},"-","-","-",null,null,null,null,null,null,null,null,null,null,null,null,null,null,null,null,null,null,null,null,null,null,{"$f":"IF(AC13=\"\",\"\",MAX($AB$8:AB12)+1)","v":6},{"$f":"IF(Database!$D9=\"\",\"\",Database!$D9)","v":"risal"},"-","-","-"]
[{"$f":"IF(Database!$A10=\"\",\"\",Database!$A10)","v":7},{"$f":"IF(Database!$D10=\"\",\"\",Database!$D10)","v":"saya"},"-","-","-",null,null,null,null,null,null,null,null,null,null,null,null,null,null,null,null,null,null,null,null,null,null,{"$f":"IF(AC14=\"\",\"\",MAX($AB$8:AB13)+1)","v":7},{"$f":"IF(Database!$D10=\"\",\"\",Database!$D10)","v":"saya"},"-","-","-"]
[{"$f":"IF(Database!$A11=\"\",\"\",Database!$A11)","v":8},{"$f":"IF(Database!$D11=\"\",\"\",Database!$D11)","v":"dia"},"-","-","-",null,null,null,null,null,null,null,null,null,null,null,null,null,null,null,null,null,null,null,null,null,null,{"$f":"IF(AC15=\"\",\"\",MAX($AB$8:AB14)+1)","v":8},{"$f":"IF(Database!$D11=\"\",\"\",Database!$D11)","v":"dia"},"-","-","-"]
[{"$f":"IF(Database!$A12=\"\",\"\",Database!$A12)","v":""},{"$f":"IF(Database!$D12=\"\",\"\",Database!$D12)","v":""},"-","-","-",null,null,null,null,null,null,null,null,null,null,null,null,null,null,null,null,null,null,null,null,null,null,{"$f":"IF(AC16=\"\",\"\",MAX($AB$8:AB15)+1)","v":""},{"$f":"IF(Database!$D12=\"\",\"\",Database!$D12)","v":""},"-","-","-"]
[{"$f":"IF(Database!$A13=\"\",\"\",Database!$A13)","v":""},{"$f":"IF(Database!$D13=\"\",\"\",Database!$D13)","v":""},"-","-","-",null,null,null,null,null,null,null,null,null,null,null,null,null,null,null,null,null,null,null,null,null,null,{"$f":"IF(AC17=\"\",\"\",MAX($AB$8:AB16)+1)","v":""},{"$f":"IF(Database!$D13=\"\",\"\",Database!$D13)","v":""},"-","-","-"]
[{"$f":"IF(Database!$A14=\"\",\"\",Database!$A14)","v":""},{"$f":"IF(Database!$D14=\"\",\"\",Database!$D14)","v":""},"-","-","-",null,null,null,null,null,null,null,null,null,null,null,null,null,null,null,null,null,null,null,null,null,null,{"$f":"IF(AC18=\"\",\"\",MAX($AB$8:AB17)+1)","v":""},{"$f":"IF(Database!$D14=\"\",\"\",Database!$D14)","v":""},"-","-","-"]
[{"$f":"IF(Database!$A15=\"\",\"\",Database!$A15)","v":""},{"$f":"IF(Database!$D15=\"\",\"\",Database!$D15)","v":""},"-","-","-",null,null,null,null,null,null,null,null,null,null,null,null,null,null,null,null,null,null,null,null,null,null,{"$f":"IF(AC19=\"\",\"\",MAX($AB$8:AB18)+1)","v":""},{"$f":"IF(Database!$D15=\"\",\"\",Database!$D15)","v":""},"-","-","-"]
[{"$f":"IF(Database!$A16=\"\",\"\",Database!$A16)","v":""},{"$f":"IF(Database!$D16=\"\",\"\",Database!$D16)","v":""},"-","-","-",null,null,null,null,null,null,null,null,null,null,null,null,null,null,null,null,null,null,null,null,null,null,{"$f":"IF(AC20=\"\",\"\",MAX($AB$8:AB19)+1)","v":""},{"$f":"IF(Database!$D16=\"\",\"\",Database!$D16)","v":""},"-","-","-"]
[{"$f":"IF(Database!$A17=\"\",\"\",Database!$A17)","v":""},{"$f":"IF(Database!$D17=\"\",\"\",Database!$D17)","v":""},"-","-","-",null,null,null,null,null,null,null,null,null,null,null,null,null,null,null,null,null,null,null,null,null,null,{"$f":"IF(AC21=\"\",\"\",MAX($AB$8:AB20)+1)","v":""},{"$f":"IF(Database!$D17=\"\",\"\",Database!$D17)","v":""},"-","-","-"]
[{"$f":"IF(B22=\"\",\"\",MAX($A$8:A21)+1)","v":""},{"$f":"IF(Database!$D18=\"\",\"\",Database!$D18)","v":""},"-","-","-",null,null,null,null,null,null,null,null,null,null,null,null,null,null,null,null,null,null,null,null,null,null,{"$f":"IF(AC22=\"\",\"\",MAX($AB$8:AB21)+1)","v":""},{"$f":"IF(Database!$D18=\"\",\"\",Database!$D18)","v":""},"-","-","-"]
[{"$f":"IF(B23=\"\",\"\",MAX($A$8:A22)+1)","v":""},{"$f":"IF(Database!$D19=\"\",\"\",Database!$D19)","v":""},"-","-","-",null,null,null,null,null,null,null,null,null,null,null,null,null,null,null,null,null,null,null,null,null,null,{"$f":"IF(AC23=\"\",\"\",MAX($AB$8:AB22)+1)","v":""},{"$f":"IF(Database!$D19=\"\",\"\",Database!$D19)","v":""},"-","-","-"]
[{"$f":"IF(B24=\"\",\"\",MAX($A$8:A23)+1)","v":""},{"$f":"IF(Database!$D20=\"\",\"\",Database!$D20)","v":""},"-","-","-",null,null,null,null,null,null,null,null,null,null,null,null,null,null,null,null,null,null,null,null,null,null,{"$f":"IF(AC24=\"\",\"\",MAX($AB$8:AB23)+1)","v":""},{"$f":"IF(Database!$D20=\"\",\"\",Database!$D20)","v":""},"-","-","-"]
[{"$f":"IF(B25=\"\",\"\",MAX($A$8:A24)+1)","v":""},{"$f":"IF(Database!$D21=\"\",\"\",Database!$D21)","v":""},"-","-","-",null,null,null,null,null,null,null,null,null,null,null,null,null,null,null,null,null,null,null,null,null,null,{"$f":"IF(AC25=\"\",\"\",MAX($AB$8:AB24)+1)","v":""},{"$f":"IF(Database!$D21=\"\",\"\",Database!$D21)","v":""},"-","-","-"]
[{"$f":"IF(B26=\"\",\"\",MAX($A$8:A25)+1)","v":""},{"$f":"IF(Database!$D22=\"\",\"\",Database!$D22)","v":""},"-","-","-",null,null,null,null,null,null,null,null,null,null,null,null,null,null,null,null,null,null,null,null,null,null,{"$f":"IF(AC26=\"\",\"\",MAX($AB$8:AB25)+1)","v":""},{"$f":"IF(Database!$D22=\"\",\"\",Database!$D22)","v":""},"-","-","-"]
[{"$f":"IF(B27=\"\",\"\",MAX($A$8:A26)+1)","v":""},{"$f":"IF(Database!$D23=\"\",\"\",Database!$D23)","v":""},null,null,null,null,null,null,null,null,null,null,null,null,null,null,null,null,null,null,null,null,null,null,null,null,null,{"$f":"IF(AC27=\"\",\"\",MAX($AB$8:AB26)+1)","v":""},{"$f":"IF(Database!$D23=\"\",\"\",Database!$D23)","v":""}]
[{"$f":"IF(B28=\"\",\"\",MAX($A$8:A27)+1)","v":""},{"$f":"IF(Database!$D24=\"\",\"\",Database!$D24)","v":""},null,null,null,null,null,null,null,null,null,null,null,null,null,null,null,null,null,null,null,null,null,null,null,null,null,{"$f":"IF(AC28=\"\",\"\",MAX($AB$8:AB27)+1)","v":""},{"$f":"IF(Database!$D24=\"\",\"\",Database!$D24)","v":""}]
[{"$f":"IF(B29=\"\",\"\",MAX($A$8:A28)+1)","v":""},{"$f":"IF(Database!$D25=\"\",\"\",Database!$D25)","v":""},null,null,null,null,null,null,null,null,null,null,null,null,null,null,null,null,null,null,null,null,null,null,null,null,null,{"$f":"IF(AC29=\"\",\"\",MAX($AB$8:AB28)+1)","v":""},{"$f":"IF(Database!$D25=\"\",\"\",Database!$D25)","v":""}]
[{"$f":"IF(B30=\"\",\"\",MAX($A$8:A29)+1)","v":""},{"$f":"IF(Database!$D26=\"\",\"\",Database!$D26)","v":""},null,null,null,null,null,null,null,null,null,null,null,null,null,null,null,null,null,null,null,null,null,null,null,null,null,{"$f":"IF(AC30=\"\",\"\",MAX($AB$8:AB29)+1)","v":""},{"$f":"IF(Database!$D26=\"\",\"\",Database!$D26)","v":""}]
[{"$f":"IF(B31=\"\",\"\",MAX($A$8:A30)+1)","v":""},{"$f":"IF(Database!$D27=\"\",\"\",Database!$D27)","v":""},null,null,null,null,null,null,null,null,null,null,null,null,null,null,null,null,null,null,null,null,null,null,null,null,null,{"$f":"IF(AC31=\"\",\"\",MAX($AB$8:AB30)+1)","v":""},{"$f":"IF(Database!$D27=\"\",\"\",Database!$D27)","v":""}]
[{"$f":"IF(B32=\"\",\"\",MAX($A$8:A31)+1)","v":""},{"$f":"IF(Database!$D28=\"\",\"\",Database!$D28)","v":""},null,null,null,null,null,null,null,null,null,null,null,null,null,null,null,null,null,null,null,null,null,null,null,null,null,{"$f":"IF(AC32=\"\",\"\",MAX($AB$8:AB31)+1)","v":""},{"$f":"IF(Database!$D28=\"\",\"\",Database!$D28)","v":""}]
[{"$f":"IF(B33=\"\",\"\",MAX($A$8:A32)+1)","v":""},{"$f":"IF(Database!$D29=\"\",\"\",Database!$D29)","v":""},null,null,null,null,null,null,null,null,null,null,null,null,null,null,null,null,null,null,null,null,null,null,null,null,null,{"$f":"IF(AC33=\"\",\"\",MAX($AB$8:AB32)+1)","v":""},{"$f":"IF(Database!$D29=\"\",\"\",Database!$D29)","v":""}]
[{"$f":"IF(B34=\"\",\"\",MAX($A$8:A33)+1)","v":""},{"$f":"IF(Database!$D30=\"\",\"\",Database!$D30)","v":""},null,null,null,null,null,null,null,null,null,null,null,null,null,null,null,null,null,null,null,null,null,null,null,null,null,{"$f":"IF(AC34=\"\",\"\",MAX($AB$8:AB33)+1)","v":""},{"$f":"IF(Database!$D30=\"\",\"\",Database!$D30)","v":""}]
[{"$f":"IF(B35=\"\",\"\",MAX($A$8:A34)+1)","v":""},{"$f":"IF(Database!$D31=\"\",\"\",Database!$D31)","v":""},null,null,null,null,null,null,null,null,null,null,null,null,null,null,null,null,null,null,null,null,null,null,null,null,null,{"$f":"IF(AC35=\"\",\"\",MAX($AB$8:AB34)+1)","v":""},{"$f":"IF(Database!$D31=\"\",\"\",Database!$D31)","v":""}]
[{"$f":"IF(B36=\"\",\"\",MAX($A$8:A35)+1)","v":""},{"$f":"IF(Database!$D32=\"\",\"\",Database!$D32)","v":""},null,null,null,null,null,null,null,null,null,null,null,null,null,null,null,null,null,null,null,null,null,null,null,null,null,{"$f":"IF(AC36=\"\",\"\",MAX($AB$8:AB35)+1)","v":""},{"$f":"IF(Database!$D32=\"\",\"\",Database!$D32)","v":""}]
[{"$f":"IF(B37=\"\",\"\",MAX($A$8:A36)+1)","v":""},{"$f":"IF(Database!$D33=\"\",\"\",Database!$D33)","v":""},null,null,null,null,null,null,null,null,null,null,null,null,null,null,null,null,null,null,null,null,null,null,null,null,null,{"$f":"IF(AC37=\"\",\"\",MAX($AB$8:AB36)+1)","v":""},{"$f":"IF(Database!$D33=\"\",\"\",Database!$D33)","v":""}]
[{"$f":"IF(B38=\"\",\"\",MAX($A$8:A37)+1)","v":""},{"$f":"IF(Database!$D34=\"\",\"\",Database!$D34)","v":""},null,null,null,null,null,null,null,null,null,null,null,null,null,null,null,null,null,null,null,null,null,null,null,null,null,{"$f":"IF(AC38=\"\",\"\",MAX($AB$8:AB37)+1)","v":""},{"$f":"IF(Database!$D34=\"\",\"\",Database!$D34)","v":""}]
[{"$f":"IF(B39=\"\",\"\",MAX($A$8:A38)+1)","v":""},{"$f":"IF(Database!$D35=\"\",\"\",Database!$D35)","v":""},null,null,null,null,null,null,null,null,null,null,null,null,null,null,null,null,null,null,null,null,null,null,null,null,null,{"$f":"IF(AC39=\"\",\"\",MAX($AB$8:AB38)+1)","v":""},{"$f":"IF(Database!$D35=\"\",\"\",Database!$D35)","v":""}]
[{"$f":"IF(B40=\"\",\"\",MAX($A$8:A39)+1)","v":""},{"$f":"IF(Database!$D36=\"\",\"\",Database!$D36)","v":""},null,null,null,null,null,null,null,null,null,null,null,null,null,null,null,null,null,null,null,null,null,null,null,null,null,{"$f":"IF(AC40=\"\",\"\",MAX($AB$8:AB39)+1)","v":""},{"$f":"IF(Database!$D36=\"\",\"\",Database!$D36)","v":""}]
[{"$f":"IF(B41=\"\",\"\",MAX($A$8:A40)+1)","v":""},{"$f":"IF(Database!$D37=\"\",\"\",Database!$D37)","v":""},null,null,null,null,null,null,null,null,null,null,null,null,null,null,null,null,null,null,null,null,null,null,null,null,null,{"$f":"IF(AC41=\"\",\"\",MAX($AB$8:AB40)+1)","v":""},{"$f":"IF(Database!$D37=\"\",\"\",Database!$D37)","v":""}]
[{"$f":"IF(B42=\"\",\"\",MAX($A$8:A41)+1)","v":""},{"$f":"IF(Database!$D38=\"\",\"\",Database!$D38)","v":""},null,null,null,null,null,null,null,null,null,null,null,null,null,null,null,null,null,null,null,null,null,null,null,null,null,{"$f":"IF(AC42=\"\",\"\",MAX($AB$8:AB41)+1)","v":""},{"$f":"IF(Database!$D38=\"\",\"\",Database!$D38)","v":""}]
[{"$f":"IF(B43=\"\",\"\",MAX($A$8:A42)+1)","v":""},{"$f":"IF(Database!$D39=\"\",\"\",Database!$D39)","v":""},null,null,null,null,null,null,null,null,null,null,null,null,null,null,null,null,null,null,null,null,null,null,null,null,null,{"$f":"IF(AC43=\"\",\"\",MAX($AB$8:AB42)+1)","v":""},{"$f":"IF(Database!$D39=\"\",\"\",Database!$D39)","v":""}]
[{"$f":"IF(B44=\"\",\"\",MAX($A$8:A43)+1)","v":""},{"$f":"IF(Database!$D40=\"\",\"\",Database!$D40)","v":""},null,null,null,null,null,null,null,null,null,null,null,null,null,null,null,null,null,null,null,null,null,null,null,null,null,{"$f":"IF(AC44=\"\",\"\",MAX($AB$8:AB43)+1)","v":""},{"$f":"IF(Database!$D40=\"\",\"\",Database!$D40)","v":""}]
[{"$f":"IF(B45=\"\",\"\",MAX($A$8:A44)+1)","v":""},{"$f":"IF(Database!$D41=\"\",\"\",Database!$D41)","v":""},null,null,null,null,null,null,null,null,null,null,null,null,null,null,null,null,null,null,null,null,null,null,null,null,null,{"$f":"IF(AC45=\"\",\"\",MAX($AB$8:AB44)+1)","v":""},{"$f":"IF(Database!$D41=\"\",\"\",Database!$D41)","v":""}]
[{"$f":"IF(B46=\"\",\"\",MAX($A$8:A45)+1)","v":""},{"$f":"IF(Database!$D42=\"\",\"\",Database!$D42)","v":""},null,null,null,null,null,null,null,null,null,null,null,null,null,null,null,null,null,null,null,null,null,null,null,null,null,{"$f":"IF(AC46=\"\",\"\",MAX($AB$8:AB45)+1)","v":""},{"$f":"IF(Database!$D42=\"\",\"\",Database!$D42)","v":""}]
[{"$f":"IF(B47=\"\",\"\",MAX($A$8:A46)+1)","v":""},{"$f":"IF(Database!$D43=\"\",\"\",Database!$D43)","v":""},null,null,null,null,null,null,null,null,null,null,null,null,null,null,null,null,null,null,null,null,null,null,null,null,null,{"$f":"IF(AC47=\"\",\"\",MAX($AB$8:AB46)+1)","v":""},{"$f":"IF(Database!$D43=\"\",\"\",Database!$D43)","v":""}]
[{"$f":"IF(B48=\"\",\"\",MAX($A$8:A47)+1)","v":""},{"$f":"IF(Database!$D44=\"\",\"\",Database!$D44)","v":""},null,null,null,null,null,null,null,null,null,null,null,null,null,null,null,null,null,null,null,null,null,null,null,null,null,{"$f":"IF(AC48=\"\",\"\",MAX($AB$8:AB47)+1)","v":""},{"$f":"IF(Database!$D44=\"\",\"\",Database!$D44)","v":""}]
[{"$f":"IF(B49=\"\",\"\",MAX($A$8:A48)+1)","v":""},{"$f":"IF(Database!$D45=\"\",\"\",Database!$D45)","v":""},null,null,null,null,null,null,null,null,null,null,null,null,null,null,null,null,null,null,null,null,null,null,null,null,null,{"$f":"IF(AC49=\"\",\"\",MAX($AB$8:AB48)+1)","v":""},{"$f":"IF(Database!$D45=\"\",\"\",Database!$D45)","v":""}]
[{"$f":"IF(B50=\"\",\"\",MAX($A$8:A49)+1)","v":""},{"$f":"IF(Database!$D46=\"\",\"\",Database!$D46)","v":""},null,null,null,null,null,null,null,null,null,null,null,null,null,null,null,null,null,null,null,null,null,null,null,null,null,{"$f":"IF(AC50=\"\",\"\",MAX($AB$8:AB49)+1)","v":""},{"$f":"IF(Database!$D46=\"\",\"\",Database!$D46)","v":""}]
[{"$f":"IF(B51=\"\",\"\",MAX($A$8:A50)+1)","v":""},{"$f":"IF(Database!$D47=\"\",\"\",Database!$D47)","v":""},null,null,null,null,null,null,null,null,null,null,null,null,null,null,null,null,null,null,null,null,null,null,null,null,null,{"$f":"IF(AC51=\"\",\"\",MAX($AB$8:AB50)+1)","v":""},{"$f":"IF(Database!$D47=\"\",\"\",Database!$D47)","v":""}]
[{"$f":"IF(B52=\"\",\"\",MAX($A$8:A51)+1)","v":""},{"$f":"IF(Database!$D48=\"\",\"\",Database!$D48)","v":""},null,null,null,null,null,null,null,null,null,null,null,null,null,null,null,null,null,null,null,null,null,null,null,null,null,{"$f":"IF(AC52=\"\",\"\",MAX($AB$8:AB51)+1)","v":""},{"$f":"IF(Database!$D48=\"\",\"\",Database!$D48)","v":""}]
[{"$f":"IF(B53=\"\",\"\",MAX($A$8:A52)+1)","v":""},{"$f":"IF(Database!$D49=\"\",\"\",Database!$D49)","v":""},null,null,null,null,null,null,null,null,null,null,null,null,null,null,null,null,null,null,null,null,null,null,null,null,null,{"$f":"IF(AC53=\"\",\"\",MAX($AB$8:AB52)+1)","v":""},{"$f":"IF(Database!$D49=\"\",\"\",Database!$D49)","v":""}]
[{"$f":"IF(B54=\"\",\"\",MAX($A$8:A53)+1)","v":""},{"$f":"IF(Database!$D50=\"\",\"\",Database!$D50)","v":""},null,null,null,null,null,null,null,null,null,null,null,null,null,null,null,null,null,null,null,null,null,null,null,null,null,{"$f":"IF(AC54=\"\",\"\",MAX($AB$8:AB53)+1)","v":""},{"$f":"IF(Database!$D50=\"\",\"\",Database!$D50)","v":""}]
[{"$f":"IF(B55=\"\",\"\",MAX($A$8:A54)+1)","v":""},{"$f":"IF(Database!$D51=\"\",\"\",Database!$D51)","v":""},null,null,null,null,null,null,null,null,null,null,null,null,null,null,null,null,null,null,null,null,null,null,null,null,null,{"$f":"IF(AC55=\"\",\"\",MAX($AB$8:AB54)+1)","v":""},{"$f":"IF(Database!$D51=\"\",\"\",Database!$D51)","v":""}]
[{"$f":"IF(B56=\"\",\"\",MAX($A$8:A55)+1)","v":""},{"$f":"IF(Database!$D52=\"\",\"\",Database!$D52)","v":""},null,null,null,null,null,null,null,null,null,null,null,null,null,null,null,null,null,null,null,null,null,null,null,null,null,{"$f":"IF(AC56=\"\",\"\",MAX($AB$8:AB55)+1)","v":""},{"$f":"IF(Database!$D52=\"\",\"\",Database!$D52)","v":""}]
[{"$f":"IF(B57=\"\",\"\",MAX($A$8:A56)+1)","v":""},{"$f":"IF(Database!$D53=\"\",\"\",Database!$D53)","v":""},null,null,null,null,null,null,null,null,null,null,null,null,null,null,null,null,null,null,null,null,null,null,null,null,null,{"$f":"IF(AC57=\"\",\"\",MAX($AB$8:AB56)+1)","v":""},{"$f":"IF(Database!$D53=\"\",\"\",Database!$D53)","v":""}]

{"sheet":"kd","index":3,"n_rows":525,"n_cols":21,"rows_kept":525,"cut":false,"hidden":true,"merged":[]}
[]
[]
["INDEKS","KODE","MUATAN PELAJARAN","KELAS","SEMESTER","3.1","3.2","3.3","3.4","3.5","3.6","3.7","3.8","3.9","3.10","3.11","3.12","3.13","3.14","3.15","MAKS"]
[{"$f":"$B4 & TEXT($D4,\"00\") & IF($E4=\"GANJIL\",\"A\",\"B\")","v":"AH01A"},{"$f":"IF(kur!$E$6=\"\",\"\",kur!$E$6)","v":"AH"},{"$f":"IF(kur!$D$6=\"\",\"\",kur!$D$6)","v":"Al-Qur'an Hadits"},1,"GANJIL","mengetahui huruf-huruf hijaiyah dan tanda bacanya (fathah, kasrah, dan dhammah)","mengenal Q.S. al-Fatihah, an-Naas, al-Falaq, al-Ikhlas, dan  al-Lahab",null,null,null,null,null,null,null,null,null,null,null,null,null,{"$f":"COUNTA($F4:$T4)","v":2}]
["AH01B",{"$f":"IF(kur!$E$6=\"\",\"\",kur!$E$6)","v":"AH"},{"$f":"IF(kur!$D$6=\"\",\"\",kur!$D$6)","v":"Al-Qur'an Hadits"},1,"GENAP","mengetahui huruf-huruf hijaiyah dan tanda bacanya (fathatain, kasratain, dammatain, sukun dan tasydid)","mengenal Q.S. an-Nasr dan Quraisy","memahami arti dan isi kandungan hadis tentang kebersihan secara sederhana riwayat Muslim dari Abu Malik al Asy’ari )الطهورشطرالإيمان(",null,null,null,null,null,null,null,null,null,null,null,null,3]
["AA01A",{"$f":"IF(kur!$E$7=\"\",\"\",kur!$E$7)","v":"AA"},{"$f":"IF(kur!$D$7=\"\",\"\",kur!$D$7)","v":"Akidah Akhlak"},1,"GANJIL","mengenal enam rukun iman","mengenal  dua kalimah syahadat sebagai bagian dari rukun Islam yang pertama","mengenal al-Asmaa al-Husnaa (al-Ahad dan al-Khaaliq) melalui kisah Nabi Ibrahim a.s. mencari Tuhannya","memahami perilaku akhlak terpuji hidup bersih, kasih sayang, dan rukun dalam kehidupan sehari-hari","memahami adab mandi dan berpakaian","menjelaskan akhlak tercela hidupkotordalamkehidupansehari-hari dan cara menghindarinya",null,null,null,null,null,null,null,null,null,6]
["AA01B",{"$f":"IF(kur!$E$7=\"\",\"\",kur!$E$7)","v":"AA"},{"$f":"IF(kur!$D$7=\"\",\"\",kur!$D$7)","v":"Akidah Akhlak"},1,"GENAP","mengetahu kalimat","mengenal sifat-sifat Allah SWT. yang terkandung dalam al-Asma’ al-husna (ar-Rahmaan, ar-Rahiim dan as-Samii’)","memahami  adab belajar, bermain, makan dan minum","memahami sikap ramah dan sopan santun terhadap orang tua dan guru ","menjelaskan akhlak tercela berbicara kotor dan bohong/dusta serta cara menghindarinya",null,null,null,null,null,null,null,null,null,null,5]
["FK01A",{"$f":"IF(kur!$E$8=\"\",\"\",kur!$E$8)","v":"FK"},{"$f":"IF(kur!$D$8=\"\",\"\",kur!$D$8)","v":"Fikih"},1,"GANJIL","memahami rukun Islam","memahami syahadatain","memahami kaifiah bersuci dari hadas dan najis",null,null,null,null,null,null,null,null,null,null,null,null,3]
["FK01B",{"$f":"IF(kur!$E$8=\"\",\"\",kur!$E$8)","v":"FK"},{"$f":"IF(kur!$D$8=\"\",\"\",kur!$D$8)","v":"Fikih"},1,"GENAP","memahami ketentuan wudu","memahami tata cara wudu","memahami hikmah wudu",null,null,null,null,null,null,null,null,null,null,null,null,3]
["BA01A",{"$f":"IF(kur!$E$9=\"\",\"\",kur!$E$9)","v":"BA"},{"$f":"IF(kur!$D$9=\"\",\"\",kur!$D$9)","v":"Bahasa Arab"},1,"GANJIL","memahami bunyi dan makna ungkapan sederhana topik: عَمَلُ الكَشْف","memahami bunyi dan makna ungkapan sederhana topik: التَّعَـارُفُ","memahami bunyi dan makna ungkapan sederhana topik: الأَدَوَاتُ الْكِتَابِيَّةُ","memahami bunyi dan makna ungkapan sederhana topik: الأَدَوَاتُ الْمَدْرَسِيَّةُ",null,null,null,null,null,null,null,null,null,null,null,4]
["BA01B",{"$f":"IF(kur!$E$9=\"\",\"\",kur!$E$9)","v":"BA"},{"$f":"IF(kur!$D$9=\"\",\"\",kur!$D$9)","v":"Bahasa Arab"},1,"GENAP","memahami bunyi dan makna ungkapan sederhana topik: العَدَدُ مِنْ ۱  إلَى ۱۰  ","memahami bunyi dan makna ungkapan sederhana topik: أسْـــمَــاءُ الْأَيَّــامِ","memahami bunyi dan makna ungkapan sederhana topik: بَعْضُ أسْمَــاءِ الْفَواَكِهَ","memahami bunyi dan makna ungkapan sederhana topik: بَعْضُ اْلأَلْـــــــوَان",null,null,null,null,null,null,null,null,null,null,null,4]
["PKN01A",{"$f":"IF(kur!$E$12=\"\",\"\",kur!$E$12)","v":"PKN"},{"$f":"IF(kur!$D$12=\"\",\"\",kur!$D$12)","v":"Pendidikan Pancasila dan Kewarganegaaraan"},1,"GANJIL","memahami gambar pada lambang negara “Garuda Pancasila”","mengurutkan aturan yang berlaku dalam kehidupan sehari-hari di rumah","memahami  keberagaman individu di rumah","menggambarkan bentuk kerjasama dalam keberagaman di rumah","memahami adab mandi dan berpakaian","menjelaskan akhlak tercela hidupkotordalamkehidupansehari-hari dan cara menghindarinya",null,null,null,null,null,null,null,null,null,6]
["PKN01B",{"$f":"IF(kur!$E$12=\"\",\"\",kur!$E$12)","v":"PKN"},{"$f":"IF(kur!$D$12=\"\",\"\",kur!$D$12)","v":"Pendidikan Pancasila dan Kewarganegaaraan"},1,"GENAP","memahami gambar pada lambang negara “Garuda Pancasila”","mengurutkan aturan yang berlaku dalam kehidupan sehari-hari di rumah","memahami  keberagaman individu di rumah","menggambarkan bentuk kerjasama dalam keberagaman di rumah","menjelaskan akhlak tercela berbicara kotor dan bohong/dusta serta cara menghindarinya",null,null,null,null,null,null,null,null,null,null,5]
["BIN01A",{"$f":"IF(kur!$E$13=\"\",\"\",kur!$E$13)","v":"BIN"},{"$f":"IF(kur!$D$13=\"\",\"\",kur!$D$13)","v":"Bahasa Indonesia"},1,"GANJIL","memahami kegiatan persiapan membaca permulaan (cara duduk wajar dan baik, jarak antara mata dan buku, cara memegang buku, cara membalik halaman buku, gerakan mata dari kiri ke kanan, memilih tempat)","memahami kegiatan persiapan menulis permulaan (cara duduk, cara memegang pensil, cara meletakkan buku, jarak antara mata dan buku, pemilihan tempat dengan cahaya yang terang) yang benar","memahami lambang bunyi  vokal dan konsonan  dalam kata bahasa Indonesia atau bahasa daerah","memahami kosakata tentang anggota tubuh dan pancaindra serta perawatannya melalui teks pendek (berupa gambar, tulisan, slogan sederhana, dan/atau syair lagu)","memahami kosakata tentang cara memelihara kesehatan melalui teks pendek (berupa gambar, tulisan, dan slogan sederhana)","memahami kosakatabahasa Indonesia tentang berbagai jenis benda di lingkungan sekitar melalui teks pendek (berupa gambar, slogan sederhana, tulisan, dan/atau syair lagu) ","memahami kosakatabahasa Indonesia yang berkaitan dengan peristiwa siang dan malam melalui teks pendek (gambar, tulisan, dan/atau syair lagu)","memahami ungkapan penyampaian terima kasih, permintaan maaf, tolong, dan pemberian pujian, ajakan, pemberitahuan, perintah, dan petunjuk kepada orang lain dengan menggunakan bahasa yang santun","memahami kosakata dan ungkapan perkenalan diri, keluarga, dan orang-orang di tempat tinggalnya secara lisan dan tulis yang dapat dibantu dengan kosakata bahasa daerah","memahami kosakata hubungan  kekeluargaan melalui gambar/bagan silsilah keluarga dalam bahasa Indonesia atau bahasa daerah","memahami puisi anak/syair lagu (berisi ungkapan kekaguman, kebanggaan, hormat kepada orang tua, kasih sayang, atau persahabatan) yang diperdengarkan dengan tujuan untuk kesenangan",null,null,null,null,11]
["BIN01B",{"$f":"IF(kur!$E$13=\"\",\"\",kur!$E$13)","v":"BIN"},{"$f":"IF(kur!$D$13=\"\",\"\",kur!$D$13)","v":"Bahasa Indonesia"},1,"GENAP","memahami kegiatan persiapan membaca permulaan (cara duduk wajar dan baik, jarak antara mata dan buku, cara memegang buku, cara membalik halaman buku, gerakan mata dari kiri ke kanan, memilih tempat)","memahami kegiatan persiapan menulis permulaan (cara duduk, cara memegang pensil, cara meletakkan buku, jarak antara mata dan buku, pemilihan tempat dengan cahaya yang terang) yang benar","memahami lambang bunyi  vokal dan konsonan  dalam kata bahasa Indonesia atau bahasa daerah","memahami kosakata tentang anggota tubuh dan pancaindra serta perawatannya melalui teks pendek (berupa gambar, tulisan, slogan sederhana, dan/atau syair lagu)","memahami kosakata tentang cara memelihara kesehatan melalui teks pendek (berupa gambar, tulisan, dan slogan sederhana)","memahami kosakatabahasa Indonesia tentang berbagai jenis benda di lingkungan sekitar melalui teks pendek (berupa gambar, slogan sederhana, tulisan, dan/atau syair lagu) ","memahami kosakatabahasa Indonesia yang berkaitan dengan peristiwa siang dan malam melalui teks pendek (gambar, tulisan, dan/atau syair lagu)","memahami ungkapan penyampaian terima kasih, permintaan maaf, tolong, dan pemberian pujian, ajakan, pemberitahuan, perintah, dan petunjuk kepada orang lain dengan menggunakan bahasa yang santun","memahami kosakata dan ungkapan perkenalan diri, keluarga, dan orang-orang di tempat tinggalnya secara lisan dan tulis yang dapat dibantu dengan kosakata bahasa daerah","memahami kosakata hubungan  kekeluargaan melalui gambar/bagan silsilah keluarga dalam bahasa Indonesia atau bahasa daerah","memahami puisi anak/syair lagu (berisi ungkapan kekaguman, kebanggaan, hormat kepada orang tua, kasih sayang, atau persahabatan) yang diperdengarkan dengan tujuan untuk kesenangan",null,null,null,null,11]
["MTK01A",{"$f":"IF(kur!$E$14=\"\",\"\",kur!$E$14)","v":"MTK"},{"$f":"IF(kur!$D$14=\"\",\"\",kur!$D$14)","v":"Matematika"},1,"GANJIL","menjelaskan makna bilangan cacah sampai dengan 99 sebagai banyak anggota suatu kumpulan objek","menjelaskan bilangan sampai dua angka dan nilai tempat penyusun lambang bilangan dengan benda konkret","membandingkan dua bilangan sampai dua angka dengan menggunakan kumpulan benda-benda konkret","menjelaskan dan melakukan penjumlahan dan pengurangan bilangan cacah sampai dengan 99","mengenal pola bilangan yang berkaitan dengan kumpulan benda/gambar/gerakan atau lainnya","mengenal bangun ruang dan bangun datar dengan menggunakan berbagai benda konkret","mengidentifikasi bangun datar yang dapat disusun membentuk pola pengubinan ","mengenal dan menentukan panjang dan berat dengan satuan tidak baku menggunakan benda/situasi konkret","membandingkan panjang, berat, lamanya waktu, dan suhu  menggunakan benda/situasi konkret",null,null,null,null,null,null,9]
["MTK01B",{"$f":"IF(kur!$E$14=\"\",\"\",kur!$E$14)","v":"MTK"},{"$f":"IF(kur!$D$14=\"\",\"\",kur!$D$14)","v":"Matematika"},1,"GENAP","menjelaskan makna bilangan cacah sampai dengan 99 sebagai banyak anggota suatu kumpulan objek","menjelaskan bilangan sampai dua angka dan nilai tempat penyusun lambang bilangan dengan benda konkret","membandingkan dua bilangan sampai dua angka dengan menggunakan kumpulan benda-benda konkret","menjelaskan dan melakukan penjumlahan dan pengurangan bilangan cacah sampai dengan 99","mengenal pola bilangan yang berkaitan dengan kumpulan benda/gambar/gerakan atau lainnya","mengenal bangun ruang dan bangun datar dengan menggunakan berbagai benda konkret","mengidentifikasi bangun datar yang dapat disusun membentuk pola pengubinan ","mengenal dan menentukan panjang dan berat dengan satuan tidak baku menggunakan benda/situasi konkret","membandingkan panjang, berat, lamanya waktu, dan suhu  menggunakan benda/situasi konkret",null,null,null,null,null,null,9]
["SB01A",{"$f":"IF(kur!$E$17=\"\",\"\",kur!$E$17)","v":"SB"},{"$f":"IF(kur!$D$17=\"\",\"\",kur!$D$17)","v":"Seni Budaya "},1,"GANJIL","mengenal karya ekspresi dua dan tiga dimensi ","mengenal elemen musik melalui lagu ","mengenal gerak anggota tubuh melalui tari ","mengenal bahan alam dalam berkarya",null,null,null,null,null,null,null,null,null,null,null,4]
["SB01B",{"$f":"IF(kur!$E$17=\"\",\"\",kur!$E$17)","v":"SB"},{"$f":"IF(kur!$D$17=\"\",\"\",kur!$D$17)","v":"Seni Budaya "},1,"GENAP","mengenal karya ekspresi dua dan tiga dimensi ","mengenal elemen musik melalui lagu ","mengenal gerak anggota tubuh melalui tari ","mengenal bahan alam dalam berkarya",null,null,null,null,null,null,null,null,null,null,null,4]
["PJ01A",{"$f":"IF(kur!$E$18=\"\",\"\",kur!$E$18)","v":"PJ"},{"$f":"IF(kur!$D$18=\"\",\"\",kur!$D$18)","v":"Pendidikan Jasmani,Olahraga danKesehatan"},1,"GANJIL","memahami prosedur gerak dasar lokomotor dengan konsep tubuh, ruang, usaha, dan keterhubungan dalam bentuk permainan sederhana","memahami prosedur gerak dasar non-lokomotor dengan konsep tubuh, ruang, usaha, dan keterhubungan dalam bentuk permainan sederhana","memahami prosedur pola gerak dasar manipulatif dengan konsep tubuh, ruang, usaha, dan keterhubungan dalam bentuk permainan sederhana","memahami prosedur  menjaga sikap tubuh (duduk, membaca, berdiri, jalan), bergerak secara lentur dan seimbang dalam pembentukan tubuh","memahami prosedur gerak dominan  (bertumpu, bergantung, keseimbangan, berpindah, tolakan, putaran, ayunan, melayang, dan mendarat)","memahami prosedur gerak dasar lokomotor dan non-lokomotor sesuai dengan irama (ketukan) tanpa/dengan musik","memahami prosedur berbagai pengenalan  aktivitas air dan menjaga keselamatan diri/orang lain dalam aktivitas air","memahami bagian-bagian tubuh, bagian tubuh yang boleh dan tidak disentuh orang lain, cara menjaga kebersihannya, dan kebersihan pakaian",null,null,null,null,null,null,null,8]
["PJ01B",{"$f":"IF(kur!$E$18=\"\",\"\",kur!$E$18)","v":"PJ"},{"$f":"IF(kur!$D$18=\"\",\"\",kur!$D$18)","v":"Pendidikan Jasmani,Olahraga danKesehatan"},1,"GENAP","memahami prosedur gerak dasar lokomotor dengan konsep tubuh, ruang, usaha, dan keterhubungan dalam bentuk permainan sederhana","memahami prosedur gerak dasar non-lokomotor dengan konsep tubuh, ruang, usaha, dan keterhubungan dalam bentuk permainan sederhana","memahami prosedur pola gerak dasar manipulatif dengan konsep tubuh, ruang, usaha, dan keterhubungan dalam bentuk permainan sederhana","memahami prosedur  menjaga sikap tubuh (duduk, membaca, berdiri, jalan), bergerak secara lentur dan seimbang dalam pembentukan tubuh","memahami prosedur gerak dominan  (bertumpu, bergantung, keseimbangan, berpindah, tolakan, putaran, ayunan, melayang, dan mendarat)","memahami prosedur gerak dasar lokomotor dan non-lokomotor sesuai dengan irama (ketukan) tanpa/dengan musik","memahami prosedur berbagai pengenalan  aktivitas air dan menjaga keselamatan diri/orang lain dalam aktivitas air","memahami bagian-bagian tubuh, bagian tubuh yang boleh dan tidak disentuh orang lain, cara menjaga kebersihannya, dan kebersihan pakaian",null,null,null,null,null,null,null,8]
["BM01A",{"$f":"IF(kur!$E$21=\"\",\"\",kur!$E$21)","v":"BM"},{"$f":"IF(kur!$D$21=\"\",\"\",kur!$D$21)","v":"Bahasa Madura"},1,"GANJIL","mendengarkan,memahami dan mengidentifikasi bunyi bahasa daerah yang didengar dengan tepat","mendengarkan,memahami dan mengidentifikasi huruf lepas untuk menulis kata dan kalimat sederhana sesuai kaidah","mengenal,memahami dan mengidentifikasi teks deskriptif tentang anggota tubuh,panca indra,wujud dan sifat benda,serta peristiwa alam dengan bantuan guru atau teman secara lisan dan tulis","mendengarkan,memahami dan mengidentifikasi teks perintah dan permintaan tentang kegiatan diri sendiri secara lisan dan tulis","mengenal,memahami dan mengidentifikai teks terimakasih,permintaan maaf,dan sikap kasih sayang dengan bantuan guru atau teman secara lisan dan tulis",null,null,null,null,null,null,null,null,null,null,5]
["BM01B",{"$f":"IF(kur!$E$21=\"\",\"\",kur!$E$21)","v":"BM"},{"$f":"IF(kur!$D$21=\"\",\"\",kur!$D$21)","v":"Bahasa Madura"},1,"GENAP","mendengarkan,memahami dan mengidentifikasi bunyi bahasa daerah yang didengar dengan tepat","mendengarkan,memahami dan mengidentifikasi huruf lepas untuk menulis kata dan kalimat sederhana sesuai kaidah","mengenal,memahami dan mengidentifikasi teks deskriptif tentang anggota tubuh,panca indra,wujud dan sifat benda,serta peristiwa alam dengan bantuan guru atau teman secara lisan dan tulis","mendengarkan,memahami dan mengidentifikasi teks perintah dan permintaan tentang kegiatan diri sendiri secara lisan dan tulis","mengenal,memahami dan mengidentifikai teks terimakasih,permintaan maaf,dan sikap kasih sayang dengan bantuan guru atau teman secara lisan dan tulis",null,null,null,null,null,null,null,null,null,null,5]
["01A",{"$f":"IF(kur!$E$22=\"\",\"\",kur!$E$22)","v":""},{"$f":"IF(kur!$D$22=\"\",\"\",kur!$D$22)","v":""},1,"GANJIL",null,null,null,null,null,null,null,null,null,null,null,null,null,null,null,0]
["01B",{"$f":"IF(kur!$E$22=\"\",\"\",kur!$E$22)","v":""},{"$f":"IF(kur!$D$22=\"\",\"\",kur!$D$22)","v":""},1,"GENAP",null,null,null,null,null,null,null,null,null,null,null,null,null,null,null,0]
["01A",{"$f":"IF(kur!$E$23=\"\",\"\",kur!$E$23)","v":""},{"$f":"IF(kur!$D$23=\"\",\"\",kur!$D$23)","v":""},1,"GANJIL",null,null,null,null,null,null,null,null,null,null,null,null,null,null,null,0]
["01B",{"$f":"IF(kur!$E$23=\"\",\"\",kur!$E$23)","v":""},{"$f":"IF(kur!$D$23=\"\",\"\",kur!$D$23)","v":""},1,"GENAP",null,null,null,null,null,null,null,null,null,null,null,null,null,null,null,0]
[{"$f":"$B28 & TEXT($D28,\"00\") & IF($E28=\"GANJIL\",\"A\",\"B\")","v":"AH02A"},{"$f":"IF(kur!$E$6=\"\",\"\",kur!$E$6)","v":"AH"},{"$f":"IF(kur!$D$6=\"\",\"\",kur!$D$6)","v":"Al-Qur'an Hadits"},2,"GANJIL","mengetahui penulisan huruf-huruf hijaiyah secara terpisah dan bersambung","memahami  hukum bacaan gunnah","mengenal Q.S. al-Kausar dan al- Kafirun","memahami arti dan isi kandungan hadis tentang keutamaan belajar Al-Qur`an ( خيركم من تعلم القرآن وعلمه)",null,null,null,null,null,null,null,null,null,null,null,{"$f":"COUNTA($F28:$T28)","v":4}]
["AH02B",{"$f":"IF(kur!$E$6=\"\",\"\",kur!$E$6)","v":"AH"},{"$f":"IF(kur!$D$6=\"\",\"\",kur!$D$6)","v":"Al-Qur'an Hadits"},2,"GENAP","mengenal Q.S. al-Maa’uun, al-Fiil, al-‘Ashr, dan al-Qadr ","memahami  hukum bacaan Al Qamariyah dan  Al Syamsiyah","memahami arti dan isi kandungan hadis tentang hormat kepada orang tua ( خيركم من تعلم القرآن وعلمه )",null,null,null,null,null,null,null,null,null,null,null,null,3]
["AA02A",{"$f":"IF(kur!$E$7=\"\",\"\",kur!$E$7)","v":"AA"},{"$f":"IF(kur!$D$7=\"\",\"\",kur!$D$7)","v":"Akidah Akhlak"},2,"GANJIL","mengetahui kalimat tayyibah (Hamdalah)","mengenal sifat-sifat Allah SWT. (ar-Razzaaq, , al-Hamiid, dan asy-Syakur)","mengenal Allah SWT. melalui dalil aqli","memahami sikap syukur nikmat, hidup sederhana, dan rendah hati serta cara membiasakannya","mengetahui adab ketika bersin dalam kehidupan sehari-hari.","menjelaskan sikap sombong dan cara menghindarinya dalam kehidupan sehari-hari",null,null,null,null,null,null,null,null,null,6]
["AA02B",{"$f":"IF(kur!$E$7=\"\",\"\",kur!$E$7)","v":"AA"},{"$f":"IF(kur!$D$7=\"\",\"\",kur!$D$7)","v":"Akidah Akhlak"},2,"GENAP","mengetahui kalimat tayyibah (Tahlil)","mengenal sifat-sifat Allah SWT. (al-Qudduus, ash-Shamad, al-Muhaimin, dan al-Badii’)","memahami perilaku jujur, rajin, dan percaya diri","memahami sikap yang baik ketika belajar, mengaji, dan bermain dalam kehidupan sehari-hari","menjelaskan sikap malas dan cara menghindari-nya",null,null,null,null,null,null,null,null,null,null,5]
["FK02A",{"$f":"IF(kur!$E$8=\"\",\"\",kur!$E$8)","v":"FK"},{"$f":"IF(kur!$D$8=\"\",\"\",kur!$D$8)","v":"Fikih"},2,"GANJIL","memahami azan ","memahami iqamah","memahami salat fardu",null,null,null,null,null,null,null,null,null,null,null,null,3]
["FK02B",{"$f":"IF(kur!$E$8=\"\",\"\",kur!$E$8)","v":"FK"},{"$f":"IF(kur!$D$8=\"\",\"\",kur!$D$8)","v":"Fikih"},2,"GENAP","memahami ketentuan salat berjamaah","memahami zikir setelah salat fardu","memahami lafal doa setelah salat fardu",null,null,null,null,null,null,null,null,null,null,null,null,3]
["BA02A",{"$f":"IF(kur!$E$9=\"\",\"\",kur!$E$9)","v":"BA"},{"$f":"IF(kur!$D$9=\"\",\"\",kur!$D$9)","v":"Bahasa Arab"},2,"GANJIL","memahami bunyi dan makna ungkapan sederhana topik: أفرادالمدرسة","memahami bunyi dan makna ungkapan sederhana topik: الزي المدرسيّ ","memahami bunyi dan makna ungkapan sederhana topik: المشروبات والمأكولات في المقصف ","memahami bunyi dan makna ungkapan sederhana topik: مصلى المدرسة",null,null,null,null,null,null,null,null,null,null,null,4]
["BA02B",{"$f":"IF(kur!$E$9=\"\",\"\",kur!$E$9)","v":"BA"},{"$f":"IF(kur!$D$9=\"\",\"\",kur!$D$9)","v":"Bahasa Arab"},2,"GENAP","memahami bunyi dan makna ungkapan sederhana topik: آلات المواصلات","memahami bunyi dan makna ungkapan sederhana topik: إشارة المرور","memahami bunyi dan makna ungkapan sederhana topik: الأدوات في البيت",null,null,null,null,null,null,null,null,null,null,null,null,3]
["PKN02A",{"$f":"IF(kur!$E$12=\"\",\"\",kur!$E$12)","v":"PKN"},{"$f":"IF(kur!$D$12=\"\",\"\",kur!$D$12)","v":"Pendidikan Pancasila dan Kewarganegaaraan"},2,"GANJIL","mengidentifikasi hubungan antara simbol dan sila-sila Pancasila lambang negara","mengidentifikasi aturan dan tata tertib  yang berlaku di sekolah ","mengidentifikasi jenis-jenis keberagaman karakteristik individu di sekolah ","memahami makna bersatu dalam keberagaman di sekolah ",null,null,null,null,null,null,null,null,null,null,null,4]
["PKN02B",{"$f":"IF(kur!$E$12=\"\",\"\",kur!$E$12)","v":"PKN"},{"$f":"IF(kur!$D$12=\"\",\"\",kur!$D$12)","v":"Pendidikan Pancasila dan Kewarganegaaraan"},2,"GENAP","mengidentifikasi hubungan antara simbol dan sila-sila Pancasila lambang negara","mengidentifikasi aturan dan tata tertib  yang berlaku di sekolah ","mengidentifikasi jenis-jenis keberagaman karakteristik individu di sekolah ","memahami makna bersatu dalam keberagaman di sekolah ",null,null,null,null,null,null,null,null,null,null,null,4]
["BIN02A",{"$f":"IF(kur!$E$13=\"\",\"\",kur!$E$13)","v":"BIN"},{"$f":"IF(kur!$D$13=\"\",\"\",kur!$D$13)","v":"Bahasa Indonesia"},2,"GANJIL","merinci ungkapan, ajakan, perintah, penolakan dalam teks cerita atau lagu tentang sikap hidup rukun ","menguraikan kosakata dan konsep tentang keragaman benda berdasarkan bentuk dan wujudnya","menentukan kosakata dan konsep tentang lingkungan geografis, kehidupan ekonomi, sosial dan budaya","menenetukan kosakata dan konsep tentang lingkungan sehat dan tidak sehat di lingkungan serta cara menjaganya","mencermati puisi anak dalam bahasa Indonesia atau bahasa daerah","mencermati ungkapan permintaan maaf dan tolong melalui teks tentang budaya santun, sikap hidup rukun","mencermati tulisan tegak bersambung dengan memperhatikan penggunaan huruf kapital serta mengenal tanda titik","menggali informasi dari dongeng binatang (fabel) tentang sikap hidup rukun","menentukan kata sapaan dalam dongeng secara lisan dan tulis ","mencermati penggunaan huruf kapital (nama Tuhan nama orang, nama agama) serta tanda titik dan tanda tanya",null,null,null,null,null,10]
["BIN02B",{"$f":"IF(kur!$E$13=\"\",\"\",kur!$E$13)","v":"BIN"},{"$f":"IF(kur!$D$13=\"\",\"\",kur!$D$13)","v":"Bahasa Indonesia"},2,"GENAP","merinci ungkapan, ajakan, perintah, penolakan dalam teks cerita atau lagu tentang sikap hidup rukun ","menguraikan kosakata dan konsep tentang keragaman benda berdasarkan bentuk dan wujudnya","menentukan kosakata dan konsep tentang lingkungan geografis, kehidupan ekonomi, sosial dan budaya","menenetukan kosakata dan konsep tentang lingkungan sehat dan tidak sehat di lingkungan serta cara menjaganya","mencermati puisi anak dalam bahasa Indonesia atau bahasa daerah","mencermati ungkapan permintaan maaf dan tolong melalui teks tentang budaya santun, sikap hidup rukun","mencermati tulisan tegak bersambung dengan memperhatikan penggunaan huruf kapital serta mengenal tanda titik","menggali informasi dari dongeng binatang (fabel) tentang sikap hidup rukun","menentukan kata sapaan dalam dongeng secara lisan dan tulis ","mencermati penggunaan huruf kapital (nama Tuhan nama orang, nama agama) serta tanda titik dan tanda tanya",null,null,null,null,null,10]
["MTK02A",{"$f":"IF(kur!$E$14=\"\",\"\",kur!$E$14)","v":"MTK"},{"$f":"IF(kur!$D$14=\"\",\"\",kur!$D$14)","v":"Matematika"},2,"GANJIL","menjelaskan makna bilangan cacah dan menentukan lambangnya berdasarkan nilai tempat","membandingkan dua bilangan cacah  ","menjelaskan dan melakukan penjumlahan dan pengurangan bilangan cacah sampai dengan 999","menjelaskan perkalian dan pembagian bilangan cacah dengan hasil kali sampai dengan 100","menjelaskan nilai dan kesetaraan pecahan mata uang ","menjelaskan dan menentukan panjang (termasuk jarak), berat, dan waktu dalam satuan baku","menjelaskan pecahan 1/2, 1/3 , dan 1/4  menggunakan benda-benda konkret","menjelaskan ruas garis dengan menggunakan model konkret bangun datar dan bangun ruang ","menjelaskan bangun datar dan bangun ruang berdasarkan ciri-cirinya ","menjelaskan pola barisan bangun datar dan bangun ruang menggunakan gambar/ benda konkret ",null,null,null,null,null,10]
["MTK02B",{"$f":"IF(kur!$E$14=\"\",\"\",kur!$E$14)","v":"MTK"},{"$f":"IF(kur!$D$14=\"\",\"\",kur!$D$14)","v":"Matematika"},2,"GENAP","menjelaskan makna bilangan cacah dan menentukan lambangnya berdasarkan nilai tempat","membandingkan dua bilangan cacah  ","menjelaskan dan melakukan penjumlahan dan pengurangan bilangan cacah sampai dengan 999","menjelaskan perkalian dan pembagian bilangan cacah dengan hasil kali sampai dengan 100","menjelaskan nilai dan kesetaraan pecahan mata uang ","menjelaskan dan menentukan panjang (termasuk jarak), berat, dan waktu dalam satuan baku","menjelaskan pecahan 1/2, 1/3 , dan 1/4  menggunakan benda-benda konkret","menjelaskan ruas garis dengan menggunakan model konkret bangun datar dan bangun ruang ","menjelaskan bangun datar dan bangun ruang berdasarkan ciri-cirinya ","menjelaskan pola barisan bangun datar dan bangun ruang menggunakan gambar/ benda konkret ",null,null,null,null,null,10]
["SB02A",{"$f":"IF(kur!$E$17=\"\",\"\",kur!$E$17)","v":"SB"},{"$f":"IF(kur!$D$17=\"\",\"\",kur!$D$17)","v":"Seni Budaya "},2,"GANJIL","mengenal karya imajinatif dua dan tiga dimensi ","mengenal pola irama sederhana melalui lagu anak-anak  ","mengenal gerak keseharian dan alam dalam tari ","mengenal pengolahan bahan alam dan buatan dalam berkarya ",null,null,null,null,null,null,null,null,null,null,null,4]
["SB02B",{"$f":"IF(kur!$E$17=\"\",\"\",kur!$E$17)","v":"SB"},{"$f":"IF(kur!$D$17=\"\",\"\",kur!$D$17)","v":"Seni Budaya "},2,"GENAP","mengenal karya imajinatif dua dan tiga dimensi ","mengenal pola irama sederhana melalui lagu anak-anak  ","mengenal gerak keseharian dan alam dalam tari ","mengenal pengolahan bahan alam dan buatan dalam berkarya ",null,null,null,null,null,null,null,null,null,null,null,4]
["PJ02A",{"$f":"IF(kur!$E$18=\"\",\"\",kur!$E$18)","v":"PJ"},{"$f":"IF(kur!$D$18=\"\",\"\",kur!$D$18)","v":"Pendidikan Jasmani,Olahraga danKesehatan"},2,"GANJIL","memahami gerak dasar lokomotor sesuai dengan konsep tubuh, ruang, usaha, dan keterhubungan dalam permainan sederhana dan atau tradisional ","memahami gerak dasar non-lokomotor sesuai dengan konsep tubuh, ruang, usaha, dan keterhubungan dalam permainan sederhana dan atau tradisional ","memahami gerak dasar manipulatif sesuai dengan konsep tubuh, ruang, usaha, dan keterhubungan dalam permainan sederhana dan atau tradisional ","memahami bergerak secara seimbang, lentur, dan kuat melalui permainan sederhana dan atau tradisional ","memahami gerak bertumpu, bergantung, keseimbangan, berpindah/lokomotor tolakan, putaran, ayunan, melayang, dan mendarat dalam enam lantai ","memahami penggunaan gerak dasar lokomotor dan non-lokomotor sesuai dengan irama (ketukan) tanpa/dengan musik dalam aktivitas gerak berirama ","memahami prosedur penggunaan  gerak dasar dalam bentuk permainan, dan menjaga keselamatan diri/orang lain dalam aktivitas air","memahami manfaat pemanasan dan pendinginan, serta hal yang harus dilakukan dan dihindari sebelum, selama, dan setelah melakukan aktivitas fisik ","memahami cara menjaga kebersihan lingkungan (tempat tidur, rumah, kelas, lingkungan sekolah, dan lain-lain) ",null,null,null,null,null,null,9]
["PJ02B",{"$f":"IF(kur!$E$18=\"\",\"\",kur!$E$18)","v":"PJ"},{"$f":"IF(kur!$D$18=\"\",\"\",kur!$D$18)","v":"Pendidikan Jasmani,Olahraga danKesehatan"},2,"GENAP","memahami gerak dasar lokomotor sesuai dengan konsep tubuh, ruang, usaha, dan keterhubungan dalam permainan sederhana dan atau tradisional ","memahami gerak dasar non-lokomotor sesuai dengan konsep tubuh, ruang, usaha, dan keterhubungan dalam permainan sederhana dan atau tradisional ","memahami gerak dasar manipulatif sesuai dengan konsep tubuh, ruang, usaha, dan keterhubungan dalam permainan sederhana dan atau tradisional ","memahami bergerak secara seimbang, lentur, dan kuat melalui permainan sederhana dan atau tradisional ","memahami gerak bertumpu, bergantung, keseimbangan, berpindah/lokomotor tolakan, putaran, ayunan, melayang, dan mendarat dalam enam lantai ","memahami penggunaan gerak dasar lokomotor dan non-lokomotor sesuai dengan irama (ketukan) tanpa/dengan musik dalam aktivitas gerak berirama ","memahami prosedur penggunaan  gerak dasar dalam bentuk permainan, dan menjaga keselamatan diri/orang lain dalam aktivitas air","memahami manfaat pemanasan dan pendinginan, serta hal yang harus dilakukan dan dihindari sebelum, selama, dan setelah melakukan aktivitas fisik ","memahami cara menjaga kebersihan lingkungan (tempat tidur, rumah, kelas, lingkungan sekolah, dan lain-lain) ",null,null,null,null,null,null,9]
["BM02A",{"$f":"IF(kur!$E$21=\"\",\"\",kur!$E$21)","v":"BM"},{"$f":"IF(kur!$D$21=\"\",\"\",kur!$D$21)","v":"Bahasa Madura"},2,"GANJIL",null,null,null,null,null,null,null,null,null,null,null,null,null,null,null,0]
["BM02B",{"$f":"IF(kur!$E$21=\"\",\"\",kur!$E$21)","v":"BM"},{"$f":"IF(kur!$D$21=\"\",\"\",kur!$D$21)","v":"Bahasa Madura"},2,"GENAP",null,null,null,null,null,null,null,null,null,null,null,null,null,null,null,0]
["02A",{"$f":"IF(kur!$E$22=\"\",\"\",kur!$E$22)","v":""},{"$f":"IF(kur!$D$22=\"\",\"\",kur!$D$22)","v":""},2,"GANJIL",null,null,null,null,null,null,null,null,null,null,null,null,null,null,null,0]
["02B",{"$f":"IF(kur!$E$22=\"\",\"\",kur!$E$22)","v":""},{"$f":"IF(kur!$D$22=\"\",\"\",kur!$D$22)","v":""},2,"GENAP",null,null,null,null,null,null,null,null,null,null,null,null,null,null,null,0]
["02A",{"$f":"IF(kur!$E$23=\"\",\"\",kur!$E$23)","v":""},{"$f":"IF(kur!$D$23=\"\",\"\",kur!$D$23)","v":""},2,"GANJIL",null,null,null,null,null,null,null,null,null,null,null,null,null,null,null,0]
["02B",{"$f":"IF(kur!$E$23=\"\",\"\",kur!$E$23)","v":""},{"$f":"IF(kur!$D$23=\"\",\"\",kur!$D$23)","v":""},2,"GENAP",null,null,null,null,null,null,null,null,null,null,null,null,null,null,null,0]
[{"$f":"$B52 & TEXT($D52,\"00\") & IF($E52=\"GANJIL\",\"A\",\"B\")","v":"AH03A"},{"$f":"IF(kur!$E$6=\"\",\"\",kur!$E$6)","v":"AH"},{"$f":"IF(kur!$D$6=\"\",\"\",kur!$D$6)","v":"Al-Qur'an Hadits"},3,"GANJIL","mengenal Q.S. al-Humazah,  at-Takwfur, dan az-Zalzalah","memahami hukum bacaan Qalqalah","memahami arti dan isi kandungan hadis tentang salat berjamaah (….. صلاة الجماعة أفضل )",null,null,null,null,null,null,null,null,null,null,null,null,{"$f":"COUNTA($F52:$T52)","v":3}]
["AH03B",{"$f":"IF(kur!$E$6=\"\",\"\",kur!$E$6)","v":"AH"},{"$f":"IF(kur!$D$6=\"\",\"\",kur!$D$6)","v":"Al-Qur'an Hadits"},3,"GENAP","memahami arti dan isi kandungan  Q.S. al-Qaari‘ah dan at-Tiin","memahami arti dan isi kandungan Q.S. al-fatihah dan QS. Al-ikhlas","memahami arti dan isi kandungan hadis tentang persaudaraan (….. المؤمن للمؤمن كالبنيان )",null,null,null,null,null,null,null,null,null,null,null,null,3]
["AA03A",{"$f":"IF(kur!$E$7=\"\",\"\",kur!$E$7)","v":"AA"},{"$f":"IF(kur!$D$7=\"\",\"\",kur!$D$7)","v":"Akidah Akhlak"},3,"GANJIL","mengetahui kalimat tayyibah (Subhaanallaah, Maasyaa Allah SWT)","mengenal sifat-sifat Allah SWT. (al-A’dziim,  al-Kabiir, al-Kariim dan al-Maalik)","menjelaskan malaikat-malaikat Allah SWT. dan tugas-tugasnya.","memahami sikap rendah hati, santun, ikhlas, kasih sayang, dan taat dalam  kehidupan sehari-hari","menjelaskan kisah Nabi Ismail a.s. sebagai bentuk sikap taat dan patuh terhadap orang tua","menjelaskan sikap durhaka kepada orang tua melalui kisah Kan’an",null,null,null,null,null,null,null,null,null,6]
["AA03B",{"$f":"IF(kur!$E$7=\"\",\"\",kur!$E$7)","v":"AA"},{"$f":"IF(kur!$D$7=\"\",\"\",kur!$D$7)","v":"Akidah Akhlak"},3,"GENAP","mengetahui kalimat tayyibah (Ta’awudz)","mengenal sifat-sifat Allah SWT. (al-Baathin, al-Walii, al-Mujiib, dan al-Jabbaar)","menjelaskan adanya makhluk gaib selain malaikat (jin dan setan)","memahami sikap rukun dan tolong-menolong","memahami akhlakul karimah terhadap saudara dalam kehidupan sehari-hari",null,null,null,null,null,null,null,null,null,null,5]
["FK03A",{"$f":"IF(kur!$E$8=\"\",\"\",kur!$E$8)","v":"FK"},{"$f":"IF(kur!$D$8=\"\",\"\",kur!$D$8)","v":"Fikih"},3,"GANJIL","memahami  ketentuan salat sunah  rawatib","memahami ketentuan salat jamak dan qasar","memahami  tata cara tayamum","menganalisis tata cara salat bagi orang  sakit",null,null,null,null,null,null,null,null,null,null,null,4]
["FK03B",{"$f":"IF(kur!$E$8=\"\",\"\",kur!$E$8)","v":"FK"},{"$f":"IF(kur!$D$8=\"\",\"\",kur!$D$8)","v":"Fikih"},3,"GENAP","memahami  ketentuan  puasa Ramadan","memahami ketentuan salat Tarawih ","memahami ketentuan salat Witir","memahami keutamaan-keutamaan yang ada dalam bulan Ramadan",null,null,null,null,null,null,null,null,null,null,null,4]
["BA03A",{"$f":"IF(kur!$E$9=\"\",\"\",kur!$E$9)","v":"BA"},{"$f":"IF(kur!$D$9=\"\",\"\",kur!$D$9)","v":"Bahasa Arab"},3,"GANJIL","memahami bunyi dan makna ungkapan sederhana topik: أَسْمَاءُ الدَّرْس","memahami bunyi dan makna ungkapan sederhana topik: أَعْضَاءُ اْلوُضُوء","memahami bunyi dan makna ungkapan sederhana topik: اَلصَّلَوَاتُ الخَمْس","memahami bunyi dan makna ungkapan sederhana topik: أَسْمَاءُ اْلأَمْرَاض",null,null,null,null,null,null,null,null,null,null,null,4]
["BA03B",{"$f":"IF(kur!$E$9=\"\",\"\",kur!$E$9)","v":"BA"},{"$f":"IF(kur!$D$9=\"\",\"\",kur!$D$9)","v":"Bahasa Arab"},3,"GENAP","memahami bunyi dan makna ungkapan sederhana topik: أَعْضَاءُ اْلأُسْرَة","memahami bunyi dan makna ungkapan sederhana topik: حَالَةُ اْلحَدِيْقَة","memahami bunyi dan makna ungkapan sederhana topik: مَنَاظِرُ اْلعَالَم","memahami bunyi dan makna ungkapan sederhana topik: أَسْمَاءُ اْلحَيَوَانَات",null,null,null,null,null,null,null,null,null,null,null,4]
["SKI03A",{"$f":"IF(kur!$E$10=\"\",\"\",kur!$E$10)","v":"SKI"},{"$f":"IF(kur!$D$10=\"\",\"\",kur!$D$10)","v":"Sejarah Kebudayaan Islam"},3,"GANJIL","mengetahui keadaan sosial budaya masyarakat Arab pra Islam","mengetahui keadaan perekonomian masyarakat Arab pra Islam","memahami agama dan kepercayaan masyarakat Arab pra Islam","mengetahui masa kanak-kanak Nabi Muhammad Saw","mengetahui masa remaja atau masa muda Nabi  Muhammad Saw",null,null,null,null,null,null,null,null,null,null,5]
["SKI03B",{"$f":"IF(kur!$E$10=\"\",\"\",kur!$E$10)","v":"SKI"},{"$f":"IF(kur!$D$10=\"\",\"\",kur!$D$10)","v":"Sejarah Kebudayaan Islam"},3,"GENAP","mengetahui masa dewasa Nabi Muhammad Saw","mengetahui bukti-bukti kerasulan Nabi Muhammad Saw","memahami peristiwa kerasulan Nabi Muhammad Saw",null,null,null,null,null,null,null,null,null,null,null,null,3]
["PKN03A",{"$f":"IF(kur!$E$12=\"\",\"\",kur!$E$12)","v":"PKN"},{"$f":"IF(kur!$D$12=\"\",\"\",kur!$D$12)","v":"Pendidikan Pancasila dan Kewarganegaaraan"},3,"GANJIL","memahami simbol-simbol sila Pancasila dalam lambang negara “Garuda Pancasila”","mengetahui hak dan kewajiban sebagai warga dalam kehidupan sehari-har","memahami makna keberagaman karakteristik individu di rumah, sekolah dan masyarakat","Mengetahui arti bersatu dalam keberagaman di rumah, sekolah dan masyarakat",null,null,null,null,null,null,null,null,null,null,null,4]
["PKN03B",{"$f":"IF(kur!$E$12=\"\",\"\",kur!$E$12)","v":"PKN"},{"$f":"IF(kur!$D$12=\"\",\"\",kur!$D$12)","v":"Pendidikan Pancasila dan Kewarganegaaraan"},3,"GENAP","memahami simbol-simbol sila Pancasila dalam lambang negara “Garuda Pancasila”","mengetahui hak dan kewajiban sebagai warga dalam kehidupan sehari-har","memahami makna keberagaman karakteristik individu di rumah, sekolah dan masyarakat","Mengetahui arti bersatu dalam keberagaman di rumah, sekolah dan masyarakat",null,null,null,null,null,null,null,null,null,null,null,4]
["BIN03A",{"$f":"IF(kur!$E$13=\"\",\"\",kur!$E$13)","v":"BIN"},{"$f":"IF(kur!$D$13=\"\",\"\",kur!$D$13)","v":"Bahasa Indonesia"},3,"GANJIL","menggali informasi hasil observasi perubahan wujud benda, energi, perubahan iklim, rupa bumi dan perubahannya, serta alam semesta","menguraikan teks arahan/petunjuk tentang perawatan hewan dan tumbuhan, serta daur hidup hewan dan pengembangbiakan tanaman","mengemukakan isi teks surat tanggapan tentang perkembangan teknologi produksi, komunikasi, dan transportasi","menggali informasi dari teks dongeng tentang kondisi alam","menggali informasi dari teks permainan/dolanan daerah tentang kehidupan hewan dan tumbuhan",null,null,null,null,null,null,null,null,null,null,5]
["BIN03B",{"$f":"IF(kur!$E$13=\"\",\"\",kur!$E$13)","v":"BIN"},{"$f":"IF(kur!$D$13=\"\",\"\",kur!$D$13)","v":"Bahasa Indonesia"},3,"GENAP","menggali informasi hasil observasi perubahan wujud benda, energi, perubahan iklim, rupa bumi dan perubahannya, serta alam semesta","menguraikan teks arahan/petunjuk tentang perawatan hewan dan tumbuhan, serta daur hidup hewan dan pengembangbiakan tanaman","mengemukakan isi teks surat tanggapan tentang perkembangan teknologi produksi, komunikasi, dan transportasi","menggali informasi dari teks dongeng tentang kondisi alam","menggali informasi dari teks permainan/dolanan daerah tentang kehidupan hewan dan tumbuhan",null,null,null,null,null,null,null,null,null,null,5]
["MTK03A",{"$f":"IF(kur!$E$14=\"\",\"\",kur!$E$14)","v":"MTK"},{"$f":"IF(kur!$D$14=\"\",\"\",kur!$D$14)","v":"Matematika"},3,"GANJIL","memahami sifat-sifat operasi hitung bilangan asli melalui pengamatan pola penjumlahan dan perkalian","memahami letak bilangan pada garis bilangan","memahami konsep pecahan dengan benda-benda yang konkrit dan menentukan nilai terkecil/ terbesar","mengenal pecahan dan bilangan desimal, serta melakukan penjumlahan/ pengurangan pecahan berpenyebut sama"," menyederhanakan kesamaan dua ekspresi dengan menggunakan penambahan/pengurangan","menentukan strategi pemecahan masalah dengan mengurangi, menambah, dan menukarkan  uang","menemukan sifat simetri bangun datar, simetri putar dan pencerminan","menemukan unsur dan sifat bangun datar sederhana berdasarkan pengamatan","mengenal hubungan antar satuan waktu, antar satuan panjang, dan antar satuan berat","memahami keliling segitiga dan persegi panjang menggunakan benda konkrit","mengenal dan membandingkan besar sudut bangun datar tanpa satuan baku","mendeksripsikan hubungan antara dua bangun datar dan antara bangun ruang dan bangun datar","memahami penghitungan waktu berdasarkan data sehari-hari","menentukan perbandingan data menggunakan tabel, grafik batang, dan grafik lingkaran",null,14]
["MTK03B",{"$f":"IF(kur!$E$14=\"\",\"\",kur!$E$14)","v":"MTK"},{"$f":"IF(kur!$D$14=\"\",\"\",kur!$D$14)","v":"Matematika"},3,"GENAP","memahami sifat-sifat operasi hitung bilangan asli melalui pengamatan pola penjumlahan dan perkalian","memahami letak bilangan pada garis bilangan","memahami konsep pecahan dengan benda-benda yang konkrit dan menentukan nilai terkecil/ terbesar","mengenal pecahan dan bilangan desimal, serta melakukan penjumlahan/ pengurangan pecahan berpenyebut sama"," menyederhanakan kesamaan dua ekspresi dengan menggunakan penambahan/pengurangan","menentukan strategi pemecahan masalah dengan mengurangi, menambah, dan menukarkan  uang","menemukan sifat simetri bangun datar, simetri putar dan pencerminan","menemukan unsur dan sifat bangun datar sederhana berdasarkan pengamatan","mengenal hubungan antar satuan waktu, antar satuan panjang, dan antar satuan berat","memahami keliling segitiga dan persegi panjang menggunakan benda konkrit","mengenal dan membandingkan besar sudut bangun datar tanpa satuan baku","mendeksripsikan hubungan antara dua bangun datar dan antara bangun ruang dan bangun datar","memahami penghitungan waktu berdasarkan data sehari-hari","menentukan perbandingan data menggunakan tabel, grafik batang, dan grafik lingkaran",null,14]
["SB03A",{"$f":"IF(kur!$E$17=\"\",\"\",kur!$E$17)","v":"SB"},{"$f":"IF(kur!$D$17=\"\",\"\",kur!$D$17)","v":"Seni Budaya "},3,"GANJIL","mengenal karya seni gaya dekoratif","membedakan pola irama rata dan bervariasi lagu bertanda birama enam","memahami gerak kuat dan lemah dalam tari dengan menggunakan musik sebagai iringan","mengetahui cara mengolah bahan alam dan buatan untuk membuat prakarya","memahami makna karya seni budaya dengan bahasa daerah setempat",null,null,null,null,null,null,null,null,null,null,5]
["SB03B",{"$f":"IF(kur!$E$17=\"\",\"\",kur!$E$17)","v":"SB"},{"$f":"IF(kur!$D$17=\"\",\"\",kur!$D$17)","v":"Seni Budaya "},3,"GENAP","mengenal karya seni gaya dekoratif","membedakan pola irama rata dan bervariasi lagu bertanda birama enam","memahami gerak kuat dan lemah dalam tari dengan menggunakan musik sebagai iringan","mengetahui cara mengolah bahan alam dan buatan untuk membuat prakarya","memahami makna karya seni budaya dengan bahasa daerah setempat",null,null,null,null,null,null,null,null,null,null,5]
["PJ03A",{"$f":"IF(kur!$E$18=\"\",\"\",kur!$E$18)","v":"PJ"},{"$f":"IF(kur!$D$18=\"\",\"\",kur!$D$18)","v":"Pendidikan Jasmani,Olahraga danKesehatan"},3,"GANJIL","mengetahui cara memilih dan mengenakan pakaian untuk berolahraga, cara pemanasan dan pendinginan","mengetahui konsep gerak dasar dominan statis dan pola gerak dominan dinamis dalam senam","mengetahui konsep penggunaan gerak dasar lokomotor, non-lokomotor dan manipulatif sesuai dengan irama","mengetahui konsep gerak dasar mengambang (water trappen) dan meluncur di air dalam aktivitas air","mengetahui konsep kebutuhan istirahat, tidur, dan pengisian waktu luang untuk menjaga kesehatan","mengetahui manfaat pakaian dan atribut yang sesuai untuk jenis aktivitas fisik yang diikuti",null,null,null,null,null,null,null,null,null,6]
["PJ03B",{"$f":"IF(kur!$E$18=\"\",\"\",kur!$E$18)","v":"PJ"},{"$f":"IF(kur!$D$18=\"\",\"\",kur!$D$18)","v":"Pendidikan Jasmani,Olahraga danKesehatan"},3,"GENAP","mengetahui cara memilih dan mengenakan pakaian untuk berolahraga, cara pemanasan dan pendinginan","mengetahui konsep gerak dasar dominan statis dan pola gerak dominan dinamis dalam senam","mengetahui konsep penggunaan gerak dasar lokomotor, non-lokomotor dan manipulatif sesuai dengan irama","mengetahui konsep gerak dasar mengambang (water trappen) dan meluncur di air dalam aktivitas air","mengetahui konsep kebutuhan istirahat, tidur, dan pengisian waktu luang untuk menjaga kesehatan","mengetahui manfaat pakaian dan atribut yang sesuai untuk jenis aktivitas fisik yang diikuti",null,null,null,null,null,null,null,null,null,6]
["BM03A",{"$f":"IF(kur!$E$21=\"\",\"\",kur!$E$21)","v":"BM"},{"$f":"IF(kur!$D$21=\"\",\"\",kur!$D$21)","v":"Bahasa Madura"},3,"GANJIL","mengenal,memahami dan mengidentifikasi teks cerita secara lisan dan tulis","mengenal,memahami dan mengidentifikasi informasi dari teks laporan hasil observasi secara lisan dan tulis","mengenal,memahami dan mengidentifikasi informasi dari teks lisan tentang kondisi alam dalam bentuk cerita","mengenal,memahami dan mengidentifikasi teks puisi tentang alam semesta dan penampakannya dengan bantuan guru secara lisan dan tulis","mengenal,memahami dan mengidentifikasi kata dan kalimat untuk menulis karangan sederhana sesuai kaidah",null,null,null,null,null,null,null,null,null,null,5]
["BM03B",{"$f":"IF(kur!$E$21=\"\",\"\",kur!$E$21)","v":"BM"},{"$f":"IF(kur!$D$21=\"\",\"\",kur!$D$21)","v":"Bahasa Madura"},3,"GENAP","mengenal,memahami dan mengidentifikasi teks cerita secara lisan dan tulis","mengenal,memahami dan mengidentifikasi informasi dari teks laporan hasil observasi secara lisan dan tulis","mengenal,memahami dan mengidentifikasi informasi dari teks lisan tentang kondisi alam dalam bentuk cerita","mengenal,memahami dan mengidentifikasi teks puisi tentang alam semesta dan penampakannya dengan bantuan guru secara lisan dan tulis","mengenal,memahami dan mengidentifikasi kata dan kalimat untuk menulis karangan sederhana sesuai kaidah",null,null,null,null,null,null,null,null,null,null,5]
["03A",{"$f":"IF(kur!$E$22=\"\",\"\",kur!$E$22)","v":""},{"$f":"IF(kur!$D$22=\"\",\"\",kur!$D$22)","v":""},3,"GANJIL",null,null,null,null,null,null,null,null,null,null,null,null,null,null,null,0]
["03B",{"$f":"IF(kur!$E$22=\"\",\"\",kur!$E$22)","v":""},{"$f":"IF(kur!$D$22=\"\",\"\",kur!$D$22)","v":""},3,"GENAP",null,null,null,null,null,null,null,null,null,null,null,null,null,null,null,0]
["03A",{"$f":"IF(kur!$E$23=\"\",\"\",kur!$E$23)","v":""},{"$f":"IF(kur!$D$23=\"\",\"\",kur!$D$23)","v":""},3,"GANJIL",null,null,null,null,null,null,null,null,null,null,null,null,null,null,null,0]
["03B",{"$f":"IF(kur!$E$23=\"\",\"\",kur!$E$23)","v":""},{"$f":"IF(kur!$D$23=\"\",\"\",kur!$D$23)","v":""},3,"GENAP",null,null,null,null,null,null,null,null,null,null,null,null,null,null,null,0]
["AH04A",{"$f":"IF(kur!$E$6=\"\",\"\",kur!$E$6)","v":"AH"},{"$f":"IF(kur!$D$6=\"\",\"\",kur!$D$6)","v":"Al-Qur'an Hadits"},4,"GANJIL","memahami arti dan isi kandungan Q.S. an-Nasr dan al-Kausar","memahami arti dan isi kandungan  Q.S. al-‘adiyat","memahami  hukum bacaan idhar  dan ikhfa’","memahami arti dan isi kandungan hadis tentang niat  riwayat al-Bukhari dari Umar bin Khattab ….إنماالأعمال بالنيات","memahami arti dan isi kandungan hadis tentang takwa riwayat at-Tirmizi dari Abu Zar ….اتق اللّه حيثما كنت",null,null,null,null,null,null,null,null,null,null,5]
["AH04B",{"$f":"IF(kur!$E$6=\"\",\"\",kur!$E$6)","v":"AH"},{"$f":"IF(kur!$D$6=\"\",\"\",kur!$D$6)","v":"Al-Qur'an Hadits"},4,"GENAP","mengetahui arti, dan memahami isi kandungan Q.S. al-Lahab","mengetahui arti, dan memahami isi kandungan Q.S. al-Insyirah ","mengetahui arti dan memahami isi kandungan hadis tentang silaturahmi riwayat Bukhari Muslim dari Anas (…...من أحبّ ان يبسط له فى رزقه)","memahami hukum bacaan idgam bigunnah, idgam bilagunnah, dan iqlab",null,null,null,null,null,null,null,null,null,null,null,4]
["AA04A",{"$f":"IF(kur!$E$7=\"\",\"\",kur!$E$7)","v":"AA"},{"$f":"IF(kur!$D$7=\"\",\"\",kur!$D$7)","v":"Akidah Akhlak"},4,"GANJIL","mengetahui kalimat tayyibah La haula Wala Quwwata Illa Billahil-‘Aliyyil-‘Adzim (Hauqalah)","mengenal sifat-sifat Allah SWT. yang terkandung dalam  al-Asma’ al-Husnaa (al-Mu’min, al-‘Azhim, al- Hadi, al-‘Adl, dan al-Hakam)","mengetahui adanya kitab-kitab Allah SWT. sebagai implementasi dari pengamalan rukun Iman ke-3 (tiga)","memahami sikap hormat dan patuh dalam kehidupan sehari-hari","mendeskripsikan sikap tabah dan sabar dalammenghadapi cobaan dalam kisah Masyitah","mendeskripsikan kisah da’labah sebagai implementasi dalam menghindari  sifat tercela kufur nikmat",null,null,null,null,null,null,null,null,null,6]
["AA04B",{"$f":"IF(kur!$E$7=\"\",\"\",kur!$E$7)","v":"AA"},{"$f":"IF(kur!$D$7=\"\",\"\",kur!$D$7)","v":"Akidah Akhlak"},4,"GENAP","mengetahui kalimat tayyibah (As-salamu’alaikum)","mengenal sifat-sifat Allah SWT yang terkandung dalam al-Asmaa al-Husnaa (as- Salam, dan al-Latiif)","menjelaskan nama-nama nabi rasul Allah SWT dan Ulul Azmi, serta sifat-sifat nabi dan rasul","menjelaskan adab bertamu dan berteman dalam kehidupan sehari-hari","menjelaskan  sifat munafik, dampak negatif dan cara menghindarinya",null,null,null,null,null,null,null,null,null,null,5]
["FK04A",{"$f":"IF(kur!$E$8=\"\",\"\",kur!$E$8)","v":"FK"},{"$f":"IF(kur!$D$8=\"\",\"\",kur!$D$8)","v":"Fikih"},4,"GANJIL","memahami ketentuan zakat fitrah","memahami ketentuan  infak ","memahami ketentuan sedekah",null,null,null,null,null,null,null,null,null,null,null,null,3]
["FK04B",{"$f":"IF(kur!$E$8=\"\",\"\",kur!$E$8)","v":"FK"},{"$f":"IF(kur!$D$8=\"\",\"\",kur!$D$8)","v":"Fikih"},4,"GENAP","memahami ketentuan salat Idain","mengamalkan ketentuan salat Jumat","menghargai orang yang menjalankan salat Idain",null,null,null,null,null,null,null,null,null,null,null,null,3]
["BA04A",{"$f":"IF(kur!$E$9=\"\",\"\",kur!$E$9)","v":"BA"},{"$f":"IF(kur!$D$9=\"\",\"\",kur!$D$9)","v":"Bahasa Arab"},4,"GANJIL","memahami bunyi dan makna ungkapan sederhana sesuai topik: التعريف بالنفس؛ baik lisan/ tulisan","memahami bunyi dan makna ungkapan sederhana sesuai topik: الأدوات المدرسية ؛ baik lisan/ tulisan","memahami bunyi dan makna ungkapan sederhana sesuai topik: أصحاب المهنة ؛ baik lisan/ tulisan",null,null,null,null,null,null,null,null,null,null,null,null,3]
["BA04B",{"$f":"IF(kur!$E$9=\"\",\"\",kur!$E$9)","v":"BA"},{"$f":"IF(kur!$D$9=\"\",\"\",kur!$D$9)","v":"Bahasa Arab"},4,"GENAP","memahami bunyi dan makna ungkapan sederhana sesuai topik: العنوان؛ baik lisan/ tulisan","memahami bunyi dan makna ungkapan sederhana sesuai topik: أفرادالأسرة ؛ baik lisan/ tulisan","memahami bunyi dan makna ungkapan sederhana sesuai topik: الأسرة في البيت؛ baik lisan/ tulisan",null,null,null,null,null,null,null,null,null,null,null,null,3]
["SKI04A",{"$f":"IF(kur!$E$10=\"\",\"\",kur!$E$10)","v":"SKI"},{"$f":"IF(kur!$D$10=\"\",\"\",kur!$D$10)","v":"Sejarah Kebudayaan Islam"},4,"GANJIL","mengetahui contoh-contoh ketabahan Nabi Muhammad Saw. dan para sahabat dalam berdakwah","memahami ciri-ciri kepribadian Nabi Muhammad Saw. sebagai rahmat bagi seluruh alam","mengetahui sebab-sebab Nabi Muhammad Saw. menganjurkan sahabat hijrah ke Habasyah",null,null,null,null,null,null,null,null,null,null,null,null,3]
["SKI04B",{"$f":"IF(kur!$E$10=\"\",\"\",kur!$E$10)","v":"SKI"},{"$f":"IF(kur!$D$10=\"\",\"\",kur!$D$10)","v":"Sejarah Kebudayaan Islam"},4,"GENAP","mengetahui sebab-sebab Nabi Muhammad Saw. hijrah ke  Thaif","mengenal latar belakang Nabi Muhammad Saw.  diIsra`mikrajkan Allah SWT","memahami keadaan masyarakat Yatsrib sebelum hijrah Nabi Muhammad Saw","mengetahui sebab-sebab hijrah Nabi Muhammad Saw. ke Yatsrib",null,null,null,null,null,null,null,null,null,null,null,4]
["PKN04A",{"$f":"IF(kur!$E$12=\"\",\"\",kur!$E$12)","v":"PKN"},{"$f":"IF(kur!$D$12=\"\",\"\",kur!$D$12)","v":"Pendidikan Pancasila dan Kewarganegaaraan"},4,"GANJIL","mengasosiasikan makna hubungan simbol dengan sila-sila Pancasila dalam kehidupan sehari-hari","memahami pelaksanaan kewajiban dan hak sebagai warga ","menganalisis secara sederhana  keberagaman umat beragama dalam masyarakat","mendeskripsikan berbagai eberagaman suku bangsa, sosial, dan budaya (persatuan dan kesatuan)",null,null,null,null,null,null,null,null,null,null,null,4]
["PKN04B",{"$f":"IF(kur!$E$12=\"\",\"\",kur!$E$12)","v":"PKN"},{"$f":"IF(kur!$D$12=\"\",\"\",kur!$D$12)","v":"Pendidikan Pancasila dan Kewarganegaaraan"},4,"GENAP","mengasosiasikan makna hubungan simbol dengan sila-sila Pancasila dalam kehidupan sehari-hari","memahami pelaksanaan kewajiban dan hak sebagai warga ","menganalisis secara sederhana  keberagaman umat beragama dalam masyarakat","mendeskripsikan berbagai eberagaman suku bangsa, sosial, dan budaya (persatuan dan kesatuan)",null,null,null,null,null,null,null,null,null,null,null,4]
["BIN04A",{"$f":"IF(kur!$E$13=\"\",\"\",kur!$E$13)","v":"BIN"},{"$f":"IF(kur!$D$13=\"\",\"\",kur!$D$13)","v":"Bahasa Indonesia"},4,"GANJIL","mencermati gagasan pokok dan gagasan pendukung yang diperoleh dari teks lisan, tulis, atau visual","mencermatiketerhubungan antargagasan yang didapat dari teks lisan, tulis, atau visual","menggali informasi dari seorang tokoh melalui wawancara menggunakan daftar pertanyaan","membandingkan teks petunjuk penggunaan dua alat yang sama dan berbeda","menguraikanpendapat pribadi tentang isi buku sastra (cerita, dongeng, dan sebagainya)","menggali isi dan amanat puisi yang disajikan secara lisan dan tulis dengan tujuan untuk kesenangan","menggali pengetahuan baru yang terdapat pada teks nonfiksi","membandingkan hal yang sudah diketahui dengan yang baru diketahui dari teks nonfiksi","mencermati tokoh-tokoh yang terdapat pada teks fiksi","membandingkan watak masing-masing tokoh pada teks fiksi",null,null,null,null,null,10]
["BIN04B",{"$f":"IF(kur!$E$13=\"\",\"\",kur!$E$13)","v":"BIN"},{"$f":"IF(kur!$D$13=\"\",\"\",kur!$D$13)","v":"Bahasa Indonesia"},4,"GENAP","mencermati gagasan pokok dan gagasan pendukung yang diperoleh dari teks lisan, tulis, atau visual","mencermatiketerhubungan antargagasan yang didapat dari teks lisan, tulis, atau visual","menggali informasi dari seorang tokoh melalui wawancara menggunakan daftar pertanyaan","membandingkan teks petunjuk penggunaan dua alat yang sama dan berbeda","menguraikanpendapat pribadi tentang isi buku sastra (cerita, dongeng, dan sebagainya)","menggali isi dan amanat puisi yang disajikan secara lisan dan tulis dengan tujuan untuk kesenangan","menggali pengetahuan baru yang terdapat pada teks nonfiksi","membandingkan hal yang sudah diketahui dengan yang baru diketahui dari teks nonfiksi","mencermati tokoh-tokoh yang terdapat pada teks fiksi","membandingkan watak masing-masing tokoh pada teks fiksi",null,null,null,null,null,10]
["MTK04A",{"$f":"IF(kur!$E$14=\"\",\"\",kur!$E$14)","v":"MTK"},{"$f":"IF(kur!$D$14=\"\",\"\",kur!$D$14)","v":"Matematika"},4,"GANJIL","menjelaskan pecahan-pecahan senilai  dengan gambar  dan model konkret","menjelaskan berbagai bentuk pecahan (biasa, campuran, desimal, dan persen) dan hubungan diantaranya ","menjelaskan dan melakukan penaksiran dari jumlah, selisih, hasil kali, dan hasil bagi dua bilangan cacah maupun pecahan","menjelaskan faktor dan kelipatan suatu bilangan","menjelaskan bilangan prima","menentukan faktor persekutuan, faktor persekutuan terbesar (FPB), kelipatan persekutuan, dan kelipatan persekutuan terkecil (KPK)","menjelaskan dan melakukan pembulatan hasil pengukuran panjang dan berat ke satuan terdekat","menganalisis segibanyak beraturan dan segibanyak tidak beraturan","menjelaskandan menentukan keliling dan luas daerah persegi, persegipanjang, dan segitiga","menjelaskan hubungan antar garis (sejajar, berpotongan, berhimpit) menggunakan model konkret","menjelaskan data diri siswa dan lingkungannya yang disajikan dalam bentuk diagram batang ","menjelaskan dan menentukan ukuran sudut pada bangun datar dalam satuan baku dengan menggunakan busur derajat",null,null,null,12]
["MTK04B",{"$f":"IF(kur!$E$14=\"\",\"\",kur!$E$14)","v":"MTK"},{"$f":"IF(kur!$D$14=\"\",\"\",kur!$D$14)","v":"Matematika"},4,"GENAP","menjelaskan pecahan-pecahan senilai  dengan gambar  dan model konkret","menjelaskan berbagai bentuk pecahan (biasa, campuran, desimal, dan persen) dan hubungan diantaranya ","menjelaskan dan melakukan penaksiran dari jumlah, selisih, hasil kali, dan hasil bagi dua bilangan cacah maupun pecahan","menjelaskan faktor dan kelipatan suatu bilangan","menjelaskan bilangan prima","menentukan faktor persekutuan, faktor persekutuan terbesar (FPB), kelipatan persekutuan, dan kelipatan persekutuan terkecil (KPK)","menjelaskan dan melakukan pembulatan hasil pengukuran panjang dan berat ke satuan terdekat","menganalisis segibanyak beraturan dan segibanyak tidak beraturan","menjelaskandan menentukan keliling dan luas daerah persegi, persegipanjang, dan segitiga","menjelaskan hubungan antar garis (sejajar, berpotongan, berhimpit) menggunakan model konkret","menjelaskan data diri siswa dan lingkungannya yang disajikan dalam bentuk diagram batang ","menjelaskan dan menentukan ukuran sudut pada bangun datar dalam satuan baku dengan menggunakan busur derajat",null,null,null,12]
["IPA04A",{"$f":"IF(kur!$E$15=\"\",\"\",kur!$E$15)","v":"IPA"},{"$f":"IF(kur!$D$15=\"\",\"\",kur!$D$15)","v":"Ilmu Pengetahuan Alam"},4,"GANJIL","menganalisis hubungan antara bentuk dan fungsi bagian tubuh pada hewan dan tumbuhan","memahami siklus hidup beberapa jenis makhluk hidup yang dan upaya pelestariannya","memahami macam-macam gaya: gaya otot, gaya listrik, gaya magnet, gaya gravitasi, dan gaya gesekan","memahami hubungan antara gaya dan gerak","memahami berbagai sumber energi, perubahan bentuk energi, dan sumber energi alternatif","menerapkan sifat-sifat bunyi dan keterkaitannya dengan indra pendengaran","menerapkan sifat-sifat cahaya dan keterkaitannya dengan indera penglihatan","memahami pentingnya upaya keseimbangan dan pelestarian sumber daya alam di lingkungannya",null,null,null,null,null,null,null,8]
["IPA04B",{"$f":"IF(kur!$E$15=\"\",\"\",kur!$E$15)","v":"IPA"},{"$f":"IF(kur!$D$15=\"\",\"\",kur!$D$15)","v":"Ilmu Pengetahuan Alam"},4,"GENAP","menganalisis hubungan antara bentuk dan fungsi bagian tubuh pada hewan dan tumbuhan","memahami siklus hidup beberapa jenis makhluk hidup yang dan upaya pelestariannya","memahami macam-macam gaya: gaya otot, gaya listrik, gaya magnet, gaya gravitasi, dan gaya gesekan","memahami hubungan antara gaya dan gerak","memahami berbagai sumber energi, perubahan bentuk energi, dan sumber energi alternatif","menerapkan sifat-sifat bunyi dan keterkaitannya dengan indra pendengaran","menerapkan sifat-sifat cahaya dan keterkaitannya dengan indera penglihatan","memahami pentingnya upaya keseimbangan dan pelestarian sumber daya alam di lingkungannya",null,null,null,null,null,null,null,8]
["IPS04A",{"$f":"IF(kur!$E$16=\"\",\"\",kur!$E$16)","v":"IPS"},{"$f":"IF(kur!$D$16=\"\",\"\",kur!$D$16)","v":"Ilmu Pengetahuan Sosial"},4,"GANJIL","mengidentifikasi karakteristik ruang dan pemanfaatan sumber daya alam untuk kesejahteraan masyarakat","mengidentifikasi keragaman sosial, ekonomi, budaya, etnis, dan agama di provinsi setempat sebagai identitas bangsa Indonesia ","mengidentifikasi kegiatan ekonomi dalam meningkatkan kehidupan masyarakat di bidang pekerjaan, sosial, dan budaya","mengidentifikasi kerajaan Hindu, Buddha, dan Islam serta pengaruhnya pada kehidupan masyarakat masa kini",null,null,null,null,null,null,null,null,null,null,null,4]
["IPS04B",{"$f":"IF(kur!$E$16=\"\",\"\",kur!$E$16)","v":"IPS"},{"$f":"IF(kur!$D$16=\"\",\"\",kur!$D$16)","v":"Ilmu Pengetahuan Sosial"},4,"GENAP","mengidentifikasi karakteristik ruang dan pemanfaatan sumber daya alam untuk kesejahteraan masyarakat","mengidentifikasi keragaman sosial, ekonomi, budaya, etnis, dan agama di provinsi setempat sebagai identitas bangsa Indonesia ","mengidentifikasi kegiatan ekonomi dalam meningkatkan kehidupan masyarakat di bidang pekerjaan, sosial, dan budaya","mengidentifikasi kerajaan Hindu, Buddha, dan Islam serta pengaruhnya pada kehidupan masyarakat masa kini",null,null,null,null,null,null,null,null,null,null,null,4]
["SB04A",{"$f":"IF(kur!$E$17=\"\",\"\",kur!$E$17)","v":"SB"},{"$f":"IF(kur!$D$17=\"\",\"\",kur!$D$17)","v":"Seni Budaya "},4,"GANJIL","mengetahui gambar dan bentuk tiga dimensi","mengetahui tanda tempo dan tinggi rendah nada","mengetahui gerak tari kreasi daerah","mengetahui karya seni rupa teknik tempel ",null,null,null,null,null,null,null,null,null,null,null,4]
["SB04B",{"$f":"IF(kur!$E$17=\"\",\"\",kur!$E$17)","v":"SB"},{"$f":"IF(kur!$D$17=\"\",\"\",kur!$D$17)","v":"Seni Budaya "},4,"GENAP","mengetahui gambar dan bentuk tiga dimensi","mengetahui tanda tempo dan tinggi rendah nada","mengetahui gerak tari kreasi daerah","mengetahui karya seni rupa teknik tempel ",null,null,null,null,null,null,null,null,null,null,null,4]
["PJ04A",{"$f":"IF(kur!$E$18=\"\",\"\",kur!$E$18)","v":"PJ"},{"$f":"IF(kur!$D$18=\"\",\"\",kur!$D$18)","v":"Pendidikan Jasmani,Olahraga danKesehatan"},4,"GANJIL","memahami gerak dasar lokomotor, non-lokomotor, dan manipulatif dengan konsep tubuh, ruang, usaha, dan keterhubungan dalam permainan bola besar","memahami gerak dasar lokomotor, non-lokomotor, dan manipulatif dengan konsep tubuh, ruang, usaha, dan keterhubungan dalam permainan bola kecil","memahami prosedur variasi gerak dasar  jalan, lari,  lompat, dan lempar melalui permainan/olahraga yang dimodifikasi dan/atau olahraga tradisional","menerapkan prosedur gerak dasar lokomotor dan non-lokomotor untuk membentuk gerak dasar seni beladiri","menganalisis aktivitas kebugaran jasmani dengan bentuk latihan; daya tahan, kekuatan, kecepatan, dan kelincahan  untuk mencapai berat badan ideal","menerapkan gerak dominan  (bertumpu, bergantung, keseimbangan, berpindah, tolakan, putaran, ayunan, melayang, dan mendarat)","menerapkan prosedur variasi gerak dasar  langkah dan ayunan lengan mengikuti irama (ketukan) tanpa/dengan musik","memahami prosedur gerak dasar satu gaya renang","memahami jenis cidera dan cara penanggulangannya secara sederhana saat melakukan aktivitas fisik dan dalam kehidupan sehari-hari","menganalisis perilaku terpuji dalam pergaulan sehari-hari (antarteman sebaya, orang yang lebih tua, dan orang yang lebih muda)",null,null,null,null,null,10]
["PJ04B",{"$f":"IF(kur!$E$18=\"\",\"\",kur!$E$18)","v":"PJ"},{"$f":"IF(kur!$D$18=\"\",\"\",kur!$D$18)","v":"Pendidikan Jasmani,Olahraga danKesehatan"},4,"GENAP","memahami gerak dasar lokomotor, non-lokomotor, dan manipulatif dengan konsep tubuh, ruang, usaha, dan keterhubungan dalam permainan bola besar","memahami gerak dasar lokomotor, non-lokomotor, dan manipulatif dengan konsep tubuh, ruang, usaha, dan keterhubungan dalam permainan bola kecil","memahami prosedur variasi gerak dasar  jalan, lari,  lompat, dan lempar melalui permainan/olahraga yang dimodifikasi dan/atau olahraga tradisional","menerapkan prosedur gerak dasar lokomotor dan non-lokomotor untuk membentuk gerak dasar seni beladiri","menganalisis aktivitas kebugaran jasmani dengan bentuk latihan; daya tahan, kekuatan, kecepatan, dan kelincahan  untuk mencapai berat badan ideal","menerapkan gerak dominan  (bertumpu, bergantung, keseimbangan, berpindah, tolakan, putaran, ayunan, melayang, dan mendarat)","menerapkan prosedur variasi gerak dasar  langkah dan ayunan lengan mengikuti irama (ketukan) tanpa/dengan musik","memahami prosedur gerak dasar satu gaya renang","memahami jenis cidera dan cara penanggulangannya secara sederhana saat melakukan aktivitas fisik dan dalam kehidupan sehari-hari","menganalisis perilaku terpuji dalam pergaulan sehari-hari (antarteman sebaya, orang yang lebih tua, dan orang yang lebih muda)",null,null,null,null,null,10]
["BM04A",{"$f":"IF(kur!$E$21=\"\",\"\",kur!$E$21)","v":"BM"},{"$f":"IF(kur!$D$21=\"\",\"\",kur!$D$21)","v":"Bahasa Madura"},4,"GANJIL","Pengetahuan KD1","Pengetahuan KD2","Pengetahuan KD3","Pengetahuan KD4","Pengetahuan KD5","Pengetahuan KD6",null,null,null,null,null,null,null,null,null,6]
["BM04B",{"$f":"IF(kur!$E$21=\"\",\"\",kur!$E$21)","v":"BM"},{"$f":"IF(kur!$D$21=\"\",\"\",kur!$D$21)","v":"Bahasa Madura"},4,"GENAP","Pengetahuan KD1","Pengetahuan KD2","Pengetahuan KD3","Pengetahuan KD4","Pengetahuan KD5","Pengetahuan KD6",null,null,null,null,null,null,null,null,null,6]
["04A",{"$f":"IF(kur!$E$22=\"\",\"\",kur!$E$22)","v":""},{"$f":"IF(kur!$D$22=\"\",\"\",kur!$D$22)","v":""},4,"GANJIL",null,null,null,null,null,null,null,null,null,null,null,null,null,null,null,0]
["04B",{"$f":"IF(kur!$E$22=\"\",\"\",kur!$E$22)","v":""},{"$f":"IF(kur!$D$22=\"\",\"\",kur!$D$22)","v":""},4,"GENAP",null,null,null,null,null,null,null,null,null,null,null,null,null,null,null,0]
["04A",{"$f":"IF(kur!$E$23=\"\",\"\",kur!$E$23)","v":""},{"$f":"IF(kur!$D$23=\"\",\"\",kur!$D$23)","v":""},4,"GANJIL",null,null,null,null,null,null,null,null,null,null,null,null,null,null,null,0]
["04B",{"$f":"IF(kur!$E$23=\"\",\"\",kur!$E$23)","v":""},{"$f":"IF(kur!$D$23=\"\",\"\",kur!$D$23)","v":""},4,"GENAP",null,null,null,null,null,null,null,null,null,null,null,null,null,null,null,0]
["AH05A",{"$f":"IF(kur!$E$6=\"\",\"\",kur!$E$6)","v":"AH"},{"$f":"IF(kur!$D$6=\"\",\"\",kur!$D$6)","v":"Al-Qur'an Hadits"},5,"GANJIL","memahami arti dan isi kandungan Q.S. al- Kafirun, al-Ma‘un, dan at-Takatsur","memahami hukum bacaan Mim Mati (Idghom Mimi, Ikhfa’ Syafawi, dan Izhar Syafawi)","memahami arti dan isi kandungan hadis tentang menyayangi anak yatim riwayat Bukhari Muslim dari Sahl bin Sa’ad  (...أناوكافل اليتيم فى الجنة )",null,null,null,null,null,null,null,null,null,null,null,null,3]
["AH05B",{"$f":"IF(kur!$E$6=\"\",\"\",kur!$E$6)","v":"AH"},{"$f":"IF(kur!$D$6=\"\",\"\",kur!$D$6)","v":"Al-Qur'an Hadits"},5,"GENAP","memahamiarti dan isi kandungan Q.S. al-Qadr","memahami arti dan isi kandungan Q.S. al-‘Alaq","memahami hukum bacaan Waqaf  dan Washal","memahami arti dan isi kandungan hadis tentang  ciri-ciri orang munafik riwayat al-Bukhari Muslim dari Abu Hurairah  (...آيةالمنافق ثلاث )",null,null,null,null,null,null,null,null,null,null,null,4]
["AA05A",{"$f":"IF(kur!$E$7=\"\",\"\",kur!$E$7)","v":"AA"},{"$f":"IF(kur!$D$7=\"\",\"\",kur!$D$7)","v":"Akidah Akhlak"},5,"GANJIL","memahami Allah SWT. melalui kalimat thayyibah (Al-hamdulillah dan Allahu Akbar)","mengenal Allah SWT. melalui sifat-sifat Allah SWT. (ar-Razzaq, al-Fattah, asy-Syakur, al-Mugni)","memahami hikmah beriman kepada hari akhir (kiamat)","mengetahui akhlak yang baik ketika di tempat ibadah dan tempat umum","memahami sikap teguh pendirian dan dermawan, optimis, qana’ah, dan tawakal",null,null,null,null,null,null,null,null,null,null,5]
["AA05B",{"$f":"IF(kur!$E$7=\"\",\"\",kur!$E$7)","v":"AA"},{"$f":"IF(kur!$D$7=\"\",\"\",kur!$D$7)","v":"Akidah Akhlak"},5,"GENAP","mengenal Allah SWT. melalui kalimat Tayyibah (Tarji’)","mengenal Allah SWT. melalui sifat-sifat Allah SWT ’ (al-Muhyi, al-Mumit dan al-Baqi')","memahami akhlak yang baik dalam hidup bertetangga dan bermasyarakat","memahami akhlak tercela pesimis, bergantung, serakah, dan putus asa serta cara menghindarinya","mengetahui sifat kikir dan serakah melalui kisah Qarun dan cara menghindarinya",null,null,null,null,null,null,null,null,null,null,5]
["FK05A",{"$f":"IF(kur!$E$8=\"\",\"\",kur!$E$8)","v":"FK"},{"$f":"IF(kur!$D$8=\"\",\"\",kur!$D$8)","v":"Fikih"},5,"GANJIL","memahami tanda-tanda baligh","memahami mandi wajib setelah haid","memahami ketentuan khitan",null,null,null,null,null,null,null,null,null,null,null,null,3]
["FK05B",{"$f":"IF(kur!$E$8=\"\",\"\",kur!$E$8)","v":"FK"},{"$f":"IF(kur!$D$8=\"\",\"\",kur!$D$8)","v":"Fikih"},5,"GENAP","memahami ketentuan kurban","memahami tata cara haji ","memahami tata cara umrah",null,null,null,null,null,null,null,null,null,null,null,null,3]
["BA05A",{"$f":"IF(kur!$E$9=\"\",\"\",kur!$E$9)","v":"BA"},{"$f":"IF(kur!$D$9=\"\",\"\",kur!$D$9)","v":"Bahasa Arab"},5,"GANJIL","memahami bentuk dan makna kata, frase, kalimat topik: غرفة الجلوس والمذاكرة؛  baik secara lisan/ tertulis","memahami bentuk dan makna kata, frase, kalimat topik: في الحديقة؛ baik secara lisan/ tertulis","memahami bentuk dan makna kata, frase, kalimat topik: الألوان ؛  baik secara lisan/ tertulis",null,null,null,null,null,null,null,null,null,null,null,null,3]
["BA05B",{"$f":"IF(kur!$E$9=\"\",\"\",kur!$E$9)","v":"BA"},{"$f":"IF(kur!$D$9=\"\",\"\",kur!$D$9)","v":"Bahasa Arab"},5,"GENAP","mengidentifikasi bunyi dan makna dari ujaran kata, frase, dan kalimat topik: في الفصل","mengidentifikasi bunyi dan makna dari ujaran kata, frase, dan kalimat topik: في مكتبة المدرسة؛ ","mengidentifikasi bunyi dan makna dari ujaran kata, frase, dan kalimat topik: في مكتبة الأدوات الكتابية؛ ","mengidentifikasi bunyi dan makna dari ujaran kata, frase, dan kalimat topik: في المقصف",null,null,null,null,null,null,null,null,null,null,null,4]
[{"$f":"$B116 & TEXT($D116,\"00\") & IF($E116=\"GANJIL\",\"A\",\"B\")","v":"SKI05A"},{"$f":"IF(kur!$E$10=\"\",\"\",kur!$E$10)","v":"SKI"},{"$f":"IF(kur!$D$10=\"\",\"\",kur!$D$10)","v":"Sejarah Kebudayaan Islam"},5,"GANJIL","mengetahui  keperwiraan Nabi Muhammad Saw. dalam mempertahankan Kota Madinah ","mengetahui sebab-sebab terjadinya Fathu Makkah","memahami upaya Nabi Muhammad Saw. dalam membina masyarakat Madinah ","memahami cara-cara Rasulullah Saw. dalam menghindari pertumpahan darah  dalam peristiwa Fathu Makkah",null,null,null,null,null,null,null,null,null,null,null,{"$f":"COUNTA($F116:$T116)","v":4}]
["SKI05B",{"$f":"IF(kur!$E$10=\"\",\"\",kur!$E$10)","v":"SKI"},{"$f":"IF(kur!$D$10=\"\",\"\",kur!$D$10)","v":"Sejarah Kebudayaan Islam"},5,"GENAP","mengetahui peristiwa-peristiwa di akhir hayat Rasulullah Saw.","mengetahui contoh nilai-nilai positif dari khalifah Abu Bakar as-Siddiq r.a.","mengetahui contoh nilai-nilai positif dari khalifah Umar bin Khattab r.a.",null,null,null,null,null,null,null,null,null,null,null,null,3]
["PKN05A",{"$f":"IF(kur!$E$12=\"\",\"\",kur!$E$12)","v":"PKN"},{"$f":"IF(kur!$D$12=\"\",\"\",kur!$D$12)","v":"Pendidikan Pancasila dan Kewarganegaaraan"},5,"GANJIL","mengidentifikasi nilai-nilai Pancasila dalam kehidupan sehari-hari    ","memahami hak, kewajiban dan tanggung jawab sebagai warga","menelaah keberagaman sosial budaya masyarakat ","menggali manfaat persatuan kesatuan untuk membangun kerukunan",null,null,null,null,null,null,null,null,null,null,null,4]
["PKN05B",{"$f":"IF(kur!$E$12=\"\",\"\",kur!$E$12)","v":"PKN"},{"$f":"IF(kur!$D$12=\"\",\"\",kur!$D$12)","v":"Pendidikan Pancasila dan Kewarganegaaraan"},5,"GENAP","mengidentifikasi nilai-nilai Pancasila dalam kehidupan sehari-hari    ","memahami hak, kewajiban dan tanggung jawab sebagai warga","menelaah keberagaman sosial budaya masyarakat ","menggali manfaat persatuan kesatuan untuk membangun kerukunan",null,null,null,null,null,null,null,null,null,null,null,4]
["BIN05A",{"$f":"IF(kur!$E$13=\"\",\"\",kur!$E$13)","v":"BIN"},{"$f":"IF(kur!$D$13=\"\",\"\",kur!$D$13)","v":"Bahasa Indonesia"},5,"GANJIL","menentukan pokok pikiran dalam teks lisan dan tulis ","mengklasifikasi informasi dari buku ke dalam  aspek: apa, di mana, kapan, siapa, mengapa, dan bagaimana ","meringkas teks penjelasan (eksplanasi) dari media cetak atau elektronik ","menganalisis informasi yang disampaikan paparan iklan dari media cetak atau elektronik ","menggali informasi dari teks narasi sejarah dengan aspek: apa, di mana, kapan, siapa, mengapa, dan bagaimana","menggali isi dan amanat pantun yang disajikan secara lisan dan tulis dengan tujuan untuk kesenangan ","menguraikan konsep-konsep yang saling berkaitan pada teks nonfiksi ","menguraikan urutan peristiwa atau tindakan yang terdapat pada teks nonfiksi","mencermati  penggunaan kalimat efektif dan ejaan dalam surat undangan",null,null,null,null,null,null,9]
["BIN05B",{"$f":"IF(kur!$E$13=\"\",\"\",kur!$E$13)","v":"BIN"},{"$f":"IF(kur!$D$13=\"\",\"\",kur!$D$13)","v":"Bahasa Indonesia"},5,"GENAP","menentukan pokok pikiran dalam teks lisan dan tulis ","mengklasifikasi informasi dari buku ke dalam  aspek: apa, di mana, kapan, siapa, mengapa, dan bagaimana ","meringkas teks penjelasan (eksplanasi) dari media cetak atau elektronik ","menganalisis informasi yang disampaikan paparan iklan dari media cetak atau elektronik ","menggali informasi dari teks narasi sejarah dengan aspek: apa, di mana, kapan, siapa, mengapa, dan bagaimana","menggali isi dan amanat pantun yang disajikan secara lisan dan tulis dengan tujuan untuk kesenangan ","menguraikan konsep-konsep yang saling berkaitan pada teks nonfiksi ","menguraikan urutan peristiwa atau tindakan yang terdapat pada teks nonfiksi","mencermati  penggunaan kalimat efektif dan ejaan dalam surat undangan",null,null,null,null,null,null,9]
["MTK05A",{"$f":"IF(kur!$E$14=\"\",\"\",kur!$E$14)","v":"MTK"},{"$f":"IF(kur!$D$14=\"\",\"\",kur!$D$14)","v":"Matematika"},5,"GANJIL","menjelaskan dan melakukan penjumlahan dan pengurangan dua pecahan dengan penyebut berbeda ","menjelaskan dan melakukan perkalian dan pembagian pecahan dan desimal ","menjelaskan perbandingan dua besaran yang berbeda (kecepatan = jarak dengan waktu, debit = volume dan waktu) ","menjelaskan skala melalui denah  ","menjelaskan, dan menentukan volume bangun ruang serta hubungan pangkat tiga dengan akar pangkat tiga ","menjelaskan dan menemukan jaring-jaring bangun ruang sederhana (kubus dan balok) ","menjelaskan data yang berkaitan dengan diri peserta didik atau lingkungan sekitar serta cara pengumpulannya  ","menjelaskan penyajian data dalam bentuk daftar, tabel, diagram gambar (piktogram), diagram batang, atau diagram garis ",null,null,null,null,null,null,null,8]
["MTK05B",{"$f":"IF(kur!$E$14=\"\",\"\",kur!$E$14)","v":"MTK"},{"$f":"IF(kur!$D$14=\"\",\"\",kur!$D$14)","v":"Matematika"},5,"GENAP","menjelaskan dan melakukan penjumlahan dan pengurangan dua pecahan dengan penyebut berbeda ","menjelaskan dan melakukan perkalian dan pembagian pecahan dan desimal ","menjelaskan perbandingan dua besaran yang berbeda (kecepatan = jarak dengan waktu, debit = volume dan waktu) ","menjelaskan skala melalui denah  ","menjelaskan, dan menentukan volume bangun ruang serta hubungan pangkat tiga dengan akar pangkat tiga ","menjelaskan dan menemukan jaring-jaring bangun ruang sederhana (kubus dan balok) ","menjelaskan data yang berkaitan dengan diri peserta didik atau lingkungan sekitar serta cara pengumpulannya  ","menjelaskan penyajian data dalam bentuk daftar, tabel, diagram gambar (piktogram), diagram batang, atau diagram garis ",null,null,null,null,null,null,null,8]
["IPA05A",{"$f":"IF(kur!$E$15=\"\",\"\",kur!$E$15)","v":"IPA"},{"$f":"IF(kur!$D$15=\"\",\"\",kur!$D$15)","v":"Ilmu Pengetahuan Alam"},5,"GANJIL","menjelaskan alat gerak dan fungsinya pada hewan dan manusia serta cara memelihara kesehatannya","menjelaskan organ pernafasan dan fungsinya pada hewan dan manusia, serta cara memeliharanya","menjelaskan organ pencernaan dan fungsinya pada hewan dan manusia serta cara memelihara kesehatan","menjelaskan organ peredaran darah hewan dan manusia serta cara memelihara kesehatannya ","menganalisis hubungan antar komponen ekosistem dan jaring-jaring makanan di lingkungan sekitar ","menerapkan konsep perpindahan kalor dalam kehidupan sehari-hari ","menganalisis pengaruh kalor terhadap perubahan suhu dan wujud benda dalam kehidupan sehari-hari ","menganalisis siklus air dan  dampaknya pada peristiwa di bumi serta kelangsungan mahluk hidup ","mengelompokkan materi berdasarkan komponen penyusunnya (zat tunggal dan campuran) ",null,null,null,null,null,null,9]
["IPA05B",{"$f":"IF(kur!$E$15=\"\",\"\",kur!$E$15)","v":"IPA"},{"$f":"IF(kur!$D$15=\"\",\"\",kur!$D$15)","v":"Ilmu Pengetahuan Alam"},5,"GENAP","menjelaskan alat gerak dan fungsinya pada hewan dan manusia serta cara memelihara kesehatannya","menjelaskan organ pernafasan dan fungsinya pada hewan dan manusia, serta cara memeliharanya","menjelaskan organ pencernaan dan fungsinya pada hewan dan manusia serta cara memelihara kesehatan","menjelaskan organ peredaran darah hewan dan manusia serta cara memelihara kesehatannya ","menganalisis hubungan antar komponen ekosistem dan jaring-jaring makanan di lingkungan sekitar ","menerapkan konsep perpindahan kalor dalam kehidupan sehari-hari ","menganalisis pengaruh kalor terhadap perubahan suhu dan wujud benda dalam kehidupan sehari-hari ","menganalisis siklus air dan  dampaknya pada peristiwa di bumi serta kelangsungan mahluk hidup ","mengelompokkan materi berdasarkan komponen penyusunnya (zat tunggal dan campuran) ",null,null,null,null,null,null,9]
["IPS05A",{"$f":"IF(kur!$E$16=\"\",\"\",kur!$E$16)","v":"IPS"},{"$f":"IF(kur!$D$16=\"\",\"\",kur!$D$16)","v":"Ilmu Pengetahuan Sosial"},5,"GANJIL","mengidentifikasi karakteristik geografis Indonesia sebagai negara  kepulauan/maritim dan agraris serta pengaruhnya","menganalisis bentuk bentuk interaksi manusia dengan lingkungan dan pengaruhnya","menganalisis peran ekonomi dalam upaya menyejahterakan kehidupan masyarakat di bidang sosial dan budaya","mengidentifikasi faktor-faktor penting penyebab penjajahan  bangsa Indonesia dan upaya bangsa Indonesia",null,null,null,null,null,null,null,null,null,null,null,4]
["IPS05B",{"$f":"IF(kur!$E$16=\"\",\"\",kur!$E$16)","v":"IPS"},{"$f":"IF(kur!$D$16=\"\",\"\",kur!$D$16)","v":"Ilmu Pengetahuan Sosial"},5,"GENAP","mengidentifikasi karakteristik geografis Indonesia sebagai negara  kepulauan/maritim dan agraris serta pengaruhnya","menganalisis bentuk bentuk interaksi manusia dengan lingkungan dan pengaruhnya","menganalisis peran ekonomi dalam upaya menyejahterakan kehidupan masyarakat di bidang sosial dan budaya","mengidentifikasi faktor-faktor penting penyebab penjajahan  bangsa Indonesia dan upaya bangsa Indonesia",null,null,null,null,null,null,null,null,null,null,null,4]
["SB05A",{"$f":"IF(kur!$E$17=\"\",\"\",kur!$E$17)","v":"SB"},{"$f":"IF(kur!$D$17=\"\",\"\",kur!$D$17)","v":"Seni Budaya "},5,"GANJIL","memahami gambar cerita ","memahami tangga nada  ","memahami pola lantai dalam tari kreasi daerah ","memahami karya seni rupa daerah ",null,null,null,null,null,null,null,null,null,null,null,4]
["SB05B",{"$f":"IF(kur!$E$17=\"\",\"\",kur!$E$17)","v":"SB"},{"$f":"IF(kur!$D$17=\"\",\"\",kur!$D$17)","v":"Seni Budaya "},5,"GENAP","memahami gambar cerita ","memahami tangga nada  ","memahami pola lantai dalam tari kreasi daerah ","memahami karya seni rupa daerah ",null,null,null,null,null,null,null,null,null,null,null,4]
["PJ05A",{"$f":"IF(kur!$E$18=\"\",\"\",kur!$E$18)","v":"PJ"},{"$f":"IF(kur!$D$18=\"\",\"\",kur!$D$18)","v":"Pendidikan Jasmani,Olahraga danKesehatan"},5,"GANJIL","memahami kombinasi gerak dasar lokomotor, non-lokomotor, dan manipulatif sesuai dengan konsep tubuh, ruang, usaha, dan keterhubungannya","memahami kombinasi gerak dasar  jalan, lari,  lompat, dan lempar melalui permainan/olahraga yang dimodifikasi dan atau olahraga tradisional ","menerapkan variasi gerak dasar lokomotor dan non lokomotor untuk membentuk gerak dasar seni beladiri","memahami aktivitas latihan daya tahan jantung (cardio respiratory) untuk pengembangan kebugaran jasmani ","memahami kombinasi pola gerak bertumpu, bergantung, keseimbangan, berpindah/lokomotor, tolakan, putaran, ayunan, melayang, dan mendarat","memahami  penggunaan kombinasi gerak dasar ayunan lengan mengikuti irama (ketukan) tanpa/dengan musik dalam aktivitas gerak berirama ","memahami salah satu gaya renang dengan koordinasi yang baik pada jarak tertentu","memahami konsep pemeliharaan diri dan orang lain dari penyakit menular dan tidak menular ","memahami bahaya merokok, minuman keras, dan narkotika,   zat-zat aditif (NAPZA) dan obat berbahaya  lainnya terhadap kesehatan tubuh ",null,null,null,null,null,null,9]
["PJ05B",{"$f":"IF(kur!$E$18=\"\",\"\",kur!$E$18)","v":"PJ"},{"$f":"IF(kur!$D$18=\"\",\"\",kur!$D$18)","v":"Pendidikan Jasmani,Olahraga danKesehatan"},5,"GENAP","memahami kombinasi gerak dasar lokomotor, non-lokomotor, dan manipulatif sesuai dengan konsep tubuh, ruang, usaha, dan keterhubungannya","memahami kombinasi gerak dasar  jalan, lari,  lompat, dan lempar melalui permainan/olahraga yang dimodifikasi dan atau olahraga tradisional ","menerapkan variasi gerak dasar lokomotor dan non lokomotor untuk membentuk gerak dasar seni beladiri","memahami aktivitas latihan daya tahan jantung (cardio respiratory) untuk pengembangan kebugaran jasmani ","memahami kombinasi pola gerak bertumpu, bergantung, keseimbangan, berpindah/lokomotor, tolakan, putaran, ayunan, melayang, dan mendarat","memahami  penggunaan kombinasi gerak dasar ayunan lengan mengikuti irama (ketukan) tanpa/dengan musik dalam aktivitas gerak berirama ","memahami salah satu gaya renang dengan koordinasi yang baik pada jarak tertentu","memahami konsep pemeliharaan diri dan orang lain dari penyakit menular dan tidak menular ","memahami bahaya merokok, minuman keras, dan narkotika,   zat-zat aditif (NAPZA) dan obat berbahaya  lainnya terhadap kesehatan tubuh ",null,null,null,null,null,null,9]
["BM05A",{"$f":"IF(kur!$E$21=\"\",\"\",kur!$E$21)","v":"BM"},{"$f":"IF(kur!$D$21=\"\",\"\",kur!$D$21)","v":"Bahasa Madura"},5,"GANJIL","Pengetahuan KD 1","Pengetahuan KD 2","Pengetahuan KD 3","Pengetahuan KD 4","Pengetahuan KD 5",null,null,null,null,null,null,null,null,null,null,5]
["BM05B",{"$f":"IF(kur!$E$21=\"\",\"\",kur!$E$21)","v":"BM"},{"$f":"IF(kur!$D$21=\"\",\"\",kur!$D$21)","v":"Bahasa Madura"},5,"GENAP","Pengetahuan KD 1","Pengetahuan KD 2","Pengetahuan KD 3","Pengetahuan KD 4","Pengetahuan KD 5",null,null,null,null,null,null,null,null,null,null,5]
["05A",{"$f":"IF(kur!$E$22=\"\",\"\",kur!$E$22)","v":""},{"$f":"IF(kur!$D$22=\"\",\"\",kur!$D$22)","v":""},5,"GANJIL",null,null,null,null,null,null,null,null,null,null,null,null,null,null,null,0]
["05B",{"$f":"IF(kur!$E$22=\"\",\"\",kur!$E$22)","v":""},{"$f":"IF(kur!$D$22=\"\",\"\",kur!$D$22)","v":""},5,"GENAP",null,null,null,null,null,null,null,null,null,null,null,null,null,null,null,0]
["05A",{"$f":"IF(kur!$E$23=\"\",\"\",kur!$E$23)","v":""},{"$f":"IF(kur!$D$23=\"\",\"\",kur!$D$23)","v":""},5,"GANJIL",null,null,null,null,null,null,null,null,null,null,null,null,null,null,null,0]
["05B",{"$f":"IF(kur!$E$23=\"\",\"\",kur!$E$23)","v":""},{"$f":"IF(kur!$D$23=\"\",\"\",kur!$D$23)","v":""},5,"GENAP",null,null,null,null,null,null,null,null,null,null,null,null,null,null,null,0]
["AH06A",{"$f":"IF(kur!$E$6=\"\",\"\",kur!$E$6)","v":"AH"},{"$f":"IF(kur!$D$6=\"\",\"\",kur!$D$6)","v":"Al-Qur'an Hadits"},6,"GANJIL","memahami arti dan isi kandungan Q.S. ad-Dhuha ","memahami hukum bacaan Mad  Tabi‘i dan Mad Far’i (Wajib Muttasil dan Jaiz Munfasil) ","memahami arti dan isi kandungan hadis tentang keutamaan memberi (اليدالعلياخيرمن اليدالسفلى ) riwayat Bukhari Muslim",null,null,null,null,null,null,null,null,null,null,null,null,3]
["AH06B",{"$f":"IF(kur!$E$6=\"\",\"\",kur!$E$6)","v":"AH"},{"$f":"IF(kur!$D$6=\"\",\"\",kur!$D$6)","v":"Al-Qur'an Hadits"},6,"GENAP","memahami arti dan isi kandungan  Q.S.  al-Bayyinah ","memahami arti  dan isi kandungan hadis tentang amal salih (..... إذامات ابن آدم انقطع عمله )",null,null,null,null,null,null,null,null,null,null,null,null,null,2]
["AA06A",{"$f":"IF(kur!$E$7=\"\",\"\",kur!$E$7)","v":"AA"},{"$f":"IF(kur!$D$7=\"\",\"\",kur!$D$7)","v":"Akidah Akhlak"},6,"GANJIL","mengetahui kalimat hayyibah (Astaghfirullahal-‘adzim)","mengenal sifat-sifat Allah SWT. yang terkandung dalam al-Asma’ al-husna(al-Qawwiy, al-Hakim, al-MuSawwir dan al-Qadir)","memahami hikmah beriman kepada Qada dan Qadar Allah SWT. (takdir)","memahami sifat tanggung jawab, adil dan bijaksana dalam kehidupan sehari-hari","mengetahui akhlak tercela sifat marah, fasik, murtad, dan cara menghindarinya",null,null,null,null,null,null,null,null,null,null,5]
["AA06B",{"$f":"IF(kur!$E$7=\"\",\"\",kur!$E$7)","v":"AA"},{"$f":"IF(kur!$D$7=\"\",\"\",kur!$D$7)","v":"Akidah Akhlak"},6,"GENAP","mengetahui kalimat Thayyibah (istigfar)","mengenal sifat-sifat Allah SWT. dalam al-Asma’ al-husna(al-Gafur, al-Afuwwu, as-Sabur dan al-Halim)","memahami sifat sabar dan taubat yang dicontohkan Nabi Ayub a.s. dan Nabi Adam a.s.","memahami akhlak yang baik terhadap binatang dan tumbuhan",null,null,null,null,null,null,null,null,null,null,null,4]
["FK06A",{"$f":"IF(kur!$E$8=\"\",\"\",kur!$E$8)","v":"FK"},{"$f":"IF(kur!$D$8=\"\",\"\",kur!$D$8)","v":"Fikih"},6,"GANJIL","memahami  ketentuan makanan halal dan haram dikonsumsi","memahami  ketentuan minuman halal dan haram dikonsumsi","mengidentifikasi binatang yang halal dan haram dikonsumsi",null,null,null,null,null,null,null,null,null,null,null,null,3]
["FK06B",{"$f":"IF(kur!$E$8=\"\",\"\",kur!$E$8)","v":"FK"},{"$f":"IF(kur!$D$8=\"\",\"\",kur!$D$8)","v":"Fikih"},6,"GENAP","memahami ketentuan jual beli ","memahami tatacara pinjam-meminjam ","memahami ketentuan barang temuan",null,null,null,null,null,null,null,null,null,null,null,null,3]
["BA06A",{"$f":"IF(kur!$E$9=\"\",\"\",kur!$E$9)","v":"BA"},{"$f":"IF(kur!$D$9=\"\",\"\",kur!$D$9)","v":"Bahasa Arab"},6,"GANJIL","memahami bentuk dan makna kata, frase, kalimat topik: أعمالنا في المدرسة وفي البيت؛ baik secara lisan/ tertulis","memahami bentuk dan makna kata, frase, kalimat topik: كم الساعةوفي أي ساعة baik secara lisan/ tertulis","memahami bentuk dan makna kata, frase, kalimat topik: تعلم اللغة العربية  baik secara lisan/ tertulis",null,null,null,null,null,null,null,null,null,null,null,null,3]
["BA06B",{"$f":"IF(kur!$E$9=\"\",\"\",kur!$E$9)","v":"BA"},{"$f":"IF(kur!$D$9=\"\",\"\",kur!$D$9)","v":"Bahasa Arab"},6,"GENAP","mengidentifikasi bunyi dan makna dari ujaran kata, frase, dan kalimat topik: الواجب المنزلي baik secara lisan atau tertulis","mengidentifikasi bunyi dan makna dari ujaran kata, frase, dan kalimat topik: النزهة baik secara lisan atau tertulis",null,null,null,null,null,null,null,null,null,null,null,null,null,2]
["SKI06A",{"$f":"IF(kur!$E$10=\"\",\"\",kur!$E$10)","v":"SKI"},{"$f":"IF(kur!$D$10=\"\",\"\",kur!$D$10)","v":"Sejarah Kebudayaan Islam"},6,"GANJIL","memahami sejarah kekholifahan khalifah Usman bin Affan","mengetahui contoh nilai-nilai positif dari khalifah Usman bin Affan","memahami sejarah kekholifahan khalifah Ali bin Abi Talib","mengetahui contoh nilai-nilai positif dari khalifah Ali bin Abi Talib",null,null,null,null,null,null,null,null,null,null,null,4]
["SKI06B",{"$f":"IF(kur!$E$10=\"\",\"\",kur!$E$10)","v":"SKI"},{"$f":"IF(kur!$D$10=\"\",\"\",kur!$D$10)","v":"Sejarah Kebudayaan Islam"},6,"GENAP","mengetahui sejarah perjuangan Sunan Maulana Malik Ibrahim, Sunan Ampel dan Sunan Giri","mengetahui sejarah perjuangan Sunan Bonang, Sunan Kalijaga dan Sunan Drajat","mengetahui sejarah perjuangan Sunan Muria, Sunan Kudus dan Sunan Gunung Jati",null,null,null,null,null,null,null,null,null,null,null,null,3]
["PKN06A",{"$f":"IF(kur!$E$12=\"\",\"\",kur!$E$12)","v":"PKN"},{"$f":"IF(kur!$D$12=\"\",\"\",kur!$D$12)","v":"Pendidikan Pancasila dan Kewarganegaaraan"},6,"GANJIL","Memahami moralitas yang terkandung dalam sila Pancasila di rumah, sekolah, dan lingkungan masyarakat sekitar","Memahami hak, kewajiban dan tanggungjawab sebagai warga dalam kehidupan sehari-hari di rumah","Memahami manfaat keanekaragaman sosial, budaya dan ekonomi dalam bingkai Bhinneka Tunggal Ika","Memahami nilai-nilai persatuan dan kesatuan bangsa dalam pemerintahan, wilayah, sosial, dan budaya","Memahami Nilai-nilai Persatuan pada masa penjajahan, pergerakan nasional dan kemerdekaan","Memahami saling ketergantungan dalam membangun kehidupan kebangsaan",null,null,null,null,null,null,null,null,null,6]
["PKN06B",{"$f":"IF(kur!$E$12=\"\",\"\",kur!$E$12)","v":"PKN"},{"$f":"IF(kur!$D$12=\"\",\"\",kur!$D$12)","v":"Pendidikan Pancasila dan Kewarganegaaraan"},6,"GENAP","Memahami moralitas yang terkandung dalam sila Pancasila di rumah, sekolah, dan lingkungan masyarakat sekitar","Memahami hak, kewajiban dan tanggungjawab sebagai warga dalam kehidupan sehari-hari di rumah","Memahami manfaat keanekaragaman sosial, budaya dan ekonomi dalam bingkai Bhinneka Tunggal Ika","Memahami nilai-nilai persatuan dan kesatuan bangsa dalam pemerintahan, wilayah, sosial, dan budaya","Memahami Nilai-nilai Persatuan pada masa penjajahan, pergerakan nasional dan kemerdekaan","Memahami saling ketergantungan dalam membangun kehidupan kebangsaan",null,null,null,null,null,null,null,null,null,6]
["BIN06A",{"$f":"IF(kur!$E$13=\"\",\"\",kur!$E$13)","v":"BIN"},{"$f":"IF(kur!$D$13=\"\",\"\",kur!$D$13)","v":"Bahasa Indonesia"},6,"GANJIL","Menggali informasi dari teks laporan investigasi tentang ciri khusus makhluk hidup dan lingkungan, serta campuran dan larutan","Menguraikan isi teks penjelasan (eksplanasi) ilmiah tentang penyebab perubahan dan sifat benda, hantaran panas, energi listrik dan perubahannya, serta tata surya","Menguraikan isi teks pidato persuasif tentang cinta tanah air dan sistem pemerintahan serta layanan masyarakat daerah","Menggali informasi dari teks cerita fiksi sejarah tentang keutuhan wilayah nusantara Indonesia dan hubungannya dengan negara tetangga",null,null,null,null,null,null,null,null,null,null,null,4]
["BIN06B",{"$f":"IF(kur!$E$13=\"\",\"\",kur!$E$13)","v":"BIN"},{"$f":"IF(kur!$D$13=\"\",\"\",kur!$D$13)","v":"Bahasa Indonesia"},6,"GENAP","Menggali informasi dari teks laporan investigasi tentang ciri khusus makhluk hidup dan lingkungan, serta campuran dan larutan","Menguraikan isi teks penjelasan (eksplanasi) ilmiah tentang penyebab perubahan dan sifat benda, hantaran panas, energi listrik dan perubahannya, serta tata surya","Menguraikan isi teks pidato persuasif tentang cinta tanah air dan sistem pemerintahan serta layanan masyarakat daerah","Menggali informasi dari teks cerita fiksi sejarah tentang keutuhan wilayah nusantara Indonesia dan hubungannya dengan negara tetangga",null,null,null,null,null,null,null,null,null,null,null,4]
["MTK06A",{"$f":"IF(kur!$E$14=\"\",\"\",kur!$E$14)","v":"MTK"},{"$f":"IF(kur!$D$14=\"\",\"\",kur!$D$14)","v":"Matematika"},6,"GANJIL","Memahami operasi hitung yang melibatkan berbagai bentuk pecahan (pecahan biasa, campuran, desimal dan persen)","Memahami perbandingan senilai dan perbandingan terbalik","Menentukan besar sudut yang ditemukan dalam kehidupan sehari-hari dengan satuan tidak baku dan satuan derajat","Menentukan prosedur pemecahan masalah dengan menganalisis hubungan antar simbol, dan mengamati pola","Mengenal unsur-unsur lingkaran","Mengenal diagonal ruang dan diagonal sisi dalam bangun ruang sederhana","Memilahkan poligon oleh garis simetri dan dengan simetri rotasi","Memecahkan masalah sederhana melibatkan juring, busur, prisma, silinder, piramida, atau kerucut","Memahami cara menghitung nilai rata-rata, median, dan modus menggunakan statistik sederhana","Membandingkan tafsiran/arti rata-rata, median dan modus dari dua kumpulan data berbeda, tetapi sejenis","Menemukan peluang empirik dari data luaran (output) yang mungkin diperoleh berdasarkan beberapa jenis data malalui tabel dan grafik","Memahami kuesioner/lembar isian sederhana sebagai sarana yang akurat untuk mendapatkan informasi tertentu",null,null,null,12]
["MTK06B",{"$f":"IF(kur!$E$14=\"\",\"\",kur!$E$14)","v":"MTK"},{"$f":"IF(kur!$D$14=\"\",\"\",kur!$D$14)","v":"Matematika"},6,"GENAP","Memahami operasi hitung yang melibatkan berbagai bentuk pecahan (pecahan biasa, campuran, desimal dan persen)","Memahami perbandingan senilai dan perbandingan terbalik","Menentukan besar sudut yang ditemukan dalam kehidupan sehari-hari dengan satuan tidak baku dan satuan derajat","Menentukan prosedur pemecahan masalah dengan menganalisis hubungan antar simbol, dan mengamati pola","Mengenal unsur-unsur lingkaran","Mengenal diagonal ruang dan diagonal sisi dalam bangun ruang sederhana","Memilahkan poligon oleh garis simetri dan dengan simetri rotasi","Memecahkan masalah sederhana melibatkan juring, busur, prisma, silinder, piramida, atau kerucut","Memahami cara menghitung nilai rata-rata, median, dan modus menggunakan statistik sederhana","Membandingkan tafsiran/arti rata-rata, median dan modus dari dua kumpulan data berbeda, tetapi sejenis","Menemukan peluang empirik dari data luaran (output) yang mungkin diperoleh berdasarkan beberapa jenis data malalui tabel dan grafik","Memahami kuesioner/lembar isian sederhana sebagai sarana yang akurat untuk mendapatkan informasi tertentu",null,null,null,12]
["IPA06A",{"$f":"IF(kur!$E$15=\"\",\"\",kur!$E$15)","v":"IPA"},{"$f":"IF(kur!$D$15=\"\",\"\",kur!$D$15)","v":"Ilmu Pengetahuan Alam"},6,"GANJIL","Mengidentifikasi kegunaan energi listrik, konversi energy listrik, transmisi energy listrik, dan berpartisipasi","Mendeskripsikan sistem tata surya, matahari sebagai pusat tata surya, serta posisi dan karakteristik anggota tata surya","Mendeskripsikan peristiwa rotasi bumi, revolusi bumi, revolusi bulan, dan terjadinya gerhana bulan dan matahari","Membedakan campuran dan larutan melalui pengamatan","Memahami hubungan antara suhu, sifat hantaran, perubahan benda akibat pengaruh suhu","Mendeskrisikan perkembangbiakan mahluk hidup","Mengidentifikasi cara makhluk hidup menyesuaikan diri dengan lingkungan",null,null,null,null,null,null,null,null,7]
["IPA06B",{"$f":"IF(kur!$E$15=\"\",\"\",kur!$E$15)","v":"IPA"},{"$f":"IF(kur!$D$15=\"\",\"\",kur!$D$15)","v":"Ilmu Pengetahuan Alam"},6,"GENAP","Mengidentifikasi kegunaan energi listrik, konversi energy listrik, transmisi energy listrik, dan berpartisipasi","Mendeskripsikan sistem tata surya, matahari sebagai pusat tata surya, serta posisi dan karakteristik anggota tata surya","Mendeskripsikan peristiwa rotasi bumi, revolusi bumi, revolusi bulan, dan terjadinya gerhana bulan dan matahari","Membedakan campuran dan larutan melalui pengamatan","Memahami hubungan antara suhu, sifat hantaran, perubahan benda akibat pengaruh suhu","Mendeskrisikan perkembangbiakan mahluk hidup","Mengidentifikasi cara makhluk hidup menyesuaikan diri dengan lingkungan",null,null,null,null,null,null,null,null,7]
["IPS06A",{"$f":"IF(kur!$E$16=\"\",\"\",kur!$E$16)","v":"IPS"},{"$f":"IF(kur!$D$16=\"\",\"\",kur!$D$16)","v":"Ilmu Pengetahuan Sosial"},6,"GANJIL","mengemukakan keragaman aspek keruangan dan konektivitas antar ruang, waktu, perubahannya","memahami sebab akibat perubahan masyarakat Indonesia dari masa pergerakan kemerdekaan s/d reformasi","memahami keterkaitan manusia dalam hubungannya dengan kondisi geografis","menelaah manfaat kelembagaan politik, sosial, ekonomi dan budaya","menelaah landasan dari dinamika interaksi manusia dan lingkungan alam, sosial, budaya, ekonomi",null,null,null,null,null,null,null,null,null,null,5]
["IPS06B",{"$f":"IF(kur!$E$16=\"\",\"\",kur!$E$16)","v":"IPS"},{"$f":"IF(kur!$D$16=\"\",\"\",kur!$D$16)","v":"Ilmu Pengetahuan Sosial"},6,"GENAP","mengemukakan keragaman aspek keruangan dan konektivitas antar ruang, waktu, perubahannya","memahami sebab akibat perubahan masyarakat Indonesia dari masa pergerakan kemerdekaan s/d reformasi","memahami keterkaitan manusia dalam hubungannya dengan kondisi geografis","menelaah manfaat kelembagaan politik, sosial, ekonomi dan budaya","menelaah landasan dari dinamika interaksi manusia dan lingkungan alam, sosial, budaya, ekonomi",null,null,null,null,null,null,null,null,null,null,5]
["SB06A",{"$f":"IF(kur!$E$17=\"\",\"\",kur!$E$17)","v":"SB"},{"$f":"IF(kur!$D$17=\"\",\"\",kur!$D$17)","v":"Seni Budaya "},6,"GANJIL","mengenal karya dua dan tiga dimensi berdasarkan prinsip seni rupa nusantara","mengenal harmoni dan simbol teks lagu sederhana","mengenal estetika gerak dan komposisi kelompok dalam tari","menyajikan berbagai karya kreatif dalam kegiatan pameran dan pertunjukkan","memahami nilai-nilai yang melekat dalam unsur-unsur budaya daerah ",null,null,null,null,null,null,null,null,null,null,5]
["SB06B",{"$f":"IF(kur!$E$17=\"\",\"\",kur!$E$17)","v":"SB"},{"$f":"IF(kur!$D$17=\"\",\"\",kur!$D$17)","v":"Seni Budaya "},6,"GENAP","mengenal karya dua dan tiga dimensi berdasarkan prinsip seni rupa nusantara","mengenal harmoni dan simbol teks lagu sederhana","mengenal estetika gerak dan komposisi kelompok dalam tari","menyajikan berbagai karya kreatif dalam kegiatan pameran dan pertunjukkan","memahami nilai-nilai yang melekat dalam unsur-unsur budaya daerah ",null,null,null,null,null,null,null,null,null,null,5]
["PJ06A",{"$f":"IF(kur!$E$18=\"\",\"\",kur!$E$18)","v":"PJ"},{"$f":"IF(kur!$D$18=\"\",\"\",kur!$D$18)","v":"Pendidikan Jasmani,Olahraga danKesehatan"},6,"GANJIL","memahami konsep variasi dan kombinasi pola gerak permainan dan atau olahraga tradisional bola besar","memahami konsep variasi dan kombinasi pola gerak permainan dan atau olahraga tradisional bola kecil","memahami konsep gerak dasar atletik jalan, lari, lompat, dan lempar","Memahami konsep pola gerak langkah, serangan, dan belaan dalam olahraga beladiri","Memahami konsep latihan kebugaran jasmani, dan pengukuran","Memahami konsep rangkaian tiga gerak dasar senam lantai dengan konsisten, tepat dan kontrol yang baik","Memahami konsep penyusunan rangkaian langkah dan ayunan lengan secara sederhana","Memahami konsep keterampilan satu gaya renang dengan koordinasi yang baik dan dasar penyelamatan","Memahami konsep pemeliharaan diri dari penyakit menular dan tidak menular","memahami jenis dan cara menghindarkan diri dari bahaya narkotika, psikotropika, dan zat aditif","Memahami dan cara mengukur kebugaran jasmani dengan salah satu jenis tes kebugaran",null,null,null,null,11]
["PJ06B",{"$f":"IF(kur!$E$18=\"\",\"\",kur!$E$18)","v":"PJ"},{"$f":"IF(kur!$D$18=\"\",\"\",kur!$D$18)","v":"Pendidikan Jasmani,Olahraga danKesehatan"},6,"GENAP","memahami konsep variasi dan kombinasi pola gerak permainan dan atau olahraga tradisional bola besar","memahami konsep variasi dan kombinasi pola gerak permainan dan atau olahraga tradisional bola kecil","memahami konsep gerak dasar atletik jalan, lari, lompat, dan lempar","Memahami konsep pola gerak langkah, serangan, dan belaan dalam olahraga beladiri","Memahami konsep latihan kebugaran jasmani, dan pengukuran","Memahami konsep rangkaian tiga gerak dasar senam lantai dengan konsisten, tepat dan kontrol yang baik","Memahami konsep penyusunan rangkaian langkah dan ayunan lengan secara sederhana","Memahami konsep keterampilan satu gaya renang dengan koordinasi yang baik dan dasar penyelamatan","Memahami konsep pemeliharaan diri dari penyakit menular dan tidak menular","memahami jenis dan cara menghindarkan diri dari bahaya narkotika, psikotropika, dan zat aditif","Memahami dan cara mengukur kebugaran jasmani dengan salah satu jenis tes kebugaran",null,null,null,null,11]
["BM06A",{"$f":"IF(kur!$E$21=\"\",\"\",kur!$E$21)","v":"BM"},{"$f":"IF(kur!$D$21=\"\",\"\",kur!$D$21)","v":"Bahasa Madura"},6,"GANJIL","mengenal, memahami dan mengidentifikasi teks informasi yang diperoleh dari berbagai media berbahasa daerah secara lisdan dan tertulis","mengenal, memahami dan mengidentifikasi teks tembang macapat sesuai dengan kaidah","mengenal, memahami dan mengidentifikasi teks lisan dan tulis berbahasa daerah yang memuat ungkapan tradisional (paribasan/parebhasan/bebasan/ebharat,saloka)","mengenal, memahami dan mengidentifikasi teks lisan dan tulis berbahasa daerah yang memuat cangkriman / bhak-tebbhaghan","mengenal, memahami dan mengidentifikasi teks pidato,bercerita dan lainnya sesuai dengan kaidah",null,null,null,null,null,null,null,null,null,null,5]
["BM06B",{"$f":"IF(kur!$E$21=\"\",\"\",kur!$E$21)","v":"BM"},{"$f":"IF(kur!$D$21=\"\",\"\",kur!$D$21)","v":"Bahasa Madura"},6,"GENAP","mengenal, memahami dan mengidentifikasi teks informasi yang diperoleh dari berbagai media berbahasa daerah secara lisdan dan tertulis","mengenal, memahami dan mengidentifikasi teks tembang macapat sesuai dengan kaidah","mengenal, memahami dan mengidentifikasi teks lisan dan tulis berbahasa daerah yang memuat ungkapan tradisional (paribasan/parebhasan/bebasan/ebharat,saloka)","mengenal, memahami dan mengidentifikasi teks lisan dan tulis berbahasa daerah yang memuat cangkriman / bhak-tebbhaghan","mengenal, memahami dan mengidentifikasi teks pidato,bercerita dan lainnya sesuai dengan kaidah",null,null,null,null,null,null,null,null,null,null,5]
["06A",{"$f":"IF(kur!$E$22=\"\",\"\",kur!$E$22)","v":""},{"$f":"IF(kur!$D$22=\"\",\"\",kur!$D$22)","v":""},6,"GANJIL",null,null,null,null,null,null,null,null,null,null,null,null,null,null,null,0]
["06B",{"$f":"IF(kur!$E$22=\"\",\"\",kur!$E$22)","v":""},{"$f":"IF(kur!$D$22=\"\",\"\",kur!$D$22)","v":""},6,"GENAP",null,null,null,null,null,null,null,null,null,null,null,null,null,null,null,0]
["06A",{"$f":"IF(kur!$E$23=\"\",\"\",kur!$E$23)","v":""},{"$f":"IF(kur!$D$23=\"\",\"\",kur!$D$23)","v":""},6,"GANJIL",null,null,null,null,null,null,null,null,null,null,null,null,null,null,null,0]
["06B",{"$f":"IF(kur!$E$23=\"\",\"\",kur!$E$23)","v":""},{"$f":"IF(kur!$D$23=\"\",\"\",kur!$D$23)","v":""},6,"GENAP",null,null,null,null,null,null,null,null,null,null,null,null,null,null,null,0]
["AH07A",{"$f":"IF(kur!$E$6=\"\",\"\",kur!$E$6)","v":"AH"},{"$f":"IF(kur!$D$6=\"\",\"\",kur!$D$6)","v":"Al-Qur'an Hadits"},7,"GANJIL","memahami kedudukan al-qur`an dan hadis sebagai pedoman hidup umat manusia","memahami isi kandungan q.s. al-fatihah (1), an-naas (114), al-falaq (113) dan al-ikhlws (112)tentang tauhid dalam konsep islam","memahami keterkaitan isi kandungan hadis tentang iman riwayat ali bin abi talib dari ibnu majah  (الإيمانمعرفة بالقلبوقولباللسانوعملبالأركان)\n",null,null,null,null,null,null,null,null,null,null,null,null,3]
["AH07B",{"$f":"IF(kur!$E$6=\"\",\"\",kur!$E$6)","v":"AH"},{"$f":"IF(kur!$D$6=\"\",\"\",kur!$D$6)","v":"Al-Qur'an Hadits"},7,"GENAP","memahami ketentuan hukum bacaan qalqalah dalam q.s. al-bayyinah (98), al- al- kwfiryn (109), dan al-qur`an surah-surah pendek pilihan","memahami isi kandungan q.s. al- kwfiryn (109), q.s al-bayyinah (98)  tentang toleransi dan membangun kehidupan umat beragama dan hadis riwayat ahmad, at-tirmzi, ibnu hibban, al-hakim, al-baihaqi dari ibnu umar r.a. خير الاصحاب عند الله خيرهم لصاحبه وخير الجيران عند الله خيرهم لجاره ","memahami isi kandungan q.s. al-lahab (111) dan q.s an-nasr (110) tentang problematika dakwah",null,null,null,null,null,null,null,null,null,null,null,null,3]
["AA07A",{"$f":"IF(kur!$E$7=\"\",\"\",kur!$E$7)","v":"AA"},{"$f":"IF(kur!$D$7=\"\",\"\",kur!$D$7)","v":"Akidah Akhlak"},7,"GANJIL","memahami dalil, dasar, dan tujuan akidah islam","mengidentifikasi sifat-sifat wajib allah yang nafsiyah, salbiyah, ma‘ani, dan ma‘nawiyah beserta bukti/dalil naqli dan aqlinya, sifat-sifat mustahil dan jaiz bagi allah swt,.","memahami pengertian,contoh, dan dampak positifsifat ikhlas, taat, khauf, dan tobat","memahami adab salat dan zikir","menganalisis kisah keteladanan nabi sulaiman dan umatnya",null,null,null,null,null,null,null,null,null,null,5]
["AA07B",{"$f":"IF(kur!$E$7=\"\",\"\",kur!$E$7)","v":"AA"},{"$f":"IF(kur!$D$7=\"\",\"\",kur!$D$7)","v":"Akidah Akhlak"},7,"GENAP","menguraikan al-asmw' al-pusnw (al-‘azrz, al-gaffwr, al-bwsih, an-nwfi’, ar-ra’yf, al-barr, al-fattwp, al-‘adl, al-qayyym)","mendeskripsikan tugas dan sifat-sifat malaikat allah serta makhluk gaib lainnya, seperti jin, iblis, dan setan","memahami akhlak tercela riya’ dan nifaq","memahami adab membaca al-qur`an dan adab berdoa","menganalisiskisah keteladanan ashabul kahfi",null,null,null,null,null,null,null,null,null,null,5]
["FK07A",{"$f":"IF(kur!$E$8=\"\",\"\",kur!$E$8)","v":"FK"},{"$f":"IF(kur!$D$8=\"\",\"\",kur!$D$8)","v":"Fikih"},7,"GANJIL","memahamihadas dan najis dan tata cara menyucikanya","memahami ketentuan salat lima waktu","memahami waktu-waktu salat lima waktu","memahami ketentuan azan dan ikamah","menganalisis ketentuan salat berjamaah","memahami ketentuan sujud sahwi","memahami tatacara berzikir dan berdoa setelah salat ",null,null,null,null,null,null,null,null,7]
["FK07B",{"$f":"IF(kur!$E$8=\"\",\"\",kur!$E$8)","v":"FK"},{"$f":"IF(kur!$D$8=\"\",\"\",kur!$D$8)","v":"Fikih"},7,"GENAP","memahami ketentuan salat jum’at","memahami ketentuan salat jamak dan qasar ","memahami kaifiat salat dalam berbagai keadaan ","memahami salat sunah muakkad dan  shalat sunah gairu muakkad",null,null,null,null,null,null,null,null,null,null,null,4]
["BA07A",{"$f":"IF(kur!$E$9=\"\",\"\",kur!$E$9)","v":"BA"},{"$f":"IF(kur!$D$9=\"\",\"\",kur!$D$9)","v":"Bahasa Arab"},7,"GANJIL","memahami bunyi, makna, dan gagasan dari kata, frase, kalimat bahasa arab sesuai dengan struktur kalimat yang berkaitan dengan topik : التعريفبالنفسوبالعاملينفيالمدرسة؛ baik secara lisan maupun tertulis\n\n","memahami bunyi, makna, dan gagasan dari kata, frase, kalimat bahasa arab sesuai dengan struktur kalimat yang berkaitan dengan topik :المرافقوالأدواتالمدرسية  baik secara lisan maupun tertulis ","memahami bunyi, makna, dan gagasan dari kata, frase, kalimat bahasa arab sesuai dengan struktur kalimat yang berkaitan dengan topik :الألوان؛ baik secara lisan maupun tertulis",null,null,null,null,null,null,null,null,null,null,null,null,3]
["BA07B",{"$f":"IF(kur!$E$9=\"\",\"\",kur!$E$9)","v":"BA"},{"$f":"IF(kur!$D$9=\"\",\"\",kur!$D$9)","v":"Bahasa Arab"},7,"GENAP","memahami bunyi, makna, dan gagasan dari kata, frase, kalimat bahasa arab sesuai dengan struktur kalimat yang berkaitan dengan topik : العنوان baik secara lisan maupun tertulis\n","memahami bunyi, makna, dan gagasan dari kata, frase, kalimat bahasa arab sesuai dengan struktur kalimat yang berkaitan dengan topik : بيتي baik secara lisan maupun tertulis","memahami bunyi, makna, dan gagasan dari kata, frase, kalimat bahasa arab sesuai dengan struktur kalimat yang berkaitan dengan topik : منيوميات الأسرة  baik secara lisan maupun tertulis",null,null,null,null,null,null,null,null,null,null,null,null,3]
["SKI07A",{"$f":"IF(kur!$E$10=\"\",\"\",kur!$E$10)","v":"SKI"},{"$f":"IF(kur!$D$10=\"\",\"\",kur!$D$10)","v":"Sejarah Kebudayaan Islam"},7,"GANJIL","memahami misi nabi muhammad saw. sebagai rahmat bagi alam semesta, pembawa kedamaian, kesejahteraan, dan kemajuan masyarakat","memahami  strategi dakwah nabi muhammad saw. di mekah ","mengidentifikasistrategi dakwah nabi muhammad saw. di madinah","memahami sejarah nabi muhammad saw. dalam membangun masyarakat melalui kegiatan ekonomi dan perdagangan ",null,null,null,null,null,null,null,null,null,null,null,4]
["SKI07B",{"$f":"IF(kur!$E$10=\"\",\"\",kur!$E$10)","v":"SKI"},{"$f":"IF(kur!$D$10=\"\",\"\",kur!$D$10)","v":"Sejarah Kebudayaan Islam"},7,"GENAP","mengidentifikasi berbagai kemajuan yang dicapai umat islam pada masa  khulafaur rasyidin","memahami perkembangan kebudayaan/ peradaban islam pada masa dinasti bani umayyah","mengidentifikasi ilmuwan muslim dan perannya dalam memajukan kebudayaan/peradaban islam pada masa dinasti bani umayyah.","memahami sikap dan gaya kepemimpinan umar bin abdul azis ",null,null,null,null,null,null,null,null,null,null,null,4]
["PKN07A",{"$f":"IF(kur!$E$12=\"\",\"\",kur!$E$12)","v":"PKN"},{"$f":"IF(kur!$D$12=\"\",\"\",kur!$D$12)","v":"Pendidikan Pancasila dan Kewarganegaaraan"},7,"GANJIL","menganalisis proses perumusan dan penetapan pancasila sebagai dasar negara         \n","memahami norma-norma yang berlaku dalam kehidupan bermasyarakat untuk mewujudkan keadilan ","menganalisis kesejarahan perumusan dan pengesahan undang-undang dasar negara republik indonesia tahun 1945 ","mengkarakteristikkan keberagaman suku, agama, ras, dan antargolongan dalam bingkai bhinneka tunggal ika ","menganalisis pentingnya kerja sama dalam berbagai bidang kehidupan di masyarakat   ","mengasosiasikan karakteristik daerah dalam kerangka negara kesatuan republik indonesia",null,null,null,null,null,null,null,null,null,6]
["PKN07B",{"$f":"IF(kur!$E$12=\"\",\"\",kur!$E$12)","v":"PKN"},{"$f":"IF(kur!$D$12=\"\",\"\",kur!$D$12)","v":"Pendidikan Pancasila dan Kewarganegaaraan"},7,"GENAP","menganalisis proses perumusan dan penetapan pancasila sebagai dasar negara         \n","memahami norma-norma yang berlaku dalam kehidupan bermasyarakat untuk mewujudkan keadilan ","menganalisis kesejarahan perumusan dan pengesahan undang-undang dasar negara republik indonesia tahun 1945 ","mengkarakteristikkan keberagaman suku, agama, ras, dan antargolongan dalam bingkai bhinneka tunggal ika ","menganalisis pentingnya kerja sama dalam berbagai bidang kehidupan di masyarakat   ","mengasosiasikan karakteristik daerah dalam kerangka negara kesatuan republik indonesia",null,null,null,null,null,null,null,null,null,6]
[{"$f":"$B180 & TEXT($D180,\"00\") & IF($E180=\"GANJIL\",\"A\",\"B\")","v":"BIN07A"},{"$f":"IF(kur!$E$13=\"\",\"\",kur!$E$13)","v":"BIN"},{"$f":"IF(kur!$D$13=\"\",\"\",kur!$D$13)","v":"Bahasa Indonesia"},7,"GANJIL","mengidentifikasi informasi dalam teks deskripsi tentang objek (sekolah, tempat wisata, tempat bersejarah, dan atau suasana pentas seni daerah) yang didengar dan dibaca","menelaah struktur dan kebahasaan dari  teks deskripsi tentang objek (sekolah, tempat wisata, tempat bersejarah, dan⁄atau suasana pentas seni daerah) yang didengar dan dibaca","mengidentifikasi  unsur-unsur teks narasi (cerita imajinasi) yang dibaca dan didengar","menelaah struktur dan kebahasaan teks narasi (cerita imajinasi)  yang dibaca dan didengar","mengidentifikasi teks prosedur tentang cara melakukan sesuatu  dan cara membuat (cara  memainkan alat musik/tarian daerah, cara membuat kuliner khas daerah, dll.)  dari berbagai sumber yang dibaca dan didengar ","menelaah struktur dan aspek kebahasaan  teks prosedur tentang cara melakukan sesuatu dan cara membuat (cara memainkan alat musik/tarian daerah, cara membuat kuliner khas daerah, dll.)  dari berbagai sumber yang dibaca dan didengar","mengidentifikasi informasi dari   teks laporan hasil observasi berupa buku  pengetahuan  yang dibaca atau diperdengarkan","menelaah  struktur, kebahasaan, dan isi teks laporan hasil observasi yang berupa buku  pengetahuan  yang dibaca atau diperdengarkan ","menemukan unsur-unsur dari buku fiksi dan nonfiksi yang dibaca","menelaah hubungan unsur-unsur     dalam buku fiksi dan nonfiksi  ",null,null,null,null,null,{"$f":"COUNTA($F180:$T180)","v":10}]
["BIN07B",{"$f":"IF(kur!$E$13=\"\",\"\",kur!$E$13)","v":"BIN"},{"$f":"IF(kur!$D$13=\"\",\"\",kur!$D$13)","v":"Bahasa Indonesia"},7,"GENAP","mengidentifikasi informasi dalam teks deskripsi tentang objek (sekolah, tempat wisata, tempat bersejarah, dan atau suasana pentas seni daerah) yang didengar dan dibaca","menelaah struktur dan kebahasaan dari  teks deskripsi tentang objek (sekolah, tempat wisata, tempat bersejarah, dan⁄atau suasana pentas seni daerah) yang didengar dan dibaca","mengidentifikasi  unsur-unsur teks narasi (cerita imajinasi) yang dibaca dan didengar","menelaah struktur dan kebahasaan teks narasi (cerita imajinasi)  yang dibaca dan didengar","mengidentifikasi teks prosedur tentang cara melakukan sesuatu  dan cara membuat (cara  memainkan alat musik/tarian daerah, cara membuat kuliner khas daerah, dll.)  dari berbagai sumber yang dibaca dan didengar ","menelaah struktur dan aspek kebahasaan  teks prosedur tentang cara melakukan sesuatu dan cara membuat (cara memainkan alat musik/tarian daerah, cara membuat kuliner khas daerah, dll.)  dari berbagai sumber yang dibaca dan didengar","mengidentifikasi informasi dari   teks laporan hasil observasi berupa buku  pengetahuan  yang dibaca atau diperdengarkan","menelaah  struktur, kebahasaan, dan isi teks laporan hasil observasi yang berupa buku  pengetahuan  yang dibaca atau diperdengarkan ","menemukan unsur-unsur dari buku fiksi dan nonfiksi yang dibaca","menelaah hubungan unsur-unsur     dalam buku fiksi dan nonfiksi  ",null,null,null,null,null,10]
["MTK07A",{"$f":"IF(kur!$E$14=\"\",\"\",kur!$E$14)","v":"MTK"},{"$f":"IF(kur!$D$14=\"\",\"\",kur!$D$14)","v":"Matematika"},7,"GANJIL","menjelaskan dan menentukan urutan pada bilangan bulat (positifdan negatif) dan pecahan (biasa, campuran, desimal, persen)","menjelaskan dan melakukan operasi hitung bilangan bulat dan pecahandengan memanfaatkan berbagai sifat operasi","menjelaskan dan menentukan representasi bilangan dalam bentuk bilangan berpangkat bulat positif dan negatif","menjelaskan himpunan, himpunanbagian, himpunan semesta, himpunan kosong,komplemen himpunan,dan melakukan operasi biner pada himpunan menggunakan masalah kontekstual","menjelaskan bentuk aljabar dan melakukan operasi pada bentuk aljabar (penjumlahan, pengurangan, perkalian, dan pembagian)","menjelaskan persamaan dan pertidaksamaan linear satu variabel dan penyelesaiannya ","menjelaskan rasio dua besaran (satuannya sama dan berbeda) ","membedakan perbandingan senilai dan berbalik  nilai dengan menggunakan tabel data, grafik, dan persamaan ","mengenal dan menganalisis berbagai situasi terkait aritmetika sosial (penjualan, pembelian, potongan, keuntungan, kerugian, bunga tunggal, persentase,  bruto, neto, tara)","menganalisis hubungan antar sudut sebagai akibat dari dua garis sejajar yang dipotong oleh garis transversal ",null,null,null,null,null,10]
["MTK07B",{"$f":"IF(kur!$E$14=\"\",\"\",kur!$E$14)","v":"MTK"},{"$f":"IF(kur!$D$14=\"\",\"\",kur!$D$14)","v":"Matematika"},7,"GENAP","menjelaskan dan menentukan urutan pada bilangan bulat (positifdan negatif) dan pecahan (biasa, campuran, desimal, persen)","menjelaskan dan melakukan operasi hitung bilangan bulat dan pecahandengan memanfaatkan berbagai sifat operasi","menjelaskan dan menentukan representasi bilangan dalam bentuk bilangan berpangkat bulat positif dan negatif","menjelaskan himpunan, himpunanbagian, himpunan semesta, himpunan kosong,komplemen himpunan,dan melakukan operasi biner pada himpunan menggunakan masalah kontekstual","menjelaskan bentuk aljabar dan melakukan operasi pada bentuk aljabar (penjumlahan, pengurangan, perkalian, dan pembagian)","menjelaskan persamaan dan pertidaksamaan linear satu variabel dan penyelesaiannya ","menjelaskan rasio dua besaran (satuannya sama dan berbeda) ","membedakan perbandingan senilai dan berbalik  nilai dengan menggunakan tabel data, grafik, dan persamaan ","mengenal dan menganalisis berbagai situasi terkait aritmetika sosial (penjualan, pembelian, potongan, keuntungan, kerugian, bunga tunggal, persentase,  bruto, neto, tara)","menganalisis hubungan antar sudut sebagai akibat dari dua garis sejajar yang dipotong oleh garis transversal ",null,null,null,null,null,10]
["IPA07A",{"$f":"IF(kur!$E$15=\"\",\"\",kur!$E$15)","v":"IPA"},{"$f":"IF(kur!$D$15=\"\",\"\",kur!$D$15)","v":"Ilmu Pengetahuan Alam"},7,"GANJIL","menerapkan konsep pengukuran berbagai besaran dengan menggunakan satuan standar (baku)","mengklasifikasikan makhluk hidup dan benda berdasarkan karakteristik yang diamati ","menjelaskan konsep campuran dan zat tunggal (unsur dan senyawa), sifat fisika dan kimia, perubahan fisika dan kimia dalam kehidupan sehari-hari ","menganalisis konsep suhu, pemuaian, kalor, perpindahan kalor, dan penerapannya dalam kehidupan sehari-hari termasuk mekanisme menjaga kestabilan suhu tubuh pada manusia dan hewan ","menganalisis konsep energi, berbagai sumber energi, dan perubahan bentuk energi dalam kehidupan sehari-hari termasuk fotosintesis ","mengidentifikasi sistem organisasi kehidupan mulai dari tingkat sel sampai organisme dan komposisi utama penyusun sel","menganalisis interaksi antara makhluk hidup dan lingkungannya serta dinamika populasi akibat interaksi tersebut","menganalisis terjadinya pencemaran lingkungan dan dampaknya bagi  ekosistem","menganalisis perubahan iklim dan dampaknya bagi ekosistem","menjelaskan lapisan bumi, gunungapi, gempa bumi, dan tindakan pengurangan resiko sebelum, pada saat, dan pasca bencana sesuai ancaman bencana di daerahnya","menganalisis sistem tata surya, rotasi dan revolusi bumi, rotasi dan revolusi bulan, serta dampaknya bagi kehidupan di bumi",null,null,null,null,11]
["IPA07B",{"$f":"IF(kur!$E$15=\"\",\"\",kur!$E$15)","v":"IPA"},{"$f":"IF(kur!$D$15=\"\",\"\",kur!$D$15)","v":"Ilmu Pengetahuan Alam"},7,"GENAP","menerapkan konsep pengukuran berbagai besaran dengan menggunakan satuan standar (baku)","mengklasifikasikan makhluk hidup dan benda berdasarkan karakteristik yang diamati ","menjelaskan konsep campuran dan zat tunggal (unsur dan senyawa), sifat fisika dan kimia, perubahan fisika dan kimia dalam kehidupan sehari-hari ","menganalisis konsep suhu, pemuaian, kalor, perpindahan kalor, dan penerapannya dalam kehidupan sehari-hari termasuk mekanisme menjaga kestabilan suhu tubuh pada manusia dan hewan ","menganalisis konsep energi, berbagai sumber energi, dan perubahan bentuk energi dalam kehidupan sehari-hari termasuk fotosintesis ","mengidentifikasi sistem organisasi kehidupan mulai dari tingkat sel sampai organisme dan komposisi utama penyusun sel","menganalisis interaksi antara makhluk hidup dan lingkungannya serta dinamika populasi akibat interaksi tersebut","menganalisis terjadinya pencemaran lingkungan dan dampaknya bagi  ekosistem","menganalisis perubahan iklim dan dampaknya bagi ekosistem","menjelaskan lapisan bumi, gunungapi, gempa bumi, dan tindakan pengurangan resiko sebelum, pada saat, dan pasca bencana sesuai ancaman bencana di daerahnya","menganalisis sistem tata surya, rotasi dan revolusi bumi, rotasi dan revolusi bulan, serta dampaknya bagi kehidupan di bumi",null,null,null,null,11]
["IPS07A",{"$f":"IF(kur!$E$16=\"\",\"\",kur!$E$16)","v":"IPS"},{"$f":"IF(kur!$D$16=\"\",\"\",kur!$D$16)","v":"Ilmu Pengetahuan Sosial"},7,"GANJIL","memahami konsep ruang (lokasi, distribusi, potensi, iklim, bentuk muka bumi, geologis, flora, dan fauna) dan interaksi antarruang di Indonesia serta pengaruhnya  terhadap kehidupan manusia dalam aspek ekonomi, sosial, budaya, dan pendidikan","mengidentifikasi interaksi sosial dalam ruang dan pengaruhnya terhadap kehidupan sosial, ekonomi, dan budaya dalam nilai dan norma serta kelembagaan sosial budaya","memahami konsep interaksi antara manusia dengan ruang sehingga menghasilkan berbagai kegiatan ekonomi (produksi, distribusi, konsumsi, permintaan, dan penawaran) dan interaksi antarruang untuk keberlangsungan kehidupan ekonomi, sosial, dan budaya Indonesia","memahami kronologi perubahan, dan kesinambungan dalam kehidupan bangsa Indonesia pada aspek politik, sosial, budaya, geografis, dan pendidikan sejak masa praaksara sampai masa Hindu-Buddha dan Islam",null,null,null,null,null,null,null,null,null,null,null,4]
["IPS07B",{"$f":"IF(kur!$E$16=\"\",\"\",kur!$E$16)","v":"IPS"},{"$f":"IF(kur!$D$16=\"\",\"\",kur!$D$16)","v":"Ilmu Pengetahuan Sosial"},7,"GENAP","memahami konsep ruang (lokasi, distribusi, potensi, iklim, bentuk muka bumi, geologis, flora, dan fauna) dan interaksi antarruang di Indonesia serta pengaruhnya  terhadap kehidupan manusia dalam aspek ekonomi, sosial, budaya, dan pendidikan","mengidentifikasi interaksi sosial dalam ruang dan pengaruhnya terhadap kehidupan sosial, ekonomi, dan budaya dalam nilai dan norma serta kelembagaan sosial budaya","memahami konsep interaksi antara manusia dengan ruang sehingga menghasilkan berbagai kegiatan ekonomi (produksi, distribusi, konsumsi, permintaan, dan penawaran) dan interaksi antarruang untuk keberlangsungan kehidupan ekonomi, sosial, dan budaya Indonesia","memahami kronologi perubahan, dan kesinambungan dalam kehidupan bangsa Indonesia pada aspek politik, sosial, budaya, geografis, dan pendidikan sejak masa praaksara sampai masa Hindu-Buddha dan Islam",null,null,null,null,null,null,null,null,null,null,null,4]
["SB07A",{"$f":"IF(kur!$E$17=\"\",\"\",kur!$E$17)","v":"SB"},{"$f":"IF(kur!$D$17=\"\",\"\",kur!$D$17)","v":"Seni Budaya "},7,"GANJIL","memahami unsur, prinsip, teknik dan prosedur menggambar flora, fauna dan alam benda dengan berbagai bahan","memahami prinsip dan prosedur menggambar gubahan flora, fauna dan bentuk geometrik menjadi ragam hias","memahami  konsep dasar permainan alat musik sederhana secara perorangan","memahami konsep dasar ansamble musik",null,null,null,null,null,null,null,null,null,null,null,4]
["SB07B",{"$f":"IF(kur!$E$17=\"\",\"\",kur!$E$17)","v":"SB"},{"$f":"IF(kur!$D$17=\"\",\"\",kur!$D$17)","v":"Seni Budaya "},7,"GENAP","memahami unsur, prinsip, teknik dan prosedur menggambar flora, fauna dan alam benda dengan berbagai bahan","memahami prinsip dan prosedur menggambar gubahan flora, fauna dan bentuk geometrik menjadi ragam hias","memahami  konsep dasar permainan alat musik sederhana secara perorangan","memahami konsep dasar ansamble musik",null,null,null,null,null,null,null,null,null,null,null,4]
["PJ07A",{"$f":"IF(kur!$E$18=\"\",\"\",kur!$E$18)","v":"PJ"},{"$f":"IF(kur!$D$18=\"\",\"\",kur!$D$18)","v":"Pendidikan Jasmani,Olahraga danKesehatan"},7,"GANJIL","memahami gerak spesifik dalam berbagai permainan bola besar sederhana dan atau tradisional","memahami gerak spesifik dalam berbagai permainan bola kecil sederhana dan atau tradisional","memahami gerak spesifik jalan, lari, lompat, dan lempar dalam berbagai permainan sederhana dan atau tradisional","memahami gerak spesifik  seni beladiri","memahami konsep latihan peningkatan derajat kebugaran jasmani yang terkait dengan kesehatan (daya tahan, kekuatan, komposisi tubuh, dan kelenturan) dan pengukuran hasilnya","memahami berbagai keterampilan dasar spesifik senam lantai","memahami variasi dan kombinasi gerak berbentuk rangkaian langkahdan ayunan lengan mengikuti irama (ketukan) tanpa/dengan musik sebagai pembentuk gerak pemanasan dalam aktivitas gerak berirama","memahami gerak spesifik salah satu gaya renang dengan koordinasi yang baik","memahami perkembangan tubuh remaja yang meliputi perubahan fisik sekunder dan mental","memahami pola makan sehat, bergizi dan seimbang serta pengaruhnya terhadap kesehatan",null,null,null,null,null,10]
["PJ07B",{"$f":"IF(kur!$E$18=\"\",\"\",kur!$E$18)","v":"PJ"},{"$f":"IF(kur!$D$18=\"\",\"\",kur!$D$18)","v":"Pendidikan Jasmani,Olahraga danKesehatan"},7,"GENAP","memahami gerak spesifik dalam berbagai permainan bola besar sederhana dan atau tradisional","memahami gerak spesifik dalam berbagai permainan bola kecil sederhana dan atau tradisional","memahami gerak spesifik jalan, lari, lompat, dan lempar dalam berbagai permainan sederhana dan atau tradisional","memahami gerak spesifik  seni beladiri","memahami konsep latihan peningkatan derajat kebugaran jasmani yang terkait dengan kesehatan (daya tahan, kekuatan, komposisi tubuh, dan kelenturan) dan pengukuran hasilnya","memahami berbagai keterampilan dasar spesifik senam lantai","memahami variasi dan kombinasi gerak berbentuk rangkaian langkahdan ayunan lengan mengikuti irama (ketukan) tanpa/dengan musik sebagai pembentuk gerak pemanasan dalam aktivitas gerak berirama","memahami gerak spesifik salah satu gaya renang dengan koordinasi yang baik","memahami perkembangan tubuh remaja yang meliputi perubahan fisik sekunder dan mental","memahami pola makan sehat, bergizi dan seimbang serta pengaruhnya terhadap kesehatan",null,null,null,null,null,10]
["BIG07A",{"$f":"IF(kur!$E$19=\"\",\"\",kur!$E$19)","v":"BIG"},{"$f":"IF(kur!$D$19=\"\",\"\",kur!$D$19)","v":"Bahasa Inggris"},7,"GANJIL","memahami gerak spesifik dalam berbagai permainan bola besar sederhana dan atau tradisional","memahami gerak spesifik dalam berbagai permainan bola kecil sederhana dan atau tradisional","memahami gerak spesifik jalan, lari, lompat, dan lempar dalam berbagai permainan sederhana dan atau tradisional","memahami gerak spesifik  seni beladiri","memahami konsep latihan peningkatan derajat kebugaran jasmani yang terkait dengan kesehatan (daya tahan, kekuatan, komposisi tubuh, dan kelenturan) dan pengukuran hasilnya","memahami berbagai keterampilan dasar spesifik senam lantai","memahami variasi dan kombinasi gerak berbentuk rangkaian langkahdan ayunan lengan mengikuti irama (ketukan) tanpa/dengan musik sebagai pembentuk gerak pemanasan dalam aktivitas gerak berirama","memahami gerak spesifik salah satu gaya renang dengan koordinasi yang baik","memahami perkembangan tubuh remaja yang meliputi perubahan fisik sekunder dan mental","memahami pola makan sehat, bergizi dan seimbang serta pengaruhnya terhadap kesehatan",null,null,null,null,null,10]
["BIG07B",{"$f":"IF(kur!$E$19=\"\",\"\",kur!$E$19)","v":"BIG"},{"$f":"IF(kur!$D$19=\"\",\"\",kur!$D$19)","v":"Bahasa Inggris"},7,"GENAP","memahami gerak spesifik dalam berbagai permainan bola besar sederhana dan atau tradisional","memahami gerak spesifik dalam berbagai permainan bola kecil sederhana dan atau tradisional","memahami gerak spesifik jalan, lari, lompat, dan lempar dalam berbagai permainan sederhana dan atau tradisional","memahami gerak spesifik  seni beladiri","memahami konsep latihan peningkatan derajat kebugaran jasmani yang terkait dengan kesehatan (daya tahan, kekuatan, komposisi tubuh, dan kelenturan) dan pengukuran hasilnya","memahami berbagai keterampilan dasar spesifik senam lantai","memahami variasi dan kombinasi gerak berbentuk rangkaian langkahdan ayunan lengan mengikuti irama (ketukan) tanpa/dengan musik sebagai pembentuk gerak pemanasan dalam aktivitas gerak berirama","memahami gerak spesifik salah satu gaya renang dengan koordinasi yang baik","memahami perkembangan tubuh remaja yang meliputi perubahan fisik sekunder dan mental","memahami pola makan sehat, bergizi dan seimbang serta pengaruhnya terhadap kesehatan",null,null,null,null,null,10]
["BM07A",{"$f":"IF(kur!$E$21=\"\",\"\",kur!$E$21)","v":"BM"},{"$f":"IF(kur!$D$21=\"\",\"\",kur!$D$21)","v":"Bahasa Madura"},7,"GANJIL","memahami gerak spesifik dalam berbagai permainan bola besar sederhana dan atau tradisional","memahami gerak spesifik dalam berbagai permainan bola kecil sederhana dan atau tradisional","memahami gerak spesifik jalan, lari, lompat, dan lempar dalam berbagai permainan sederhana dan atau tradisional","memahami gerak spesifik  seni beladiri","memahami konsep latihan peningkatan derajat kebugaran jasmani yang terkait dengan kesehatan (daya tahan, kekuatan, komposisi tubuh, dan kelenturan) dan pengukuran hasilnya","memahami berbagai keterampilan dasar spesifik senam lantai","memahami variasi dan kombinasi gerak berbentuk rangkaian langkahdan ayunan lengan mengikuti irama (ketukan) tanpa/dengan musik sebagai pembentuk gerak pemanasan dalam aktivitas gerak berirama","memahami gerak spesifik salah satu gaya renang dengan koordinasi yang baik","memahami perkembangan tubuh remaja yang meliputi perubahan fisik sekunder dan mental","memahami pola makan sehat, bergizi dan seimbang serta pengaruhnya terhadap kesehatan",null,null,null,null,null,10]
["BM07B",{"$f":"IF(kur!$E$21=\"\",\"\",kur!$E$21)","v":"BM"},{"$f":"IF(kur!$D$21=\"\",\"\",kur!$D$21)","v":"Bahasa Madura"},7,"GENAP","memahami gerak spesifik dalam berbagai permainan bola besar sederhana dan atau tradisional","memahami gerak spesifik dalam berbagai permainan bola kecil sederhana dan atau tradisional","memahami gerak spesifik jalan, lari, lompat, dan lempar dalam berbagai permainan sederhana dan atau tradisional","memahami gerak spesifik  seni beladiri","memahami konsep latihan peningkatan derajat kebugaran jasmani yang terkait dengan kesehatan (daya tahan, kekuatan, komposisi tubuh, dan kelenturan) dan pengukuran hasilnya","memahami berbagai keterampilan dasar spesifik senam lantai","memahami variasi dan kombinasi gerak berbentuk rangkaian langkahdan ayunan lengan mengikuti irama (ketukan) tanpa/dengan musik sebagai pembentuk gerak pemanasan dalam aktivitas gerak berirama","memahami gerak spesifik salah satu gaya renang dengan koordinasi yang baik","memahami perkembangan tubuh remaja yang meliputi perubahan fisik sekunder dan mental","memahami pola makan sehat, bergizi dan seimbang serta pengaruhnya terhadap kesehatan",null,null,null,null,null,10]
["07A",{"$f":"IF(kur!$E$22=\"\",\"\",kur!$E$22)","v":""},{"$f":"IF(kur!$D$22=\"\",\"\",kur!$D$22)","v":""},7,"GANJIL",null,null,null,null,null,null,null,null,null,null,null,null,null,null,null,0]
["07B",{"$f":"IF(kur!$E$22=\"\",\"\",kur!$E$22)","v":""},{"$f":"IF(kur!$D$22=\"\",\"\",kur!$D$22)","v":""},7,"GENAP",null,null,null,null,null,null,null,null,null,null,null,null,null,null,null,0]
["07A",{"$f":"IF(kur!$E$23=\"\",\"\",kur!$E$23)","v":""},{"$f":"IF(kur!$D$23=\"\",\"\",kur!$D$23)","v":""},7,"GANJIL",null,null,null,null,null,null,null,null,null,null,null,null,null,null,null,0]
["07B",{"$f":"IF(kur!$E$23=\"\",\"\",kur!$E$23)","v":""},{"$f":"IF(kur!$D$23=\"\",\"\",kur!$D$23)","v":""},7,"GENAP",null,null,null,null,null,null,null,null,null,null,null,null,null,null,null,0]
["AH08A",{"$f":"IF(kur!$E$6=\"\",\"\",kur!$E$6)","v":"AH"},{"$f":"IF(kur!$D$6=\"\",\"\",kur!$D$6)","v":"Al-Qur'an Hadits"},8,"GANJIL","memahami ketentuan hukum bacaan mad ‘iwad, mad layin, dan mad ‘arid lissukun dalam al-qur’an surah-surah pendek  pilihan.","memahami isi kandungan q.s. al-quraisy dan q.s. al-insyirwp(94) tentang ketentuan rezeki dari allah","memahami isi kandungan q.s. al-kaufar (108) dan q.s. al-mw‘yn (107) tentang kepedulian sosial dan isi kandungan hadis tentang perilaku tolong-menolong riwayat al-bukhari dari abdullah ibnu umar (المسلم أخوالمسلم لايظلمه ولايسلمه... ",null,null,null,null,null,null,null,null,null,null,null,null,3]
["AH08B",{"$f":"IF(kur!$E$6=\"\",\"\",kur!$E$6)","v":"AH"},{"$f":"IF(kur!$D$6=\"\",\"\",kur!$D$6)","v":"Al-Qur'an Hadits"},8,"GENAP","memahami ketentuan hukum bacaan lam dan ra dalam q.s. al-humazah (104),q.s. at-takwfur(102), dan surah-surah lain dalam al-qur’an","memahami isi kandungan q.s. al-humazah (104) dan q.s. at-takwfur (102)tentang sifat cinta dunia dan melupakan kebahagian hakiki","memahami isi kandungan hadis tentang perilaku keseimbangan hidup di dunia dan akhirat riwayat ibnu asakir dari anas (ليسبخيركممنتركدنياه لأخرته...)",null,null,null,null,null,null,null,null,null,null,null,null,3]
["AA08A",{"$f":"IF(kur!$E$7=\"\",\"\",kur!$E$7)","v":"AA"},{"$f":"IF(kur!$D$7=\"\",\"\",kur!$D$7)","v":"Akidah Akhlak"},8,"GANJIL","memahami hakikat beriman kepada kitab-kitab allah swt,.","memahami pengertian, contoh, dan dampak positif sifat tawakal, ikhtiyar, sabar, syukuur dan qana’ah","memahami pengertian, contoh, dan dampak negatif sifat ananiah, putus asa, gadab, dan  tamak","memahami adab kepada kepada orang tua dan guru","menganalisis kisah keteladanan nabi yunus a.s  dan nabi ayub a.s",null,null,null,null,null,null,null,null,null,null,5]
["AA08B",{"$f":"IF(kur!$E$7=\"\",\"\",kur!$E$7)","v":"AA"},{"$f":"IF(kur!$D$7=\"\",\"\",kur!$D$7)","v":"Akidah Akhlak"},8,"GENAP","memahami pengertian, dalil, dan pentingnya beriman kepada rasul allah swt,.","menguraikan sifat-sifat rasul allah swt,.","memahami pengertian, contohdan hikmah mukjizat sert a kejadian luar biasa lainnya (karamah, ma‘ynah, dan irhas)","memahami pengertian, contoh, dan dampak positifnya sifat pusnuzzan, tawwiuk, taswmuh, dan ta’wwun","memahami pengertian, contoh dan dampak negatifnya sifat pasad, dendam, grbah, fitnah, dan namrmah","memahami adab kepada saudara dan teman","manganalisis kisah keteladanan sahabat abu bakar r.a.",null,null,null,null,null,null,null,null,7]
["FK08A",{"$f":"IF(kur!$E$8=\"\",\"\",kur!$E$8)","v":"FK"},{"$f":"IF(kur!$D$8=\"\",\"\",kur!$D$8)","v":"Fikih"},8,"GANJIL","memahami ketentuan sujud syukur","memahami ketentuan sujud tilawah","menganalisis ketentuan ibadah puasa ","menganalisis ketentuan pelaksanaan zakat",null,null,null,null,null,null,null,null,null,null,null,4]
["FK08B",{"$f":"IF(kur!$E$8=\"\",\"\",kur!$E$8)","v":"FK"},{"$f":"IF(kur!$D$8=\"\",\"\",kur!$D$8)","v":"Fikih"},8,"GENAP","memahami  tata cara melaksanakan haji dan umrah","memahami ketentuan  sedekah, hibah, dan hadiah","menganalisis ketentuan  halal-haram makanan dan minuman",null,null,null,null,null,null,null,null,null,null,null,null,3]
["BA08A",{"$f":"IF(kur!$E$9=\"\",\"\",kur!$E$9)","v":"BA"},{"$f":"IF(kur!$D$9=\"\",\"\",kur!$D$9)","v":"Bahasa Arab"},8,"GANJIL","memahami bunyi, makna, dan gagasan dari kata, frase, kalimat bahasa arab sesuai dengan struktur kalimat yang berkaitan dengan topik : الساعةbaik secara lisan maupun tertulis ","memahami bunyi, makna, dan gagasan dari kata, frase, kalimat bahasa arab sesuai dengan struktur kalimat yang berkaitan dengan topik : يومياتنافيالمدرسة  baik secara lisan maupun tertulis ","memahami bunyi, makna, dan gagasan dari kata, frase, kalimat bahasa arab sesuai dengan struktur kalimat yang berkaitan dengan topik : يومياتنافيالبيت  baik secara lisan maupun tertulis",null,null,null,null,null,null,null,null,null,null,null,null,3]
["BA08B",{"$f":"IF(kur!$E$9=\"\",\"\",kur!$E$9)","v":"BA"},{"$f":"IF(kur!$D$9=\"\",\"\",kur!$D$9)","v":"Bahasa Arab"},8,"GENAP","memahami bunyi, makna, dan gagasan dari kata, frase, kalimat bahasa arab sesuai dengan struktur kalimat yang berkaitan dengan topik : المهنةوالمهنيونالرياضيون baik secara lisan maupun tertulis ","memahami bunyi, makna, dan gagasan dari kata, frase, kalimat bahasa arab sesuai dengan struktur kalimat yang berkaitan dengan topik : المهنةالطبية baik secara lisan maupun tertulis","memahami bunyi, makna, dan gagasan dari kata, frase, kalimat bahasa arab sesuai dengan struktur kalimat yang berkaitan dengan topik :عيادةالمرضى baik secara lisan maupun tertulis\n",null,null,null,null,null,null,null,null,null,null,null,null,3]
["SKI08A",{"$f":"IF(kur!$E$10=\"\",\"\",kur!$E$10)","v":"SKI"},{"$f":"IF(kur!$D$10=\"\",\"\",kur!$D$10)","v":"Sejarah Kebudayaan Islam"},8,"GANJIL","memahamisejarah berdirinya dinasti bani abbasiyah ","memahami perkembangan kebudayaan/ peradaban islam pada masa  dinasti bani abbasiyah","mengidentifikasi tokoh ilmuwan muslim ali bin rabban at-tabari, ibnu sina, ar-razi (ahli kedokteran), al-kindi, al-gazali, ibnu maskawaih (ahli filsafat), jabir bin hayyan ahli kimia), muhammad bin musa al-khawarizmi (ahli astronomi) dan perannya dalam kemajuan kebudayaan/ peradaban islam pada masa dinasti bani abbasiyah","mengidentifikasi para ulama’ penyusun kutubussittah (ahli hadis), empat imam mazhab (ahli fikih), imam at-tabari, ibnu katsir (ahli tafsir) dan perannya dalam kemajuan kebudayaan/peradaban islam pada masa dinasti bani abbasiyah.",null,null,null,null,null,null,null,null,null,null,null,4]
["SKI08B",{"$f":"IF(kur!$E$10=\"\",\"\",kur!$E$10)","v":"SKI"},{"$f":"IF(kur!$D$10=\"\",\"\",kur!$D$10)","v":"Sejarah Kebudayaan Islam"},8,"GENAP","memahami  sejarah berdirinya dinasti al-ayyubiyah ","mengidentifikasi perkembangan kebudayaan/peradaban islam pada masa dinasti al-ayyubiyah","memahamisemangat juang para penguasa dinasti al-ayyubiyah yang terkenal (shalahuddin al-ayyubi, al adil dan al kamil)","mengidentifikasi ilmuwan muslim dinasti al-ayyubiyah dan perannya dalam kemajuan kebudayaan/peradaban islam",null,null,null,null,null,null,null,null,null,null,null,4]
["PKN08A",{"$f":"IF(kur!$E$12=\"\",\"\",kur!$E$12)","v":"PKN"},{"$f":"IF(kur!$D$12=\"\",\"\",kur!$D$12)","v":"Pendidikan Pancasila dan Kewarganegaaraan"},8,"GANJIL","menganalisis kedudukan dan fungsi pancasila bagi bangsa dan negara indonesia        ","merasionalkan makna, kedudukan, dan fungsi  undang-undang dasar negara republik indonesia  tahun 1945, serta peraturan  perundang-undangan lainnya dalam sistem hukum nasional","memahami  tata urutan peraturan perundang-undangan dalam sistem hukum nasional di indonesia ","memprediksi makna dan arti penting kebangkitan nasional 1908 dalam perjuangan kemerdekaan ","memproyeksikan nilai dan semangat sumpah pemuda tahun 1928 dalam bingkai bhinneka tunggal ika ","memahami pentingnya semangat dan komitmen kebangsaan untuk memperkuat negara kesatuan republik indonesia",null,null,null,null,null,null,null,null,null,6]
["PKN08B",{"$f":"IF(kur!$E$12=\"\",\"\",kur!$E$12)","v":"PKN"},{"$f":"IF(kur!$D$12=\"\",\"\",kur!$D$12)","v":"Pendidikan Pancasila dan Kewarganegaaraan"},8,"GENAP","menganalisis kedudukan dan fungsi pancasila bagi bangsa dan negara indonesia        ","merasionalkan makna, kedudukan, dan fungsi  undang-undang dasar negara republik indonesia  tahun 1945, serta peraturan  perundang-undangan lainnya dalam sistem hukum nasional","memahami  tata urutan peraturan perundang-undangan dalam sistem hukum nasional di indonesia ","memprediksi makna dan arti penting kebangkitan nasional 1908 dalam perjuangan kemerdekaan ","memproyeksikan nilai dan semangat sumpah pemuda tahun 1928 dalam bingkai bhinneka tunggal ika ","memahami pentingnya semangat dan komitmen kebangsaan untuk memperkuat negara kesatuan republik indonesia",null,null,null,null,null,null,null,null,null,6]
["BIN08A",{"$f":"IF(kur!$E$13=\"\",\"\",kur!$E$13)","v":"BIN"},{"$f":"IF(kur!$D$13=\"\",\"\",kur!$D$13)","v":"Bahasa Indonesia"},8,"GANJIL","mengidentifikasi unsur-unsur  teksberita  (membanggakan dan memotivasi) yang didengar dan dibaca","menelaah struktur dan kebahasaan teks berita (membanggakan dan memotivasi)  yang didengar dan dibaca","mengidentifikasi informasi teks iklan, slogan, atau poster (yang membuat bangga dan memotivasi) dari berbagai sumber yang dibaca dan didengar","menelaah pola penyajian dan kebahasaan teks iklan, slogan, atau poster (yang membuat banggadan memotivasi) dari berbagai sumber yang dibaca dan didengar","mengidentifikasi informasi teks eksposisi berupa artikel ilmiah populer dari koran/majalah) yang didengar dan dibaca","mengidentifikasi struktur, unsur kebahasaan, dan aspek lisandalamteks eksposisi  artikel ilmiah populer (lingkungan hidup, kondisi sosial, dan/atau keragaman budaya, dll) yang diperdengarkan atau dibaca","mengidentifikasi unsur-unsur pembangun teks puisi yang diperdengarkan atau dibaca","menelaah unsur-unsur pembangunteks puisi (perjuangan, lingkungan hidup, kondisi sosial, dan lain-lain) yang diperdengarkan atau dibaca","mengidentifikasi informasi dari teks ekplanasi berupa paparan kejadian suatu fenomena alam yang diperdengarkan atau dibaca","menelaah teks ekplanasi berupa paparan kejadian suatu fenomena alam yang diperdengarkan atau dibaca",null,null,null,null,null,10]
["BIN08B",{"$f":"IF(kur!$E$13=\"\",\"\",kur!$E$13)","v":"BIN"},{"$f":"IF(kur!$D$13=\"\",\"\",kur!$D$13)","v":"Bahasa Indonesia"},8,"GENAP","mengidentifikasi unsur-unsur  teksberita  (membanggakan dan memotivasi) yang didengar dan dibaca","menelaah struktur dan kebahasaan teks berita (membanggakan dan memotivasi)  yang didengar dan dibaca","mengidentifikasi informasi teks iklan, slogan, atau poster (yang membuat bangga dan memotivasi) dari berbagai sumber yang dibaca dan didengar","menelaah pola penyajian dan kebahasaan teks iklan, slogan, atau poster (yang membuat banggadan memotivasi) dari berbagai sumber yang dibaca dan didengar","mengidentifikasi informasi teks eksposisi berupa artikel ilmiah populer dari koran/majalah) yang didengar dan dibaca","mengidentifikasi struktur, unsur kebahasaan, dan aspek lisandalamteks eksposisi  artikel ilmiah populer (lingkungan hidup, kondisi sosial, dan/atau keragaman budaya, dll) yang diperdengarkan atau dibaca","mengidentifikasi unsur-unsur pembangun teks puisi yang diperdengarkan atau dibaca","menelaah unsur-unsur pembangunteks puisi (perjuangan, lingkungan hidup, kondisi sosial, dan lain-lain) yang diperdengarkan atau dibaca","mengidentifikasi informasi dari teks ekplanasi berupa paparan kejadian suatu fenomena alam yang diperdengarkan atau dibaca","menelaah teks ekplanasi berupa paparan kejadian suatu fenomena alam yang diperdengarkan atau dibaca",null,null,null,null,null,10]
["MTK08A",{"$f":"IF(kur!$E$14=\"\",\"\",kur!$E$14)","v":"MTK"},{"$f":"IF(kur!$D$14=\"\",\"\",kur!$D$14)","v":"Matematika"},8,"GANJIL","membuat generalisasi dari pola pada barisan bilangan dan barisankonfigurasi objek ","menjelaskan kedudukan titik dalam bidang koordinat kartesius yang dihubungkan dengan masalah kontekstual ","mendeskripsikan dan manyatakan relasi dan fungsi dengan menggunakan berbagai representasi (kata-kata, tabel, grafik, diagram, dan persamaan) ","menganalisis  fungsi linear  (sebagai persamaan garis lurus) dan menginterpretasikan grafiknyayang dihubungkan  dengan masalah kontekstual ","menjelaskan sistem persamaan linear dua variabel dan penyelesaiannya yang dihubungkan dengan masalah kontekstual ","menjelaskan dan membuktikan teorema pythagoras dan tripel pythagoras ","menjelaskan sudut  pusat, sudut keliling, panjang busur, dan luas juring lingkaran, serta hubungannya  ","menjelaskan garis singgung persekutuan luar dan persekutuan dalam dua lingkaran dan cara melukisnya ","membedakan dan menentukan luas permukaan dan volume bangun ruang sisi datar (kubus, balok, prisma, dan limas)  ","menganalisis data berdasarkan distribusi data, nilai rata-rata, median, modus, dan sebaran data untuk mengambil kesimpulan, membuat keputusan, dan membuat prediksi ",null,null,null,null,null,10]
["MTK08B",{"$f":"IF(kur!$E$14=\"\",\"\",kur!$E$14)","v":"MTK"},{"$f":"IF(kur!$D$14=\"\",\"\",kur!$D$14)","v":"Matematika"},8,"GENAP","membuat generalisasi dari pola pada barisan bilangan dan barisankonfigurasi objek ","menjelaskan kedudukan titik dalam bidang koordinat kartesius yang dihubungkan dengan masalah kontekstual ","mendeskripsikan dan manyatakan relasi dan fungsi dengan menggunakan berbagai representasi (kata-kata, tabel, grafik, diagram, dan persamaan) ","menganalisis  fungsi linear  (sebagai persamaan garis lurus) dan menginterpretasikan grafiknyayang dihubungkan  dengan masalah kontekstual ","menjelaskan sistem persamaan linear dua variabel dan penyelesaiannya yang dihubungkan dengan masalah kontekstual ","menjelaskan dan membuktikan teorema pythagoras dan tripel pythagoras ","menjelaskan sudut  pusat, sudut keliling, panjang busur, dan luas juring lingkaran, serta hubungannya  ","menjelaskan garis singgung persekutuan luar dan persekutuan dalam dua lingkaran dan cara melukisnya ","membedakan dan menentukan luas permukaan dan volume bangun ruang sisi datar (kubus, balok, prisma, dan limas)  ","menganalisis data berdasarkan distribusi data, nilai rata-rata, median, modus, dan sebaran data untuk mengambil kesimpulan, membuat keputusan, dan membuat prediksi ",null,null,null,null,null,10]
["IPA08A",{"$f":"IF(kur!$E$15=\"\",\"\",kur!$E$15)","v":"IPA"},{"$f":"IF(kur!$D$15=\"\",\"\",kur!$D$15)","v":"Ilmu Pengetahuan Alam"},8,"GANJIL","menganalisis gerak pada makhluk hidup, sistem gerak pada manusia,dan upaya menjaga kesehatan sistem gerak","menganalisis gerak lurus,pengaruh gaya terhadap gerak berdasarkan Hukum Newton, dan penerapannya pada gerak benda dan gerak makhluk hidup","menjelaskan konsep usaha, pesawat sederhana, dan penerapannya dalam kehidupan sehari-hari termasuk kerja otot pada struktur rangka manusia ","menganalisis keterkaitan struktur jaringan tumbuhan dan fungsinya, serta teknologi yang terinspirasi oleh struktur tumbuhan ","menganalisis sistem pencernaan pada manusia dan memahami gangguanyang berhubungan dengan sistem pencernaan, serta upaya menjaga kesehatan sistem pencernaan ","menjelaskan berbagai zat aditif dalam makanan dan minuman, zat adiktif,serta dampaknya terhadap kesehatan ","menganalisis sistem peredaran darah pada manusia dan memahami gangguan pada sistem peredaran darah, serta upaya menjaga kesehatan sistem peredaran darah","menjelaskan tekanan zat dan penerapannya dalam kehidupan sehari-hari, termasuk tekanan darah, osmosis, dan kapilaritas jaringan angkut pada tumbuhan","menganalisis sistem pernapasan pada manusia dan memahami gangguan pada sistem pernapasan, serta upaya menjaga kesehatan sistem pernapasan ","menganalisis sistem ekskresi pada manusia dan memahami gangguanpada sistem ekskresi serta upaya menjaga kesehatan sistem ekskresi ",null,null,null,null,null,10]
["IPA08B",{"$f":"IF(kur!$E$15=\"\",\"\",kur!$E$15)","v":"IPA"},{"$f":"IF(kur!$D$15=\"\",\"\",kur!$D$15)","v":"Ilmu Pengetahuan Alam"},8,"GENAP","menganalisis gerak pada makhluk hidup, sistem gerak pada manusia,dan upaya menjaga kesehatan sistem gerak","menganalisis gerak lurus,pengaruh gaya terhadap gerak berdasarkan Hukum Newton, dan penerapannya pada gerak benda dan gerak makhluk hidup","menjelaskan konsep usaha, pesawat sederhana, dan penerapannya dalam kehidupan sehari-hari termasuk kerja otot pada struktur rangka manusia ","menganalisis keterkaitan struktur jaringan tumbuhan dan fungsinya, serta teknologi yang terinspirasi oleh struktur tumbuhan ","menganalisis sistem pencernaan pada manusia dan memahami gangguanyang berhubungan dengan sistem pencernaan, serta upaya menjaga kesehatan sistem pencernaan ","menjelaskan berbagai zat aditif dalam makanan dan minuman, zat adiktif,serta dampaknya terhadap kesehatan ","menganalisis sistem peredaran darah pada manusia dan memahami gangguan pada sistem peredaran darah, serta upaya menjaga kesehatan sistem peredaran darah","menjelaskan tekanan zat dan penerapannya dalam kehidupan sehari-hari, termasuk tekanan darah, osmosis, dan kapilaritas jaringan angkut pada tumbuhan","menganalisis sistem pernapasan pada manusia dan memahami gangguan pada sistem pernapasan, serta upaya menjaga kesehatan sistem pernapasan ","menganalisis sistem ekskresi pada manusia dan memahami gangguanpada sistem ekskresi serta upaya menjaga kesehatan sistem ekskresi ",null,null,null,null,null,10]
["IPS08A",{"$f":"IF(kur!$E$16=\"\",\"\",kur!$E$16)","v":"IPS"},{"$f":"IF(kur!$D$16=\"\",\"\",kur!$D$16)","v":"Ilmu Pengetahuan Sosial"},8,"GANJIL","menelaah perubahan keruangan dan interaksi antarruang di Indonesia dan negara-negara ASEAN yang diakibatkan oleh faktor alam dan manusia (teknologi, ekonomi, pemanfaatan lahan, politik) dan pengaruhnya terhadap keberlangsungan kehidupan ekonomi, sosial, budaya, dan politik","menganalisis pengaruh interaksi sosial dalam ruang yang berbeda terhadap kehidupan sosial dan budaya serta pengembangan kehidupan kebangsaan","menganalisis keunggulan dan keterbatasan ruang dalam permintaan dan penawaran serta teknologi, dan pengaruhnya terhadap interaksi antarruang bagi kegiatan ekonomi, sosial, dan budaya di Indonesia dan negara-negara ASEAN","menganalisis kronologi, perubahan dan kesinambungan ruang (geografis, politik, ekonomi, pendidikan, sosial, budaya)  dari masa penjajahan sampai tumbuhnya semangat kebangsaan",null,null,null,null,null,null,null,null,null,null,null,4]
["IPS08B",{"$f":"IF(kur!$E$16=\"\",\"\",kur!$E$16)","v":"IPS"},{"$f":"IF(kur!$D$16=\"\",\"\",kur!$D$16)","v":"Ilmu Pengetahuan Sosial"},8,"GENAP","menelaah perubahan keruangan dan interaksi antarruang di Indonesia dan negara-negara ASEAN yang diakibatkan oleh faktor alam dan manusia (teknologi, ekonomi, pemanfaatan lahan, politik) dan pengaruhnya terhadap keberlangsungan kehidupan ekonomi, sosial, budaya, dan politik","menganalisis pengaruh interaksi sosial dalam ruang yang berbeda terhadap kehidupan sosial dan budaya serta pengembangan kehidupan kebangsaan","menganalisis keunggulan dan keterbatasan ruang dalam permintaan dan penawaran serta teknologi, dan pengaruhnya terhadap interaksi antarruang bagi kegiatan ekonomi, sosial, dan budaya di Indonesia dan negara-negara ASEAN","menganalisis kronologi, perubahan dan kesinambungan ruang (geografis, politik, ekonomi, pendidikan, sosial, budaya)  dari masa penjajahan sampai tumbuhnya semangat kebangsaan",null,null,null,null,null,null,null,null,null,null,null,4]
["SB08A",{"$f":"IF(kur!$E$17=\"\",\"\",kur!$E$17)","v":"SB"},{"$f":"IF(kur!$D$17=\"\",\"\",kur!$D$17)","v":"Seni Budaya "},8,"GANJIL"," memahami  keunikan gerak tari tradisional dengan menggunakan unsur pendukung tari ","memahami tari tradisional dengan menggunakan unsur pendukung tari sesuai iringan ","memahami  perancangan pementasan pantomim sesuai konsep, teknik dan prosedur ","memahami pementasan pantomi sesuai konsep, teknik, dan prosedur ",null,null,null,null,null,null,null,null,null,null,null,4]
["SB08B",{"$f":"IF(kur!$E$17=\"\",\"\",kur!$E$17)","v":"SB"},{"$f":"IF(kur!$D$17=\"\",\"\",kur!$D$17)","v":"Seni Budaya "},8,"GENAP"," memahami  keunikan gerak tari tradisional dengan menggunakan unsur pendukung tari ","memahami tari tradisional dengan menggunakan unsur pendukung tari sesuai iringan ","memahami  perancangan pementasan pantomim sesuai konsep, teknik dan prosedur ","memahami pementasan pantomi sesuai konsep, teknik, dan prosedur ",null,null,null,null,null,null,null,null,null,null,null,4]
["PJ08A",{"$f":"IF(kur!$E$18=\"\",\"\",kur!$E$18)","v":"PJ"},{"$f":"IF(kur!$D$18=\"\",\"\",kur!$D$18)","v":"Pendidikan Jasmani,Olahraga danKesehatan"},8,"GANJIL","memahami variasi gerak spesifik dalam berbagai permainan bola besar sederhana  dan atau tradisional ","memahami variasi gerak spesifik dalam berbagai permainan bola kecil sederhana  dan atau tradisional","memahami variasi gerak spesifik jalan, lari, lompat, dan lempar dalam berbagai permainan sederhana  dan atau tradisional","memahami variasi  gerak spesifik  seni beladiri ","memahami konsep latihan peningkatan derajat kebugaran \njasmani yang terkait dengan keterampilan (kecepatan, kelincahan, keseimbanga, dan koordinasi) serta pengukuran hasilnya","memahami kombinasi  keterampilan berbentuk rangkaian gerak sederhana dalam aktivitas spesifik senam lantai ","memahami variasi dan kombinasi  gerak berbentuk rangkaian langkah dan ayunan lengan mengikuti irama (ketukan) tanpa/dengan musik sebagai pembentuk gerak pemanasan dan inti latihan dalamaktivitas gerak berirama","memahami gerak spesifik salah satu gaya renang dalam permainan air dengan atau tanpa alat","memahami perlunya pencegahan terhadap bahaya pergaulan bebas","memahami cara menjaga keselamatan diri dan orang lain di jalan raya ",null,null,null,null,null,10]
["PJ08B",{"$f":"IF(kur!$E$18=\"\",\"\",kur!$E$18)","v":"PJ"},{"$f":"IF(kur!$D$18=\"\",\"\",kur!$D$18)","v":"Pendidikan Jasmani,Olahraga danKesehatan"},8,"GENAP","memahami variasi gerak spesifik dalam berbagai permainan bola besar sederhana  dan atau tradisional ","memahami variasi gerak spesifik dalam berbagai permainan bola kecil sederhana  dan atau tradisional","memahami variasi gerak spesifik jalan, lari, lompat, dan lempar dalam berbagai permainan sederhana  dan atau tradisional","memahami variasi  gerak spesifik  seni beladiri ","memahami konsep latihan peningkatan derajat kebugaran \njasmani yang terkait dengan keterampilan (kecepatan, kelincahan, keseimbanga, dan koordinasi) serta pengukuran hasilnya","memahami kombinasi  keterampilan berbentuk rangkaian gerak sederhana dalam aktivitas spesifik senam lantai ","memahami variasi dan kombinasi  gerak berbentuk rangkaian langkah dan ayunan lengan mengikuti irama (ketukan) tanpa/dengan musik sebagai pembentuk gerak pemanasan dan inti latihan dalamaktivitas gerak berirama","memahami gerak spesifik salah satu gaya renang dalam permainan air dengan atau tanpa alat","memahami perlunya pencegahan terhadap bahaya pergaulan bebas","memahami cara menjaga keselamatan diri dan orang lain di jalan raya ",null,null,null,null,null,10]
["BIG08A",{"$f":"IF(kur!$E$19=\"\",\"\",kur!$E$19)","v":"BIG"},{"$f":"IF(kur!$D$19=\"\",\"\",kur!$D$19)","v":"Bahasa Inggris"},8,"GANJIL","menerapkan fungsi sosial, struktur teks, dan unsur kebahasaan teks interaksi interpersonal lisan dan tulis yang melibatkan tindakan meminta perhatian, mengecek pemahaman, menghargai kinerja,  meminta dan mengungkapkan pendapat, serta menanggapinya, sesuai dengan konteks penggunaannya","menerapkan fungsi sosial, struktur teks, dan unsur kebahasaan teks interaksi transaksional lisan dan tulis yang melibatkan tindakan memberi dan meminta informasi terkait kemampuan dan kemauan, melakukan suatu tindakan, sesuai dengan konteks penggunaannya","menerapkan fungsi sosial, struktur teks, dan unsur kebahasaan teks interaksi transaksional lisan dan tulis yang melibatkan tindakan memberi dan meminta informasi terkait keharusan, larangan, dan himbauan, sesuai dengan konteks penggunaannya. (Perhatikan unsur kebahasaan must, should)","menerapkan fungsi sosial, struktur teks, dan unsur kebahasaan teks interaksi interpersonal lisan dan tulis yang melibatkan tindakan  menyuruh, mengajak, meminta ijin,serta menanggapinya, sesuai dengan konteks penggunaannya","membandingkan fungsi sosial, struktur teks, dan unsur kebahasaan beberapa teks khususdalam bentuk greeting    card, dengan memberi dan meminta informasi terkait dengan hari-hari spesial, sesuai dengan konteks penggunaannya","menerapkan fungsi sosial, struktur teks, dan unsur kebahasaan teks interaksi transaksional lisan dan tulis yang melibatkan tindakan memberi dan meminta informasi terkait keberadaan orang, benda, binatang, sesuai dengan konteks penggunaannya. (Perhatikan unsur kebahasaan there is/are)",null,null,null,null,null,null,null,null,null,6]
["BIG08B",{"$f":"IF(kur!$E$19=\"\",\"\",kur!$E$19)","v":"BIG"},{"$f":"IF(kur!$D$19=\"\",\"\",kur!$D$19)","v":"Bahasa Inggris"},8,"GENAP","menerapkan fungsi sosial, struktur teks, dan unsur kebahasaan teks interaksi interpersonal lisan dan tulis yang melibatkan tindakan meminta perhatian, mengecek pemahaman, menghargai kinerja,  meminta dan mengungkapkan pendapat, serta menanggapinya, sesuai dengan konteks penggunaannya","menerapkan fungsi sosial, struktur teks, dan unsur kebahasaan teks interaksi transaksional lisan dan tulis yang melibatkan tindakan memberi dan meminta informasi terkait kemampuan dan kemauan, melakukan suatu tindakan, sesuai dengan konteks penggunaannya","menerapkan fungsi sosial, struktur teks, dan unsur kebahasaan teks interaksi transaksional lisan dan tulis yang melibatkan tindakan memberi dan meminta informasi terkait keharusan, larangan, dan himbauan, sesuai dengan konteks penggunaannya. (Perhatikan unsur kebahasaan must, should)","menerapkan fungsi sosial, struktur teks, dan unsur kebahasaan teks interaksi interpersonal lisan dan tulis yang melibatkan tindakan  menyuruh, mengajak, meminta ijin,serta menanggapinya, sesuai dengan konteks penggunaannya","membandingkan fungsi sosial, struktur teks, dan unsur kebahasaan beberapa teks khususdalam bentuk greeting    card, dengan memberi dan meminta informasi terkait dengan hari-hari spesial, sesuai dengan konteks penggunaannya","menerapkan fungsi sosial, struktur teks, dan unsur kebahasaan teks interaksi transaksional lisan dan tulis yang melibatkan tindakan memberi dan meminta informasi terkait keberadaan orang, benda, binatang, sesuai dengan konteks penggunaannya. (Perhatikan unsur kebahasaan there is/are)",null,null,null,null,null,null,null,null,null,6]
["BM08A",{"$f":"IF(kur!$E$21=\"\",\"\",kur!$E$21)","v":"BM"},{"$f":"IF(kur!$D$21=\"\",\"\",kur!$D$21)","v":"Bahasa Madura"},8,"GANJIL","mengidentifikasi,mamahami dan menganalisis struktur teks,unsur kabahasaan dan pesan moral pada cerita fiksi (wayang/cekak/forklor/topeng dhalang) secara lisan dan tulis","memahami struktur dan unsur kebahasaan dalam teks sesuai ragam bahasa dan gaya berbahasa (basa rinengga / lalongel)","memahami kaidah dalam kegiatan wawancara ,dialog dan diskusi sesuai dengan tatakrama","memahami struktur teks unsur kebahasaan dalam menulis berbagai jenis surat,iklan dan reklame sesuai konteks","memahami struktur teks ,unsur kebahasaan dan pesan moral tembang macapat secara lisan dan tulis","memahami teks berupa paragraf aksara jawa / carakan madura",null,null,null,null,null,null,null,null,null,6]
["BM08B",{"$f":"IF(kur!$E$21=\"\",\"\",kur!$E$21)","v":"BM"},{"$f":"IF(kur!$D$21=\"\",\"\",kur!$D$21)","v":"Bahasa Madura"},8,"GENAP","mengidentifikasi,mamahami dan menganalisis struktur teks,unsur kabahasaan dan pesan moral pada cerita fiksi (wayang/cekak/forklor/topeng dhalang) secara lisan dan tulis","memahami struktur dan unsur kebahasaan dalam teks sesuai ragam bahasa dan gaya berbahasa (basa rinengga / lalongel)","memahami kaidah dalam kegiatan wawancara ,dialog dan diskusi sesuai dengan tatakrama","memahami struktur teks unsur kebahasaan dalam menulis berbagai jenis surat,iklan dan reklame sesuai konteks","memahami struktur teks ,unsur kebahasaan dan pesan moral tembang macapat secara lisan dan tulis","memahami teks berupa paragraf aksara jawa / carakan madura",null,null,null,null,null,null,null,null,null,6]
["08A",{"$f":"IF(kur!$E$22=\"\",\"\",kur!$E$22)","v":""},{"$f":"IF(kur!$D$22=\"\",\"\",kur!$D$22)","v":""},8,"GANJIL",null,null,null,null,null,null,null,null,null,null,null,null,null,null,null,0]
["08B",{"$f":"IF(kur!$E$22=\"\",\"\",kur!$E$22)","v":""},{"$f":"IF(kur!$D$22=\"\",\"\",kur!$D$22)","v":""},8,"GENAP",null,null,null,null,null,null,null,null,null,null,null,null,null,null,null,0]
["08A",{"$f":"IF(kur!$E$23=\"\",\"\",kur!$E$23)","v":""},{"$f":"IF(kur!$D$23=\"\",\"\",kur!$D$23)","v":""},8,"GANJIL",null,null,null,null,null,null,null,null,null,null,null,null,null,null,null,0]
["08B",{"$f":"IF(kur!$E$23=\"\",\"\",kur!$E$23)","v":""},{"$f":"IF(kur!$D$23=\"\",\"\",kur!$D$23)","v":""},8,"GENAP",null,null,null,null,null,null,null,null,null,null,null,null,null,null,null,0]
["AH09A",{"$f":"IF(kur!$E$6=\"\",\"\",kur!$E$6)","v":"AH"},{"$f":"IF(kur!$D$6=\"\",\"\",kur!$D$6)","v":"Al-Qur'an Hadits"},9,"GANJIL","memahami ketentuan  hukum mad silah, mad badal, mad tamkrn, dan mad farqi dalam Q.S. al-Qari‘ah (101), Q.S. az-Zalzalah (99)  dan pada surah-surah pendek pilihan ","memahami isi kandungan Q.S. al-Qari‘ah (101, Q.S. az-Zalzalah (99)   tentang fenomena alam dalam kehidupan","memahami keterkaitan isi kandungan hadis riwayat At-Tirmizi (مَنأَحْيىأَرْضًامَيِّتَةً...) riwayat Ibnu Majah   (مَنْحَفَرَبِئْرًافَلَهُأَرْبَعُوْنَذِرَاعًا...)",null,null,null,null,null,null,null,null,null,null,null,null,3]
["AH09B",{"$f":"IF(kur!$E$6=\"\",\"\",kur!$E$6)","v":"AH"},{"$f":"IF(kur!$D$6=\"\",\"\",kur!$D$6)","v":"Al-Qur'an Hadits"},9,"GENAP","memahami ketentuan hukum mad lazim mukhaffaf kilmi, musaqqal kilmi, mad lazim musaqqal harfi, dan mad lazim mukhaffaa harfi dalam Al-Qur`an ","memahami isi kandungan Q.S. al-‘Asr (03) dan Q.S. al-‘Alaq (96) tentang menghargai waktu dan menuntut ilmu ","memahami keterkaitan isi kandungan hadis riwayat Al-Bukhari dari Abdullah bin Umar\nكُنْفِيالدُّنْيَا كَأَنَّكَغَرِيْب...tentang perilaku menghargai waktu dan hadis riwayat Ibnu majah dari Anas bin Malik طَلَبُالْعِلْمِفَرِيْضَةٌعَلَىكُلِمُسْلِمٍ",null,null,null,null,null,null,null,null,null,null,null,null,3]
["AA09A",{"$f":"IF(kur!$E$7=\"\",\"\",kur!$E$7)","v":"AA"},{"$f":"IF(kur!$D$7=\"\",\"\",kur!$D$7)","v":"Akidah Akhlak"},9,"GANJIL","memahami pengertian beriman kepada hari akhir, dalil/buktinya serta tanda dan peristiwa yang berhubungan dengan hari Akhir tersebut","memahami macam-macam alam gaib yang berhubungan dengan hari akhir (‘alam barzah, yaumul ba‘af, yaumul piswb, yaumul mrzwn,yaumul jazw’)","memahami pengertian, contoh, dan dampak  berilmu, kerja keras, kreatif, dan produktif dalam fenomena kehidupan","memahami adab islami kepada kepada tetangga","menganalisis kisah sahabat Umar bin Khattab r.a.",null,null,null,null,null,null,null,null,null,null,5]
["AA09B",{"$f":"IF(kur!$E$7=\"\",\"\",kur!$E$7)","v":"AA"},{"$f":"IF(kur!$D$7=\"\",\"\",kur!$D$7)","v":"Akidah Akhlak"},9,"GENAP","menunjukkan bukti/dalil kebenaran akan adanya qaia’dan qadardan ciri-ciri perilaku orang yang beriman kepadanya","memahami pentingnya akhlak terpuji dalam pergaulan remaja dan dampak negatif pergaulan remaja yang tidak sesuai dengan akhlak Islam ","memahami adab terhadap lingkungan, yaitu kepada binatang dan tumbuhan di tempat umum, dan di jalan","menganalisis kisah keteladanan sahabat Usman bin Affan r.a, dan Ali bin Abi Talib k.w.",null,null,null,null,null,null,null,null,null,null,null,4]
["FK09A",{"$f":"IF(kur!$E$8=\"\",\"\",kur!$E$8)","v":"FK"},{"$f":"IF(kur!$D$8=\"\",\"\",kur!$D$8)","v":"Fikih"},9,"GANJIL","memahami ketentuan menyembelih binatang","memahami ketentuan kurban dan akikah  ","memahami ketentuan jual beli dan qirad","menganalisis larangan riba",null,null,null,null,null,null,null,null,null,null,null,4]
["FK09B",{"$f":"IF(kur!$E$8=\"\",\"\",kur!$E$8)","v":"FK"},{"$f":"IF(kur!$D$8=\"\",\"\",kur!$D$8)","v":"Fikih"},9,"GENAP","memahami ketentuan pinjam- meminjam ","memahami ketentuan hutang-piutang ","menganalisis ketentuan gadai","menjelaskan ketentuan upah","memahami  ketentuan pengurusan jenazah, (memandikan, mengkafani, menyalati, menguburkan)","memahami ketentuan waris",null,null,null,null,null,null,null,null,null,6]
["BA09A",{"$f":"IF(kur!$E$9=\"\",\"\",kur!$E$9)","v":"BA"},{"$f":"IF(kur!$D$9=\"\",\"\",kur!$D$9)","v":"Bahasa Arab"},9,"GANJIL","memahami bunyi, makna, dan gagasan dari kata, frase, kalimat bahasa Arab sesuai dengan struktur kalimat yang berkaitan dengan topik : رأسالسنةالهجرية baik secara lisan maupun tertulis","memahami bunyi, makna, dan gagasan dari kata, frase, kalimat bahasa Arab sesuai dengan struktur kalimat yang berkaitan dengan topik : الحفل بمولدالرسول baik secara lisan maupun tertulis","memahami bunyi, makna, dan gagasan dari kata, frase, kalimat bahasa Arab sesuai dengan struktur kalimat yang berkaitan dengan topik :نزولالقرآنوالعيدان baik secara lisan maupun tertulis",null,null,null,null,null,null,null,null,null,null,null,null,3]
["BA09B",{"$f":"IF(kur!$E$9=\"\",\"\",kur!$E$9)","v":"BA"},{"$f":"IF(kur!$D$9=\"\",\"\",kur!$D$9)","v":"Bahasa Arab"},9,"GENAP","memahami bunyi, makna, dan gagasan dari kata, frase, kalimat bahasa Arab sesuai dengan struktur kalimat yang berkaitan dengan topik :جمالالطبيعة baik secara lisan maupun tertulis ","memahami bunyi, makna, dan gagasan dari kata, frase, kalimat bahasa Arab sesuai dengan struktur kalimat yang berkaitan dengan topik : خالقالعالم baik secara lisan maupun tertulis","memahami bunyi, makna, dan gagasan dari kata, frase, kalimat bahasa Arab sesuai dengan struktur kalimat yang berkaitan dengan topik :الحفاظعلىالبيئة baik secara lisan maupun tertulis",null,null,null,null,null,null,null,null,null,null,null,null,3]
["SKI09A",{"$f":"IF(kur!$E$10=\"\",\"\",kur!$E$10)","v":"SKI"},{"$f":"IF(kur!$D$10=\"\",\"\",kur!$D$10)","v":"Sejarah Kebudayaan Islam"},9,"GANJIL","memahami sejarah masuknya Islam di Nusantara melalui perdagangan, sosial, dan pengajaran\n\n\n\n","memahami sejarah kerajaan Islam di Jawa, Sumatera, dan Sulawesi","memahami biografi para tokoh dan perannya dalam mengembangkan Islam di Indonesia (Walisanga, Abdurrauf Singkel, Muhammad Arsyad al-Banjari, K.H. Ahmad Dahlan, dan K.H. Hasyim Asy‘ari)","memahami  semangat perjuangan Abdurrauf Singkel, Muhammad Arsyad Al-Banjari, K.H. Ahmad Dahlan dan K.H. Hasyim Asy‘ari dalam menyebarkan agama Islam di Indonesia",null,null,null,null,null,null,null,null,null,null,null,4]
["SKI09B",{"$f":"IF(kur!$E$10=\"\",\"\",kur!$E$10)","v":"SKI"},{"$f":"IF(kur!$D$10=\"\",\"\",kur!$D$10)","v":"Sejarah Kebudayaan Islam"},9,"GENAP","memahami bentuk seni budaya lokal(Wayang, Kasidah, dan Hadrah)","memahami bentuk tradisi umat Islam (Jawa, Sunda, Melayu, Bugis, Minang, Madura)","membandingkanpendekatan seni budaya lokal (Wayang, Kasidah, dan Hadrah)","membandingkannilai-nilaitradisi umat Islam (di Jawa, Sunda, Melayu, Bugis, Minang, Madura)",null,null,null,null,null,null,null,null,null,null,null,4]
["PKN09A",{"$f":"IF(kur!$E$12=\"\",\"\",kur!$E$12)","v":"PKN"},{"$f":"IF(kur!$D$12=\"\",\"\",kur!$D$12)","v":"Pendidikan Pancasila dan Kewarganegaaraan"},9,"GANJIL","menganalisis langkah-langkah untuk mewujudkan Pancasila sebagai dasar negara ","mensintesiskan isi alinea dan pokok pikiran yang terkandung dalam Pembukaan Undang-Undang Dasar Negara Republik Indonesia Tahun 1945","memahami prinsip-prinsip kedaulatan sesuai Undang-Undang Dasar Negara Republik Indonesia Tahun 1945 ","menganalisis prinsip persatuan dalam keberagaman suku, agama, ras, dan antargolongan (SARA), sosial, budaya, ekonomi, dan gender dalam bingkai Bhinneka Tunggal Ika","menganalisis prinsip harmoni dalam keberagaman suku, agama, ras, dan antargolongan (SARA) sosial, budaya, ekonomi, dan gender dalam bingkai Bhinneka Tunggal Ika ","mengkreasikan konsep cinta tanah air/bela negara dalam konteks Negara Kesatuan Republik Indonesia",null,null,null,null,null,null,null,null,null,6]
["PKN09B",{"$f":"IF(kur!$E$12=\"\",\"\",kur!$E$12)","v":"PKN"},{"$f":"IF(kur!$D$12=\"\",\"\",kur!$D$12)","v":"Pendidikan Pancasila dan Kewarganegaaraan"},9,"GENAP","menganalisis langkah-langkah untuk mewujudkan Pancasila sebagai dasar negara ","mensintesiskan isi alinea dan pokok pikiran yang terkandung dalam Pembukaan Undang-Undang Dasar Negara Republik Indonesia Tahun 1945","memahami prinsip-prinsip kedaulatan sesuai Undang-Undang Dasar Negara Republik Indonesia Tahun 1945 ","menganalisis prinsip persatuan dalam keberagaman suku, agama, ras, dan antargolongan (SARA), sosial, budaya, ekonomi, dan gender dalam bingkai Bhinneka Tunggal Ika","menganalisis prinsip harmoni dalam keberagaman suku, agama, ras, dan antargolongan (SARA) sosial, budaya, ekonomi, dan gender dalam bingkai Bhinneka Tunggal Ika ","mengkreasikan konsep cinta tanah air/bela negara dalam konteks Negara Kesatuan Republik Indonesia",null,null,null,null,null,null,null,null,null,6]
[{"$f":"$B244 & TEXT($D244,\"00\") & IF($E244=\"GANJIL\",\"A\",\"B\")","v":"BIN09A"},{"$f":"IF(kur!$E$13=\"\",\"\",kur!$E$13)","v":"BIN"},{"$f":"IF(kur!$D$13=\"\",\"\",kur!$D$13)","v":"Bahasa Indonesia"},9,"GANJIL","Mengidentifikasi informasi dari laporan  percobaan yang dibaca dan didengar  (percobaan sederhana untuk mendeteksi zat berbahaya pada makanan, adanya vitamin pada makanan, dll) ","Menelaah struktur dan kebahasaan dari teks laporan percobaan yang didengar atau dibaca (percobaan sederhana untuk mendeteksi zat berbahaya pada makanan, adanya vitamin pada makanan, dll) ","mengidentifikasi gagasan,pikiran, pandangan, arahan atau pesan dalam pidato persuasif tentang permasalahan aktual yang didengar dan dibaca ","menelaah struktur dan ciri kebahasaan pidato persuasif tentang permasalahan aktual yang didengar dan dibaca ","Mengidentifikasi  unsur pembangun karya sastra dalam teks cerita pendek yang dibaca atau didengar","Menelaah  struktur  dan aspek kebahasaan cerita pendek yang dibaca atau didengar ","Mengidentifikasi informasi berup kritik, sanggahan, atau pujian dari teks tanggapan (lingkungan hidup, kondisi sosial, dan/atau keragaman budaya, dll) yang didengar dan/atau dibaca ","Menelaah  struktur dan kebahasaan  dari teks tanggapan (lingkungan hidup, kondisi sosial, dan/atau keragaman budaya, dll) berupa kritik, sanggahan, atau pujian yang didengar dan/atau  dibaca ","Mengidentifikasi  informasi teks diskusi berupa pendapat pro dan kontra dari permasalahan aktual yang dibaca dan didengar \n","Menelaah  pendapat dan argumen yang mendukung dan yang kontra dalam teks diskusi berkaitan dengan permasalahan aktual yang dibaca dan didengar ",null,null,null,null,null,{"$f":"COUNTA($F244:$T244)","v":10}]
["BIN09B",{"$f":"IF(kur!$E$13=\"\",\"\",kur!$E$13)","v":"BIN"},{"$f":"IF(kur!$D$13=\"\",\"\",kur!$D$13)","v":"Bahasa Indonesia"},9,"GENAP","Mengidentifikasi informasi dari laporan  percobaan yang dibaca dan didengar  (percobaan sederhana untuk mendeteksi zat berbahaya pada makanan, adanya vitamin pada makanan, dll) ","Menelaah struktur dan kebahasaan dari teks laporan percobaan yang didengar atau dibaca (percobaan sederhana untuk mendeteksi zat berbahaya pada makanan, adanya vitamin pada makanan, dll) ","mengidentifikasi gagasan,pikiran, pandangan, arahan atau pesan dalam pidato persuasif tentang permasalahan aktual yang didengar dan dibaca ","Menelaah struktur dan ciri kebahasaan pidato persuasif tentang permasalahan aktual yang didengar dan dibaca ","Mengidentifikasi  unsur pembangun karya sastra dalam teks cerita pendek yang dibaca atau didengar","Menelaah  struktur  dan aspek kebahasaan cerita pendek yang dibaca atau didengar ","Mengidentifikasi informasi berup kritik, sanggahan, atau pujian dari teks tanggapan (lingkungan hidup, kondisi sosial, dan/atau keragaman budaya, dll) yang didengar dan/atau dibaca ","Menelaah  struktur dan kebahasaan  dari teks tanggapan (lingkungan hidup, kondisi sosial, dan/atau keragaman budaya, dll) berupa kritik, sanggahan, atau pujian yang didengar dan/atau  dibaca ","Mengidentifikasi  informasi teks diskusi berupa pendapat pro dan kontra dari permasalahan aktual yang dibaca dan didengar \n","Menelaah  pendapat dan argumen yang mendukung dan yang kontra dalam teks diskusi berkaitan dengan permasalahan aktual yang dibaca dan didengar ",null,null,null,null,null,10]
["MTK09A",{"$f":"IF(kur!$E$14=\"\",\"\",kur!$E$14)","v":"MTK"},{"$f":"IF(kur!$D$14=\"\",\"\",kur!$D$14)","v":"Matematika"},9,"GANJIL","menjelaskan dan melakukan operasi bilangan berpangkat bilangan rasional dan bentuk akar,serta sifat-sifatnya","menjelaskan persamaan kuadrat dan karakteristiknya berdasarkan akar-akarnya serta cara penyelesaiannya","menjelaskan fungsi kuadrat dengan menggunakan tabel, persamaan, dan  grafik ","menjelaskan hubungan antara koefisien dan diskriminan fungsi kuadrat dengan grafiknya ","menjelaskan transformasi geometri  (refleksi,  translasi, rotasi, dan  dilatasi) yang dihubungkan dengan masalah kontekstual  \n","menjelaskan dan menentukan kesebangunan dan kekongruenan antar bangun datar ","membuat generalisasi luas permukaan dan volume berbagai bangun ruang sisi lengkung (tabung, kerucut, dan bola)   \n",null,null,null,null,null,null,null,null,7]
["MTK09B",{"$f":"IF(kur!$E$14=\"\",\"\",kur!$E$14)","v":"MTK"},{"$f":"IF(kur!$D$14=\"\",\"\",kur!$D$14)","v":"Matematika"},9,"GENAP","menjelaskan dan melakukan operasi bilangan berpangkat bilangan rasional dan bentuk akar,serta sifat-sifatnya","menjelaskan persamaan kuadrat dan karakteristiknya berdasarkan akar-akarnya serta cara penyelesaiannya","menjelaskan fungsi kuadrat dengan menggunakan tabel, persamaan, dan  grafik ","menjelaskan hubungan antara koefisien dan diskriminan fungsi kuadrat dengan grafiknya ","menjelaskan transformasi geometri  (refleksi,  translasi, rotasi, dan  dilatasi) yang dihubungkan dengan masalah kontekstual  \n","menjelaskan dan menentukan kesebangunan dan kekongruenan antar bangun datar ","membuat generalisasi luas permukaan dan volume berbagai bangun ruang sisi lengkung (tabung, kerucut, dan bola)   \n",null,null,null,null,null,null,null,null,7]
["IPA09A",{"$f":"IF(kur!$E$15=\"\",\"\",kur!$E$15)","v":"IPA"},{"$f":"IF(kur!$D$15=\"\",\"\",kur!$D$15)","v":"Ilmu Pengetahuan Alam"},9,"GANJIL","menghubungkan sistem reproduksi pada manusia dan gangguan pada sistem reproduksi dengan penerapan pola hidup yang menunjang kesehatan reproduksi ","menganalisis sistem perkembangbiakan pada tumbuhan dan hewan serta penerapan teknologi pada sistem reproduksi tumbuhan dan hewan ","menerapkan konsep pewarisan sifat dalam pemuliaan dan kelangsungan makhluk hidup  ","menjelaskan konsep listrik statis dan gejalanya dalam kehidupan sehari-hari, termasuk kelistrikan pada sistem saraf dan hewan yang mengandung listrik","menerapkan konsep rangkaian listrik, energi dan daya listrik, sumber energi listrik dalam kehidupan sehari-hari termasuk sumber energi listrik alternatif, serta berbagai upaya menghemat energi listrik ","menerapkan konsep kemagnetan, induksi elektromagnetik, dan pemanfaatan medan magnet dalam kehidupan sehari-hari termasuk  pergerakan/navigasi hewan untuk mencari makanan dan migrasi ","menerapkan konsep bioteknologi dan perannya dalam kehidupan manusia ","menghubungkan konsep partikel materi (atom, ion,molekul), struktur zat sederhana dengan sifat bahan yang digunakan dalam kehidupan sehari- hari, serta dampak penggunaannya terhadap kesehatan manusia ","menghubungkan sifat fisika dan kimia tanah, organisme yang hidup dalam tanah, dengan pentingnya tanah untuk keberlanjutan kehidupan","menganalisis proses dan produk teknologi ramah lingkungan untuk keberlanjutan kehidupan   ",null,null,null,null,null,10]
["IPA09B",{"$f":"IF(kur!$E$15=\"\",\"\",kur!$E$15)","v":"IPA"},{"$f":"IF(kur!$D$15=\"\",\"\",kur!$D$15)","v":"Ilmu Pengetahuan Alam"},9,"GENAP","menghubungkan sistem reproduksi pada manusia dan gangguan pada sistem reproduksi dengan penerapan pola hidup yang menunjang kesehatan reproduksi ","menganalisis sistem perkembangbiakan pada tumbuhan dan hewan serta penerapan teknologi pada sistem reproduksi tumbuhan dan hewan ","menerapkan konsep pewarisan sifat dalam pemuliaan dan kelangsungan makhluk hidup  ","menjelaskan konsep listrik statis dan gejalanya dalam kehidupan sehari-hari, termasuk kelistrikan pada sistem saraf dan hewan yang mengandung listrik","menerapkan konsep rangkaian listrik, energi dan daya listrik, sumber energi listrik dalam kehidupan sehari-hari termasuk sumber energi listrik alternatif, serta berbagai upaya menghemat energi listrik ","menerapkan konsep kemagnetan, induksi elektromagnetik, dan pemanfaatan medan magnet dalam kehidupan sehari-hari termasuk  pergerakan/navigasi hewan untuk mencari makanan dan migrasi ","menerapkan konsep bioteknologi dan perannya dalam kehidupan manusia ","menghubungkan konsep partikel materi (atom, ion,molekul), struktur zat sederhana dengan sifat bahan yang digunakan dalam kehidupan sehari- hari, serta dampak penggunaannya terhadap kesehatan manusia ","menghubungkan sifat fisika dan kimia tanah, organisme yang hidup dalam tanah, dengan pentingnya tanah untuk keberlanjutan kehidupan","menganalisis proses dan produk teknologi ramah lingkungan untuk keberlanjutan kehidupan   ",null,null,null,null,null,10]
["IPS09A",{"$f":"IF(kur!$E$16=\"\",\"\",kur!$E$16)","v":"IPS"},{"$f":"IF(kur!$D$16=\"\",\"\",kur!$D$16)","v":"Ilmu Pengetahuan Sosial"},9,"GANJIL","menelaah perubahan keruangan dan interaksi antarruang negara-negara Asia dan benua lainnya yang diakibatkan faktor alam, manusia dan pengaruhnya terhadap keberlangsungan kehidupan manusia dalam ekonomi, sosial, pendidikan dan politik","menganalisis perubahan kehidupan sosial budaya Bangsa Indonesia dalam menghadapi arus globalisasi untuk memperkokoh kehidupan kebangsaan ","menganalisis ketergantungan antarruang dilihat dari konsep ekonomi (produksi, distribusi, konsumsi, harga, pasar) dan pengaruhnya terhadap migrasi penduduk, transportasi, lembaga sosial dan ekonomi, pekerjaan, pendidikan, dan kesejahteraan masyarakat\n","menganalisis kronologi, perubahan dan kesinambungan ruang (geografis, politik, ekonomi, pendidikan, sosial, budaya) dari awal kemerdekaan sampai awal reformasi",null,null,null,null,null,null,null,null,null,null,null,4]
["IPS09B",{"$f":"IF(kur!$E$16=\"\",\"\",kur!$E$16)","v":"IPS"},{"$f":"IF(kur!$D$16=\"\",\"\",kur!$D$16)","v":"Ilmu Pengetahuan Sosial"},9,"GENAP","menelaah perubahan keruangan dan interaksi antarruang negara-negara Asia dan benua lainnya yang diakibatkan faktor alam, manusia dan pengaruhnya terhadap keberlangsungan kehidupan manusia dalam ekonomi, sosial, pendidikan dan politik","menganalisis perubahan kehidupan sosial budaya Bangsa Indonesia dalam menghadapi arus globalisasi untuk memperkokoh kehidupan kebangsaan ","menganalisis ketergantungan antarruang dilihat dari konsep ekonomi (produksi, distribusi, konsumsi, harga, pasar) dan pengaruhnya terhadap migrasi penduduk, transportasi, lembaga sosial dan ekonomi, pekerjaan, pendidikan, dan kesejahteraan masyarakat\n","menganalisis kronologi, perubahan dan kesinambungan ruang (geografis, politik, ekonomi, pendidikan, sosial, budaya) dari awal kemerdekaan sampai awal reformasi",null,null,null,null,null,null,null,null,null,null,null,4]
["SB09A",{"$f":"IF(kur!$E$17=\"\",\"\",kur!$E$17)","v":"SB"},{"$f":"IF(kur!$D$17=\"\",\"\",kur!$D$17)","v":"Seni Budaya "},9,"GANJIL","memahami unsur, prinsip,  teknik, dan prosedur berkarya seni lukis dengan berbagai bahan ","memahami prosedur berkarya seni patung dengan berbagai bahandan teknik ","memahami penerapan pola lantai dan unsur pendukung gerak tari kreasi ","memahami pementasan drama musikal dan atau operet sesuai konsep, teknik dan prosedur \n",null,null,null,null,null,null,null,null,null,null,null,4]
["SB09B",{"$f":"IF(kur!$E$17=\"\",\"\",kur!$E$17)","v":"SB"},{"$f":"IF(kur!$D$17=\"\",\"\",kur!$D$17)","v":"Seni Budaya "},9,"GENAP","memahami unsur, prinsip,  teknik, dan prosedur berkarya seni lukis dengan berbagai bahan ","memahami prosedur berkarya seni patung dengan berbagai bahandan teknik ","memahami penerapan pola lantai dan unsur pendukung gerak tari kreasi ","memahami pementasan drama musikal dan atau operet sesuai konsep, teknik dan prosedur \n",null,null,null,null,null,null,null,null,null,null,null,4]
["PJ09A",{"$f":"IF(kur!$E$18=\"\",\"\",kur!$E$18)","v":"PJ"},{"$f":"IF(kur!$D$18=\"\",\"\",kur!$D$18)","v":"Pendidikan Jasmani,Olahraga danKesehatan"},9,"GANJIL","memahami variasi dan kombinasi gerak spesifik dalam berbagai permainan bola besar sederhana  dan atau tradisional ","memahami kombinasi gerak spesifik dalam berbagai permainan bola kecil sederhana  dan atau tradisional","memahami kombinasi gerak spesifik jalan, lari, lompat, dan lempar dalam berbagai permainan sederhana  dan atau tradisional","memahami variasi dan kombinasi gerak spesifik  seni beladiri","memahami penyusunan program pengembangan komponen kebugaran jasmani terkait dengan kesehatan dan keterampilansecara sederhana  \n\n\n\n","memahami kombinasi  keterampilan berbentuk rangkaian gerak sederhana  secara konsisten, tepat, dan terkontrol dalam aktivitas spesifik senam lantai ","memahami variasi dan kombinasi gerak berbentuk rangkaian langkah dan ayunan lengan mengikuti irama (ketukan) tanpa/dengan musik sebagai pembentuk gerak pemanasan, inti latihan, dan pendinginan dalam aktivitas gerak berirama ","memahami gerak spesifik salah satu gaya renang dalam bentuk perlombaan","memahami tindakan P3K pada kejadian darurat, baik pada diri sendiri maupun orang lain ","memahami peran aktivitas fisik terhadap pencegahan penyakit \n",null,null,null,null,null,10]
["PJ09B",{"$f":"IF(kur!$E$18=\"\",\"\",kur!$E$18)","v":"PJ"},{"$f":"IF(kur!$D$18=\"\",\"\",kur!$D$18)","v":"Pendidikan Jasmani,Olahraga danKesehatan"},9,"GENAP","memahami variasi dan kombinasi gerak spesifik dalam berbagai permainan bola besar sederhana  dan atau tradisional ","memahami kombinasi gerak spesifik dalam berbagai permainan bola kecil sederhana  dan atau tradisional","memahami kombinasi gerak spesifik jalan, lari, lompat, dan lempar dalam berbagai permainan sederhana  dan atau tradisional","memahami variasi dan kombinasi gerak spesifik  seni beladiri","memahami penyusunan program pengembangan komponen kebugaran jasmani terkait dengan kesehatan dan keterampilansecara sederhana  \n\n\n\n","memahami kombinasi  keterampilan berbentuk rangkaian gerak sederhana  secara konsisten, tepat, dan terkontrol dalam aktivitas spesifik senam lantai ","memahami variasi dan kombinasi gerak berbentuk rangkaian langkah dan ayunan lengan mengikuti irama (ketukan) tanpa/dengan musik sebagai pembentuk gerak pemanasan, inti latihan, dan pendinginan dalam aktivitas gerak berirama ","memahami gerak spesifik salah satu gaya renang dalam bentuk perlombaan","memahami tindakan P3K pada kejadian darurat, baik pada diri sendiri maupun orang lain ","memahami peran aktivitas fisik terhadap pencegahan penyakit \n",null,null,null,null,null,10]
["BIG09A",{"$f":"IF(kur!$E$19=\"\",\"\",kur!$E$19)","v":"BIG"},{"$f":"IF(kur!$D$19=\"\",\"\",kur!$D$19)","v":"Bahasa Inggris"},9,"GANJIL","menerapkan fungsi sosial, struktur teks, dan unsur kebahasaan teks interaksi interpersonal lisan dan tulis yang melibatkan tindakan menyatakan harapan, doa, dan ucapan selamat atas suatu kebahagiaan dan prestasi, serta menanggapinya, sesuai dengan konteks penggunaannya","menerapkan fungsi sosial, struktur teks, dan unsur kebahasaan teks interaksi transaksional lisan dan tulis yang melibatkan tindakan memberi dan meminta informasi terkait maksud, tujuan, persetujuan melakukan suatu tindakan/kegiatan, sesuai dengan konteks penggunaannya. (Perhatikan unsur kebahasaan to, in   order    to, so    that (dis)agreement)","membandingkan fungsi sosial, struktur teks, dan unsur kebahasaan beberapa teks khususdalam bentuk label, dengan meminta dan memberi informasi terkait obat/makanan/minuman, sesuai dengan konteks penggunaannya","membandingkan fungsi sosial, struktur teks, dan unsur kebahasaan beberapa teks prosedur lisan dan tulis dengan memberi dan meminta informasi terkait resep makanan/minuman dan manual, pendek dan sederhana, sesuai dengan konteks penggunaannya ","menerapkan fungsi sosial, struktur teks, dan unsur kebahasaan teks interaksi transaksional lisan dan tulis yang melibatkan tindakan memberi dan meminta informasi terkait keadaan/tindakan/ kegiatan/ kejadian yang sedang dilakukan/terjadi pada saat ini, waktu lampau, dan waktu yang akan datang, sesuai dengan konteks penggunaannya (perhatikan unsur kebahasaan will+continuous)","menerapkan fungsi sosial, struktur teks, dan unsur kebahasaan teks interaksi transaksional lisan dan tulis yang melibatkan tindakan memberi dan meminta informasi terkait keadaan/tindakan/ kegiatan/ kejadian yang sudah/telah dilakukan/terjadi di waktu lampau dikaitkan dengan keadaan sekarang, tanpa menyebutkan waktu terjadinya secara spesifik, sesuai dengan konteks penggunaannya (perhatikan unsur kebahasaan present   perfect   tense)","membandingkan fungsi sosial, struktur teks, dan unsur kebahasaan beberapa teks naratif lisan dan tulis dengan memberi dan meminta informasi terkait fairytales, pendek dan sederhana, sesuai dengan konteks penggunaannya",null,null,null,null,null,null,null,null,7]
["BIG09B",{"$f":"IF(kur!$E$19=\"\",\"\",kur!$E$19)","v":"BIG"},{"$f":"IF(kur!$D$19=\"\",\"\",kur!$D$19)","v":"Bahasa Inggris"},9,"GENAP","menerapkan fungsi sosial, struktur teks, dan unsur kebahasaan teks interaksi interpersonal lisan dan tulis yang melibatkan tindakan menyatakan harapan, doa, dan ucapan selamat atas suatu kebahagiaan dan prestasi, serta menanggapinya, sesuai dengan konteks penggunaannya","menerapkan fungsi sosial, struktur teks, dan unsur kebahasaan teks interaksi transaksional lisan dan tulis yang melibatkan tindakan memberi dan meminta informasi terkait maksud, tujuan, persetujuan melakukan suatu tindakan/kegiatan, sesuai dengan konteks penggunaannya. (Perhatikan unsur kebahasaan to, in   order    to, so    that (dis)agreement)","membandingkan fungsi sosial, struktur teks, dan unsur kebahasaan beberapa teks khususdalam bentuk label, dengan meminta dan memberi informasi terkait obat/makanan/minuman, sesuai dengan konteks penggunaannya","membandingkan fungsi sosial, struktur teks, dan unsur kebahasaan beberapa teks prosedur lisan dan tulis dengan memberi dan meminta informasi terkait resep makanan/minuman dan manual, pendek dan sederhana, sesuai dengan konteks penggunaannya ","menerapkan fungsi sosial, struktur teks, dan unsur kebahasaan teks interaksi transaksional lisan dan tulis yang melibatkan tindakan memberi dan meminta informasi terkait keadaan/tindakan/ kegiatan/ kejadian yang sedang dilakukan/terjadi pada saat ini, waktu lampau, dan waktu yang akan datang, sesuai dengan konteks penggunaannya (perhatikan unsur kebahasaan will+continuous)","menerapkan fungsi sosial, struktur teks, dan unsur kebahasaan teks interaksi transaksional lisan dan tulis yang melibatkan tindakan memberi dan meminta informasi terkait keadaan/tindakan/ kegiatan/ kejadian yang sudah/telah dilakukan/terjadi di waktu lampau dikaitkan dengan keadaan sekarang, tanpa menyebutkan waktu terjadinya secara spesifik, sesuai dengan konteks penggunaannya (perhatikan unsur kebahasaan present   perfect   tense)","membandingkan fungsi sosial, struktur teks, dan unsur kebahasaan beberapa teks naratif lisan dan tulis dengan memberi dan meminta informasi terkait fairytales, pendek dan sederhana, sesuai dengan konteks penggunaannya",null,null,null,null,null,null,null,null,7]
["BM09A",{"$f":"IF(kur!$E$21=\"\",\"\",kur!$E$21)","v":"BM"},{"$f":"IF(kur!$D$21=\"\",\"\",kur!$D$21)","v":"Bahasa Madura"},9,"GANJIL","memahami teks agumentasi (dalam bentuk laporan/berita) untuk menyatakan pendapat dan memberi tanggapan sesuai konteks","memahani struktur teks,unsur kebahasaan dan pesan moral dari teks drama tradisional (wayang/topeng dhalang/kethoprak/ludruk)","memahami struktur teks,unsur kebahasaan dan pesan moral dari teks drama modern","memahami struktur teks dan unsur kebahasaan dari teks pidato dan teks pewara","memahami struktur teks,kaidah dan unsur kebahasaan dalam menulis laporan kegiatan",null,null,null,null,null,null,null,null,null,null,5]
["BM09B",{"$f":"IF(kur!$E$21=\"\",\"\",kur!$E$21)","v":"BM"},{"$f":"IF(kur!$D$21=\"\",\"\",kur!$D$21)","v":"Bahasa Madura"},9,"GENAP","memahami teks agumentasi (dalam bentuk laporan/berita) untuk menyatakan pendapat dan memberi tanggapan sesuai konteks","memahani struktur teks,unsur kebahasaan dan pesan moral dari teks drama tradisional (wayang/topeng dhalang/kethoprak/ludruk)","memahami struktur teks,unsur kebahasaan dan pesan moral dari teks drama modern","memahami struktur teks dan unsur kebahasaan dari teks pidato dan teks pewara","memahami struktur teks,kaidah dan unsur kebahasaan dalam menulis laporan kegiatan",null,null,null,null,null,null,null,null,null,null,5]
["09A",{"$f":"IF(kur!$E$22=\"\",\"\",kur!$E$22)","v":""},{"$f":"IF(kur!$D$22=\"\",\"\",kur!$D$22)","v":""},9,"GANJIL",null,null,null,null,null,null,null,null,null,null,null,null,null,null,null,0]
["09B",{"$f":"IF(kur!$E$22=\"\",\"\",kur!$E$22)","v":""},{"$f":"IF(kur!$D$22=\"\",\"\",kur!$D$22)","v":""},9,"GENAP",null,null,null,null,null,null,null,null,null,null,null,null,null,null,null,0]
["09A",{"$f":"IF(kur!$E$23=\"\",\"\",kur!$E$23)","v":""},{"$f":"IF(kur!$D$23=\"\",\"\",kur!$D$23)","v":""},9,"GANJIL",null,null,null,null,null,null,null,null,null,null,null,null,null,null,null,0]
["09B",{"$f":"IF(kur!$E$23=\"\",\"\",kur!$E$23)","v":""},{"$f":"IF(kur!$D$23=\"\",\"\",kur!$D$23)","v":""},9,"GENAP",null,null,null,null,null,null,null,null,null,null,null,null,null,null,null,0]
[]
["INDEKS","KODE","MUATAN PELAJARAN","KELAS","SEMESTER","4.1","4.2","4.3","4.4","4.5","4.6","4.7","4.8","4.9","4.10","4.11","4.12","4.13","4.14","4.15","MAKS"]
[{"$f":"$B266 & TEXT($D266,\"00\") & IF($E266=\"GANJIL\",\"A\",\"B\")","v":"AH01A"},{"$f":"IF(kur!$E$6=\"\",\"\",kur!$E$6)","v":"AH"},{"$f":"IF(kur!$D$6=\"\",\"\",kur!$D$6)","v":"Al-Qur'an Hadits"},1,"GANJIL","membaca  huruf-huruf hijaiyah sesuai makhraj dan tanda  bacanya  (fathah, kasrah, dan damah)","menghafalkan Q.S. al-Fatihah, an-Naas, al-Falaq, al-Ikhlas, dan  al-Lahab secara benar",null,null,null,null,null,null,null,null,null,null,null,null,null,{"$f":"COUNTA($F266:$T266)","v":2}]
["AH01B",{"$f":"IF(kur!$E$6=\"\",\"\",kur!$E$6)","v":"AH"},{"$f":"IF(kur!$D$6=\"\",\"\",kur!$D$6)","v":"Al-Qur'an Hadits"},1,"GENAP","membaca  huruf-huruf hijaiyah sesuai makhraj dan tanda  bacanya (fathatain, kasratain, dammatain, sukun dan tasydid)","menghafalkan Q.S. an-Nasr dan Quraisy secara benar ","menghafalkan hadis tentang kebersihan riwayat Muslim dari Abu Malik al-Asy’ari ( الطهورشطرالإيمان )",null,null,null,null,null,null,null,null,null,null,null,null,3]
["AA01A",{"$f":"IF(kur!$E$7=\"\",\"\",kur!$E$7)","v":"AA"},{"$f":"IF(kur!$D$7=\"\",\"\",kur!$D$7)","v":"Akidah Akhlak"},1,"GANJIL","menunjukkan contoh perilaku orang beriman kepada enam rukun iman","melafalkan dua kalimahsyahadat","melafalkan sifat-sifat Allah SWT, dan artinya al-Ahad dan al-Khaaliq","mengklasifikasikan manfaat perilaku hidup bersih, kasih sayang, dan rukun dalam kehidupan sehari-hari","mendemonstrasikan tatacara berpakaian secara Islami","menceritakan cara-cara menghindari hidup kotor dalam kehidupan sehari-hari",null,null,null,null,null,null,null,null,null,6]
["AA01B",{"$f":"IF(kur!$E$7=\"\",\"\",kur!$E$7)","v":"AA"},{"$f":"IF(kur!$D$7=\"\",\"\",kur!$D$7)","v":"Akidah Akhlak"},1,"GENAP","melafalkan kalimat tayyibah (Basmalah)","melafalkan ar-Rahmaan, ar-Rahiim dan as-Samii’ dan artinya","mendemonstrasikan adab belajar, bermain, makan dan minum secara Islami","mensimulasikan sikap ramah dan sopan santun terhadap orang tua dan guru dalam kehidupan sehari-hari","menyajikan contoh cara menghindari berbicara kotor dan bohong/dusta",null,null,null,null,null,null,null,null,null,null,5]
["FK01A",{"$f":"IF(kur!$E$8=\"\",\"\",kur!$E$8)","v":"FK"},{"$f":"IF(kur!$D$8=\"\",\"\",kur!$D$8)","v":"Fikih"},1,"GANJIL","menghafalkan rukun Islam","melafalkan kalimah syahadatain","mensimulasikan  tata cara bersuci dari hadas dan najis",null,null,null,null,null,null,null,null,null,null,null,null,3]
["FK01B",{"$f":"IF(kur!$E$8=\"\",\"\",kur!$E$8)","v":"FK"},{"$f":"IF(kur!$D$8=\"\",\"\",kur!$D$8)","v":"Fikih"},1,"GENAP","mempresentasikan pengertian wudu","mensimulasikan tata cara wudu","menceritakan hikmah wudu",null,null,null,null,null,null,null,null,null,null,null,null,3]
["BA01A",{"$f":"IF(kur!$E$9=\"\",\"\",kur!$E$9)","v":"BA"},{"$f":"IF(kur!$D$9=\"\",\"\",kur!$D$9)","v":"Bahasa Arab"},1,"GANJIL","melafalkan bunyi dan makna mufradat terkait topik: عَمَلُ الكَشْف","melafalkan bunyi dan makna mufradat terkait topik: التَّعَـارُفُ","melafalkan bunyi dan makna mufradat terkait topik: الأَدَوَاتُ الْكِتَابِيَّةُ","melafalkan bunyi dan makna mufradat terkait topik: الأَدَوَاتُ الْمَدْرَسِيَّةُ",null,null,null,null,null,null,null,null,null,null,null,4]
["BA01B",{"$f":"IF(kur!$E$9=\"\",\"\",kur!$E$9)","v":"BA"},{"$f":"IF(kur!$D$9=\"\",\"\",kur!$D$9)","v":"Bahasa Arab"},1,"GENAP","melafalkan bunyi dan makna mufradat terkait topik: العَدَدُ مِنْ ۱  إلَى ۱۰  ","melafalkan bunyi dan makna mufradat terkait topik: أسْـــمَــاءُ الْأَيَّــامِ","melafalkan bunyi dan makna mufradat terkait topik: بَعْضُ أسْمَــاءِ الْفَواَكِهَ","melafalkan bunyi dan makna mufradat terkait topik: بَعْضُ اْلأَلْـــــــوَان",null,null,null,null,null,null,null,null,null,null,null,4]
["PKN01A",{"$f":"IF(kur!$E$12=\"\",\"\",kur!$E$12)","v":"PKN"},{"$f":"IF(kur!$D$12=\"\",\"\",kur!$D$12)","v":"Pendidikan Pancasila dan Kewarganegaaraan"},1,"GANJIL","menceritakan gambar pada lambang negara “Garuda Pancasila”","melakukan kegiatan sesuai dengan aturan yang berlaku","menceritakan pengalaman kebersamaan dalam keberagaman individu di rumah","menceritakan pengalaman kerjasama dalam keberagaman di rumah",null,null,null,null,null,null,null,null,null,null,null,4]
["PKN01B",{"$f":"IF(kur!$E$12=\"\",\"\",kur!$E$12)","v":"PKN"},{"$f":"IF(kur!$D$12=\"\",\"\",kur!$D$12)","v":"Pendidikan Pancasila dan Kewarganegaaraan"},1,"GENAP","menceritakan gambar pada lambang negara “Garuda Pancasila”","melakukan kegiatan sesuai dengan aturan yang berlaku","menceritakan pengalaman kebersamaan dalam keberagaman individu di rumah","menceritakan pengalaman kerjasama dalam keberagaman di rumah",null,null,null,null,null,null,null,null,null,null,null,4]
["BIN01A",{"$f":"IF(kur!$E$13=\"\",\"\",kur!$E$13)","v":"BIN"},{"$f":"IF(kur!$D$13=\"\",\"\",kur!$D$13)","v":"Bahasa Indonesia"},1,"GANJIL","mempraktikkan  kegiatan persiapan membaca permulaan (duduk wajar dan baik, jarak antara mata dan buku, cara memegang buku, cara membalik halaman buku, gerakan mata dari kiri ke kanan, memilih tempat)","mempraktikkan kegiatan persiapan menulis permulaan (cara duduk, cara memegang pensil, cara meletakkan buku, jarak antara mata dan buku, pemilihan tempat dengan cahaya yang terang) yang benar","melafalkan bunyi vokal dan konsonan dalam kata bahasa Indonesia atau bahasa daerah","menyampaikan penjelasan dengan kosakata yang tepat tentang anggota tubuh dan pancaindra serta perawatannya (berupa gambar dan tulisan) dalam bahasa Indonesia lisan dan tulis","mengemukakan penjelasan dengan kosakata bahasa Indonesia dan pelafalan yang tepat cara memelihara kesehatan","menggunakankosakata bahasa Indonesia dengan ejaan yang tepat tentang berbagai jenis benda di lingkungan sekitar melalui teks pendek (berupa gambar, slogan sederhana, tulisan, dan/atau syair lagu)","menyampaikan penjelasan dengan kosakata bahasa Indonesia berkaitan dengan peristiwa siang dan malam  melalui teks pendek (gambar, tulisan, dan/atau syair lagu)","mengucapkan ungkapan  terima kasih, permintaan maaf, tolong, dan pemberian pujian, dengan menggunakan bahasa yang santun kepada orang lain  secara lisan dan tulis","menggunakan kosakata dan ungkapan yang tepat untuk perkenalan diri, keluarga, dan orang-orang di tempat tinggalnya secara sderhana dalam bentuk  lisan dan tulis","menggunakan kosakata yang tepat dalam percakapan tentang hubungan kekeluargaan dengan menggunakan bantuan gambar/bagan  silsilah keluarga","melisankan puisi anak /syair lagu (berisi ungkapan kekaguman, kebanggaan, hormat kepada orang tua, kasih sayang, atau persahabatan) sebagai bentuk ungkapan diri",null,null,null,null,11]
["BIN01B",{"$f":"IF(kur!$E$13=\"\",\"\",kur!$E$13)","v":"BIN"},{"$f":"IF(kur!$D$13=\"\",\"\",kur!$D$13)","v":"Bahasa Indonesia"},1,"GENAP","mempraktikkan  kegiatan persiapan membaca permulaan (duduk wajar dan baik, jarak antara mata dan buku, cara memegang buku, cara membalik halaman buku, gerakan mata dari kiri ke kanan, memilih tempat)","mempraktikkan kegiatan persiapan menulis permulaan (cara duduk, cara memegang pensil, cara meletakkan buku, jarak antara mata dan buku, pemilihan tempat dengan cahaya yang terang) yang benar","melafalkan bunyi vokal dan konsonan dalam kata bahasa Indonesia atau bahasa daerah","menyampaikan penjelasan dengan kosakata yang tepat tentang anggota tubuh dan pancaindra serta perawatannya (berupa gambar dan tulisan) dalam bahasa Indonesia lisan dan tulis","mengemukakan penjelasan dengan kosakata bahasa Indonesia dan pelafalan yang tepat cara memelihara kesehatan","menggunakankosakata bahasa Indonesia dengan ejaan yang tepat tentang berbagai jenis benda di lingkungan sekitar melalui teks pendek (berupa gambar, slogan sederhana, tulisan, dan/atau syair lagu)","menyampaikan penjelasan dengan kosakata bahasa Indonesia berkaitan dengan peristiwa siang dan malam  melalui teks pendek (gambar, tulisan, dan/atau syair lagu)","mengucapkan ungkapan  terima kasih, permintaan maaf, tolong, dan pemberian pujian, dengan menggunakan bahasa yang santun kepada orang lain  secara lisan dan tulis","menggunakan kosakata dan ungkapan yang tepat untuk perkenalan diri, keluarga, dan orang-orang di tempat tinggalnya secara sderhana dalam bentuk  lisan dan tulis","menggunakan kosakata yang tepat dalam percakapan tentang hubungan kekeluargaan dengan menggunakan bantuan gambar/bagan  silsilah keluarga","melisankan puisi anak /syair lagu (berisi ungkapan kekaguman, kebanggaan, hormat kepada orang tua, kasih sayang, atau persahabatan) sebagai bentuk ungkapan diri",null,null,null,null,11]
["MTK01A",{"$f":"IF(kur!$E$14=\"\",\"\",kur!$E$14)","v":"MTK"},{"$f":"IF(kur!$D$14=\"\",\"\",kur!$D$14)","v":"Matematika"},1,"GANJIL","menuliskan lambang bilangan  sampai dua angka dengan ide nilai tempat ","mengurutkan bilangan-bilangan sampai dua angka dari bilangan terkecil ke bilangan terbesar atau sebaliknya","menyelesaikan masalah kehidupan sehari-hari tentang penjumlahan dan pengurangan bilangan  cacah sampai 99 ","memprediksi dan membuat pola bilangan yang berkaitan dengan kumpulan benda/gambar/gerakan atau lainnya","mengklasifikasi bangun ruang dan bangun datar dengan menggunakan berbagai benda konkret  ","mnyusun bangun-bangun datar untuk membentuk pola pengubinan ","melakukan pengukuran panjang dan berat dalam  satuan tidak baku dengan menggunakan benda/situasi konkret ","mengurutkan benda/kejadian/ keadaan berdasarkan panjang, berat, lamanya waktu, dan suhu",null,null,null,null,null,null,null,8]
["MTK01B",{"$f":"IF(kur!$E$14=\"\",\"\",kur!$E$14)","v":"MTK"},{"$f":"IF(kur!$D$14=\"\",\"\",kur!$D$14)","v":"Matematika"},1,"GENAP","menuliskan lambang bilangan  sampai dua angka dengan ide nilai tempat ","mengurutkan bilangan-bilangan sampai dua angka dari bilangan terkecil ke bilangan terbesar atau sebaliknya","menyelesaikan masalah kehidupan sehari-hari tentang penjumlahan dan pengurangan bilangan  cacah sampai 99 ","memprediksi dan membuat pola bilangan yang berkaitan dengan kumpulan benda/gambar/gerakan atau lainnya","mengklasifikasi bangun ruang dan bangun datar dengan menggunakan berbagai benda konkret  ","mnyusun bangun-bangun datar untuk membentuk pola pengubinan ","melakukan pengukuran panjang dan berat dalam  satuan tidak baku dengan menggunakan benda/situasi konkret ","mengurutkan benda/kejadian/ keadaan berdasarkan panjang, berat, lamanya waktu, dan suhu",null,null,null,null,null,null,null,8]
["SB01A",{"$f":"IF(kur!$E$17=\"\",\"\",kur!$E$17)","v":"SB"},{"$f":"IF(kur!$D$17=\"\",\"\",kur!$D$17)","v":"Seni Budaya "},1,"GANJIL","menirukan elemen musik melalui lagu","meragakan gerak anggota tubuh melalui tari ","membuat karya dari bahan alam",null,null,null,null,null,null,null,null,null,null,null,null,3]
["SB01B",{"$f":"IF(kur!$E$17=\"\",\"\",kur!$E$17)","v":"SB"},{"$f":"IF(kur!$D$17=\"\",\"\",kur!$D$17)","v":"Seni Budaya "},1,"GENAP","menirukan elemen musik melalui lagu","meragakan gerak anggota tubuh melalui tari ","membuat karya dari bahan alam",null,null,null,null,null,null,null,null,null,null,null,null,3]
["PJ01A",{"$f":"IF(kur!$E$18=\"\",\"\",kur!$E$18)","v":"PJ"},{"$f":"IF(kur!$D$18=\"\",\"\",kur!$D$18)","v":"Pendidikan Jasmani,Olahraga danKesehatan"},1,"GANJIL","mempraktikkan gerak dasar non-lokomotor dengan konsep tubuh, ruang, usaha, dan keterhubungan dalam bentuk permainan sederhana","mempraktikkan pola gerak dasar manipulatif dengan konsep tubuh, ruang, usaha, dan keterhubungan dalam bentuk permainan sederhana","mempraktikkan sikap tubuh (duduk, membaca, berdiri, jalan), bergerak secara lentur dan seimbang dalam pembentukan tubuh","mempraktikkan gerak dominan  (bertumpu, bergantung, keseimbangan, berpindah, tolakan, putaran, ayunan, melayang, dan mendarat)","mempraktikkan gerak dasar lokomotor dan non-lokomotor sesuai dengan irama (ketukan) tanpa/dengan musik","mempraktikkan berbagai pengenalan  aktivitas air dan menjaga keselamatan diri/orang lain dalam aktivitas air","menceritakan bagian-bagian tubuh, bagian tubuh yang boleh dan tidak disentuh orang lain, cara menjaga kebersihan, dan kebersihan pakaian",null,null,null,null,null,null,null,null,7]
["PJ01B",{"$f":"IF(kur!$E$18=\"\",\"\",kur!$E$18)","v":"PJ"},{"$f":"IF(kur!$D$18=\"\",\"\",kur!$D$18)","v":"Pendidikan Jasmani,Olahraga danKesehatan"},1,"GENAP","mempraktikkan gerak dasar non-lokomotor dengan konsep tubuh, ruang, usaha, dan keterhubungan dalam bentuk permainan sederhana","mempraktikkan pola gerak dasar manipulatif dengan konsep tubuh, ruang, usaha, dan keterhubungan dalam bentuk permainan sederhana","mempraktikkan sikap tubuh (duduk, membaca, berdiri, jalan), bergerak secara lentur dan seimbang dalam pembentukan tubuh","mempraktikkan gerak dominan  (bertumpu, bergantung, keseimbangan, berpindah, tolakan, putaran, ayunan, melayang, dan mendarat)","mempraktikkan gerak dasar lokomotor dan non-lokomotor sesuai dengan irama (ketukan) tanpa/dengan musik","mempraktikkan berbagai pengenalan  aktivitas air dan menjaga keselamatan diri/orang lain dalam aktivitas air","menceritakan bagian-bagian tubuh, bagian tubuh yang boleh dan tidak disentuh orang lain, cara menjaga kebersihan, dan kebersihan pakaian",null,null,null,null,null,null,null,null,7]
["BM01A",{"$f":"IF(kur!$E$21=\"\",\"\",kur!$E$21)","v":"BM"},{"$f":"IF(kur!$D$21=\"\",\"\",kur!$D$21)","v":"Bahasa Madura"},1,"GANJIL","melafalkan bunyi bahasa daerah yang didengar dengan tepat","menebalkan dan menyalin huruf lepas pada kata atau kalimat sederhana sesuai kaidah","menirukan secara lisan dan tulis teks deskriptif tentang anggota tubuh,panca indra,wujud dan sifat benda serta peristiwa alam","melakukan perintah dan permintaan sederhana tentang kegiatan diri sendiri secara lisan dan tulis","menyampaikan teks ucapan terimakasih,permintaan maaf dan sikap kasih sayang secara lisan dan tulis melalui bantuan guru",null,null,null,null,null,null,null,null,null,null,5]
["BM01B",{"$f":"IF(kur!$E$21=\"\",\"\",kur!$E$21)","v":"BM"},{"$f":"IF(kur!$D$21=\"\",\"\",kur!$D$21)","v":"Bahasa Madura"},1,"GENAP","melafalkan bunyi bahasa daerah yang didengar dengan tepat","menebalkan dan menyalin huruf lepas pada kata atau kalimat sederhana sesuai kaidah","menirukan secara lisan dan tulis teks deskriptif tentang anggota tubuh,panca indra,wujud dan sifat benda serta peristiwa alam","melakukan perintah dan permintaan sederhana tentang kegiatan diri sendiri secara lisan dan tulis","menyampaikan teks ucapan terimakasih,permintaan maaf dan sikap kasih sayang secara lisan dan tulis melalui bantuan guru",null,null,null,null,null,null,null,null,null,null,5]
["01A",{"$f":"IF(kur!$E$22=\"\",\"\",kur!$E$22)","v":""},{"$f":"IF(kur!$D$22=\"\",\"\",kur!$D$22)","v":""},1,"GANJIL",null,null,null,null,null,null,null,null,null,null,null,null,null,null,null,0]
["01B",{"$f":"IF(kur!$E$22=\"\",\"\",kur!$E$22)","v":""},{"$f":"IF(kur!$D$22=\"\",\"\",kur!$D$22)","v":""},1,"GENAP",null,null,null,null,null,null,null,null,null,null,null,null,null,null,null,0]
["01A",{"$f":"IF(kur!$E$23=\"\",\"\",kur!$E$23)","v":""},{"$f":"IF(kur!$D$23=\"\",\"\",kur!$D$23)","v":""},1,"GANJIL",null,null,null,null,null,null,null,null,null,null,null,null,null,null,null,0]
["01B",{"$f":"IF(kur!$E$23=\"\",\"\",kur!$E$23)","v":""},{"$f":"IF(kur!$D$23=\"\",\"\",kur!$D$23)","v":""},1,"GENAP",null,null,null,null,null,null,null,null,null,null,null,null,null,null,null,0]
["AH02A",{"$f":"IF(kur!$E$6=\"\",\"\",kur!$E$6)","v":"AH"},{"$f":"IF(kur!$D$6=\"\",\"\",kur!$D$6)","v":"Al-Qur'an Hadits"},2,"GANJIL","menulis huruf-huruf hijaiyah secara terpisah dan bersambung   ","mendemonstrasikan hukum bacaan gunnah.","menghafalkan Q.S. al-Kausar dan al- Kafirun secara benar dan fasih","menghafalkan hadis tentang keutamaan belajar Al-Qur`an ( خيركم من تعلم القرآن وعلمه )",null,null,null,null,null,null,null,null,null,null,null,4]
["AH02B",{"$f":"IF(kur!$E$6=\"\",\"\",kur!$E$6)","v":"AH"},{"$f":"IF(kur!$D$6=\"\",\"\",kur!$D$6)","v":"Al-Qur'an Hadits"},2,"GENAP","menghafalkan Q.S. al-Maa’uun, al-Fiil, al-‘Ashr, dan al-Qadr  secara benar  ","mendemonstrasikan hukum bacaan  Al Qamariyah dan  Al Syamsiyah","menghafalkan hadis tentang hormat kepada orang tua ( خيركم من تعلم القرآن وعلمه )",null,null,null,null,null,null,null,null,null,null,null,null,3]
["AA02A",{"$f":"IF(kur!$E$7=\"\",\"\",kur!$E$7)","v":"AA"},{"$f":"IF(kur!$D$7=\"\",\"\",kur!$D$7)","v":"Akidah Akhlak"},2,"GANJIL","melafalkan kalimat tayyibah (Hamdalah)","melafalkan ar-Razzaaq, , al-Hamiid, dan asy-Syakur dan artinya","menyajikan dalil aqli tentang mengenal Allah","menunjukkan contoh sikap syukur nikmat, hidup sederhana, dan rendah hati","mendemonstrasikan adab ketika bersin","menyajikan cara menghindari sifat  sombong dalam kehidupan sehari-hari",null,null,null,null,null,null,null,null,null,6]
["AA02B",{"$f":"IF(kur!$E$7=\"\",\"\",kur!$E$7)","v":"AA"},{"$f":"IF(kur!$D$7=\"\",\"\",kur!$D$7)","v":"Akidah Akhlak"},2,"GENAP","melafalkan kalimat tayyibah (Tahlil)dan maknanya","melafalkan al-Qudduus, ash-Shamad, al-Muhaimin, dan al-Badii’ dan artinya","menyebutkan contoh-contoh perilaku jujur, rajin, dan percaya diri","mensimulasikan adab yang baik ketika belajar, mengaji, dan bermain","menceritakan contoh sikap malas dalam kehidupan sehari-hari",null,null,null,null,null,null,null,null,null,null,5]
["FK02A",{"$f":"IF(kur!$E$8=\"\",\"\",kur!$E$8)","v":"FK"},{"$f":"IF(kur!$D$8=\"\",\"\",kur!$D$8)","v":"Fikih"},2,"GANJIL","mempraktikkan azan ","mempraktikkan iqamah","mempraktikkan bacaan dan gerakan shalat fardu",null,null,null,null,null,null,null,null,null,null,null,null,3]
["FK02B",{"$f":"IF(kur!$E$8=\"\",\"\",kur!$E$8)","v":"FK"},{"$f":"IF(kur!$D$8=\"\",\"\",kur!$D$8)","v":"Fikih"},2,"GENAP","mensimulasikan tata cara salat berjamaah","mempraktikkan zikir setelah salat fardu","mempraktikkan doa setelah salat fardu",null,null,null,null,null,null,null,null,null,null,null,null,3]
["BA02A",{"$f":"IF(kur!$E$9=\"\",\"\",kur!$E$9)","v":"BA"},{"$f":"IF(kur!$D$9=\"\",\"\",kur!$D$9)","v":"Bahasa Arab"},2,"GANJIL","melafalkan bunyi dan makna mufradat terkait topik: أفرادالمدرسة","melafalkan bunyi dan makna mufradat terkait topik: الزي المدرسيّ ","melafalkan bunyi dan makna mufradat terkait topik: المشروبات والمأكولات في المقصف ","melafalkan bunyi dan makna mufradat terkait topik: مصلى المدرسة",null,null,null,null,null,null,null,null,null,null,null,4]
["BA02B",{"$f":"IF(kur!$E$9=\"\",\"\",kur!$E$9)","v":"BA"},{"$f":"IF(kur!$D$9=\"\",\"\",kur!$D$9)","v":"Bahasa Arab"},2,"GENAP","melafalkan bunyi dan makna mufradat terkait topik: آلات المواصلات","melafalkan bunyi dan makna mufradat terkait topik: إشارة المرور","melafalkan bunyi dan makna mufradat terkait topik: الأدوات في البيت",null,null,null,null,null,null,null,null,null,null,null,null,3]
["PKN02A",{"$f":"IF(kur!$E$12=\"\",\"\",kur!$E$12)","v":"PKN"},{"$f":"IF(kur!$D$12=\"\",\"\",kur!$D$12)","v":"Pendidikan Pancasila dan Kewarganegaaraan"},2,"GANJIL","menjelaskan hubungan gambar pada lambang Negara dengan sila-sila Pancasila ","menceritakan kegiatan sesuai aturan dan tata tertib yang berlaku di sekolah ","mengelompokkan jenis-jenis keberagaman karakteristik individu di sekolah ","menceritakan pengalaman melakukan kegiatan persatuan dalam keberagaman",null,null,null,null,null,null,null,null,null,null,null,4]
["PKN02B",{"$f":"IF(kur!$E$12=\"\",\"\",kur!$E$12)","v":"PKN"},{"$f":"IF(kur!$D$12=\"\",\"\",kur!$D$12)","v":"Pendidikan Pancasila dan Kewarganegaaraan"},2,"GENAP","menjelaskan hubungan gambar pada lambang Negara dengan sila-sila Pancasila ","menceritakan kegiatan sesuai aturan dan tata tertib yang berlaku di sekolah ","mengelompokkan jenis-jenis keberagaman karakteristik individu di sekolah ","menceritakan pengalaman melakukan kegiatan persatuan dalam keberagaman",null,null,null,null,null,null,null,null,null,null,null,4]
["BIN02A",{"$f":"IF(kur!$E$13=\"\",\"\",kur!$E$13)","v":"BIN"},{"$f":"IF(kur!$D$13=\"\",\"\",kur!$D$13)","v":"Bahasa Indonesia"},2,"GANJIL","menirukan ungkapan, ajakan, perintah, penolakan dalam cerita atau lagu anak-anak","melaporkan penggunaan kosakata Bahasa Indonesia/ bahasa daerah hasil pengamatan tentang keragaman benda","melaporkan penggunaan kosakata Bahasa Indonesia/ bahasa daerah hasil pengamatan tentang lingkungan","menyajikan penggunaan kosakata tentang lingkungan sehat dan tidak sehat di lingkungan sekitar serta cara menjaganya","membacakan teks puisi anak tentang alam dan lingkungan dengan lafal, intonasi, dan ekspresi","menyampaikan ungkapan-ungkapan santun (“maaf”, “tolong”) untuk hidup rukun dalam kemajemukan ","menulis dengan tulisan tegak bersambung menggunakan huruf kapital serta tanda titik","menceritakan kembali teks dongeng binatang (fabel) yang menggambarkan sikap hidup rukun","menirukan kata sapaan dalam dongeng secara lisan dan tulis ","menulis teks dengan menggunakan huruf kapital , serta tanda  titik dan tanda tanya",null,null,null,null,null,10]
["BIN02B",{"$f":"IF(kur!$E$13=\"\",\"\",kur!$E$13)","v":"BIN"},{"$f":"IF(kur!$D$13=\"\",\"\",kur!$D$13)","v":"Bahasa Indonesia"},2,"GENAP","menirukan ungkapan, ajakan, perintah, penolakan dalam cerita atau lagu anak-anak","melaporkan penggunaan kosakata Bahasa Indonesia/ bahasa daerah hasil pengamatan tentang keragaman benda","melaporkan penggunaan kosakata Bahasa Indonesia/ bahasa daerah hasil pengamatan tentang lingkungan","menyajikan penggunaan kosakata tentang lingkungan sehat dan tidak sehat di lingkungan sekitar serta cara menjaganya","membacakan teks puisi anak tentang alam dan lingkungan dengan lafal, intonasi, dan ekspresi","menyampaikan ungkapan-ungkapan santun (“maaf”, “tolong”) untuk hidup rukun dalam kemajemukan ","menulis dengan tulisan tegak bersambung menggunakan huruf kapital serta tanda titik","menceritakan kembali teks dongeng binatang (fabel) yang menggambarkan sikap hidup rukun","menirukan kata sapaan dalam dongeng secara lisan dan tulis ","menulis teks dengan menggunakan huruf kapital , serta tanda  titik dan tanda tanya",null,null,null,null,null,10]
["MTK02A",{"$f":"IF(kur!$E$14=\"\",\"\",kur!$E$14)","v":"MTK"},{"$f":"IF(kur!$D$14=\"\",\"\",kur!$D$14)","v":"Matematika"},2,"GANJIL","membaca dan menyajikan bilangan cacah dan lambangnya berdasarkan nilai tempat","mengurutkan bilangan-bilangan dari bilangan terkecil ke terbesar atau sebaliknya  ","menyelesaikan masalah penjumlahan dan pengurangan bilangan cacah sampai dengan 999","menyelesaikan masalah perkalian dan pembagian bilangan cacah dengan hasil kali sampai dengan 100","mengurutkan nilai mata uang serta mendemonstrasikan berbagai kesetaraan pecahan mata uang ","melakukan pengukuran panjang (termasuk jarak), berat, dan waktu dalam satuan baku","menyajikan pecahan 1/2, 1/3 , dan 1/4 yang bersesuaian dengan bagian dari keseluruhan","mengidentifikasi ruas garis dengan menggunakan model konkret bangun datar dan bangun ruang  ","mengklasifikasi bangun datar dan bangun ruang berdasarkan ciri-cirinya ","memprediksi pola barisan bangun datar dan bangun ruang",null,null,null,null,null,10]
["MTK02B",{"$f":"IF(kur!$E$14=\"\",\"\",kur!$E$14)","v":"MTK"},{"$f":"IF(kur!$D$14=\"\",\"\",kur!$D$14)","v":"Matematika"},2,"GENAP","membaca dan menyajikan bilangan cacah dan lambangnya berdasarkan nilai tempat","mengurutkan bilangan-bilangan dari bilangan terkecil ke terbesar atau sebaliknya  ","menyelesaikan masalah penjumlahan dan pengurangan bilangan cacah sampai dengan 999","menyelesaikan masalah perkalian dan pembagian bilangan cacah dengan hasil kali sampai dengan 100","mengurutkan nilai mata uang serta mendemonstrasikan berbagai kesetaraan pecahan mata uang ","melakukan pengukuran panjang (termasuk jarak), berat, dan waktu dalam satuan baku","menyajikan pecahan 1/2, 1/3 , dan 1/4 yang bersesuaian dengan bagian dari keseluruhan","mengidentifikasi ruas garis dengan menggunakan model konkret bangun datar dan bangun ruang  ","mengklasifikasi bangun datar dan bangun ruang berdasarkan ciri-cirinya ","memprediksi pola barisan bangun datar dan bangun ruang",null,null,null,null,null,10]
["SB02A",{"$f":"IF(kur!$E$17=\"\",\"\",kur!$E$17)","v":"SB"},{"$f":"IF(kur!$D$17=\"\",\"\",kur!$D$17)","v":"Seni Budaya "},2,"GANJIL","membuat karya imajinatif dua dan tiga dimensi ","menampilkan pola irama sederhana melalui lagu anak-anak  ","meragakan gerak keseharian dan alam dalam tari ","membuat hiasan dari bahan alam dan buatan  ",null,null,null,null,null,null,null,null,null,null,null,4]
["SB02B",{"$f":"IF(kur!$E$17=\"\",\"\",kur!$E$17)","v":"SB"},{"$f":"IF(kur!$D$17=\"\",\"\",kur!$D$17)","v":"Seni Budaya "},2,"GENAP","membuat karya imajinatif dua dan tiga dimensi ","menampilkan pola irama sederhana melalui lagu anak-anak  ","meragakan gerak keseharian dan alam dalam tari ","membuat hiasan dari bahan alam dan buatan  ",null,null,null,null,null,null,null,null,null,null,null,4]
["PJ02A",{"$f":"IF(kur!$E$18=\"\",\"\",kur!$E$18)","v":"PJ"},{"$f":"IF(kur!$D$18=\"\",\"\",kur!$D$18)","v":"Pendidikan Jasmani,Olahraga danKesehatan"},2,"GANJIL","mempraktikkan gerak dasar lokomotor sesuai dengan konsep tubuh, ruang, usaha, dan keterhubungan dalam permainan sederhana dan atau tradisional ","mempraktikkan gerak dasar non-lokomotor sesuai dengan konsep tubuh, ruang, usaha, dan keterhubungan dalam permainan sederhana dan atau tradisional ","mempraktikkan gerak dasar manipulatif sesuai dengan konsep tubuh, ruang, usaha, dan keterhubungan dalam permainan sederhana dan atau tradisional ","mempraktikkan prosedur bergerak secara seimbang,  lentur, dan kuat   dalam rangka pengembangan kebugaran jasmani melalui permainan sederhana dan atau tradisional ","mempraktikkan gerak bertumpu, bergantung, keseimbangan, berpindah/lokomotor tolakan, putaran, ayunan, melayang, dan mendarat dalam aktivitas senam lantai ","mempraktikkan penggunaan gerak dasar lokomotor dan non-lokomotor sesuai dengan irama (ketukan) tanpa/dengan musik dalam aktivitas gerak berirama ","mempraktikkan penggunaan gerak dasar dalam bentuk permainan, dan menjaga keselamatan diri/orang lain dalam aktivitas air ","menceritakan manfaat pemanasan dan pendinginan, serta berbagai hal yang harus dilakukan dan dihindari sebelum, selama, dan setelah melakukan aktivitas fisik ","menceritakan manfaat pemanasan dan pendinginan, serta berbagai hal yang harus dilakukan dan dihindari sebelum, selama, dan setelah melakukan aktivitas fisik ","menceritakan cara menjaga kebersihan lingkungan (tempat tidur, rumah, kelas, lingkungan sekolah)",null,null,null,null,null,10]
["PJ02B",{"$f":"IF(kur!$E$18=\"\",\"\",kur!$E$18)","v":"PJ"},{"$f":"IF(kur!$D$18=\"\",\"\",kur!$D$18)","v":"Pendidikan Jasmani,Olahraga danKesehatan"},2,"GENAP","mempraktikkan gerak dasar lokomotor sesuai dengan konsep tubuh, ruang, usaha, dan keterhubungan dalam permainan sederhana dan atau tradisional ","mempraktikkan gerak dasar non-lokomotor sesuai dengan konsep tubuh, ruang, usaha, dan keterhubungan dalam permainan sederhana dan atau tradisional ","mempraktikkan gerak dasar manipulatif sesuai dengan konsep tubuh, ruang, usaha, dan keterhubungan dalam permainan sederhana dan atau tradisional ","mempraktikkan prosedur bergerak secara seimbang,  lentur, dan kuat   dalam rangka pengembangan kebugaran jasmani melalui permainan sederhana dan atau tradisional ","mempraktikkan gerak bertumpu, bergantung, keseimbangan, berpindah/lokomotor tolakan, putaran, ayunan, melayang, dan mendarat dalam aktivitas senam lantai ","mempraktikkan penggunaan gerak dasar lokomotor dan non-lokomotor sesuai dengan irama (ketukan) tanpa/dengan musik dalam aktivitas gerak berirama ","mempraktikkan penggunaan gerak dasar dalam bentuk permainan, dan menjaga keselamatan diri/orang lain dalam aktivitas air ","menceritakan manfaat pemanasan dan pendinginan, serta berbagai hal yang harus dilakukan dan dihindari sebelum, selama, dan setelah melakukan aktivitas fisik ","menceritakan manfaat pemanasan dan pendinginan, serta berbagai hal yang harus dilakukan dan dihindari sebelum, selama, dan setelah melakukan aktivitas fisik ","menceritakan cara menjaga kebersihan lingkungan (tempat tidur, rumah, kelas, lingkungan sekolah)",null,null,null,null,null,10]
["BM02A",{"$f":"IF(kur!$E$21=\"\",\"\",kur!$E$21)","v":"BM"},{"$f":"IF(kur!$D$21=\"\",\"\",kur!$D$21)","v":"Bahasa Madura"},2,"GANJIL","melafalkan bunyi bahasa daerah yang didengar dengan tepat","menebalkan dan menyalin huruf lepas pada atau kalimat sederhana mnjadi kalimat dengan tulisan tegak bersambung sesuai kaidah","menyajikan teks laporan sederhana tentan alam sekitar,hewan dan tumbuhan serta jumlahnya dengan bantuan guru secara lisan dan tulis","memperagakan teks cerita narasi sederhana tentang kegiatan bermain dilingkungan rumah atau sekolah","mengungkapkan teks buku harian sederhanatentang kegiatan diri sendiri atau anggota keluarga secara lisan dan tulis",null,null,null,null,null,null,null,null,null,null,5]
["BM02B",{"$f":"IF(kur!$E$21=\"\",\"\",kur!$E$21)","v":"BM"},{"$f":"IF(kur!$D$21=\"\",\"\",kur!$D$21)","v":"Bahasa Madura"},2,"GENAP","melafalkan bunyi bahasa daerah yang didengar dengan tepat","menebalkan dan menyalin huruf lepas pada atau kalimat sederhana mnjadi kalimat dengan tulisan tegak bersambung sesuai kaidah","menyajikan teks laporan sederhana tentan alam sekitar,hewan dan tumbuhan serta jumlahnya dengan bantuan guru secara lisan dan tulis","memperagakan teks cerita narasi sederhana tentang kegiatan bermain dilingkungan rumah atau sekolah","mengungkapkan teks buku harian sederhanatentang kegiatan diri sendiri atau anggota keluarga secara lisan dan tulis",null,null,null,null,null,null,null,null,null,null,5]
["02A",{"$f":"IF(kur!$E$22=\"\",\"\",kur!$E$22)","v":""},{"$f":"IF(kur!$D$22=\"\",\"\",kur!$D$22)","v":""},2,"GANJIL",null,null,null,null,null,null,null,null,null,null,null,null,null,null,null,0]
["02B",{"$f":"IF(kur!$E$22=\"\",\"\",kur!$E$22)","v":""},{"$f":"IF(kur!$D$22=\"\",\"\",kur!$D$22)","v":""},2,"GENAP",null,null,null,null,null,null,null,null,null,null,null,null,null,null,null,0]
["02A",{"$f":"IF(kur!$E$23=\"\",\"\",kur!$E$23)","v":""},{"$f":"IF(kur!$D$23=\"\",\"\",kur!$D$23)","v":""},2,"GANJIL",null,null,null,null,null,null,null,null,null,null,null,null,null,null,null,0]
["02B",{"$f":"IF(kur!$E$23=\"\",\"\",kur!$E$23)","v":""},{"$f":"IF(kur!$D$23=\"\",\"\",kur!$D$23)","v":""},2,"GENAP",null,null,null,null,null,null,null,null,null,null,null,null,null,null,null,0]
["AH03A",{"$f":"IF(kur!$E$6=\"\",\"\",kur!$E$6)","v":"AH"},{"$f":"IF(kur!$D$6=\"\",\"\",kur!$D$6)","v":"Al-Qur'an Hadits"},3,"GANJIL","menghafalkan Q.S. al-Humazah,  at-Takwfur, dan az-Zalzalah secara benar dan fasih","mendemonstrasikan hukum bacaan Qalqalah","menghafalkan  hadis tentang salat berjamaah (….. صلاة الجماعة أفضل )",null,null,null,null,null,null,null,null,null,null,null,null,3]
["AH03B",{"$f":"IF(kur!$E$6=\"\",\"\",kur!$E$6)","v":"AH"},{"$f":"IF(kur!$D$6=\"\",\"\",kur!$D$6)","v":"Al-Qur'an Hadits"},3,"GENAP","menghafalkan Q.S. al-Qaari‘ah dan at-Tiin","menulis lafalQ.S. al-fatihah dan QS. Al-ikhlas dengan benar  ","menghafalkan hadis tentang persaudaraan (….. المؤمن للمؤمن كالبنيان )",null,null,null,null,null,null,null,null,null,null,null,null,3]
["AA03A",{"$f":"IF(kur!$E$7=\"\",\"\",kur!$E$7)","v":"AA"},{"$f":"IF(kur!$D$7=\"\",\"\",kur!$D$7)","v":"Akidah Akhlak"},3,"GANJIL","melafalkan kalimat tayyibah (Subhaanallaah, Maasyaa Allah SWT) dan artinya","melafalkan al-A’dziim,  al-Kabiir, al-Kariim dan al-Maalik dan artinya","menyebutkan nama-nama malaikat Allah SWT. dan tugas-tugasnya.","menunjukkan contoh sikap sifat rendah hati, santun, ikhlas, kasih sayang, dan taat dalam kehidupan sehari-hari.","mensimulasikan akhlak karimah patuh dan taat terhadap kedua orang tua dalam kehidupan sehari-hari melalui kisah Nabi Ismail a.s.","menceritakan kisah Kan’an",null,null,null,null,null,null,null,null,null,6]
["AA03B",{"$f":"IF(kur!$E$7=\"\",\"\",kur!$E$7)","v":"AA"},{"$f":"IF(kur!$D$7=\"\",\"\",kur!$D$7)","v":"Akidah Akhlak"},3,"GENAP","melafalkan kalimat tayyibah (Ta’awudz) dan maknanya","melafalkan al-Baathin, al-Walii, al-Mujiib, dan al-Jabbaar dan artinya","menceritakan makhluk gaib selain malaikat (jin dan setan)","mensimulasikan sikap rukun dan tolong-menolong dalam  kehidupan sehari-hari","mensimulasikan akhlakul karimah terhadap saudara",null,null,null,null,null,null,null,null,null,null,5]
["FK03A",{"$f":"IF(kur!$E$8=\"\",\"\",kur!$E$8)","v":"FK"},{"$f":"IF(kur!$D$8=\"\",\"\",kur!$D$8)","v":"Fikih"},3,"GANJIL","mempratikkan tata cara salat rawatib","mempraktikan salat jamak dan qasar","mempraktikkan tayamum bagi orang sakit","mempraktikan tata cara salat bagi orang  sakit",null,null,null,null,null,null,null,null,null,null,null,4]
["FK03B",{"$f":"IF(kur!$E$8=\"\",\"\",kur!$E$8)","v":"FK"},{"$f":"IF(kur!$D$8=\"\",\"\",kur!$D$8)","v":"Fikih"},3,"GENAP","menceritakan pengalaman berpuasa Ramadan","menceritakan pengalaman salat tarawih","menceritakan pengalaman salat Witir","menceritakan keutamaan-keutamaan dalam bulan Ramadan",null,null,null,null,null,null,null,null,null,null,null,4]
["BA03A",{"$f":"IF(kur!$E$9=\"\",\"\",kur!$E$9)","v":"BA"},{"$f":"IF(kur!$D$9=\"\",\"\",kur!$D$9)","v":"Bahasa Arab"},3,"GANJIL","melafalkan bunyi dan makna mufradat terkait topik: أَسْمَاءُ الدَّرْس","melafalkan bunyi dan makna mufradat terkait topik: أَعْضَاءُ اْلوُضُوء","melafalkan bunyi dan makna mufradat terkait topik: اَلصَّلَوَاتُ الخَمْس","melafalkan bunyi dan makna mufradat terkait topik: أَسْمَاءُ اْلأَمْرَاض",null,null,null,null,null,null,null,null,null,null,null,4]
["BA03B",{"$f":"IF(kur!$E$9=\"\",\"\",kur!$E$9)","v":"BA"},{"$f":"IF(kur!$D$9=\"\",\"\",kur!$D$9)","v":"Bahasa Arab"},3,"GENAP","melafalkan bunyi dan makna mufradat terkait topik: أَعْضَاءُ اْلأُسْرَة","melafalkan bunyi dan makna mufradat terkait topik: حَالَةُ اْلحَدِيْقَة","melafalkan bunyi dan makna mufradat terkait topik: مَنَاظِرُ اْلعَالَم","melafalkan bunyi dan makna mufradat terkait topik: أَسْمَاءُ اْلحَيَوَانَات",null,null,null,null,null,null,null,null,null,null,null,4]
["SKI03A",{"$f":"IF(kur!$E$10=\"\",\"\",kur!$E$10)","v":"SKI"},{"$f":"IF(kur!$D$10=\"\",\"\",kur!$D$10)","v":"Sejarah Kebudayaan Islam"},3,"GANJIL","menceritakan keadaan sosial budaya masyarakat Arab Pra Islam","menceritakan keadaan perekonomian masyarakat Arab pra Islam","menceritakan agama dan kepercayaan masyarakat Arab pra Islam","menceritakan masa kanak-kanak Nabi Muhammad Saw","menceritakan masa remaja atau masa muda Nabi  Muhammad Saw",null,null,null,null,null,null,null,null,null,null,5]
["SKI03B",{"$f":"IF(kur!$E$10=\"\",\"\",kur!$E$10)","v":"SKI"},{"$f":"IF(kur!$D$10=\"\",\"\",kur!$D$10)","v":"Sejarah Kebudayaan Islam"},3,"GENAP","menceritakan masa dewasa Nabi  Muhammad Saw","menceritakan bukti-bukti kerasulan Nabi Muhammad Saw","menceritakan peristiwa kerasulan Nabi Muhammad Saw",null,null,null,null,null,null,null,null,null,null,null,null,3]
["PKN03A",{"$f":"IF(kur!$E$12=\"\",\"\",kur!$E$12)","v":"PKN"},{"$f":"IF(kur!$D$12=\"\",\"\",kur!$D$12)","v":"Pendidikan Pancasila dan Kewarganegaaraan"},3,"GANJIL","mengamati dan menceritakan perilaku yang mengaitkan dengan simbol sila-sila Pancasila","melaksanakan kewajiban sebagai warga dalam kehidupan sehari-hari di rumah dan sekolah","berinteraksi dengan beragam orang di lingkungan rumah, sekolah, masyarakat","mensimulasikan bentuk-bentuk kebersatuan dalam keberagaman di rumah, sekolah dan masyarakat",null,null,null,null,null,null,null,null,null,null,null,4]
["PKN03B",{"$f":"IF(kur!$E$12=\"\",\"\",kur!$E$12)","v":"PKN"},{"$f":"IF(kur!$D$12=\"\",\"\",kur!$D$12)","v":"Pendidikan Pancasila dan Kewarganegaaraan"},3,"GENAP","mengamati dan menceritakan perilaku yang mengaitkan dengan simbol sila-sila Pancasila","melaksanakan kewajiban sebagai warga dalam kehidupan sehari-hari di rumah dan sekolah","berinteraksi dengan beragam orang di lingkungan rumah, sekolah, masyarakat","mensimulasikan bentuk-bentuk kebersatuan dalam keberagaman di rumah, sekolah dan masyarakat",null,null,null,null,null,null,null,null,null,null,null,4]
["BIN03A",{"$f":"IF(kur!$E$13=\"\",\"\",kur!$E$13)","v":"BIN"},{"$f":"IF(kur!$D$13=\"\",\"\",kur!$D$13)","v":"Bahasa Indonesia"},3,"GANJIL","mengamati dan mengolah hasil observasi perubahan wujud benda, energi, perubahan iklim, rupa bumi dan perubahannya","mempraktikkan teks arahan/petunjuk tentang perawatan hewan dan tumbuhan, daur hidup hewan dan pengembangbiakan tanaman","mengolah dan menyajikan isi teks surat tanggapan tentang perkembangan teknologi produksi, komunikasi, dan transportasi","menyampaikan teks dongeng tentang kondisi alam dalam bentuk permainan peran","mendemonstrasikan teks permainan/dolanan daerah tentang kehidupan hewan dan tumbuhan",null,null,null,null,null,null,null,null,null,null,5]
["BIN03B",{"$f":"IF(kur!$E$13=\"\",\"\",kur!$E$13)","v":"BIN"},{"$f":"IF(kur!$D$13=\"\",\"\",kur!$D$13)","v":"Bahasa Indonesia"},3,"GENAP","mengamati dan mengolah hasil observasi perubahan wujud benda, energi, perubahan iklim, rupa bumi dan perubahannya","mempraktikkan teks arahan/petunjuk tentang perawatan hewan dan tumbuhan, daur hidup hewan dan pengembangbiakan tanaman","mengolah dan menyajikan isi teks surat tanggapan tentang perkembangan teknologi produksi, komunikasi, dan transportasi","menyampaikan teks dongeng tentang kondisi alam dalam bentuk permainan peran","mendemonstrasikan teks permainan/dolanan daerah tentang kehidupan hewan dan tumbuhan",null,null,null,null,null,null,null,null,null,null,5]
["MTK03A",{"$f":"IF(kur!$E$14=\"\",\"\",kur!$E$14)","v":"MTK"},{"$f":"IF(kur!$D$14=\"\",\"\",kur!$D$14)","v":"Matematika"},3,"GANJIL","mengurai bilangan bulat hasil penjumlahan atau pengurangan dua buah bilangan","merumuskan kalimat sendiri penjumlahan, pengurangan, perkalian, pembagian, bilangan bulat, waktu, panjang, berat, dan uang","menunjukkan hasil rotasi dan pencerminan suatu bangun datar dengan menggunakan gambar","menggambar berbagai bangun datar dengan keliling atau luas yang sama","menaksir panjang, luas, dan berat suatu benda dan memilih satuan baku yang sesuai","membentuk dan menggambar berbagai bangun datar yang diperoleh melalui kegiatan melipat dan menggunting atau cara lainnya","memperkirakan dan mengukur panjang, keliling, luas, kapasitas, massa, waktu, dan suhu menggunakan satuan baku dan tidak baku","mendeskripsikan, mengembangkan, dan membuat pola dari berbagai pola numerik dan pola geometris","membuat dan mengambar berbagai bangun datar dengan kelililing atau luas yang telah ditentukan","menghasilkan berbagai bangun datar yang diperoleh melalui kegiatan melipat dan menggunting atau cara lainnya","mengumpulkan, mencatat, menata, dan menyajikan data menggunakan tabel dan grafik batang","membuat tabel frekuensi sederhana berdasarkan tabulasi hasil pengukuran tinggi badan teman sekelas","membaca, mendeskripsikan, dan menginterpretasikan data pokok yang ditampilkan pada bagan dan grafik","mengumpulkan dan menata data kategorikal atau diskrit dan menampilkan data menggunakan bagan dan grafik",null,14]
["MTK03B",{"$f":"IF(kur!$E$14=\"\",\"\",kur!$E$14)","v":"MTK"},{"$f":"IF(kur!$D$14=\"\",\"\",kur!$D$14)","v":"Matematika"},3,"GENAP","mengurai bilangan bulat hasil penjumlahan atau pengurangan dua buah bilangan","merumuskan kalimat sendiri penjumlahan, pengurangan, perkalian, pembagian, bilangan bulat, waktu, panjang, berat, dan uang","menunjukkan hasil rotasi dan pencerminan suatu bangun datar dengan menggunakan gambar","menggambar berbagai bangun datar dengan keliling atau luas yang sama","menaksir panjang, luas, dan berat suatu benda dan memilih satuan baku yang sesuai","membentuk dan menggambar berbagai bangun datar yang diperoleh melalui kegiatan melipat dan menggunting atau cara lainnya","memperkirakan dan mengukur panjang, keliling, luas, kapasitas, massa, waktu, dan suhu menggunakan satuan baku dan tidak baku","mendeskripsikan, mengembangkan, dan membuat pola dari berbagai pola numerik dan pola geometris","membuat dan mengambar berbagai bangun datar dengan kelililing atau luas yang telah ditentukan","menghasilkan berbagai bangun datar yang diperoleh melalui kegiatan melipat dan menggunting atau cara lainnya","mengumpulkan, mencatat, menata, dan menyajikan data menggunakan tabel dan grafik batang","membuat tabel frekuensi sederhana berdasarkan tabulasi hasil pengukuran tinggi badan teman sekelas","membaca, mendeskripsikan, dan menginterpretasikan data pokok yang ditampilkan pada bagan dan grafik","mengumpulkan dan menata data kategorikal atau diskrit dan menampilkan data menggunakan bagan dan grafik",null,14]
[{"$f":"$B330 & TEXT($D330,\"00\") & IF($E330=\"GANJIL\",\"A\",\"B\")","v":"SB03A"},{"$f":"IF(kur!$E$17=\"\",\"\",kur!$E$17)","v":"SB"},{"$f":"IF(kur!$D$17=\"\",\"\",kur!$D$17)","v":"Seni Budaya "},3,"GANJIL","menghias benda gaya dekoratif dengan media yang ada di lingkungan sekitar","membentuk karya dekoratif dari bahan lunak","menyanyi lagu wajib dan lagu permainan dari daerah sesuai dengan isi lagu","memainkan alat musik ritmis pola irama bervariasi sambil bernyanyi","menyanyikan lagu anak-anak bertanda birama enam sesuai dengan isi lagu","memainkan pola irama bertanda birama 6 dengan perubahan tempo dan dinamika","mengembangkan gerak berdasarkan hasil pengamatan alam sekitar ke dalam bentuk tari bertema","mengembangkan gerak alam pada gaya tari daerah berdasarkan level, tempo dan dinamika gerak","memperagakan gerak alam dalam bentuk tari bertema berdasarkan level, tempo dan dinamika","menampilkan gerak ke dalam bentuk tari bertema dengan level dan tempo gerak","membuat karya kerajinan anyaman dengan bahan alam atau buatan dari lingkungan","membuat karya kerajinan teknik meronce dengan bahan alam dan buatan","membuat karya kerajinan fungsi pakai dari barang bekas dengan teknik dan alur sederhana","menanam tanaman sayuran di lingkungan sekitar","menceritakan makna karya seni budaya dengan bahasa daerah setempat",{"$f":"COUNTA($F330:$T330)","v":15}]
["SB03B",{"$f":"IF(kur!$E$17=\"\",\"\",kur!$E$17)","v":"SB"},{"$f":"IF(kur!$D$17=\"\",\"\",kur!$D$17)","v":"Seni Budaya "},3,"GENAP","menghias benda gaya dekoratif dengan media yang ada di lingkungan sekitar","membentuk karya dekoratif dari bahan lunak","menyanyi lagu wajib dan lagu permainan dari daerah sesuai dengan isi lagu","memainkan alat musik ritmis pola irama bervariasi sambil bernyanyi","menyanyikan lagu anak-anak bertanda birama enam sesuai dengan isi lagu","memainkan pola irama bertanda birama 6 dengan perubahan tempo dan dinamika","mengembangkan gerak berdasarkan hasil pengamatan alam sekitar ke dalam bentuk tari bertema","mengembangkan gerak alam pada gaya tari daerah berdasarkan level, tempo dan dinamika gerak","memperagakan gerak alam dalam bentuk tari bertema berdasarkan level, tempo dan dinamika","menampilkan gerak ke dalam bentuk tari bertema dengan level dan tempo gerak","membuat karya kerajinan anyaman dengan bahan alam atau buatan dari lingkungan","membuat karya kerajinan teknik meronce dengan bahan alam dan buatan","membuat karya kerajinan fungsi pakai dari barang bekas dengan teknik dan alur sederhana","menanam tanaman sayuran di lingkungan sekitar","menceritakan makna karya seni budaya dengan bahasa daerah setempat",15]
["PJ03A",{"$f":"IF(kur!$E$18=\"\",\"\",kur!$E$18)","v":"PJ"},{"$f":"IF(kur!$D$18=\"\",\"\",kur!$D$18)","v":"Pendidikan Jasmani,Olahraga danKesehatan"},3,"GANJIL","Mempraktikkan gerak dasar mengambang dan meluncur di air dalam aktivitas air","Mempraktikkan pemenuhan kebutuhan istirahat, tidur, dan pengisian waktu luang untuk menjaga kesehatan","Memakai pakaian dan atribut yang sesuai untuk jenis aktivitas fisik yang diikuti",null,null,null,null,null,null,null,null,null,null,null,null,3]
["PJ03B",{"$f":"IF(kur!$E$18=\"\",\"\",kur!$E$18)","v":"PJ"},{"$f":"IF(kur!$D$18=\"\",\"\",kur!$D$18)","v":"Pendidikan Jasmani,Olahraga danKesehatan"},3,"GENAP","Mempraktikkan gerak dasar mengambang dan meluncur di air dalam aktivitas air","Mempraktikkan pemenuhan kebutuhan istirahat, tidur, dan pengisian waktu luang untuk menjaga kesehatan","Memakai pakaian dan atribut yang sesuai untuk jenis aktivitas fisik yang diikuti",null,null,null,null,null,null,null,null,null,null,null,null,3]
["BM03A",{"$f":"IF(kur!$E$21=\"\",\"\",kur!$E$21)","v":"BM"},{"$f":"IF(kur!$D$21=\"\",\"\",kur!$D$21)","v":"Bahasa Madura"},3,"GANJIL",null,null,null,null,null,null,null,null,null,null,null,null,null,null,null,0]
["BM03B",{"$f":"IF(kur!$E$21=\"\",\"\",kur!$E$21)","v":"BM"},{"$f":"IF(kur!$D$21=\"\",\"\",kur!$D$21)","v":"Bahasa Madura"},3,"GENAP",null,null,null,null,null,null,null,null,null,null,null,null,null,null,null,0]
["03A",{"$f":"IF(kur!$E$22=\"\",\"\",kur!$E$22)","v":""},{"$f":"IF(kur!$D$22=\"\",\"\",kur!$D$22)","v":""},3,"GANJIL",null,null,null,null,null,null,null,null,null,null,null,null,null,null,null,0]
["03B",{"$f":"IF(kur!$E$22=\"\",\"\",kur!$E$22)","v":""},{"$f":"IF(kur!$D$22=\"\",\"\",kur!$D$22)","v":""},3,"GENAP",null,null,null,null,null,null,null,null,null,null,null,null,null,null,null,0]
["03A",{"$f":"IF(kur!$E$23=\"\",\"\",kur!$E$23)","v":""},{"$f":"IF(kur!$D$23=\"\",\"\",kur!$D$23)","v":""},3,"GANJIL",null,null,null,null,null,null,null,null,null,null,null,null,null,null,null,0]
["03B",{"$f":"IF(kur!$E$23=\"\",\"\",kur!$E$23)","v":""},{"$f":"IF(kur!$D$23=\"\",\"\",kur!$D$23)","v":""},3,"GENAP",null,null,null,null,null,null,null,null,null,null,null,null,null,null,null,0]
["AH04A",{"$f":"IF(kur!$E$6=\"\",\"\",kur!$E$6)","v":"AH"},{"$f":"IF(kur!$D$6=\"\",\"\",kur!$D$6)","v":"Al-Qur'an Hadits"},4,"GANJIL","menulis lafal Q.S. an-Nasr dan al-Kausar dengan benar ","menghafalkan Q.S. al-‘adiyat secara benar dan fasih ","mendemonstrasikan hukum bacaan idhar  dan ikhfa’","menghafalkan hadis tentang niat riwayat al-Bukhari dari Umar bin Khattab  ….إنماالأعمال بالنيات","menghafalkan hadis tentang takwa riwayat at-Tirmizi dari Abu Zar ….اتق اللّه حيثما كنت ",null,null,null,null,null,null,null,null,null,null,5]
["AH04B",{"$f":"IF(kur!$E$6=\"\",\"\",kur!$E$6)","v":"AH"},{"$f":"IF(kur!$D$6=\"\",\"\",kur!$D$6)","v":"Al-Qur'an Hadits"},4,"GENAP","membaca Q.S. al-Lahab secara benar dan fasih","membaca  Q.S. al-Insyirah secara benar dan fasih","menghafalkan hadis tentang silaturahmi  riwayat al-Bukhari Muslim dari Anas  (…...من أحبّ ان يبسط له فى رزقه)","menerapkan hukum bacaan idgam bigunnah, idgam bilagunnah, dan iqlab",null,null,null,null,null,null,null,null,null,null,null,4]
["AA04A",{"$f":"IF(kur!$E$7=\"\",\"\",kur!$E$7)","v":"AA"},{"$f":"IF(kur!$D$7=\"\",\"\",kur!$D$7)","v":"Akidah Akhlak"},4,"GANJIL","melafalkan kalimat tayyibah La haula Wala Quwwata Illa Billahil-‘Aliyyil-‘Adzim (Hauqalah) dan artinya","melafalkan al-Asma’ al-Husnaa (al-Mu’min, al-‘Azhim, al- Hadi, al-‘Adl, dan al-Hakam) dan artinya","menceritakan kitab-kitab Allah SWT. beserta nabi yang menerimanya","mensimulasikan sikap hormat dan patuh dalam kehidupan sehari-hari","menyimulasikan sikap tabah dan sabar dalammenghadapi cobaan sebagai implementasidalam meneladani kisah Masyitah","menceritakan kisah da’labah sebagai bentuk menghindari akhlak tercela kufur nikmat",null,null,null,null,null,null,null,null,null,6]
["AA04B",{"$f":"IF(kur!$E$7=\"\",\"\",kur!$E$7)","v":"AA"},{"$f":"IF(kur!$D$7=\"\",\"\",kur!$D$7)","v":"Akidah Akhlak"},4,"GENAP","mendemonstrasikan cara mengucap  salam sesuai ketentuan syar’i","melafalkan kalimah as- Salam, dan al-Latiif","menyajikan peta konsep nama-nama nabi, rasul Allah SWT dan Ulul Azmi, serta sifat-sifat  nabi dan rasul","menyimulasikan adab dalam bertamu dan berteman dalam kehidupan sehari-hari","menceritakan dampak negatif sifat munafik",null,null,null,null,null,null,null,null,null,null,5]
["FK04A",{"$f":"IF(kur!$E$8=\"\",\"\",kur!$E$8)","v":"FK"},{"$f":"IF(kur!$D$8=\"\",\"\",kur!$D$8)","v":"Fikih"},4,"GANJIL","mensimulasikan tata cara zakat fitrah","mensimulasikan tata cara infak","mensimulasikan tata cara  sedekah",null,null,null,null,null,null,null,null,null,null,null,null,3]
["FK04B",{"$f":"IF(kur!$E$8=\"\",\"\",kur!$E$8)","v":"FK"},{"$f":"IF(kur!$D$8=\"\",\"\",kur!$D$8)","v":"Fikih"},4,"GENAP","mendemonstrasikan tata cara salat  Idain","mensimulasikan tata cara salat Jumat",null,null,null,null,null,null,null,null,null,null,null,null,null,2]
["BA04A",{"$f":"IF(kur!$E$9=\"\",\"\",kur!$E$9)","v":"BA"},{"$f":"IF(kur!$D$9=\"\",\"\",kur!$D$9)","v":"Bahasa Arab"},4,"GANJIL","mendemonstrasikan bunyi dan makna mufradat sesuai struktur bahasa Arab terkait topik:التعريف بالنفس؛","mendemonstrasikan bunyi dan makna mufradat sesuai struktur bahasa Arab terkait topik: الأدوات المدرسية ؛","mendemonstrasikan bunyi dan makna mufradat sesuai struktur bahasa Arab terkait topik:أصحاب المهنة ؛",null,null,null,null,null,null,null,null,null,null,null,null,3]
["BA04B",{"$f":"IF(kur!$E$9=\"\",\"\",kur!$E$9)","v":"BA"},{"$f":"IF(kur!$D$9=\"\",\"\",kur!$D$9)","v":"Bahasa Arab"},4,"GENAP","mendemonstrasikan bunyi dan makna mufradat sesuai struktur bahasa Arab terkait topik: العنوان؛ ","mendemonstrasikan bunyi dan makna mufradat sesuai struktur bahasa Arab terkait topik: أفرادالأسرة ؛","mendemonstrasikan bunyi dan makna mufradat sesuai struktur bahasa Arab terkait topik:الأسرة في البيت؛ ",null,null,null,null,null,null,null,null,null,null,null,null,3]
["SKI04A",{"$f":"IF(kur!$E$10=\"\",\"\",kur!$E$10)","v":"SKI"},{"$f":"IF(kur!$D$10=\"\",\"\",kur!$D$10)","v":"Sejarah Kebudayaan Islam"},4,"GANJIL","menceritakan ketabahan Nabi Muhammad Saw. dan sahabat dalam berdakwah","menceritakan kemuliaan  akhlak Nabi Muhammad Saw. dan sahabat dalam berdakwah","menceritakan peristiwa hijrah Sahabat ke Habasyah",null,null,null,null,null,null,null,null,null,null,null,null,3]
["SKI04B",{"$f":"IF(kur!$E$10=\"\",\"\",kur!$E$10)","v":"SKI"},{"$f":"IF(kur!$D$10=\"\",\"\",kur!$D$10)","v":"Sejarah Kebudayaan Islam"},4,"GENAP","menceritakan peristiwa hijrah Nabi Muhammad Saw. ke Thaif. ","menceritakan  kembali peristiwa penting di dalam Isra Mikraj Nabi Muhammad Saw","menceritakan keadaan masyarakat Yatsrib   sebelum hijrah Nabi Muhammad Saw","menceritakan sebab-sebab hijrah Nabi Muhammad Saw. ke Yatsrib",null,null,null,null,null,null,null,null,null,null,null,4]
["PKN04A",{"$f":"IF(kur!$E$12=\"\",\"\",kur!$E$12)","v":"PKN"},{"$f":"IF(kur!$D$12=\"\",\"\",kur!$D$12)","v":"Pendidikan Pancasila dan Kewarganegaaraan"},4,"GANJIL","menceritakan makna hubungan simbol dengan sila-sila Pancasila sebagai satu kesatuan","melaksanakan kewajiban dan hak sebagai warga masyarakat dalam kehidupan sehari-hari","bekerja sama dalam keberagaman umat beragama dalam masyarakat","bekerja sama dalam keberagaman suku bangsa, sosial, dan budaya  dalam  masyarakat ",null,null,null,null,null,null,null,null,null,null,null,4]
["PKN04B",{"$f":"IF(kur!$E$12=\"\",\"\",kur!$E$12)","v":"PKN"},{"$f":"IF(kur!$D$12=\"\",\"\",kur!$D$12)","v":"Pendidikan Pancasila dan Kewarganegaaraan"},4,"GENAP","menceritakan makna hubungan simbol dengan sila-sila Pancasila sebagai satu kesatuan","melaksanakan kewajiban dan hak sebagai warga masyarakat dalam kehidupan sehari-hari","bekerja sama dalam keberagaman umat beragama dalam masyarakat","bekerja sama dalam keberagaman suku bangsa, sosial, dan budaya  dalam  masyarakat ",null,null,null,null,null,null,null,null,null,null,null,4]
["BIN04A",{"$f":"IF(kur!$E$13=\"\",\"\",kur!$E$13)","v":"BIN"},{"$f":"IF(kur!$D$13=\"\",\"\",kur!$D$13)","v":"Bahasa Indonesia"},4,"GANJIL","menata informasi yang didapat dari teks berdasarkan keterhubungan antargagasan ke dalam kerangka tulis","menyajikan hasil pencermatan tentang keterhubungan antargagasan ke dalam tulisan","melaporkan hasil wawancara menggunakan kosakata baku dan kalimat efektif dalam bentuk teks tulis","menyajikan teks petunjuk penggunaan alat dalam bentuk teks tulis dan visual dengan kosakata baku dan kalimat efektif","mengomunikasikan secara lisan dan tulisan pendapat pribadi tentang isi buku sastra yang dipilih sendiri dan dibaca","melisankan puisi hasil karya pribadi dengan lafal, intonasi, dan ekspresi yang tepat sebagai bentuk ungkapan diri","menyampaikan pengetahuan baru dari teks nonfiksi ke dalam tulisan dengan bahasa sendiri","menyampaikan hasil membandingkan pengetahuan lama dengan pengetahuan baru dengan bahasa sendiri dari teks nonfiksi","menyampaikan hasil identifikasi tentang yang ingin diperjuangkan atau dipertentangkan antartokoh pada cerita fiksi","menyajikan cara-cara yang dilakukan oleh tokoh cerita fiksi dalam memperjuangkan atau mempertentangkan",null,null,null,null,null,10]
["BIN04B",{"$f":"IF(kur!$E$13=\"\",\"\",kur!$E$13)","v":"BIN"},{"$f":"IF(kur!$D$13=\"\",\"\",kur!$D$13)","v":"Bahasa Indonesia"},4,"GENAP","menata informasi yang didapat dari teks berdasarkan keterhubungan antargagasan ke dalam kerangka tulis","menyajikan hasil pencermatan tentang keterhubungan antargagasan ke dalam tulisan","melaporkan hasil wawancara menggunakan kosakata baku dan kalimat efektif dalam bentuk teks tulis","menyajikan teks petunjuk penggunaan alat dalam bentuk teks tulis dan visual dengan kosakata baku dan kalimat efektif","mengomunikasikan secara lisan dan tulisan pendapat pribadi tentang isi buku sastra yang dipilih sendiri dan dibaca","melisankan puisi hasil karya pribadi dengan lafal, intonasi, dan ekspresi yang tepat sebagai bentuk ungkapan diri","menyampaikan pengetahuan baru dari teks nonfiksi ke dalam tulisan dengan bahasa sendiri","menyampaikan hasil membandingkan pengetahuan lama dengan pengetahuan baru dengan bahasa sendiri dari teks nonfiksi","menyampaikan hasil identifikasi tentang yang ingin diperjuangkan atau dipertentangkan antartokoh pada cerita fiksi","menyajikan cara-cara yang dilakukan oleh tokoh cerita fiksi dalam memperjuangkan atau mempertentangkan",null,null,null,null,null,10]
["MTK04A",{"$f":"IF(kur!$E$14=\"\",\"\",kur!$E$14)","v":"MTK"},{"$f":"IF(kur!$D$14=\"\",\"\",kur!$D$14)","v":"Matematika"},4,"GANJIL","mengidentifikasi  pecahan-pecahan senilai  dengan gambar  dan model konkret","mengidentifikasi berbagai bentuk pecahan (biasa, campuran, desimal, dan persen) dan hubungan diantaranya ","menyelesaikan masalah  penaksiran dari jumlah, selisih, hasil kali, dan hasil bagi dua bilangan cacah maupun pecahan","mengidentifikasi faktor dan kelipatan suatu bilangan","mengidentifikasi bilangan prima","menyelesaikan masalah tentang faktor persekutuan, faktor persekutuan terbesar (FPB), kelipatan persekutuan, kelipatan persekutuan terkecil (KPK)","menyelesaikan masalah  pembulatan hasil pengukuran panjang dan berat ke satuan terdekat","mengidentifikasi segibanyak beraturan dan segibanyak tidak beraturan","menyelesaikan masalah berkaitan dengan  keliling dan luas daerah persegi, persegipanjang, dan segitiga","mengidentifikasi hubungan antar garis (sejajar, berpotongan, berhimpit) menggunakan model konkret","membacadatadiri siswa dan lingkungannya yang disajikan dalam bentuk diagram batang ","mengukur sudut pada bangun datar dalam satuan baku dengan menggunakan busur derajat",null,null,null,12]
["MTK04B",{"$f":"IF(kur!$E$14=\"\",\"\",kur!$E$14)","v":"MTK"},{"$f":"IF(kur!$D$14=\"\",\"\",kur!$D$14)","v":"Matematika"},4,"GENAP","mengidentifikasi  pecahan-pecahan senilai  dengan gambar  dan model konkret","mengidentifikasi berbagai bentuk pecahan (biasa, campuran, desimal, dan persen) dan hubungan diantaranya ","menyelesaikan masalah  penaksiran dari jumlah, selisih, hasil kali, dan hasil bagi dua bilangan cacah maupun pecahan","mengidentifikasi faktor dan kelipatan suatu bilangan","mengidentifikasi bilangan prima","menyelesaikan masalah tentang faktor persekutuan, faktor persekutuan terbesar (FPB), kelipatan persekutuan, kelipatan persekutuan terkecil (KPK)","menyelesaikan masalah  pembulatan hasil pengukuran panjang dan berat ke satuan terdekat","mengidentifikasi segibanyak beraturan dan segibanyak tidak beraturan","menyelesaikan masalah berkaitan dengan  keliling dan luas daerah persegi, persegipanjang, dan segitiga","mengidentifikasi hubungan antar garis (sejajar, berpotongan, berhimpit) menggunakan model konkret","membacadatadiri siswa dan lingkungannya yang disajikan dalam bentuk diagram batang ","mengukur sudut pada bangun datar dalam satuan baku dengan menggunakan busur derajat",null,null,null,12]
["IPA04A",{"$f":"IF(kur!$E$15=\"\",\"\",kur!$E$15)","v":"IPA"},{"$f":"IF(kur!$D$15=\"\",\"\",kur!$D$15)","v":"Ilmu Pengetahuan Alam"},4,"GANJIL","menyajikan laporan hasil pengamatan tentang bentuk dan fungsi bagian tubuh hewan dan tumbuhan","membuat skema siklus hidup beberapa jenis mahluk hidup, dan slogan upaya pelestariannya","mendemonstrasikan manfaat gaya dalam kehidupan sehari-hari","menyajikan hasil percobaan tentang hubungan antara gaya dan gerak","menyajikan laporan hasil pengamatan dan penelusuran informasi tentang perubahan bentuk energi","menyajikan laporan hasil  pengamatan dan/atau percobaan tentang sifat-sifat bunyi","menyajikan laporan hasil pengamatan dan/atau percobaan yang memanfaatkan sifat-sifat cahaya","melakukan kegiatan upaya pelestarian sumber daya alam bersama orang-orang di lingkungannya",null,null,null,null,null,null,null,8]
["IPA04B",{"$f":"IF(kur!$E$15=\"\",\"\",kur!$E$15)","v":"IPA"},{"$f":"IF(kur!$D$15=\"\",\"\",kur!$D$15)","v":"Ilmu Pengetahuan Alam"},4,"GENAP","menyajikan laporan hasil pengamatan tentang bentuk dan fungsi bagian tubuh hewan dan tumbuhan","membuat skema siklus hidup beberapa jenis mahluk hidup, dan slogan upaya pelestariannya","mendemonstrasikan manfaat gaya dalam kehidupan sehari-hari","menyajikan hasil percobaan tentang hubungan antara gaya dan gerak","menyajikan laporan hasil pengamatan dan penelusuran informasi tentang perubahan bentuk energi","menyajikan laporan hasil  pengamatan dan/atau percobaan tentang sifat-sifat bunyi","menyajikan laporan hasil pengamatan dan/atau percobaan yang memanfaatkan sifat-sifat cahaya","melakukan kegiatan upaya pelestarian sumber daya alam bersama orang-orang di lingkungannya",null,null,null,null,null,null,null,8]
["IPS04A",{"$f":"IF(kur!$E$16=\"\",\"\",kur!$E$16)","v":"IPS"},{"$f":"IF(kur!$D$16=\"\",\"\",kur!$D$16)","v":"Ilmu Pengetahuan Sosial"},4,"GANJIL","menyajikan hasil identifikasi karakteristik ruang dan pemanfaatan sumber daya alam untuk kesejahteraan masyarakat","menyajikan hasil identifikasi keragaman sosial, ekonomi, budaya, etnis, dan agama sebagai identitas bangsa Indonesia","menyajikan hasil identifikasi kegiatan ekonomi dalam meningkatkan kehidupan masyarakat (pekerjaan, sosial, dan budaya)","menyajikan hasil identifikasi kerajaan Hindu, Buddha, dan Islam serta pengaruhnya pada kehidupan masyarakat masa kini",null,null,null,null,null,null,null,null,null,null,null,4]
["IPS04B",{"$f":"IF(kur!$E$16=\"\",\"\",kur!$E$16)","v":"IPS"},{"$f":"IF(kur!$D$16=\"\",\"\",kur!$D$16)","v":"Ilmu Pengetahuan Sosial"},4,"GENAP","menyajikan hasil identifikasi karakteristik ruang dan pemanfaatan sumber daya alam untuk kesejahteraan masyarakat","menyajikan hasil identifikasi keragaman sosial, ekonomi, budaya, etnis, dan agama sebagai identitas bangsa Indonesia","menyajikan hasil identifikasi kegiatan ekonomi dalam meningkatkan kehidupan masyarakat (pekerjaan, sosial, dan budaya)","menyajikan hasil identifikasi kerajaan Hindu, Buddha, dan Islam serta pengaruhnya pada kehidupan masyarakat masa kini",null,null,null,null,null,null,null,null,null,null,null,4]
["SB04A",{"$f":"IF(kur!$E$17=\"\",\"\",kur!$E$17)","v":"SB"},{"$f":"IF(kur!$D$17=\"\",\"\",kur!$D$17)","v":"Seni Budaya "},4,"GANJIL","menggambar dan membentuk tiga dimensi","menyanyikan lagu dengan memperhatikan tempo dan tinggi rendah nada ","meragakan gerak tari kreasi daerah","membuat karya kolase, montase, aplikasi, dan mozaik ",null,null,null,null,null,null,null,null,null,null,null,4]
["SB04B",{"$f":"IF(kur!$E$17=\"\",\"\",kur!$E$17)","v":"SB"},{"$f":"IF(kur!$D$17=\"\",\"\",kur!$D$17)","v":"Seni Budaya "},4,"GENAP","menggambar dan membentuk tiga dimensi","menyanyikan lagu dengan memperhatikan tempo dan tinggi rendah nada ","meragakan gerak tari kreasi daerah","membuat karya kolase, montase, aplikasi, dan mozaik ",null,null,null,null,null,null,null,null,null,null,null,4]
["PJ04A",{"$f":"IF(kur!$E$18=\"\",\"\",kur!$E$18)","v":"PJ"},{"$f":"IF(kur!$D$18=\"\",\"\",kur!$D$18)","v":"Pendidikan Jasmani,Olahraga danKesehatan"},4,"GANJIL","mempraktikkan gerak dasar lokomotor, non-lokomotor, dan manipulatif dengan konsep tubuh, ruang, usaha, dan keterhubungan dalam permainan bola besar","mempraktikkan gerak dasar lokomotor, non-lokomotor, dan manipulatif dengan konsep tubuh, ruang, usaha, dan keterhubungan dalam permainan bola kecil","mempraktikkan variasi pola dasar  jalan, lari,  lompat, dan lempar melalui permainan/olahraga yang dimodifikasi dan/atau olahraga tradisional","mempraktikkan gerak dasar lokomotor dan non lokomotor untuk membentuk gerak dasar seni beladiri","mempraktikkan aktivitas kebugaran jasmani melalui bentuk latihan; daya tahan, kekuatan, kecepatan, dan kelincahan  untuk mencapai berat badan ideal ","mempraktikkan gerak dominan  (bertumpu, bergantung, keseimbangan, berpindah/lokomotor, tolakan, putaran, ayunan, melayang, dan mendarat)","mempraktikkan variasi gerak dasar  langkah dan ayunan lengan mengikuti irama (ketukan) tanpa/dengan musik dalam aktivitas gerak berirama","mempraktikkan gerak dasar satu gaya renang ","memaparkan jenis cidera dan cara penanggulangannya secara sederhana saat melakukan aktivitas fisik dan dalam kehidupan sehari-hari","memaparkan perilaku terpuji dalam pergaulan sehari-hari (antarteman sebaya, orang yang lebih tua, dan orang yang lebih muda)",null,null,null,null,null,10]
["PJ04B",{"$f":"IF(kur!$E$18=\"\",\"\",kur!$E$18)","v":"PJ"},{"$f":"IF(kur!$D$18=\"\",\"\",kur!$D$18)","v":"Pendidikan Jasmani,Olahraga danKesehatan"},4,"GENAP","mempraktikkan gerak dasar lokomotor, non-lokomotor, dan manipulatif dengan konsep tubuh, ruang, usaha, dan keterhubungan dalam permainan bola besar","mempraktikkan gerak dasar lokomotor, non-lokomotor, dan manipulatif dengan konsep tubuh, ruang, usaha, dan keterhubungan dalam permainan bola kecil","mempraktikkan variasi pola dasar  jalan, lari,  lompat, dan lempar melalui permainan/olahraga yang dimodifikasi dan/atau olahraga tradisional","mempraktikkan gerak dasar lokomotor dan non lokomotor untuk membentuk gerak dasar seni beladiri","mempraktikkan aktivitas kebugaran jasmani melalui bentuk latihan; daya tahan, kekuatan, kecepatan, dan kelincahan  untuk mencapai berat badan ideal ","mempraktikkan gerak dominan  (bertumpu, bergantung, keseimbangan, berpindah/lokomotor, tolakan, putaran, ayunan, melayang, dan mendarat)","mempraktikkan variasi gerak dasar  langkah dan ayunan lengan mengikuti irama (ketukan) tanpa/dengan musik dalam aktivitas gerak berirama","mempraktikkan gerak dasar satu gaya renang ","memaparkan jenis cidera dan cara penanggulangannya secara sederhana saat melakukan aktivitas fisik dan dalam kehidupan sehari-hari","memaparkan perilaku terpuji dalam pergaulan sehari-hari (antarteman sebaya, orang yang lebih tua, dan orang yang lebih muda)",null,null,null,null,null,10]
["BM04A",{"$f":"IF(kur!$E$21=\"\",\"\",kur!$E$21)","v":"BM"},{"$f":"IF(kur!$D$21=\"\",\"\",kur!$D$21)","v":"Bahasa Madura"},4,"GANJIL",null,null,null,null,null,null,null,null,null,null,null,null,null,null,null,0]
["BM04B",{"$f":"IF(kur!$E$21=\"\",\"\",kur!$E$21)","v":"BM"},{"$f":"IF(kur!$D$21=\"\",\"\",kur!$D$21)","v":"Bahasa Madura"},4,"GENAP",null,null,null,null,null,null,null,null,null,null,null,null,null,null,null,0]
["04A",{"$f":"IF(kur!$E$22=\"\",\"\",kur!$E$22)","v":""},{"$f":"IF(kur!$D$22=\"\",\"\",kur!$D$22)","v":""},4,"GANJIL",null,null,null,null,null,null,null,null,null,null,null,null,null,null,null,0]
["04B",{"$f":"IF(kur!$E$22=\"\",\"\",kur!$E$22)","v":""},{"$f":"IF(kur!$D$22=\"\",\"\",kur!$D$22)","v":""},4,"GENAP",null,null,null,null,null,null,null,null,null,null,null,null,null,null,null,0]
["04A",{"$f":"IF(kur!$E$23=\"\",\"\",kur!$E$23)","v":""},{"$f":"IF(kur!$D$23=\"\",\"\",kur!$D$23)","v":""},4,"GANJIL",null,null,null,null,null,null,null,null,null,null,null,null,null,null,null,0]
["04B",{"$f":"IF(kur!$E$23=\"\",\"\",kur!$E$23)","v":""},{"$f":"IF(kur!$D$23=\"\",\"\",kur!$D$23)","v":""},4,"GENAP",null,null,null,null,null,null,null,null,null,null,null,null,null,null,null,0]
["AH05A",{"$f":"IF(kur!$E$6=\"\",\"\",kur!$E$6)","v":"AH"},{"$f":"IF(kur!$D$6=\"\",\"\",kur!$D$6)","v":"Al-Qur'an Hadits"},5,"GANJIL","menulis lafal Q.S. al- Kafirun, al-Ma‘un, dan at-Takatsur dengan benar","mendemonstrasikan  hukum bacaan Mim Mati (Idgam Mimi, Ikhfa’ Syafawi, dan Izhar Syafawi)","menghafalkan hadis tentang menyayangi anak yatim riwayat al-Bukhari Muslim dari Sahl bin Sa’ad ( ... أناوكافل اليتيم فى الجنة )",null,null,null,null,null,null,null,null,null,null,null,null,3]
["AH05B",{"$f":"IF(kur!$E$6=\"\",\"\",kur!$E$6)","v":"AH"},{"$f":"IF(kur!$D$6=\"\",\"\",kur!$D$6)","v":"Al-Qur'an Hadits"},5,"GENAP","menulis lafal Q.S. al-Qadrdengan benar","menghafal Q.S. al-‘Alaq secara benar dan fasih","menerapkan  hukum bacaan Waqaf dan Wasal","menghafal hadis tentang ciri-ciri orang munafik riwayat al-Bukhari Muslim dari Abu Hurairah  (...آيةالمنافقثلاث )",null,null,null,null,null,null,null,null,null,null,null,4]
["AA05A",{"$f":"IF(kur!$E$7=\"\",\"\",kur!$E$7)","v":"AA"},{"$f":"IF(kur!$D$7=\"\",\"\",kur!$D$7)","v":"Akidah Akhlak"},5,"GANJIL","melafalkan kalimat thayyibah (al-hamdulillah dan Allahu Akbar)","melafalkan al-Asma’ al-husna (ar-Razzaq, al-Fattah, asy-Syakur, al-Mugni) dan artinya","menyajikan contoh  akhlak mulia sebagai hikmah beriman kepada hari akhir (kiamat)","mensimulasikan akhlak yang baik ketika di tempat ibadah dan tempat umum","menyajikan contoh sikap teguh pendirian dan dermawan, optimis, qana’ah, dan tawakal",null,null,null,null,null,null,null,null,null,null,5]
["AA05B",{"$f":"IF(kur!$E$7=\"\",\"\",kur!$E$7)","v":"AA"},{"$f":"IF(kur!$D$7=\"\",\"\",kur!$D$7)","v":"Akidah Akhlak"},5,"GENAP","melafalkan kalimat Thayyibah (Tarji’) dan maknanya","melafalkan sifat-sifat Allah SWT. (al-Muhyi, al-Mumit dan al-Baqi)","mensimulasikan akhlak yang baik dalam hidup bertetangga dan bermasyarakat","menyajikan contoh cara menghindari sifat pesimis, bergantung, serakah, dan putus asa","menceritakan kisah Qarun sebagai rujukan untuk menghindari sifat kikir dan serakah",null,null,null,null,null,null,null,null,null,null,5]
["FK05A",{"$f":"IF(kur!$E$8=\"\",\"\",kur!$E$8)","v":"FK"},{"$f":"IF(kur!$D$8=\"\",\"\",kur!$D$8)","v":"Fikih"},5,"GANJIL","menceritakan tanda-tanda baligh","mensimulasikan  mandi wajib setelah haid","mensimulasikan pelaksanaan khitan",null,null,null,null,null,null,null,null,null,null,null,null,3]
["FK05B",{"$f":"IF(kur!$E$8=\"\",\"\",kur!$E$8)","v":"FK"},{"$f":"IF(kur!$D$8=\"\",\"\",kur!$D$8)","v":"Fikih"},5,"GENAP","mendemonstrasikan tata cara kurban","mensimulasikan tata cara haji ","mensimulasikan tata cara umrah",null,null,null,null,null,null,null,null,null,null,null,null,3]
["BA05A",{"$f":"IF(kur!$E$9=\"\",\"\",kur!$E$9)","v":"BA"},{"$f":"IF(kur!$D$9=\"\",\"\",kur!$D$9)","v":"Bahasa Arab"},5,"GANJIL","mempraktikkan bunyi huruf, kata, frase, dan struktur kalimat topik: غرفة الجلوس والمذاكرة؛ ","mempraktikkan bunyi huruf, kata, frase, dan struktur kalimat topik: في الحديقة؛","mempraktikkan bunyi huruf, kata, frase, dan struktur kalimat topik: الألوان dan tarkib الإشارةللمفرد + الاسم) + الصفات)",null,null,null,null,null,null,null,null,null,null,null,null,3]
["BA05B",{"$f":"IF(kur!$E$9=\"\",\"\",kur!$E$9)","v":"BA"},{"$f":"IF(kur!$D$9=\"\",\"\",kur!$D$9)","v":"Bahasa Arab"},5,"GENAP","mempraktekkan bunyi dan makna dari ujaran kata, frase, dan kalimat topik:في الفصل","mempraktekkan bunyi dan makna dari ujaran kata, frase, dan kalimat topik:في مكتبة المدرسة؛ ","mempraktekkan bunyi dan makna dari ujaran kata, frase, dan kalimat topik:في مكتبة الأدوات الكتابية؛ ","mempraktekkan bunyi dan makna dari ujaran kata, frase, dan kalimat topik: في المقصف dan tarkib المبتدأ والخبر (الجهات)؛ الخبر المقدم والمبتدأ",null,null,null,null,null,null,null,null,null,null,null,4]
["SKI05A",{"$f":"IF(kur!$E$10=\"\",\"\",kur!$E$10)","v":"SKI"},{"$f":"IF(kur!$D$10=\"\",\"\",kur!$D$10)","v":"Sejarah Kebudayaan Islam"},5,"GANJIL","menceritakan  keperwiraan Nabi. Muhammad Saw. dalam mempertahankan Kota Madinah","menceritakan sebab-sebab terjadinya Fathu Makkah","menceritakan upaya Nabi Muhammad Saw. dalam membina masyarakat Madinah ","menceritakan cara-cara Rasulullah Saw. dalam peristiwa FathuMakkah",null,null,null,null,null,null,null,null,null,null,null,4]
["SKI05B",{"$f":"IF(kur!$E$10=\"\",\"\",kur!$E$10)","v":"SKI"},{"$f":"IF(kur!$D$10=\"\",\"\",kur!$D$10)","v":"Sejarah Kebudayaan Islam"},5,"GENAP","menceritakan peristiwa-peristiwa di akhir hayat Rasulullah Saw.","menceritakan kepribadian Abu Bakar  as-Siddiq r.a. dan perjuangannya dalam dakwah Islam","menceritakan kepribadian Umar bin Khattab dan perjuangannya dalam dakwah Islam ",null,null,null,null,null,null,null,null,null,null,null,null,3]
["PKN05A",{"$f":"IF(kur!$E$12=\"\",\"\",kur!$E$12)","v":"PKN"},{"$f":"IF(kur!$D$12=\"\",\"\",kur!$D$12)","v":"Pendidikan Pancasila dan Kewarganegaaraan"},5,"GANJIL","menyajikan hasil identifikasi nilai-nilai Pancasila dalam kehidupan sehari-hari        ","menjelaskan hak, kewajiban, dan tanggung jawab sebagai warga masyarakat","menyelenggarakan kegiatan yang mendukung keberagaman sosial budaya","menyajikan hasil penggalian tentang manfaat persatuan dan kesatuan",null,null,null,null,null,null,null,null,null,null,null,4]
["PKN05B",{"$f":"IF(kur!$E$12=\"\",\"\",kur!$E$12)","v":"PKN"},{"$f":"IF(kur!$D$12=\"\",\"\",kur!$D$12)","v":"Pendidikan Pancasila dan Kewarganegaaraan"},5,"GENAP","menyajikan hasil identifikasi nilai-nilai Pancasila dalam kehidupan sehari-hari        ","menjelaskan hak, kewajiban, dan tanggung jawab sebagai warga masyarakat","menyelenggarakan kegiatan yang mendukung keberagaman sosial budaya","menyajikan hasil penggalian tentang manfaat persatuan dan kesatuan",null,null,null,null,null,null,null,null,null,null,null,4]
["BIN05A",{"$f":"IF(kur!$E$13=\"\",\"\",kur!$E$13)","v":"BIN"},{"$f":"IF(kur!$D$13=\"\",\"\",kur!$D$13)","v":"Bahasa Indonesia"},5,"GANJIL","menyajikan hasil identifikasi pokok pikiran dalam teks tulis dan lisan secara lisan, tulis, dan visual ","menyajikan hasil klasifikasi informasi  dalam aspek: apa, di mana, kapan, siapa, mengapa, dan bagaimana","menyajikan ringkasan  teks penjelasan (eksplanasi) dari media cetak atau elektronik","memeragakan kembali informasi yang disampaikan paparan iklan dari media cetak atau elektronik","memaparkan informasi dari teks narasi sejarah dengan aspek: apa, di mana, kapan, siapa, mengapa, dan bagaimana","melisankan pantun hasil karya pribadi dengan lafal, intonasi, dan ekspresi yang tepat","menyajikan konsep-konsep yang saling berkaitan pada teks nonfiksi","menyajikan kembali peristiwa atau tindakan dengan memperhatikan latar cerita yang terdapat pada teks fiksi","membuat surat undangan dengan kalimat efektif dan memperhati-kan penggunaan ejaan ",null,null,null,null,null,null,9]
["BIN05B",{"$f":"IF(kur!$E$13=\"\",\"\",kur!$E$13)","v":"BIN"},{"$f":"IF(kur!$D$13=\"\",\"\",kur!$D$13)","v":"Bahasa Indonesia"},5,"GENAP","menyajikan hasil identifikasi pokok pikiran dalam teks tulis dan lisan secara lisan, tulis, dan visual ","menyajikan hasil klasifikasi informasi  dalam aspek: apa, di mana, kapan, siapa, mengapa, dan bagaimana","menyajikan ringkasan  teks penjelasan (eksplanasi) dari media cetak atau elektronik","memeragakan kembali informasi yang disampaikan paparan iklan dari media cetak atau elektronik","memaparkan informasi dari teks narasi sejarah dengan aspek: apa, di mana, kapan, siapa, mengapa, dan bagaimana","melisankan pantun hasil karya pribadi dengan lafal, intonasi, dan ekspresi yang tepat","menyajikan konsep-konsep yang saling berkaitan pada teks nonfiksi","menyajikan kembali peristiwa atau tindakan dengan memperhatikan latar cerita yang terdapat pada teks fiksi","membuat surat undangan dengan kalimat efektif dan memperhati-kan penggunaan ejaan ",null,null,null,null,null,null,9]
["MTK05A",{"$f":"IF(kur!$E$14=\"\",\"\",kur!$E$14)","v":"MTK"},{"$f":"IF(kur!$D$14=\"\",\"\",kur!$D$14)","v":"Matematika"},5,"GANJIL","menyelesaikan masalah yang berkaitan dengan penjumlahan dan pengurangan dua pecahan dengan penyebut berbeda ","menyelesaikan masalah yang berkaitan dengan perkalian dan pembagian pecahan dan desimal ","menyelesaikan masalah yang berkaitan dengan perbandingan dua besaran yang berbeda (kecepatan, debit) ","menyelesaikan masalah yang berkaitan dengan skala pada denah  ","menyelesaikan masalah yang berkaitan dengan volume bangun ruang serta hubungan pangkat tiga dengan akar pangkat tiga","membuat jaring-jaring  bangun ruang sederhana (kubus dan balok) ","menganalisis data yang berkaitan dengan diri peserta didik atau lingkungan sekitar serta cara pengumpulannya ","mengorganisasikan dan menyajikan data dalam bentuk daftar, tabel, diagram gambar (piktogram), diagram batang, atau diagram garis",null,null,null,null,null,null,null,8]
["MTK05B",{"$f":"IF(kur!$E$14=\"\",\"\",kur!$E$14)","v":"MTK"},{"$f":"IF(kur!$D$14=\"\",\"\",kur!$D$14)","v":"Matematika"},5,"GENAP","menyelesaikan masalah yang berkaitan dengan penjumlahan dan pengurangan dua pecahan dengan penyebut berbeda ","menyelesaikan masalah yang berkaitan dengan perkalian dan pembagian pecahan dan desimal ","menyelesaikan masalah yang berkaitan dengan perbandingan dua besaran yang berbeda (kecepatan, debit) ","menyelesaikan masalah yang berkaitan dengan skala pada denah  ","menyelesaikan masalah yang berkaitan dengan volume bangun ruang serta hubungan pangkat tiga dengan akar pangkat tiga","membuat jaring-jaring  bangun ruang sederhana (kubus dan balok) ","menganalisis data yang berkaitan dengan diri peserta didik atau lingkungan sekitar serta cara pengumpulannya ","mengorganisasikan dan menyajikan data dalam bentuk daftar, tabel, diagram gambar (piktogram), diagram batang, atau diagram garis",null,null,null,null,null,null,null,8]
["IPA05A",{"$f":"IF(kur!$E$15=\"\",\"\",kur!$E$15)","v":"IPA"},{"$f":"IF(kur!$D$15=\"\",\"\",kur!$D$15)","v":"Ilmu Pengetahuan Alam"},5,"GANJIL","membuat model sederhana alat gerak manusia atau hewan ","membuat model sederhana organ pernapasan manusia ","menyajikan karya tentang konsep organ dan fungsi pencernaan pada hewan atau manusia. ","menyajikan karya tentang organ peredaran darah pada manusia ","membuat karya tentang konsep jaring-jaring makanan dalam suatu ekosistem ","melaporkan hasil pengamatan tentang perpindahan kalor ","melaporkan hasil percobaan pengaruh kalor pada benda ","membuat karya tentang skema siklus air berdasarkan informasi dari berbagai sumber ","Melaporkan hasil pengamatan sifat-sifat campuran dan komponen penyusunnya dalam kehidupan sehari-hari ",null,null,null,null,null,null,9]
["IPA05B",{"$f":"IF(kur!$E$15=\"\",\"\",kur!$E$15)","v":"IPA"},{"$f":"IF(kur!$D$15=\"\",\"\",kur!$D$15)","v":"Ilmu Pengetahuan Alam"},5,"GENAP","membuat model sederhana alat gerak manusia atau hewan ","membuat model sederhana organ pernapasan manusia ","menyajikan karya tentang konsep organ dan fungsi pencernaan pada hewan atau manusia. ","menyajikan karya tentang organ peredaran darah pada manusia ","membuat karya tentang konsep jaring-jaring makanan dalam suatu ekosistem ","melaporkan hasil pengamatan tentang perpindahan kalor ","melaporkan hasil percobaan pengaruh kalor pada benda ","membuat karya tentang skema siklus air berdasarkan informasi dari berbagai sumber ","Melaporkan hasil pengamatan sifat-sifat campuran dan komponen penyusunnya dalam kehidupan sehari-hari ",null,null,null,null,null,null,9]
["IPS05A",{"$f":"IF(kur!$E$16=\"\",\"\",kur!$E$16)","v":"IPS"},{"$f":"IF(kur!$D$16=\"\",\"\",kur!$D$16)","v":"Ilmu Pengetahuan Sosial"},5,"GANJIL","menyajikan hasil identifikasi karakteristik geografis Indonesia sebagai negara  kepulauan dan agraris serta pengaruhnya","menyajikan hasil analisis tentang interaksi manusia dengan lingkungan  dan pengaruhnya","menyajikan hasil analisis tentang peran ekonomi dalam upaya menyejahterakan kehidupan masyarakat","menyajikan hasil identifikasi mengenai faktor-faktor penting penyebab penjajahan bangsa Indonesia",null,null,null,null,null,null,null,null,null,null,null,4]
["IPS05B",{"$f":"IF(kur!$E$16=\"\",\"\",kur!$E$16)","v":"IPS"},{"$f":"IF(kur!$D$16=\"\",\"\",kur!$D$16)","v":"Ilmu Pengetahuan Sosial"},5,"GENAP","menyajikan hasil identifikasi karakteristik geografis Indonesia sebagai negara  kepulauan dan agraris serta pengaruhnya","menyajikan hasil analisis tentang interaksi manusia dengan lingkungan  dan pengaruhnya","menyajikan hasil analisis tentang peran ekonomi dalam upaya menyejahterakan kehidupan masyarakat","menyajikan hasil identifikasi mengenai faktor-faktor penting penyebab penjajahan bangsa Indonesia",null,null,null,null,null,null,null,null,null,null,null,4]
["SB05A",{"$f":"IF(kur!$E$17=\"\",\"\",kur!$E$17)","v":"SB"},{"$f":"IF(kur!$D$17=\"\",\"\",kur!$D$17)","v":"Seni Budaya "},5,"GANJIL","membuat gambar cerita ","menyanyikan lagu-lagu berbagai tangga nada dengan musik","mempraktikkan pola lantai pada gerak tari kreasi dearah ","membuat karya seni rupa daerah  ",null,null,null,null,null,null,null,null,null,null,null,4]
["SB05B",{"$f":"IF(kur!$E$17=\"\",\"\",kur!$E$17)","v":"SB"},{"$f":"IF(kur!$D$17=\"\",\"\",kur!$D$17)","v":"Seni Budaya "},5,"GENAP","membuat gambar cerita ","menyanyikan lagu-lagu berbagai tangga nada dengan musik","mempraktikkan pola lantai pada gerak tari kreasi dearah ","membuat karya seni rupa daerah  ",null,null,null,null,null,null,null,null,null,null,null,4]
["PJ05A",{"$f":"IF(kur!$E$18=\"\",\"\",kur!$E$18)","v":"PJ"},{"$f":"IF(kur!$D$18=\"\",\"\",kur!$D$18)","v":"Pendidikan Jasmani,Olahraga danKesehatan"},5,"GANJIL","mempraktikkan kombinasi gerak lokomotor, non-lokomotor, dan manipulatif sesuai dengan konsep tubuh, ruang, usaha, dan keterhubungannya","mempraktikkan kombinasi gerak dasar lokomotor, non-lokomotor, dan manipulatif sesuai dengan konsep tubuh, ruang, usaha, dan keterhubungannya","mempraktikkan kombinasi gerak dasar  jalan, lari,  lompat, dan lempar melalui permainan/olahraga yang dimodifikasi dan atau olahraga tradisional ","mempraktikkan variasi gerak dasar lokomotor dan non lokomotor untuk membentuk gerak dasar seni beladiri","mempraktikkan aktivitas latihan daya tahan jantung (cardio respiratory) untuk pengembangan kebugaran jasmani ","mempraktikkan pola gerak bertumpu, bergantung, keseimbangan, berpindah/lokomotor, tolakan, putaran, ayunan, melayang, dan mendarat","mempraktikkan pengunaan kombinasi gerak dasar  langkah dan ayunan lengan mengikuti irama (ketukan) tanpa/dengan musik","mempraktikkan salah satu gaya renang dengan koordinasi yang baik pada jarak tertentu","menerapkan konsep pemeliharaan diri dan orang lain dari penyakit menular dan tidak menular ","memaparkan bahaya merokok, meminum minuman keras, dan mengonsumsi narkotika,  zat-zat aditif (NAPZA) dan obat berbahaya",null,null,null,null,null,10]
["PJ05B",{"$f":"IF(kur!$E$18=\"\",\"\",kur!$E$18)","v":"PJ"},{"$f":"IF(kur!$D$18=\"\",\"\",kur!$D$18)","v":"Pendidikan Jasmani,Olahraga danKesehatan"},5,"GENAP","mempraktikkan kombinasi gerak lokomotor, non-lokomotor, dan manipulatif sesuai dengan konsep tubuh, ruang, usaha, dan keterhubungannya","mempraktikkan kombinasi gerak dasar lokomotor, non-lokomotor, dan manipulatif sesuai dengan konsep tubuh, ruang, usaha, dan keterhubungannya","mempraktikkan kombinasi gerak dasar  jalan, lari,  lompat, dan lempar melalui permainan/olahraga yang dimodifikasi dan atau olahraga tradisional ","mempraktikkan variasi gerak dasar lokomotor dan non lokomotor untuk membentuk gerak dasar seni beladiri","mempraktikkan aktivitas latihan daya tahan jantung (cardio respiratory) untuk pengembangan kebugaran jasmani ","mempraktikkan pola gerak bertumpu, bergantung, keseimbangan, berpindah/lokomotor, tolakan, putaran, ayunan, melayang, dan mendarat","mempraktikkan pengunaan kombinasi gerak dasar  langkah dan ayunan lengan mengikuti irama (ketukan) tanpa/dengan musik","mempraktikkan salah satu gaya renang dengan koordinasi yang baik pada jarak tertentu","menerapkan konsep pemeliharaan diri dan orang lain dari penyakit menular dan tidak menular ","memaparkan bahaya merokok, meminum minuman keras, dan mengonsumsi narkotika,  zat-zat aditif (NAPZA) dan obat berbahaya",null,null,null,null,null,10]
[{"$f":"$B394 & TEXT($D394,\"00\") & IF($E394=\"GANJIL\",\"A\",\"B\")","v":"BM05A"},{"$f":"IF(kur!$E$21=\"\",\"\",kur!$E$21)","v":"BM"},{"$f":"IF(kur!$D$21=\"\",\"\",kur!$D$21)","v":"Bahasa Madura"},5,"GANJIL",null,null,null,null,null,null,null,null,null,null,null,null,null,null,null,{"$f":"COUNTA($F394:$T394)","v":0}]
["BM05B",{"$f":"IF(kur!$E$21=\"\",\"\",kur!$E$21)","v":"BM"},{"$f":"IF(kur!$D$21=\"\",\"\",kur!$D$21)","v":"Bahasa Madura"},5,"GENAP",null,null,null,null,null,null,null,null,null,null,null,null,null,null,null,0]
["05A",{"$f":"IF(kur!$E$22=\"\",\"\",kur!$E$22)","v":""},{"$f":"IF(kur!$D$22=\"\",\"\",kur!$D$22)","v":""},5,"GANJIL",null,null,null,null,null,null,null,null,null,null,null,null,null,null,null,0]
["05B",{"$f":"IF(kur!$E$22=\"\",\"\",kur!$E$22)","v":""},{"$f":"IF(kur!$D$22=\"\",\"\",kur!$D$22)","v":""},5,"GENAP",null,null,null,null,null,null,null,null,null,null,null,null,null,null,null,0]
["05A",{"$f":"IF(kur!$E$23=\"\",\"\",kur!$E$23)","v":""},{"$f":"IF(kur!$D$23=\"\",\"\",kur!$D$23)","v":""},5,"GANJIL",null,null,null,null,null,null,null,null,null,null,null,null,null,null,null,0]
["05B",{"$f":"IF(kur!$E$23=\"\",\"\",kur!$E$23)","v":""},{"$f":"IF(kur!$D$23=\"\",\"\",kur!$D$23)","v":""},5,"GENAP",null,null,null,null,null,null,null,null,null,null,null,null,null,null,null,0]
["AH06A",{"$f":"IF(kur!$E$6=\"\",\"\",kur!$E$6)","v":"AH"},{"$f":"IF(kur!$D$6=\"\",\"\",kur!$D$6)","v":"Al-Qur'an Hadits"},6,"GANJIL","menghafal Q.S. ad-Dhuha secara benar dan fasih","mendemontrasikan hukum bacaan Mad  Tabi‘i dan Mad Far’i (Wajib Muttasil dan Jaiz Munfasil) ","menghafal hadis tentang keutamaan memberi (اليدالعلياخيرمن اليدالسفلى ) riwayat Bukhari Muslim",null,null,null,null,null,null,null,null,null,null,null,null,3]
["AH06B",{"$f":"IF(kur!$E$6=\"\",\"\",kur!$E$6)","v":"AH"},{"$f":"IF(kur!$D$6=\"\",\"\",kur!$D$6)","v":"Al-Qur'an Hadits"},6,"GENAP","menghafalkan Q.S. al-Bayyinah ","menghafalkan hadis tentang amal salih riwayat Muslim ( ..... إذامات ابن آدم انقطع عمله )",null,null,null,null,null,null,null,null,null,null,null,null,null,2]
["AA06A",{"$f":"IF(kur!$E$7=\"\",\"\",kur!$E$7)","v":"AA"},{"$f":"IF(kur!$D$7=\"\",\"\",kur!$D$7)","v":"Akidah Akhlak"},6,"GANJIL","melafalkan kalimat Thayyibah (Astagfirullahal-‘adzim) dan maknanya","melafalkan al-Asma’ al-husna(al-Qawwiy, al-Hakim, al-MuSawwir dan al-Qadir)dan artinya","menyajikan contoh Qada dan Qadar dalam kehidupan sehari-hari","menyajikan contoh sifat tanggung jawab, adil dan bijaksana dalam kehidupan sehari-hari","menyajikan contoh cara menghindari sifat  marah, fasik, dan murtad",null,null,null,null,null,null,null,null,null,null,5]
["AA06B",{"$f":"IF(kur!$E$7=\"\",\"\",kur!$E$7)","v":"AA"},{"$f":"IF(kur!$D$7=\"\",\"\",kur!$D$7)","v":"Akidah Akhlak"},6,"GENAP","melafalkan kalimat hayyibah (istighfar) dan maknanya","melafalkan al-Asma’ al-husna(al-Gafur, al-Afuwwu, as-Sabur dan al-Halim) dan artinya","menceritakan kisah Nabi Ayyub a.s. dan Nabi Adam a.s. serta meneladani sifat sabar dan taubat","menyajikan contoh akhlak yang baik terhadap binatang dan tumbuhan dalam kehidupan sehari-hari",null,null,null,null,null,null,null,null,null,null,null,4]
["FK06A",{"$f":"IF(kur!$E$8=\"\",\"\",kur!$E$8)","v":"FK"},{"$f":"IF(kur!$D$8=\"\",\"\",kur!$D$8)","v":"Fikih"},6,"GANJIL","menyebutkan jenis makanan yang halal dan haram","menyebutkan jenis minuman halal dan haram","menyajikan klasifikasi binatang halal dan haram",null,null,null,null,null,null,null,null,null,null,null,null,3]
["FK06B",{"$f":"IF(kur!$E$8=\"\",\"\",kur!$E$8)","v":"FK"},{"$f":"IF(kur!$D$8=\"\",\"\",kur!$D$8)","v":"Fikih"},6,"GENAP","mensimulasikan jual beli  yang halal","mensimulasikan pinjam-meminjam","mensimulasikan barang temuan ",null,null,null,null,null,null,null,null,null,null,null,null,3]
["BA06A",{"$f":"IF(kur!$E$9=\"\",\"\",kur!$E$9)","v":"BA"},{"$f":"IF(kur!$D$9=\"\",\"\",kur!$D$9)","v":"Bahasa Arab"},6,"GANJIL","mempraktikkan bunyi huruf, kata, frase, dan struktur kalimat topik: أعمالنا في المدرسة وفي البيت؛ ","mempraktikkan bunyi huruf, kata, frase, dan struktur kalimat topik: كم الساعةوفي أي ساعة","mempraktikkan bunyi huruf, kata, frase, dan struktur kalimat topik: تعلم اللغة العربية dan tarkib لأفعالالمضارعةوأفعالالأمر",null,null,null,null,null,null,null,null,null,null,null,null,3]
["BA06B",{"$f":"IF(kur!$E$9=\"\",\"\",kur!$E$9)","v":"BA"},{"$f":"IF(kur!$D$9=\"\",\"\",kur!$D$9)","v":"Bahasa Arab"},6,"GENAP","mempraktekkan bunyi dan makna dari ujaran kata, frase, dan kalimat topik:الواجب المنزلي","mempraktekkan bunyi dan makna dari ujaran kata, frase, dan kalimat : النزهة dan الأفعالالماضية",null,null,null,null,null,null,null,null,null,null,null,null,null,2]
["SKI06A",{"$f":"IF(kur!$E$10=\"\",\"\",kur!$E$10)","v":"SKI"},{"$f":"IF(kur!$D$10=\"\",\"\",kur!$D$10)","v":"Sejarah Kebudayaan Islam"},6,"GANJIL","mempresentasikan sejarah kekholifahan khalifah Usman bin Affan","menceritakan kepribadian Usman bin Affan dan  perjuangannya dalam dakwah Islam","mempresentasikan sejarah kekholifahan Ali bin Abi Talib","menceritakan kepribadian dan perjuangan khalifah Ali bin Abi Talib",null,null,null,null,null,null,null,null,null,null,null,4]
["SKI06B",{"$f":"IF(kur!$E$10=\"\",\"\",kur!$E$10)","v":"SKI"},{"$f":"IF(kur!$D$10=\"\",\"\",kur!$D$10)","v":"Sejarah Kebudayaan Islam"},6,"GENAP","menceritakan perjuangan Sunan Maulana Malik Ibrahim, Sunan Ampel dan Sunan Giri","menceritakan perjuangan Sunan Bonang, Sunan Kalijaga dan Sunan Drajat","menceritakan perjuangan Sunan Muria, Sunan Kudus dan Sunan Gunung Jati",null,null,null,null,null,null,null,null,null,null,null,null,3]
["PKN06A",{"$f":"IF(kur!$E$12=\"\",\"\",kur!$E$12)","v":"PKN"},{"$f":"IF(kur!$D$12=\"\",\"\",kur!$D$12)","v":"Pendidikan Pancasila dan Kewarganegaaraan"},6,"GANJIL","Memberikan contoh pelaksanaan nilai-nilai dan moral Pancasila dalam kehidupan sehari-hari","Melaksanakan kewajiban menegakkan aturan dan menjaga ketertiban di lingkungan rumah, sekolah dan masyarakat","Melaporkan secara lisan dan tulisan keterlibatan kerja sama dengan anggota masyarakat","Menerapkan nilai-nilai persatuan dan kesatuan dalam pemerintahan, wilayah, sosial, dan budaya","Menerapkan nilai-nilai persatuan dan kesatuan pada masa penjajahan, pergerakan nasional dan kemerdekaan","Menyajikan realita keberagaman untk mendorong saling ketergantungan dalam membangun dan mengokohkan kehidupan kebangsaan",null,null,null,null,null,null,null,null,null,6]
["PKN06B",{"$f":"IF(kur!$E$12=\"\",\"\",kur!$E$12)","v":"PKN"},{"$f":"IF(kur!$D$12=\"\",\"\",kur!$D$12)","v":"Pendidikan Pancasila dan Kewarganegaaraan"},6,"GENAP","Memberikan contoh pelaksanaan nilai-nilai dan moral Pancasila dalam kehidupan sehari-hari","Melaksanakan kewajiban menegakkan aturan dan menjaga ketertiban di lingkungan rumah, sekolah dan masyarakat","Melaporkan secara lisan dan tulisan keterlibatan kerja sama dengan anggota masyarakat","Menerapkan nilai-nilai persatuan dan kesatuan dalam pemerintahan, wilayah, sosial, dan budaya","Menerapkan nilai-nilai persatuan dan kesatuan pada masa penjajahan, pergerakan nasional dan kemerdekaan","Menyajikan realita keberagaman untk mendorong saling ketergantungan dalam membangun dan mengokohkan kehidupan kebangsaan",null,null,null,null,null,null,null,null,null,6]
["BIN06A",{"$f":"IF(kur!$E$13=\"\",\"\",kur!$E$13)","v":"BIN"},{"$f":"IF(kur!$D$13=\"\",\"\",kur!$D$13)","v":"Bahasa Indonesia"},6,"GANJIL","Mengamati, mengolah, dan menyajikan teks laporan investigasi tentang ciri khusus makhluk hidup dan lingkungan, serta campuran dan larutan","Menyajikan teks penjelasan (eksplanasi) ilmiah tentang penyebab perubahan dan sifat benda, hantaran panas, energi listrik dan perubahannya, serta tata surya","Menyampaikan teks pidato persuasif tentang cinta tanah air dan sistem pemerintahan serta layanan masyarakat daerah","Mengolah dan menyajikan teks cerita fiksi sejarah tentang keutuhan wilayah nusantara Indonesia dan hubungannya dengan negara tetangga",null,null,null,null,null,null,null,null,null,null,null,4]
["BIN06B",{"$f":"IF(kur!$E$13=\"\",\"\",kur!$E$13)","v":"BIN"},{"$f":"IF(kur!$D$13=\"\",\"\",kur!$D$13)","v":"Bahasa Indonesia"},6,"GENAP","Mengamati, mengolah, dan menyajikan teks laporan investigasi tentang ciri khusus makhluk hidup dan lingkungan, serta campuran dan larutan","Menyajikan teks penjelasan (eksplanasi) ilmiah tentang penyebab perubahan dan sifat benda, hantaran panas, energi listrik dan perubahannya, serta tata surya","Menyampaikan teks pidato persuasif tentang cinta tanah air dan sistem pemerintahan serta layanan masyarakat daerah","Mengolah dan menyajikan teks cerita fiksi sejarah tentang keutuhan wilayah nusantara Indonesia dan hubungannya dengan negara tetangga",null,null,null,null,null,null,null,null,null,null,null,4]
["MTK06A",{"$f":"IF(kur!$E$14=\"\",\"\",kur!$E$14)","v":"MTK"},{"$f":"IF(kur!$D$14=\"\",\"\",kur!$D$14)","v":"Matematika"},6,"GANJIL","Merumuskan dengan kalimat sendiri yang berkaitan dengan operasi hitung, bangun ruang dan data","Membuat garis-garis dengan bantuan benang yang menghubungkan dua buah titik sudut dalam kubus atau balok","Membentuk/menggambar bangun datar gabungan sederhana serta menghitung luasnya","Membentuk/menggambar bangun ruang gabungan sederhana serta menghitung volumenya","Mengamati pola atau melakukan percobaan untuk menemukan jumlah sudut segi tiga dan segi empat","Mengukur besar sudut yang ditemukan dalam kehidupan sehari-hari di rumah, sekolah dan tempat bermain dengan satuan derajat","Menghitung luas permukaan prisma dan silinder","Menggambar plotting titik-titik di kuadran pertama","Menggunakan juring, kesamaan busur, prisma, silinder, piramida, dan kerucut untuk memecahkan masalah sederhana","Menggunakan data statistik hasil pengamatan untuk menaksir peluang kejadian","Mengumpulkan data menggunakan kuesioner sederhana, mengolah, dan memaparkan data dalam bentuk tabel dan grafik yang sesuai","Menarik kesimpulan berdasarkan data hasil pengamatan yang diolah menggunakan statistik sederhana, tabel, dan grafik",null,null,null,12]
["MTK06B",{"$f":"IF(kur!$E$14=\"\",\"\",kur!$E$14)","v":"MTK"},{"$f":"IF(kur!$D$14=\"\",\"\",kur!$D$14)","v":"Matematika"},6,"GENAP","Membentuk/menggambar bangun datar gabungan sederhana serta menghitung luasnya","Membentuk/menggambar bangun ruang gabungan sederhana serta menghitung volumenya","Mengamati pola atau melakukan percobaan untuk menemukan jumlah sudut segi tiga dan segi empat","Mengukur besar sudut yang ditemukan dalam kehidupan sehari-hari di rumah, sekolah dan tempat bermain dengan satuan derajat","Menghitung luas permukaan prisma dan silinder","Menggambar plotting titik-titik di kuadran pertama","Menggunakan juring, kesamaan busur, prisma, silinder, piramida, dan kerucut untuk memecahkan masalah sederhana","Menggunakan data statistik hasil pengamatan untuk menaksir peluang kejadian","Mengumpulkan data menggunakan kuesioner sederhana, mengolah, dan memaparkan data dalam bentuk tabel dan grafik yang sesuai","Menarik kesimpulan berdasarkan data hasil pengamatan yang diolah menggunakan statistik sederhana, tabel, dan grafik",null,null,null,null,null,10]
["IPA06A",{"$f":"IF(kur!$E$15=\"\",\"\",kur!$E$15)","v":"IPA"},{"$f":"IF(kur!$D$15=\"\",\"\",kur!$D$15)","v":"Ilmu Pengetahuan Alam"},6,"GANJIL","Membuat laporan hasil percobaan tentang hantaran listrik","Mengikuti prosedur perkembangbiakan tumbuhan dan melaporkan hasilnya","Menyajikan laporan hasil pengamatan tentang adaptasi makhluk hidup yang ditemui di lingkungan sekitar",null,null,null,null,null,null,null,null,null,null,null,null,3]
["IPA06B",{"$f":"IF(kur!$E$15=\"\",\"\",kur!$E$15)","v":"IPA"},{"$f":"IF(kur!$D$15=\"\",\"\",kur!$D$15)","v":"Ilmu Pengetahuan Alam"},6,"GENAP","Membuat laporan hasil percobaan tentang hantaran listrik","Mengikuti prosedur perkembangbiakan tumbuhan dan melaporkan hasilnya","Menyajikan laporan hasil pengamatan tentang adaptasi makhluk hidup yang ditemui di lingkungan sekitar",null,null,null,null,null,null,null,null,null,null,null,null,3]
["IPS06A",{"$f":"IF(kur!$E$16=\"\",\"\",kur!$E$16)","v":"IPS"},{"$f":"IF(kur!$D$16=\"\",\"\",kur!$D$16)","v":"Ilmu Pengetahuan Sosial"},6,"GANJIL","Mengemukakan hasil pemahaman keterkaitan manusia dalam hubungannya dengan kondisi geografis","Menyajikan pemahaman manfaat kelembagaan politik, sosial, ekonomi dan budaya bagi kehidupan","Menyajikan telaah landasan dari dinamika interaksi manusia dan alam, sosial, budaya, ekonomi",null,null,null,null,null,null,null,null,null,null,null,null,3]
["IPS06B",{"$f":"IF(kur!$E$16=\"\",\"\",kur!$E$16)","v":"IPS"},{"$f":"IF(kur!$D$16=\"\",\"\",kur!$D$16)","v":"Ilmu Pengetahuan Sosial"},6,"GENAP","Mengemukakan hasil pemahaman keterkaitan manusia dalam hubungannya dengan kondisi geografis","Menyajikan pemahaman manfaat kelembagaan politik, sosial, ekonomi dan budaya bagi kehidupan","Menyajikan telaah landasan dari dinamika interaksi manusia dan alam, sosial, budaya, ekonomi",null,null,null,null,null,null,null,null,null,null,null,null,3]
["SB06A",{"$f":"IF(kur!$E$17=\"\",\"\",kur!$E$17)","v":"SB"},{"$f":"IF(kur!$D$17=\"\",\"\",kur!$D$17)","v":"Seni Budaya "},6,"GANJIL","Menggambar poster dengan menerapkan tata letak sesuai prinsip seni","Membentuk karya patung sederhana dari berbagai media berdasarkan karya patung nusantara","Membuat pola irama sederhana untuk iringan lagu dengan simbol panjang pendek bunyi dan mengembangkan pola iringan","Menyanyikan lagu daerah dua suara dengan iringan","Memainkan ansambel alat musik campuran dengan membaca partitur sederhana","Menampilkan musik nusantara dengan alat musik sederhana","Menemukan gerak tari bertema berdasarkan pengembangan gagasan dan imajinasi","Merangkaikan tari bertema berdasarkan gagasan dan imajinasi dengan iringan musik","Memperagakan tari bertema sesuai dengan busana pokok gaya tari daerah","Menyajikan tari bertema sesuai dengan rias dan busana gaya tari daerah dengan iringan","Membuat karya kerajinan batik berdasarkan motif hias daerah","Membuat karya kerajinan teknik jahit dan aplikasi dengan tangan","Membuat produk olahan bahan makanan umbi-umbian dengan berbagai olahan sederhana","Membuat produk olahan sampah organik atau sampah anorganik di lingkungan sekitar","Memamerkan dan mempertunjukan karya seni",15]
["SB06B",{"$f":"IF(kur!$E$17=\"\",\"\",kur!$E$17)","v":"SB"},{"$f":"IF(kur!$D$17=\"\",\"\",kur!$D$17)","v":"Seni Budaya "},6,"GENAP","Menggambar poster dengan menerapkan tata letak sesuai prinsip seni","Membentuk karya patung sederhana dari berbagai media berdasarkan karya patung nusantara","Membuat pola irama sederhana untuk iringan lagu dengan simbol panjang pendek bunyi dan mengembangkan pola iringan","Menyanyikan lagu daerah dua suara dengan iringan","Memainkan ansambel alat musik campuran dengan membaca partitur sederhana","Menampilkan musik nusantara dengan alat musik sederhana","Menemukan gerak tari bertema berdasarkan pengembangan gagasan dan imajinasi","Merangkaikan tari bertema berdasarkan gagasan dan imajinasi dengan iringan musik","Memperagakan tari bertema sesuai dengan busana pokok gaya tari daerah","Menyajikan tari bertema sesuai dengan rias dan busana gaya tari daerah dengan iringan","Membuat karya kerajinan batik berdasarkan motif hias daerah","Membuat karya kerajinan teknik jahit dan aplikasi dengan tangan","Membuat produk olahan bahan makanan umbi-umbian dengan berbagai olahan sederhana","Membuat produk olahan sampah organik atau sampah anorganik di lingkungan sekitar","Memamerkan dan mempertunjukan karya seni",15]
["PJ06A",{"$f":"IF(kur!$E$18=\"\",\"\",kur!$E$18)","v":"PJ"},{"$f":"IF(kur!$D$18=\"\",\"\",kur!$D$18)","v":"Pendidikan Jasmani,Olahraga danKesehatan"},6,"GANJIL","Mempraktikkan tiga gerak dasar senam lantai dengan konsisten, tepat dan kontrol yang baik","Mempraktikkan penyusunan rangkaian langkah dan ayunan lengan secara sederhana","Mempraktikkan keterampilan satu gaya renang dan dasar penyelamatan","Menyajikan konsep pemeliharaan diri dari penyakit menular dan tidak menular","menyajikan jenis dan cara menghindarkan diri dari bahaya narkotika, psikotropika, dan zat aditif","menyajikan cara mengukur kebugaran jasmani dengan salah satu jenis tes kebugaran",null,null,null,null,null,null,null,null,null,6]
["PJ06B",{"$f":"IF(kur!$E$18=\"\",\"\",kur!$E$18)","v":"PJ"},{"$f":"IF(kur!$D$18=\"\",\"\",kur!$D$18)","v":"Pendidikan Jasmani,Olahraga danKesehatan"},6,"GENAP","Mempraktikkan tiga gerak dasar senam lantai dengan konsisten, tepat dan kontrol yang baik","Mempraktikkan penyusunan rangkaian langkah dan ayunan lengan secara sederhana","Mempraktikkan keterampilan satu gaya renang dan dasar penyelamatan","Menyajikan konsep pemeliharaan diri dari penyakit menular dan tidak menular","menyajikan jenis dan cara menghindarkan diri dari bahaya narkotika, psikotropika, dan zat aditif","menyajikan cara mengukur kebugaran jasmani dengan salah satu jenis tes kebugaran",null,null,null,null,null,null,null,null,null,6]
["BM06A",{"$f":"IF(kur!$E$21=\"\",\"\",kur!$E$21)","v":"BM"},{"$f":"IF(kur!$D$21=\"\",\"\",kur!$D$21)","v":"Bahasa Madura"},6,"GANJIL","menyampaikan dan menanggapi informasi yang diperoleh dari berbagai media berbahasa daerah secara lisan dan tertulis","menceritakan isi tembang macapat","menanggapi teks maupun tulis yang memuat ungkapan tradisional jawa / madura (paribasan/parbhasan,bebasan/ebharat,saloka)","bernain tebakan dengan cangkriman / bhak-tebbhaghan","menulis dan memperagakan teks pidato,bercerita dan lainnya sesuai dengan kaidah",null,null,null,null,null,null,null,null,null,null,5]
["BM06B",{"$f":"IF(kur!$E$21=\"\",\"\",kur!$E$21)","v":"BM"},{"$f":"IF(kur!$D$21=\"\",\"\",kur!$D$21)","v":"Bahasa Madura"},6,"GENAP","menyampaikan dan menanggapi informasi yang diperoleh dari berbagai media berbahasa daerah secara lisan dan tertulis","menceritakan isi tembang macapat","menanggapi teks maupun tulis yang memuat ungkapan tradisional jawa / madura (paribasan/parbhasan,bebasan/ebharat,saloka)","bernain tebakan dengan cangkriman / bhak-tebbhaghan","menulis dan memperagakan teks pidato,bercerita dan lainnya sesuai dengan kaidah",null,null,null,null,null,null,null,null,null,null,5]
["06A",{"$f":"IF(kur!$E$22=\"\",\"\",kur!$E$22)","v":""},{"$f":"IF(kur!$D$22=\"\",\"\",kur!$D$22)","v":""},6,"GANJIL",null,null,null,null,null,null,null,null,null,null,null,null,null,null,null,0]
["06B",{"$f":"IF(kur!$E$22=\"\",\"\",kur!$E$22)","v":""},{"$f":"IF(kur!$D$22=\"\",\"\",kur!$D$22)","v":""},6,"GENAP",null,null,null,null,null,null,null,null,null,null,null,null,null,null,null,0]
["06A",{"$f":"IF(kur!$E$23=\"\",\"\",kur!$E$23)","v":""},{"$f":"IF(kur!$D$23=\"\",\"\",kur!$D$23)","v":""},6,"GANJIL",null,null,null,null,null,null,null,null,null,null,null,null,null,null,null,0]
["06B",{"$f":"IF(kur!$E$23=\"\",\"\",kur!$E$23)","v":""},{"$f":"IF(kur!$D$23=\"\",\"\",kur!$D$23)","v":""},6,"GENAP",null,null,null,null,null,null,null,null,null,null,null,null,null,null,null,0]
["AH07A",{"$f":"IF(kur!$E$6=\"\",\"\",kur!$E$6)","v":"AH"},{"$f":"IF(kur!$D$6=\"\",\"\",kur!$D$6)","v":"Al-Qur'an Hadits"},7,"GANJIL","mempraktikkan cara hidup yang sesuai dengan al-qur`an dan hadis"," menunjukkan contoh sikap orang yang memiliki tauhid sesuai isi kandungan q.s. al-fwtipah (1), an-nws (114), al-falaq (113) dan al-ikhlws (112).","menunjukkan contoh sikap orang yang beribadah didasari keikhlasan sesuai  hadis tentang iman riwayat ali bin abi thalib dari ibnu majah: (الإيمانمعرفة بالقلبوقولباللسانوعملبالأركان)\n",null,null,null,null,null,null,null,null,null,null,null,null,3]
["AH07B",{"$f":"IF(kur!$E$6=\"\",\"\",kur!$E$6)","v":"AH"},{"$f":"IF(kur!$D$6=\"\",\"\",kur!$D$6)","v":"Al-Qur'an Hadits"},7,"GENAP","menerapkan hukum bacaan qalqalah dalam q.s. al-bayyinah (98), al- al- kwfiryn (109), dan al-qur`an surah-surah pendek pilihan","mendemonstrasikan sikap tasammup (toleran) dalam membangun kehidupan beragama sesuai hadis riwayat ahmad, at-tirmizi, ibnu hibban, al-hakim, al-baihaqi dari ibnu umar r.a.\nخير الاصحاب عند الله خيرهم لصاحبه وخير الجيران عند الله خيرهم لجاره ","mendemosntrasikan sikap istiqamah rasulullah saw dalam menghadapi tantangan kaum kafir, sesuai isi kandungan q.s. al-lahab (111) dan q.s an-nasr (110)",null,null,null,null,null,null,null,null,null,null,null,null,3]
["AA07A",{"$f":"IF(kur!$E$7=\"\",\"\",kur!$E$7)","v":"AA"},{"$f":"IF(kur!$D$7=\"\",\"\",kur!$D$7)","v":"Akidah Akhlak"},7,"GANJIL","menyajikan fakta dan fenomena kebenaran akidah islam","menyajikan contoh fenomena-fenomena kehidupan yang muncul sebagai bukti dari sifat wajib, mustahil, dan jaiz allah swt","menceritakan kisah-kisah yang berkaitan dengan dampak positif dari perilaku ikhlas, taat, khauf, dan tobat dalam fenomena kehidupan","mensimulasikan adab salat dan zikir","menceritakan kisah keteladanan nabi sulaiman dan umatnya",null,null,null,null,null,null,null,null,null,null,5]
["AA07B",{"$f":"IF(kur!$E$7=\"\",\"\",kur!$E$7)","v":"AA"},{"$f":"IF(kur!$D$7=\"\",\"\",kur!$D$7)","v":"Akidah Akhlak"},7,"GENAP","menyajikan fakta dan fenomena kebenaran sifat-sifat allah yang terkandung dalam al-asmw' al-pusnw (al-‘azrz, al-gaffwr, al-bwsih, an-nwfi’, ar-ra’yf, al-barr, al-fattwp, al-‘adl, al-qayyym)","menyajikan kisah-kisah dalam fenomena kehidupan tentang kebenaran adanya malaikat dan makhluk ghaib lainlainnya, seperti jin, iblis, dan setan","mensimulasikan contoh perilaku riya’ dan nifaq serta dampaknya dalam kehidupan sehari-hari","mempraktikkan adab membaca al-qur`an dan adab berdoa","menceritakan kisah keteladanan ashabul kahfi",null,null,null,null,null,null,null,null,null,null,5]
["FK07A",{"$f":"IF(kur!$E$8=\"\",\"\",kur!$E$8)","v":"FK"},{"$f":"IF(kur!$D$8=\"\",\"\",kur!$D$8)","v":"Fikih"},7,"GANJIL","mendemonstrasikan tata cara bersuci dari hadas dan najis","mempraktikkan salat lima waktu ","menpresentasikan penentuan waktu salat lima waktu","mempraktikkan azan dan ikamah","mendemonstrasikan tata cara salat berjamaah\n","memperagakan sujud sahwi","mendemonstrasikan zikir dan berdoa setelah salat",null,null,null,null,null,null,null,null,7]
["FK07B",{"$f":"IF(kur!$E$8=\"\",\"\",kur!$E$8)","v":"FK"},{"$f":"IF(kur!$D$8=\"\",\"\",kur!$D$8)","v":"Fikih"},7,"GENAP","mempraktikkan salat jum’at","mempraktikan salat jamak dan qasar","memperagakan salat dalam keadaan sakit ","memsimulasikan salat sunah muakkaddan salat sunah gairu muakkad",null,null,null,null,null,null,null,null,null,null,null,4]
["BA07A",{"$f":"IF(kur!$E$9=\"\",\"\",kur!$E$9)","v":"BA"},{"$f":"IF(kur!$D$9=\"\",\"\",kur!$D$9)","v":"Bahasa Arab"},7,"GANJIL","mendemonstrasikan ungkapan informasi lisan dan tulisan sederhana tentang topik\nالتعريفبالنفسوبالعاملينفيالمدرسة؛ dengan memperhatikan struktur teks dan unsur kebahasaan yang benar dan sesuai konteks\n\n\n","mendemonstrasikan ungkapan informasi lisan dan tulisan sederhana tentang topik\nالمرافق والأدوات المدرسية dengan memperhatikan struktur teks dan unsur kebahasaan yang benar dan sesuai konteks","mendemonstrasikan ungkapan informasi lisan dan tulisan sederhana tentang topik\nالألوان؛ dengan memperhatikan struktur teks dan unsur kebahasaan yang benar dan sesuai konteks",null,null,null,null,null,null,null,null,null,null,null,null,3]
["BA07B",{"$f":"IF(kur!$E$9=\"\",\"\",kur!$E$9)","v":"BA"},{"$f":"IF(kur!$D$9=\"\",\"\",kur!$D$9)","v":"Bahasa Arab"},7,"GENAP","mendemonstrasikan ungkapan informasi lisan dan tulisan sederhana tentang topik\nالعنوان ؛  dengan memperhatikan struktur teks dan unsur kebahasaan yang benar dan sesuai konteks","mendemonstrasikan ungkapan informasi lisan dan tulisan sederhana tentang topik\nبيتي ؛ dengan memperhatikan struktur teks dan unsur kebahasaan yang benar dan sesuai konteks","mendemonstrasikan ungkapan informasi lisan dan tulisan sederhana tentang topik\nمنيوميات الأسرة ؛ dengan memperhatikan struktur teks dan unsur kebahasaan yang benar dan sesuai konteks",null,null,null,null,null,null,null,null,null,null,null,null,3]
["SKI07A",{"$f":"IF(kur!$E$10=\"\",\"\",kur!$E$10)","v":"SKI"},{"$f":"IF(kur!$D$10=\"\",\"\",kur!$D$10)","v":"Sejarah Kebudayaan Islam"},7,"GANJIL","mempresentasikan misi nabi muhammad saw. sebagai rahmat bagi alam semesta, pembawa kedamaian, kesejahteraan, dan kemajuan masyarakat","membuat peta konsep mengenai strategi dakwah nabi muhammad saw. di mekah","memaparkan strategi dakwah nabi muhammad saw. di medinah dalam bentuk tulis atau lisan.","menceritakan sejarah nabi muhammad saw. dalam membangun masyarakat melalui kegiatan ekonomi dan perdagangan",null,null,null,null,null,null,null,null,null,null,null,4]
["SKI07B",{"$f":"IF(kur!$E$10=\"\",\"\",kur!$E$10)","v":"SKI"},{"$f":"IF(kur!$D$10=\"\",\"\",kur!$D$10)","v":"Sejarah Kebudayaan Islam"},7,"GENAP","menceritakan kisah para khalifah pada periode khulafaur rasyidin","membuat peta konsep mengenai kemajuan kebudayaan dan peradaban pada masa dinasti bani umayyah.","membuat tabel berkaitan dengan tokoh ilmuwan muslim beserta bidang keilmuannya yang hidup pada masa dinasti umayyah.","memaparkan sikap dan gaya kepemimpinan umar bin abdul aziz dalam bentuk tulis atau lisan",null,null,null,null,null,null,null,null,null,null,null,4]
["PKN07A",{"$f":"IF(kur!$E$12=\"\",\"\",kur!$E$12)","v":"PKN"},{"$f":"IF(kur!$D$12=\"\",\"\",kur!$D$12)","v":"Pendidikan Pancasila dan Kewarganegaaraan"},7,"GANJIL","melaksanakan tanggung jawab atas keputusan bersama dengan semangat konsensus tokoh pendiri negara dalam perumusan pancasila    ","berperilaku sesuai norma-norma yang berlaku dalam kehidupan bermasyarakat untuk mewujudkan keadilan ","mendemonstrasikan proses kesejarahan perumusan dan pengesahan undang-undang dasar negara republik indonesia tahun 1945","melaksanakan  tanggung jawab terkait keberagaman suku, agama, ras, dan antargolongan dalam bingkai bhinneka tunggal ika ","bertanggung jawab dalam bekerja sama di  berbagai bidang kehidupan  masyarakat  ","mewujudkan karakteristik daerah dalam kerangka negara kesatuan republik indonesia",null,null,null,null,null,null,null,null,null,6]
["PKN07B",{"$f":"IF(kur!$E$12=\"\",\"\",kur!$E$12)","v":"PKN"},{"$f":"IF(kur!$D$12=\"\",\"\",kur!$D$12)","v":"Pendidikan Pancasila dan Kewarganegaaraan"},7,"GENAP","melaksanakan tanggung jawab atas keputusan bersama dengan semangat konsensus tokoh pendiri negara dalam perumusan pancasila    ","berperilaku sesuai norma-norma yang berlaku dalam kehidupan bermasyarakat untuk mewujudkan keadilan ","mendemonstrasikan proses kesejarahan perumusan dan pengesahan undang-undang dasar negara republik indonesia tahun 1945","melaksanakan  tanggung jawab terkait keberagaman suku, agama, ras, dan antargolongan dalam bingkai bhinneka tunggal ika ","bertanggung jawab dalam bekerja sama di  berbagai bidang kehidupan  masyarakat  ","mewujudkan karakteristik daerah dalam kerangka negara kesatuan republik indonesia",null,null,null,null,null,null,null,null,null,6]
["BIN07A",{"$f":"IF(kur!$E$13=\"\",\"\",kur!$E$13)","v":"BIN"},{"$f":"IF(kur!$D$13=\"\",\"\",kur!$D$13)","v":"Bahasa Indonesia"},7,"GANJIL","menjelaskan isi teks deskripsi   objek (tempat wisata, tempat bersejarah, pentas seni daerah, \nkain tradisional, dll) yang didengar dan dibaca secara lisan, tulis, dan visual ","menyajikan data, gagasan, kesan dalam bentuk teks deskripsi tentang objek (sekolah, tempat \nwisata,  tempat bersejarah, dan⁄atau suasana pentas seni daerah)  secara tulis dan lisan \ndengan memperhatikan struktur, kebahasaan baik secara lisan maupun tulis","menceritakan kembali isi teks narasi (cerita imajinasi) yang didengar dan dibaca secara lisan, tulis, dan visual \n","menyajikan gagasan kreatif dalam bentuk cerita imajinasi secara lisan dan tulis dengan memperhatikan struktur, penggunaan bahasa, atau aspek lisan  ","menyimpulkan isi teks prosedur tentang cara memainkan alat musik daerah, tarian daerah, cara membuat cinderamata,  dan/atau kuliner khas daerah) yang dibaca dan didengar   ","menyajikan  data rangkaian kegiatan  ke dalam bentuk teks prosedur (tentang cara memainkan alat musik daerah, tarian daerah, cara membuat cinderamata, dll) dengan memperhatikan struktur, unsur kebahasaan, dan isi secara lisan dan tulis\n","menyimpulkan isi teks laporan hasil observasi berupa buku pengetahuan yang dibaca dan didengar ","menyajikan  rangkuman teks laporan hasil observasi yang berupa buku pengetahuan  secara lisan dan tulis dengan memperhatikan kaidah kebahasaan atau aspek lisan  ","membuat peta pikiran/sinopsis tentang isi buku nonfiksi/buku fiksi yang dibaca ","menyajikan tanggapan secaralisan, tulis, dan visualterhadap isi buku fiksi/nonfiksi yang dibaca \n",null,null,null,null,null,10]
["BIN07B",{"$f":"IF(kur!$E$13=\"\",\"\",kur!$E$13)","v":"BIN"},{"$f":"IF(kur!$D$13=\"\",\"\",kur!$D$13)","v":"Bahasa Indonesia"},7,"GENAP","menjelaskan isi teks deskripsi   objek (tempat wisata, tempat bersejarah, pentas seni daerah, \nkain tradisional, dll) yang didengar dan dibaca secara lisan, tulis, dan visual ","menyajikan data, gagasan, kesan dalam bentuk teks deskripsi tentang objek (sekolah, tempat \nwisata,  tempat bersejarah, dan⁄atau suasana pentas seni daerah)  secara tulis dan lisan \ndengan memperhatikan struktur, kebahasaan baik secara lisan maupun tulis","menceritakan kembali isi teks narasi (cerita imajinasi) yang didengar dan dibaca secara lisan, tulis, dan visual \n","menyajikan gagasan kreatif dalam bentuk cerita imajinasi secara lisan dan tulis dengan memperhatikan struktur, penggunaan bahasa, atau aspek lisan  ","menyimpulkan isi teks prosedur tentang cara memainkan alat musik daerah, tarian daerah, cara membuat cinderamata,  dan/atau kuliner khas daerah) yang dibaca dan didengar   ","menyajikan  data rangkaian kegiatan  ke dalam bentuk teks prosedur (tentang cara memainkan alat musik daerah, tarian daerah, cara membuat cinderamata, dll) dengan memperhatikan struktur, unsur kebahasaan, dan isi secara lisan dan tulis\n","menyimpulkan isi teks laporan hasil observasi berupa buku pengetahuan yang dibaca dan didengar ","menyajikan  rangkuman teks laporan hasil observasi yang berupa buku pengetahuan  secara lisan dan tulis dengan memperhatikan kaidah kebahasaan atau aspek lisan  ","membuat peta pikiran/sinopsis tentang isi buku nonfiksi/buku fiksi yang dibaca ","menyajikan tanggapan secaralisan, tulis, dan visualterhadap isi buku fiksi/nonfiksi yang dibaca \n",null,null,null,null,null,10]
["MTK07A",{"$f":"IF(kur!$E$14=\"\",\"\",kur!$E$14)","v":"MTK"},{"$f":"IF(kur!$D$14=\"\",\"\",kur!$D$14)","v":"Matematika"},7,"GANJIL","menyelesaikan masalah yang berkaitan dengan urutan beberap bilangan bulat dan pecahan (biasa, campuran, desimal, persen) ","menyelesaikan masalah yang berkaitan dengan operasi hitung bilangan bulat dan pecahan  ","menyelesaikan masalah yang berkaitan dengan bilangan dalam  bentuk bilangan berpangkat bulat positif dan negatif ","menyelesaikan masalah kontekstual  yang berkaitan dengan himpunan, himpunan bagian, himpunan semesta, himpunan kosong, komplemen himpunan dan operasi biner pada himpunan","menyelesaikan masalah yang berkaitan dengan bentuk aljabar dan operasi pada bentuk aljabar  ","menyelesaikan masalah yang berkaitan dengan persamaan dan pertidaksamaan linear satu variabel ","menyelesaikan masalah yang berkaitan dengan rasio dua besaran (satuannya sama dan berbeda)  ","menyelesaikan masalah yang berkaitan dengan perbandingan senilai dan berbalik nilai  ","menyelesaikan masalah berkaitan dengan aritmetika sosial (penjualan, pembelian, potongan, keuntungan,kerugian, bunga tunggal, persentase,  bruto, neto, tara) ","menyelesaikan masalah yang berkaitan dengan hubungan antar sudut sebagai akibat dari dua garis sejajar yang dipotong oleh garis transversal ",null,null,null,null,null,10]
["MTK07B",{"$f":"IF(kur!$E$14=\"\",\"\",kur!$E$14)","v":"MTK"},{"$f":"IF(kur!$D$14=\"\",\"\",kur!$D$14)","v":"Matematika"},7,"GENAP","menyelesaikan masalah yang berkaitan dengan urutan beberap bilangan bulat dan pecahan (biasa, campuran, desimal, persen) ","menyelesaikan masalah yang berkaitan dengan operasi hitung bilangan bulat dan pecahan  ","menyelesaikan masalah yang berkaitan dengan bilangan dalam  bentuk bilangan berpangkat bulat positif dan negatif ","menyelesaikan masalah kontekstual  yang berkaitan dengan himpunan, himpunan bagian, himpunan semesta, himpunan kosong, komplemen himpunan dan operasi biner pada himpunan","menyelesaikan masalah yang berkaitan dengan bentuk aljabar dan operasi pada bentuk aljabar  ","menyelesaikan masalah yang berkaitan dengan persamaan dan pertidaksamaan linear satu variabel ","menyelesaikan masalah yang berkaitan dengan rasio dua besaran (satuannya sama dan berbeda)  ","menyelesaikan masalah yang berkaitan dengan perbandingan senilai dan berbalik nilai  ","menyelesaikan masalah berkaitan dengan aritmetika sosial (penjualan, pembelian, potongan, keuntungan,kerugian, bunga tunggal, persentase,  bruto, neto, tara) ","menyelesaikan masalah yang berkaitan dengan hubungan antar sudut sebagai akibat dari dua garis sejajar yang dipotong oleh garis transversal ",null,null,null,null,null,10]
["IPA07A",{"$f":"IF(kur!$E$15=\"\",\"\",kur!$E$15)","v":"IPA"},{"$f":"IF(kur!$D$15=\"\",\"\",kur!$D$15)","v":"Ilmu Pengetahuan Alam"},7,"GANJIL","menyajikan data hasil pengukuran dengan alat ukur yang sesuai pada diri sendiri, makhluk hidup lain, dan benda-benda di sekitar \ndengan menggunakan satuan tak baku dan satuan baku ","menyajikan hasil pengklasifikasian makhluk hidup dan benda di lingkungan sekitar berdasarkan karakteristik yang diamati","menyajikan hasil penyelidikanatau karya tentang sifat larutan, perubahan fisika dan perubahan kimia, atau pemisahan campuran ","melakukan percobaan untuk menyelidiki pengaruh kalor terhadap suhu dan wujud benda serta perpindahan kalor","menyajikan  hasil  percobaan tentang perubahan bentuk energi, termasuk fotosintesis ","membuat model struktur sel tumbuhan/hewan ","menyajikan hasil pengamatan terhadap interaksi makhluk hidup dengan lingkungan sekitarnya ","membuat tulisan tentang gagasan penyelesaian masalah pencemaran di lingkungannya berdasarkan hasil pengamatan ","membuat tulisan tentang gagasan adaptasi/penanggulangan masalah perubahan iklim ","mengomunikasikan upaya pengurangan resiko dan dampak bencana alam serta tindakan penyelamatan diri pada saat terjadi bencana sesuai dengan jenis ancaman bencana di daerahnya ","menyajikan karya tentang dampak rotasi dan revolusi bumi dan bulan bagi kehidupan di bumi, berdasarkan hasil pengamatan atau penelusuran berbagai sumber informasi ",null,null,null,null,11]
["IPA07B",{"$f":"IF(kur!$E$15=\"\",\"\",kur!$E$15)","v":"IPA"},{"$f":"IF(kur!$D$15=\"\",\"\",kur!$D$15)","v":"Ilmu Pengetahuan Alam"},7,"GENAP","menyajikan data hasil pengukuran dengan alat ukur yang sesuai pada diri sendiri, makhluk hidup lain, dan benda-benda di sekitar \ndengan menggunakan satuan tak baku dan satuan baku ","menyajikan hasil pengklasifikasian makhluk hidup dan benda di lingkungan sekitar berdasarkan karakteristik yang diamati","menyajikan hasil penyelidikanatau karya tentang sifat larutan, perubahan fisika dan perubahan kimia, atau pemisahan campuran ","melakukan percobaan untuk menyelidiki pengaruh kalor terhadap suhu dan wujud benda serta perpindahan kalor","menyajikan  hasil  percobaan tentang perubahan bentuk energi, termasuk fotosintesis ","membuat model struktur sel tumbuhan/hewan ","menyajikan hasil pengamatan terhadap interaksi makhluk hidup dengan lingkungan sekitarnya ","membuat tulisan tentang gagasan penyelesaian masalah pencemaran di lingkungannya berdasarkan hasil pengamatan ","membuat tulisan tentang gagasan adaptasi/penanggulangan masalah perubahan iklim ","mengomunikasikan upaya pengurangan resiko dan dampak bencana alam serta tindakan penyelamatan diri pada saat terjadi bencana sesuai dengan jenis ancaman bencana di daerahnya ","menyajikan karya tentang dampak rotasi dan revolusi bumi dan bulan bagi kehidupan di bumi, berdasarkan hasil pengamatan atau penelusuran berbagai sumber informasi ",null,null,null,null,11]
["IPS07A",{"$f":"IF(kur!$E$16=\"\",\"\",kur!$E$16)","v":"IPS"},{"$f":"IF(kur!$D$16=\"\",\"\",kur!$D$16)","v":"Ilmu Pengetahuan Sosial"},7,"GANJIL","menjelaskan konsep ruang (lokasi,distribusi, potensi, iklim, bentuk muka bumi, geologis, flora dan fauna) dan interaksi antarruang di Indonesia serta pengaruhnya terhadap kehidupan manusia Indonesia dalam aspek ekonomi, sosial, budaya, dan pendidikan. \n \n","menyajikan hasil identifikasi tentang interaksi sosial dalam ruang dan pengaruhnya terhadap kehidupan sosial, ekonomi, dan budaya dalam nilai dan norma serta kelembagaan sosial budaya","menjelaskan hasil analisis tentang konsep interaksi antara manusia dengan ruang sehinggamenghasilkan berbagai kegiatan ekonomi (produksi, distribusi, konsumsi, permintaan, dan penawaran) dan interaksi antarruang untuk keberlangsungan kehidupan ekonomi, sosial, dan budaya Indonesia","menguraikan kronologi perubahan,dan kesinambungan dalam kehidupan bangsa Indonesia padaaspek politik, sosial, budaya, geografis, dan pendidikan sejak masa praaksara sampai masa Hindu-Buddha dan Islam",null,null,null,null,null,null,null,null,null,null,null,4]
["IPS07B",{"$f":"IF(kur!$E$16=\"\",\"\",kur!$E$16)","v":"IPS"},{"$f":"IF(kur!$D$16=\"\",\"\",kur!$D$16)","v":"Ilmu Pengetahuan Sosial"},7,"GENAP","menjelaskan konsep ruang (lokasi,distribusi, potensi, iklim, bentuk muka bumi, geologis, flora dan fauna) dan interaksi antarruang di Indonesia serta pengaruhnya terhadap kehidupan manusia Indonesia dalam aspek ekonomi, sosial, budaya, dan pendidikan. \n \n","menyajikan hasil identifikasi tentang interaksi sosial dalam ruang dan pengaruhnya terhadap kehidupan sosial, ekonomi, dan budaya dalam nilai dan norma serta kelembagaan sosial budaya","menjelaskan hasil analisis tentang konsep interaksi antara manusia dengan ruang sehinggamenghasilkan berbagai kegiatan ekonomi (produksi, distribusi, konsumsi, permintaan, dan penawaran) dan interaksi antarruang untuk keberlangsungan kehidupan ekonomi, sosial, dan budaya Indonesia","menguraikan kronologi perubahan,dan kesinambungan dalam kehidupan bangsa Indonesia padaaspek politik, sosial, budaya, geografis, dan pendidikan sejak masa praaksara sampai masa Hindu-Buddha dan Islam",null,null,null,null,null,null,null,null,null,null,null,4]
["SB07A",{"$f":"IF(kur!$E$17=\"\",\"\",kur!$E$17)","v":"SB"},{"$f":"IF(kur!$D$17=\"\",\"\",kur!$D$17)","v":"Seni Budaya "},7,"GANJIL","menggambar flora, fauna, dan alam benda  ","menggambar gubahan flora, fauna,dan bentuk geometrik menjadi ragam hias","memainkan alat musik sederhana secara perorangan","memainkan ansamble musik sejenis dan campuran",null,null,null,null,null,null,null,null,null,null,null,4]
["SB07B",{"$f":"IF(kur!$E$17=\"\",\"\",kur!$E$17)","v":"SB"},{"$f":"IF(kur!$D$17=\"\",\"\",kur!$D$17)","v":"Seni Budaya "},7,"GENAP","menggambar flora, fauna, dan alam benda  ","menggambar gubahan flora, fauna,dan bentuk geometrik menjadi ragam hias","memainkan alat musik sederhana secara perorangan","memainkan ansamble musik sejenis dan campuran",null,null,null,null,null,null,null,null,null,null,null,4]
["PJ07A",{"$f":"IF(kur!$E$18=\"\",\"\",kur!$E$18)","v":"PJ"},{"$f":"IF(kur!$D$18=\"\",\"\",kur!$D$18)","v":"Pendidikan Jasmani,Olahraga danKesehatan"},7,"GANJIL","berbagai permainan bola besar sederhana dan atau tradisional  ","berbagai permainan bola kecil sederhana dan atau tradisional","mempraktikkan gerak spesifik jalan, lari, lompat dan lempar dalam berbagai permainan sederhana dan atau tradisional ","Mempraktikkan gerak spesifik seni beladiri","Mempraktikkan latihan peningkatan derajat kebugaran jasmani yang terkait dengan kesehatan (daya tahan, kekuatan, komposisi tubuh, dan kelenturan) dan pengukuran hasilnya","Mempraktikkan berbagai keterampilan dasar spesifik senam lantai ","mempraktikkan variasi dan kombinasi gerak berbentuk rangkaian langkah dan ayunan lengan mengikuti irama (ketukan) tanpa/dengan musik sebagai pembentuk gerak pemanasan dalamaktivitas gerak berirama ","mempraktikkan konsep gerak spesifik salah satu gaya renang dengan koordinasi yang baik","Memaparkan perkembangan tubuhremaja yang meliputi perubahan fisik sekunder dan mental","memaparkan pola makan sehat, bergizi dan seimbang serta pengaruhnya terhadap kesehatan ",null,null,null,null,null,10]
["PJ07B",{"$f":"IF(kur!$E$18=\"\",\"\",kur!$E$18)","v":"PJ"},{"$f":"IF(kur!$D$18=\"\",\"\",kur!$D$18)","v":"Pendidikan Jasmani,Olahraga danKesehatan"},7,"GENAP","berbagai permainan bola besar sederhana dan atau tradisional  ","berbagai permainan bola kecil sederhana dan atau tradisional","mempraktikkan gerak spesifik jalan, lari, lompat dan lempar dalam berbagai permainan sederhana dan atau tradisional ","Mempraktikkan gerak spesifik seni beladiri","Mempraktikkan latihan peningkatan derajat kebugaran jasmani yang terkait dengan kesehatan (daya tahan, kekuatan, komposisi tubuh, dan kelenturan) dan pengukuran hasilnya","Mempraktikkan berbagai keterampilan dasar spesifik senam lantai ","mempraktikkan variasi dan kombinasi gerak berbentuk rangkaian langkah dan ayunan lengan mengikuti irama (ketukan) tanpa/dengan musik sebagai pembentuk gerak pemanasan dalamaktivitas gerak berirama ","mempraktikkan konsep gerak spesifik salah satu gaya renang dengan koordinasi yang baik","Memaparkan perkembangan tubuhremaja yang meliputi perubahan fisik sekunder dan mental","memaparkan pola makan sehat, bergizi dan seimbang serta pengaruhnya terhadap kesehatan ",null,null,null,null,null,10]
["BIG07A",{"$f":"IF(kur!$E$19=\"\",\"\",kur!$E$19)","v":"BIG"},{"$f":"IF(kur!$D$19=\"\",\"\",kur!$D$19)","v":"Bahasa Inggris"},7,"GANJIL","menyusun teks interaksi interpersonal lisan dan tulis sangat pendek dan sederhana yang melibatkan tindakan menyapa, berpamitan, mengucapkan terimakasih, dan meminta maaf, dan menanggapinya dengan memperhatikan fungsi sosial, struktur teks, dan unsur kebahasaan yang benar dan sesuai konteks","menyusun teks interaksi transaksional lisan dan tulis sangat pendek dan sederhana yang melibatkan tindakan  memberi danmeminta informasi terkait jati diri, pendek dan sederhana, dengan memperhatikan fungsi sosial, struktur teks, dan unsur kebahasaan yang benar dan sesuai konteks","menyusun teks interaksi \ntransaksional lisan dan tulis sangat pendek dan sederhana yang melibatkan tindakan  memberi danmeminta informasi terkait nama hari, bulan, nama waktu dalam hari, waktu dalam bentuk angka, tanggal, dan tahun, dengan fungsi sosial, struktur teks, dan unsur kebahasaan yang benar dan sesuai konteks ","menyusun teks interaksi  transaksional lisan dan tulis sangat pendek dan sederhana yang melibatkan tindakan  memberi danmeminta informasi terkait nama dan jumlah binatang, benda, dan bangunan publik yang dekat dengan kehidupan siswa sehari-hari, dengan memperhatikan fungsi sosial, struktur teks, dan unsur kebahasaan yang benar dan sesuai konteks","menyusun teks interaksi transaksional lisan dan tulis sangat pendek dan sederhana yang melibatkan tindakan  memberi danmeminta informasi terkait sifat orang, binatang, dan benda, dengan memperhatikan fungsi sosial, struktur teks dan unsur kebahasaan yang benar dan sesuai konteks ","menyusun teks interaksi transaksional lisan dan tulis sangat pendek dan sederhana yang melibatkan tindakan  memberi danmeminta informasi terkait tingkah laku/tindakan/fungsi orang, binatang, dan benda, dengan fungsi sosial, struktur teks, dan unsur kebahasaan yang benar dan sesuai konteks ",null,null,null,null,null,null,null,null,null,6]
["BIG07B",{"$f":"IF(kur!$E$19=\"\",\"\",kur!$E$19)","v":"BIG"},{"$f":"IF(kur!$D$19=\"\",\"\",kur!$D$19)","v":"Bahasa Inggris"},7,"GENAP","menyusun teks interaksi interpersonal lisan dan tulis sangat pendek dan sederhana yang melibatkan tindakan menyapa, berpamitan, mengucapkan terimakasih, dan meminta maaf, dan menanggapinya dengan memperhatikan fungsi sosial, struktur teks, dan unsur kebahasaan yang benar dan sesuai konteks","menyusun teks interaksi transaksional lisan dan tulis sangat pendek dan sederhana yang melibatkan tindakan  memberi danmeminta informasi terkait jati diri, pendek dan sederhana, dengan memperhatikan fungsi sosial, struktur teks, dan unsur kebahasaan yang benar dan sesuai konteks","menyusun teks interaksi \ntransaksional lisan dan tulis sangat pendek dan sederhana yang melibatkan tindakan  memberi danmeminta informasi terkait nama hari, bulan, nama waktu dalam hari, waktu dalam bentuk angka, tanggal, dan tahun, dengan fungsi sosial, struktur teks, dan unsur kebahasaan yang benar dan sesuai konteks ","menyusun teks interaksi  transaksional lisan dan tulis sangat pendek dan sederhana yang melibatkan tindakan  memberi danmeminta informasi terkait nama dan jumlah binatang, benda, dan bangunan publik yang dekat dengan kehidupan siswa sehari-hari, dengan memperhatikan fungsi sosial, struktur teks, dan unsur kebahasaan yang benar dan sesuai konteks","menyusun teks interaksi transaksional lisan dan tulis sangat pendek dan sederhana yang melibatkan tindakan  memberi danmeminta informasi terkait sifat orang, binatang, dan benda, dengan memperhatikan fungsi sosial, struktur teks dan unsur kebahasaan yang benar dan sesuai konteks ","menyusun teks interaksi transaksional lisan dan tulis sangat pendek dan sederhana yang melibatkan tindakan  memberi danmeminta informasi terkait tingkah laku/tindakan/fungsi orang, binatang, dan benda, dengan fungsi sosial, struktur teks, dan unsur kebahasaan yang benar dan sesuai konteks ",null,null,null,null,null,null,null,null,null,6]
["BM07A",{"$f":"IF(kur!$E$21=\"\",\"\",kur!$E$21)","v":"BM"},{"$f":"IF(kur!$D$21=\"\",\"\",kur!$D$21)","v":"Bahasa Madura"},7,"GANJIL","menelaah dan menyunting teks hasil observasi, tanggapan deskriptif, dan eksposisi dalam bentuk informasi atau berita secara lisan dan tulis\n","Menceritakan pengalaman pribadi, profil tokoh, kegiatan, atau peristiwa dengan menggunakan tata krama","mengapresiasi teks friksi (wayang/cerkak/forklor/topeng dhalang)sesuai konteks secara lisan dan tulis","mengapresiasi teks puisi secara lisan dan tulis","melagukan dan mengungkapkan pesan dalam tembang macapat dan lagu kreasi",null,null,null,null,null,null,null,null,null,null,5]
["BM07B",{"$f":"IF(kur!$E$21=\"\",\"\",kur!$E$21)","v":"BM"},{"$f":"IF(kur!$D$21=\"\",\"\",kur!$D$21)","v":"Bahasa Madura"},7,"GENAP","menelaah dan menyunting teks hasil observasi, tanggapan deskriptif, dan eksposisi dalam bentuk informasi atau berita secara lisan dan tulis\n","Menceritakan pengalaman pribadi, profil tokoh, kegiatan, atau peristiwa dengan menggunakan tata krama","mengapresiasi teks friksi (wayang/cerkak/forklor/topeng dhalang)sesuai konteks secara lisan dan tulis","mengapresiasi teks puisi secara lisan dan tulis","melagukan dan mengungkapkan pesan dalam tembang macapat dan lagu kreasi",null,null,null,null,null,null,null,null,null,null,5]
[{"$f":"$B458 & TEXT($D458,\"00\") & IF($E458=\"GANJIL\",\"A\",\"B\")","v":"07A"},{"$f":"IF(kur!$E$22=\"\",\"\",kur!$E$22)","v":""},{"$f":"IF(kur!$D$22=\"\",\"\",kur!$D$22)","v":""},7,"GANJIL",null,null,null,null,null,null,null,null,null,null,null,null,null,null,null,{"$f":"COUNTA($F458:$T458)","v":0}]
["07B",{"$f":"IF(kur!$E$22=\"\",\"\",kur!$E$22)","v":""},{"$f":"IF(kur!$D$22=\"\",\"\",kur!$D$22)","v":""},7,"GENAP",null,null,null,null,null,null,null,null,null,null,null,null,null,null,null,0]
["07A",{"$f":"IF(kur!$E$23=\"\",\"\",kur!$E$23)","v":""},{"$f":"IF(kur!$D$23=\"\",\"\",kur!$D$23)","v":""},7,"GANJIL",null,null,null,null,null,null,null,null,null,null,null,null,null,null,null,0]
["07B",{"$f":"IF(kur!$E$23=\"\",\"\",kur!$E$23)","v":""},{"$f":"IF(kur!$D$23=\"\",\"\",kur!$D$23)","v":""},7,"GENAP",null,null,null,null,null,null,null,null,null,null,null,null,null,null,null,0]
["AH08A",{"$f":"IF(kur!$E$6=\"\",\"\",kur!$E$6)","v":"AH"},{"$f":"IF(kur!$D$6=\"\",\"\",kur!$D$6)","v":"Al-Qur'an Hadits"},8,"GANJIL","memprakteka hukum bacaan mad ‘iwad, mad layin, dan mad ‘arid lissukun dalam al-qur’an surah-surah pendek  pilihan","mensimulasikan isi kandungan q.s. al-quraisy dan q.s. al-insyirwp (94) tentang ketentuan rezeki dari allah","mensimulasikan sikap tolong menolong dan peduli terhadap anak yatim q.s. al-kaufar (108) dan q.s. al-mw‘yn (107) dan sikap tolong menolong sesama muslimseauai isi kandungan hadis tentang tolong-menolong riwayat al-bukhari dari abdullah bin umar \n(المسلم أخو المسلم لايظلمه ولايسلمه... ",null,null,null,null,null,null,null,null,null,null,null,null,3]
["AH08B",{"$f":"IF(kur!$E$6=\"\",\"\",kur!$E$6)","v":"AH"},{"$f":"IF(kur!$D$6=\"\",\"\",kur!$D$6)","v":"Al-Qur'an Hadits"},8,"GENAP","mendemonstrasikan hukum bacaan lam dan ra dalam q.s. al-humazah (104),q.s. at-takwfur(102), dan surah-surah lain dalam al-qur’an.","mensimulasikan sikap yang sesuai dengan isi kandungan q.s. al-humazah (104) dan q.s. at-takatsur (102)tentang sifat cinta dunia dan melupakan kebahagian hakiki","menyajikan data tentang sikap hidup yang seimbang antara kahidupan dunia dan kehidupan akhirat sesuai hadis tentang keseimbangan hidup di dunia dan akhirat riwayat ibnu asakir dari anas (ليسبخيركممنتركدنياه لأخرته...)",null,null,null,null,null,null,null,null,null,null,null,null,3]
["AA08A",{"$f":"IF(kur!$E$7=\"\",\"\",kur!$E$7)","v":"AA"},{"$f":"IF(kur!$D$7=\"\",\"\",kur!$D$7)","v":"Akidah Akhlak"},8,"GANJIL"," menyajikan data dari berbagai sumber tentang kebenaran kitab-kitab allah swt,.","menunjukkan contoh-contoh perilaku akhlak terpuji pada diri sendiri (tawakal, ikhtiar, sabar, syukur dan qana’ah)","mensimulasikan akibat buruk akhlak tercelaananiah, putus asa, gadab, dan  tamak dalam kehidupan sehari-hari","mensimulasikan adab kepada kepada orang tua dan guru","menceritakan kisah keteladanan nabi yunus a.s dan nabi ayub a.s.",null,null,null,null,null,null,null,null,null,null,5]
["AA08B",{"$f":"IF(kur!$E$7=\"\",\"\",kur!$E$7)","v":"AA"},{"$f":"IF(kur!$D$7=\"\",\"\",kur!$D$7)","v":"Akidah Akhlak"},8,"GENAP","menyajikan peta konsep pengertian, dalil dan pentingnya beriman kepada rasul allah swt","menyajikan peta konsep sifat-sifat rasul allah swt,.","menyajikan kisah-kisah dari berbagai sumber tentang adanya mukjizat dan kejadian luar biasa lainnya (karamah, ma‘ynah, dan irhas) ","mensimulasikan dampak positif dari akhlak terpuji (pusnuzzan, tawwiuk, taswmuh, dan ta’wwun)","mensimulasikan dampak negatif dari akhlak tercela (pasad, dendam, grbah, dan namrmah)","mensimulasikan adab kepada saudara, teman","menceritakan kisah keteladanan sahabat abu bakar r.a.",null,null,null,null,null,null,null,null,7]
["FK08A",{"$f":"IF(kur!$E$8=\"\",\"\",kur!$E$8)","v":"FK"},{"$f":"IF(kur!$D$8=\"\",\"\",kur!$D$8)","v":"Fikih"},8,"GANJIL","memperagakan tata cara sujud syukur ","memperagakan tata cara sujud tilawah","mensimulasikan tatacara melaksanakan  puasa","mendemonstrasikan  pelaksanaan zakat",null,null,null,null,null,null,null,null,null,null,null,4]
["FK08B",{"$f":"IF(kur!$E$8=\"\",\"\",kur!$E$8)","v":"FK"},{"$f":"IF(kur!$D$8=\"\",\"\",kur!$D$8)","v":"Fikih"},8,"GENAP","mendemonstrasikan tata cara haji dan umrah\n","mensimulasikan tata cara sedekah, hibah, dan hadiah","membuat peta konsep mengenai ketentuan makanan dan minuman yang halal dan baik",null,null,null,null,null,null,null,null,null,null,null,null,3]
["BA08A",{"$f":"IF(kur!$E$9=\"\",\"\",kur!$E$9)","v":"BA"},{"$f":"IF(kur!$D$9=\"\",\"\",kur!$D$9)","v":"Bahasa Arab"},8,"GANJIL","mendemonstrasikan ungkapan informasi lisan dan tulisan sederhana tentang topik\nالساعة dengan memperhatikan struktur teks dan unsur kebahasaan yang benar dan sesuai konteks","mendemonstrasikan ungkapan informasi lisan dan tulisan sederhana tentang topik\nيومياتنا في المدرسة ؛ dengan memperhatikan struktur teks dan unsur kebahasaan yang benar dan sesuai konteks ","mendemonstrasikan ungkapan informasi lisan dan tulisan sederhana tentang topik\nيومياتنافيالبيت ؛ dengan memperhatikan struktur teks dan unsur kebahasaan yang benar dan sesuai konteks",null,null,null,null,null,null,null,null,null,null,null,null,3]
["BA08B",{"$f":"IF(kur!$E$9=\"\",\"\",kur!$E$9)","v":"BA"},{"$f":"IF(kur!$D$9=\"\",\"\",kur!$D$9)","v":"Bahasa Arab"},8,"GENAP","mendemonstrasikan ungkapan informasi lisan dan tulisan sederhana tentang topik\nالمهنة والمهنيون الرياضيون dengan memperhatikan struktur teks dan unsur kebahasaan yang benar dan sesuai konteks","mendemonstrasikan ungkapan informasi lisan dan tulisan sederhana tentang topik\nالمهنةالطبية dengan memperhatikan struktur teks dan unsur kebahasaan yang benar dan sesuai konteks","mendemonstrasikan ungkapan informasi lisan dan tulisan sederhana tentang topik\nعيادةالمرضى dengan memperhatikan struktur teks dan unsur kebahasaan yang benar dan sesuai konteks",null,null,null,null,null,null,null,null,null,null,null,null,3]
["SKI08A",{"$f":"IF(kur!$E$10=\"\",\"\",kur!$E$10)","v":"SKI"},{"$f":"IF(kur!$D$10=\"\",\"\",kur!$D$10)","v":"Sejarah Kebudayaan Islam"},8,"GANJIL","menceritakan silsilah kekhalifahan dinasti bani abbasiyah","menceritakan perkembangan kebudayaan/ peradaban islam pada masa  dinasti bani abbasiyah ","menceritakan biografi dan karya para ilmuwan muslim pada masa dinasti bani abbasiyah ","memaparkan peran  ilmuwan muslim dalam bidang agama dalam memajukan kebudayaan / peradaban pada masa dinasti bani abbasiyah",null,null,null,null,null,null,null,null,null,null,null,4]
["SKI08B",{"$f":"IF(kur!$E$10=\"\",\"\",kur!$E$10)","v":"SKI"},{"$f":"IF(kur!$D$10=\"\",\"\",kur!$D$10)","v":"Sejarah Kebudayaan Islam"},8,"GENAP","menceritakan sejarah berdirinya dinastial-ayyubiyah","membuat peta konsep mengenai hal-hal yang dicapai pada masa dinasti al-ayyubiyah","menceritakan biografi tokoh yang terkenal (shalahuddin al-ayyubi, al adil dan al kamil)pada masa dinasti al-ayyubiyah","memaparkan peran  ilmuwandalam memajukan kebudayan dan peradaban islam pada masa dinasti al-ayyubiyah",null,null,null,null,null,null,null,null,null,null,null,4]
["PKN08A",{"$f":"IF(kur!$E$12=\"\",\"\",kur!$E$12)","v":"PKN"},{"$f":"IF(kur!$D$12=\"\",\"\",kur!$D$12)","v":"Pendidikan Pancasila dan Kewarganegaaraan"},8,"GANJIL","mendukung  peran teladan tokoh-tokoh pendiri negara dalam kedudukan dan fungsinya pada perumusan pancasila","melaksanakan makna, kedudukan, dan  fungsi undang- undang dasar negara republik indonesia tahun 1945","mendemonstrasikan peran sebagai penyusun tata urutan peraturan perundang-undangan","menyaji hasil penalaran tentang  peran kejuangan tokoh  kebangkitan nasional 1908 dalam perjuangan kemerdekaan","melaksanakan nilai-nilai dan semangat sumpah pemuda 1928 ","mendemonstrasikan peran tokoh masyarakat akan pentingnya semangat dan komitmen kebangsaan untuk memperkuat negara kesatuan republik indonesia",null,null,null,null,null,null,null,null,null,6]
["PKN08B",{"$f":"IF(kur!$E$12=\"\",\"\",kur!$E$12)","v":"PKN"},{"$f":"IF(kur!$D$12=\"\",\"\",kur!$D$12)","v":"Pendidikan Pancasila dan Kewarganegaaraan"},8,"GENAP","mendukung  peran teladan tokoh-tokoh pendiri negara dalam kedudukan dan fungsinya pada perumusan pancasila","melaksanakan makna, kedudukan, dan  fungsi undang- undang dasar negara republik indonesia tahun 1946","mendemonstrasikan peran sebagai penyusun tata urutan peraturan perundang-undangan","menyaji hasil penalaran tentang  peran kejuangan tokoh  kebangkitan nasional 1908 dalam perjuangan kemerdekaan","melaksanakan nilai-nilai dan semangat sumpah pemuda 1929","mendemonstrasikan peran tokoh masyarakat akan pentingnya semangat dan komitmen kebangsaan untuk memperkuat negara kesatuan republik indonesia",null,null,null,null,null,null,null,null,null,6]
["BIN08A",{"$f":"IF(kur!$E$13=\"\",\"\",kur!$E$13)","v":"BIN"},{"$f":"IF(kur!$D$13=\"\",\"\",kur!$D$13)","v":"Bahasa Indonesia"},8,"GANJIL","menyimpulkan isi berita (membanggakan dan memotivasi) yang dibaca dan didengar ","menyajikan data dan  informasi dalam bentuk berita  secara lisan dan tulis dengan memperhatikan struktur, kebahasaan,  atau  aspek lisan (lafal, intonasi, mimik, dan kinesik) ","menyimpulkan isi iklan, slogan, atau poster (membanggakan dan memotivasi) dari berbagai sumber","menyajikan  gagasan, pesan, dan ajakan dalam bentuk iklan, slogan,atau poster  secara lisan dan  tulis ","menyimpulkan isi teks eksposisi  (artikel ilmiah populer dari koran dan majalah) yang didengar dan dibaca ","menyajikan gagasan dan pendapatke dalam bentuk teks eksposisi  artikel ilmiah populer (lingkungan hidup, kondisi sosial, dan/atau keragaman budaya, dll) secara lisan dan tertulis dengan memperhatikan struktur, unsur kebahasaan, dan aspek lisan ","menyimpulkan unsur-unsur pembangun dan makna teks puisi  yang diperdengarkan atau dibaca ","menyajikan gagasan, perasaan, dan pendapat dalam bentuk teks puisi secara tulis/lisan dengan memperhatikan unsur-unsur pembangun puisi  ","meringkas  isi  teks eksplanasi yang berupa proses terjadinya suatu fenomena dari  beragam  sumber yang didengar  dan dibaca ","menyajikan informasi dan data dalam bentuk teks eksplanasi proses terjadinya suatu fenomena secara lisan dan tulis dengan memperhatikan struktur, unsur kebahasaan, atau aspek lisan ",null,null,null,null,null,10]
["BIN08B",{"$f":"IF(kur!$E$13=\"\",\"\",kur!$E$13)","v":"BIN"},{"$f":"IF(kur!$D$13=\"\",\"\",kur!$D$13)","v":"Bahasa Indonesia"},8,"GENAP","menyimpulkan isi berita (membanggakan dan memotivasi) yang dibaca dan didengar ","menyajikan data dan  informasi dalam bentuk berita  secara lisan dan tulis dengan memperhatikan struktur, kebahasaan,  atau  aspek lisan (lafal, intonasi, mimik, dan kinesik) ","menyimpulkan isi iklan, slogan, atau poster (membanggakan dan memotivasi) dari berbagai sumber","menyajikan  gagasan, pesan, dan ajakan dalam bentuk iklan, slogan,atau poster  secara lisan dan  tulis ","menyimpulkan isi teks eksposisi  (artikel ilmiah populer dari koran dan majalah) yang didengar dan dibaca ","menyajikan gagasan dan pendapatke dalam bentuk teks eksposisi  artikel ilmiah populer (lingkungan hidup, kondisi sosial, dan/atau keragaman budaya, dll) secara lisan dan tertulis dengan memperhatikan struktur, unsur kebahasaan, dan aspek lisan ","menyimpulkan unsur-unsur pembangun dan makna teks puisi  yang diperdengarkan atau dibaca ","menyajikan gagasan, perasaan, dan pendapat dalam bentuk teks puisi secara tulis/lisan dengan memperhatikan unsur-unsur pembangun puisi  ","meringkas  isi  teks eksplanasi yang berupa proses terjadinya suatu fenomena dari  beragam  sumber yang didengar  dan dibaca ","menyajikan informasi dan data dalam bentuk teks eksplanasi proses terjadinya suatu fenomena secara lisan dan tulis dengan memperhatikan struktur, unsur kebahasaan, atau aspek lisan ",null,null,null,null,null,10]
["MTK08A",{"$f":"IF(kur!$E$14=\"\",\"\",kur!$E$14)","v":"MTK"},{"$f":"IF(kur!$D$14=\"\",\"\",kur!$D$14)","v":"Matematika"},8,"GANJIL","menyelesaikan masalah yang berkaitan dengan pola pada barisan bilangan dan barisan konfigurasi objek  ","menyelesaikan masalah yang berkaitan dengan kedudukan titik dalam bidang koordinat kartesius  ","menyelesaikan masalah yang berkaitan dengan relasi dan fungsidengan menggunakan berbagai representasi ","menyelesaikan masalah kontekstual yang berkaitan dengan fungsi linear sebagai persamaan garis lurus  \n","menyelesaikan masalah yang berkaitan dengan sistem persamaan linear dua variabel   ","menyelesaikan masalah yang berkaitan dengan teorema pythagoras dan tripel pythagoras  ","menyelesaikan masalah yang berkaitan dengan sudut pusat, sudut keliling, panjang busur, dan \nluas juring lingkaran, serta hubungannya ","menyelesaikan masalah yang berkaitan dengan garis singgung persekutuan luar dan persekutuan dalam dua lingkaran  ","menyelesaikan masalah yang berkaitan dengan  luas permukaandan volume bangun ruang sisi datar (kubus, balok,  prima dan limas), serta  gabungannya","menyajikan dan menyelesaikan masalah yang berkaitan dengan distribusi data, nilai rata-rata, median, modus, dan sebaran data untuk mengambil kesimpulan, membuat keputusan, dan membuat prediksi ",null,null,null,null,null,10]
["MTK08B",{"$f":"IF(kur!$E$14=\"\",\"\",kur!$E$14)","v":"MTK"},{"$f":"IF(kur!$D$14=\"\",\"\",kur!$D$14)","v":"Matematika"},8,"GENAP","menyelesaikan masalah yang berkaitan dengan pola pada barisan bilangan dan barisan konfigurasi objek  ","menyelesaikan masalah yang berkaitan dengan kedudukan titik dalam bidang koordinat kartesius  ","menyelesaikan masalah yang berkaitan dengan relasi dan fungsidengan menggunakan berbagai representasi ","menyelesaikan masalah kontekstual yang berkaitan dengan fungsi linear sebagai persamaan garis lurus  \n","menyelesaikan masalah yang berkaitan dengan sistem persamaan linear dua variabel   ","menyelesaikan masalah yang berkaitan dengan teorema pythagoras dan tripel pythagoras  ","menyelesaikan masalah yang berkaitan dengan sudut pusat, sudut keliling, panjang busur, dan \nluas juring lingkaran, serta hubungannya ","menyelesaikan masalah yang berkaitan dengan garis singgung persekutuan luar dan persekutuan dalam dua lingkaran  ","menyelesaikan masalah yang berkaitan dengan  luas permukaandan volume bangun ruang sisi datar (kubus, balok,  prima dan limas), serta  gabungannya","menyajikan dan menyelesaikan masalah yang berkaitan dengan distribusi data, nilai rata-rata, median, modus, dan sebaran data untuk mengambil kesimpulan, membuat keputusan, dan membuat prediksi ",null,null,null,null,null,10]
["IPA08A",{"$f":"IF(kur!$E$15=\"\",\"\",kur!$E$15)","v":"IPA"},{"$f":"IF(kur!$D$15=\"\",\"\",kur!$D$15)","v":"Ilmu Pengetahuan Alam"},8,"GANJIL","menyajikan karya tentang berbagaigangguan pada sistem gerak, serta upaya menjaga kesehatan sistem gerak manusia ","menyajikan hasil penyelidikan pengaruh gaya terhadap gerak benda ","menyajikan hasil penyelidikan atau pemecahan masalah tentang manfaat penggunaan pesawat sederhana dalam kehidupan sehari-hari ","menyajikan karya dari hasil penelusuran berbagai sumber informasi tentang teknologi yang terinspirasi dari hasil pengamatan struktur tumbuhan ","menyajikan hasil penyelidikan tentang pencernaan mekanis dan kimiawi ","membuat karya tulis tentang dampak penyalahgunaan zat aditif dan zat adiktif bagi kesehatan ","menyajikan hasil percobaan pengaruh aktivitas (jenis, intensitas, atau durasi) pada frekuensi denyut jantung ","menyajikan data hasil percobaan untuk menyelidiki tekanan zat cair pada kedalaman tertentu, gaya apung, dan kapilaritas, misalnya dalam batang tumbuhan ","menyajikan karya tentang upaya menjaga kesehatan sistem pernapasan ","membuat karya tentang sistem ekskresi pada manusia dan penerapannya dalam menjaga kesehatan diri ",null,null,null,null,null,10]
["IPA08B",{"$f":"IF(kur!$E$15=\"\",\"\",kur!$E$15)","v":"IPA"},{"$f":"IF(kur!$D$15=\"\",\"\",kur!$D$15)","v":"Ilmu Pengetahuan Alam"},8,"GENAP","menyajikan karya tentang berbagaigangguan pada sistem gerak, serta upaya menjaga kesehatan sistem gerak manusia ","menyajikan hasil penyelidikan pengaruh gaya terhadap gerak benda ","menyajikan hasil penyelidikan atau pemecahan masalah tentang manfaat penggunaan pesawat sederhana dalam kehidupan sehari-hari ","menyajikan karya dari hasil penelusuran berbagai sumber informasi tentang teknologi yang terinspirasi dari hasil pengamatan struktur tumbuhan ","menyajikan hasil penyelidikan tentang pencernaan mekanis dan kimiawi ","membuat karya tulis tentang dampak penyalahgunaan zat aditif dan zat adiktif bagi kesehatan ","menyajikan hasil percobaan pengaruh aktivitas (jenis, intensitas, atau durasi) pada frekuensi denyut jantung ","menyajikan data hasil percobaan untuk menyelidiki tekanan zat cair pada kedalaman tertentu, gaya apung, dan kapilaritas, misalnya dalam batang tumbuhan ","menyajikan karya tentang upaya menjaga kesehatan sistem pernapasan ","membuat karya tentang sistem ekskresi pada manusia dan penerapannya dalam menjaga kesehatan diri ",null,null,null,null,null,10]
["IPS08A",{"$f":"IF(kur!$E$16=\"\",\"\",kur!$E$16)","v":"IPS"},{"$f":"IF(kur!$D$16=\"\",\"\",kur!$D$16)","v":"Ilmu Pengetahuan Sosial"},8,"GANJIL","menyajikan hasil telaah tentang perubahan keruangan dan interaksi antarruang di Indonesia dan negara-negara ASEAN yang diakibatkan oleh faktor alam dan manusia (teknologi, ekonomi, pemanfaatan lahan, politik) dan pengaruhnya terhadap keberlangsungan kehidupan ekonomi, sosial, budaya, dan politik","menyajikan hasil analisis tentang  pengaruh interaksi sosial dalam ruang yang berbeda terhadap kehidupan sosial dan budaya sertapengembangan kehidupan kebangsaan","menyajikan hasil analisis tentang keunggulan dan keterbatasan ruang dalam permintaan dan penawaran serta teknologi, dan pengaruhnya terhadap interaksi antarruang bag kegiatan ekonomi, sosial, budaya, di Indonesia dan negara-negara ASEAN","menyajikan hasil analisis kronologi, perubahan dan kesinambungan ruang (geografis, politik, ekonomi, pendidikan, sosial, budaya)  dari masa penjajahan sampai tumbuhnya \nsemangat kebangsaan",null,null,null,null,null,null,null,null,null,null,null,4]
["IPS08B",{"$f":"IF(kur!$E$16=\"\",\"\",kur!$E$16)","v":"IPS"},{"$f":"IF(kur!$D$16=\"\",\"\",kur!$D$16)","v":"Ilmu Pengetahuan Sosial"},8,"GENAP","menyajikan hasil telaah tentang perubahan keruangan dan interaksi antarruang di Indonesia dan negara-negara ASEAN yang diakibatkan oleh faktor alam dan manusia (teknologi, ekonomi, pemanfaatan lahan, politik) dan pengaruhnya terhadap keberlangsungan kehidupan ekonomi, sosial, budaya, dan politik","menyajikan hasil analisis tentang  pengaruh interaksi sosial dalam ruang yang berbeda terhadap kehidupan sosial dan budaya sertapengembangan kehidupan kebangsaan","menyajikan hasil analisis tentang keunggulan dan keterbatasan ruang dalam permintaan dan penawaran serta teknologi, dan pengaruhnya terhadap interaksi antarruang bag kegiatan ekonomi, sosial, budaya, di Indonesia dan negara-negara ASEAN","menyajikan hasil analisis kronologi, perubahan dan kesinambungan ruang (geografis, politik, ekonomi, pendidikan, sosial, budaya)  dari masa penjajahan sampai tumbuhnya \nsemangat kebangsaan",null,null,null,null,null,null,null,null,null,null,null,4]
["SB08A",{"$f":"IF(kur!$E$17=\"\",\"\",kur!$E$17)","v":"SB"},{"$f":"IF(kur!$D$17=\"\",\"\",kur!$D$17)","v":"Seni Budaya "},8,"GANJIL","memeragakan keunikan gerak tari tradisional dengan menggunakan unsur pendukung tari ","memeragakan tari tradisional dengan menggunakan unsur pendukung tari sesuai iringan ","merancang  pementasan pantomimsesuai konsep, teknik dan prosedur  ","mementaskan pantomim sesuai konsep, teknik, dan prosedur",null,null,null,null,null,null,null,null,null,null,null,4]
["SB08B",{"$f":"IF(kur!$E$17=\"\",\"\",kur!$E$17)","v":"SB"},{"$f":"IF(kur!$D$17=\"\",\"\",kur!$D$17)","v":"Seni Budaya "},8,"GENAP","memeragakan keunikan gerak tari tradisional dengan menggunakan unsur pendukung tari ","memeragakan tari tradisional dengan menggunakan unsur pendukung tari sesuai iringan ","merancang  pementasan pantomimsesuai konsep, teknik dan prosedur  ","mementaskan pantomim sesuai konsep, teknik, dan prosedur",null,null,null,null,null,null,null,null,null,null,null,4]
["PJ08A",{"$f":"IF(kur!$E$18=\"\",\"\",kur!$E$18)","v":"PJ"},{"$f":"IF(kur!$D$18=\"\",\"\",kur!$D$18)","v":"Pendidikan Jasmani,Olahraga danKesehatan"},8,"GANJIL","mempraktikkan variasi gerak spesifik dalam berbagai permainan bola besar sederhana dan atau tradisional","mempraktikkan variasi gerak spesifik dalam berbagai permainan bola kecil sederhana  dan atau tradisional  ","mempraktikkan variasi gerak spesifik jalan, lari, lompat, dan lempar dalam berbagai permainan sederhana  dan atau tradisional","mempraktikkan variasi  gerak spesifik seni beladiri","mempraktikkan latihan peningkatan derajat kebugaran jasmani yang terkait dengan keterampilan (kecepatan, kelincahan, keseimbanga, dan koordinasi) serta pengukuran hasilnya","mempraktikkan kombinasi  keterampilan berbentuk rangkaian gerak sederhana dalam aktivitas spesifik senam lantai ","mempraktikkan prosedur variasi dan kombinasi gerak berbentuk rangkaian langkah dan ayunan lengan mengikuti irama (ketukan) tanpa/dengan musik sebagai pembentuk gerak pemanasan dan inti latihan dalam aktivitas gerak berirama ","mempraktikkan gerak spesifik salah satu gaya renang dalam permainan air dengan atau tanpa alat","memaparkan  perlunya pencegahan terhadap “bahaya pergaulan bebas”","memaparkan cara menjaga keselamatan diri dan orang lain di jalan raya ",null,null,null,null,null,10]
["PJ08B",{"$f":"IF(kur!$E$18=\"\",\"\",kur!$E$18)","v":"PJ"},{"$f":"IF(kur!$D$18=\"\",\"\",kur!$D$18)","v":"Pendidikan Jasmani,Olahraga danKesehatan"},8,"GENAP","mempraktikkan variasi gerak spesifik dalam berbagai permainan bola besar sederhana dan atau tradisional","mempraktikkan variasi gerak spesifik dalam berbagai permainan bola kecil sederhana  dan atau tradisional  ","mempraktikkan variasi gerak spesifik jalan, lari, lompat, dan lempar dalam berbagai permainan sederhana  dan atau tradisional","mempraktikkan variasi  gerak spesifik seni beladiri","mempraktikkan latihan peningkatan derajat kebugaran jasmani yang terkait dengan keterampilan (kecepatan, kelincahan, keseimbanga, dan koordinasi) serta pengukuran hasilnya","mempraktikkan kombinasi  keterampilan berbentuk rangkaian gerak sederhana dalam aktivitas spesifik senam lantai ","mempraktikkan prosedur variasi dan kombinasi gerak berbentuk rangkaian langkah dan ayunan lengan mengikuti irama (ketukan) tanpa/dengan musik sebagai pembentuk gerak pemanasan dan inti latihan dalam aktivitas gerak berirama ","mempraktikkan gerak spesifik salah satu gaya renang dalam permainan air dengan atau tanpa alat","memaparkan  perlunya pencegahan terhadap “bahaya pergaulan bebas”","memaparkan cara menjaga keselamatan diri dan orang lain di jalan raya ",null,null,null,null,null,10]
["BIG08A",{"$f":"IF(kur!$E$19=\"\",\"\",kur!$E$19)","v":"BIG"},{"$f":"IF(kur!$D$19=\"\",\"\",kur!$D$19)","v":"Bahasa Inggris"},8,"GANJIL","menyusun teks interaksi interpersonal lisan dan tulis sangat pendek dan sederhana yang melibatkan tindakan meminta perhatian, mengecek pemahaman, menghargai kinerja, serta meminta dan mengungkapkan pendapat, dan menanggapinya dengan memperhatikan fungsi sosial, struktur teks, dan unsur kebahasaan yang benar dan sesuai konteks","menyusun teks interaksi transaksional lisan dan tulis sangat pendek dan sederhana yang melibatkan tindakan memberi dan meminta informasi terkait kemampuan dan kemauan, melakukan suatu tindakan, denganmemperhatikan fungsi sosial, struktur teks, dan unsur kebahasaan yang benar dan sesuai konteks","menyusun teks interaksi transaksional lisan dan tulis sangat pendek dan sederhana yang melibatkan tindakan memberi dan meminta informasi terkait keharusan, larangan, dan himbauan, dengan memperhatikanfungsi sosial, struktur teks, dan unsur kebahasaan yang benar dan sesuai konteks","menyusun teks interaksi interpersonal lisan dan tulis sangat pendek dan sederhana yang melibatkan tindakan menyuruh, mengajak, meminta ijin, dan menanggapinya dengan memperhatikan fungsi sosial, struktur teks, dan unsur kebahasaan yang benar dan sesuai konteks","menyusun teks khusus dalam bentuk greeting    card, sangat pendek dan sederhana, terkait hari-hari spesial dengan memperhatikan fungsi sosial, struktur teks, dan unsur kebahasaan, secara benar dan sesuai konteks ","menyusun teks interaksi transaksional lisan dan tulis sangat pendek dan sederhana yang melibatkan tindakan memberi dan meminta informasi terkait keberadaan orang, benda, binatang, dengan memperhatikan fungsi sosial, struktur teks, dan unsur kebahasaan yang benar dan sesuai konteks ",null,null,null,null,null,null,null,null,null,6]
["BIG08B",{"$f":"IF(kur!$E$19=\"\",\"\",kur!$E$19)","v":"BIG"},{"$f":"IF(kur!$D$19=\"\",\"\",kur!$D$19)","v":"Bahasa Inggris"},8,"GENAP","menyusun teks interaksi interpersonal lisan dan tulis sangat pendek dan sederhana yang melibatkan tindakan meminta perhatian, mengecek pemahaman, menghargai kinerja, serta meminta dan mengungkapkan pendapat, dan menanggapinya dengan memperhatikan fungsi sosial, struktur teks, dan unsur kebahasaan yang benar dan sesuai konteks","menyusun teks interaksi transaksional lisan dan tulis sangat pendek dan sederhana yang melibatkan tindakan memberi dan meminta informasi terkait kemampuan dan kemauan, melakukan suatu tindakan, denganmemperhatikan fungsi sosial, struktur teks, dan unsur kebahasaan yang benar dan sesuai konteks","menyusun teks interaksi transaksional lisan dan tulis sangat pendek dan sederhana yang melibatkan tindakan memberi dan meminta informasi terkait keharusan, larangan, dan himbauan, dengan memperhatikanfungsi sosial, struktur teks, dan unsur kebahasaan yang benar dan sesuai konteks","menyusun teks interaksi interpersonal lisan dan tulis sangat pendek dan sederhana yang melibatkan tindakan menyuruh, mengajak, meminta ijin, dan menanggapinya dengan memperhatikan fungsi sosial, struktur teks, dan unsur kebahasaan yang benar dan sesuai konteks","menyusun teks khusus dalam bentuk greeting    card, sangat pendek dan sederhana, terkait hari-hari spesial dengan memperhatikan fungsi sosial, struktur teks, dan unsur kebahasaan, secara benar dan sesuai konteks ","menyusun teks interaksi transaksional lisan dan tulis sangat pendek dan sederhana yang melibatkan tindakan memberi dan meminta informasi terkait keberadaan orang, benda, binatang, dengan memperhatikan fungsi sosial, struktur teks, dan unsur kebahasaan yang benar dan sesuai konteks ",null,null,null,null,null,null,null,null,null,6]
["BM08A",{"$f":"IF(kur!$E$21=\"\",\"\",kur!$E$21)","v":"BM"},{"$f":"IF(kur!$D$21=\"\",\"\",kur!$D$21)","v":"Bahasa Madura"},8,"GANJIL","mengapresiasi cerita fiksi (wayang/cerkak/forklor/topeng dhalang) secara lisan dan tulis","menulis berbagai bentuk kalimat dengan menggunakan ragam bahasa dan gaya berbahasa (basa rinengga / lalonget)","melakukan wawancara,dialog dan diskusi sesuai dengan tatakrama","menulis berbagai jenis surat,iklan dan reklame sesuai dengan kaidah dan konteks","mengubah teks tembang macapat menjadi teks prosa","membaca dan menulis paragraf menggunakan aksara jawa / carakan madura",null,null,null,null,null,null,null,null,null,6]
["BM08B",{"$f":"IF(kur!$E$21=\"\",\"\",kur!$E$21)","v":"BM"},{"$f":"IF(kur!$D$21=\"\",\"\",kur!$D$21)","v":"Bahasa Madura"},8,"GENAP","mengapresiasi cerita fiksi (wayang/cerkak/forklor/topeng dhalang) secara lisan dan tulis","menulis berbagai bentuk kalimat dengan menggunakan ragam bahasa dan gaya berbahasa (basa rinengga / lalonget)","melakukan wawancara,dialog dan diskusi sesuai dengan tatakrama","menulis berbagai jenis surat,iklan dan reklame sesuai dengan kaidah dan konteks","mengubah teks tembang macapat menjadi teks prosa","membaca dan menulis paragraf menggunakan aksara jawa / carakan madura",null,null,null,null,null,null,null,null,null,6]
["08A",{"$f":"IF(kur!$E$22=\"\",\"\",kur!$E$22)","v":""},{"$f":"IF(kur!$D$22=\"\",\"\",kur!$D$22)","v":""},8,"GANJIL",null,null,null,null,null,null,null,null,null,null,null,null,null,null,null,0]
["08B",{"$f":"IF(kur!$E$22=\"\",\"\",kur!$E$22)","v":""},{"$f":"IF(kur!$D$22=\"\",\"\",kur!$D$22)","v":""},8,"GENAP",null,null,null,null,null,null,null,null,null,null,null,null,null,null,null,0]
["08A",{"$f":"IF(kur!$E$23=\"\",\"\",kur!$E$23)","v":""},{"$f":"IF(kur!$D$23=\"\",\"\",kur!$D$23)","v":""},8,"GANJIL",null,null,null,null,null,null,null,null,null,null,null,null,null,null,null,0]
["08B",{"$f":"IF(kur!$E$23=\"\",\"\",kur!$E$23)","v":""},{"$f":"IF(kur!$D$23=\"\",\"\",kur!$D$23)","v":""},8,"GENAP",null,null,null,null,null,null,null,null,null,null,null,null,null,null,null,0]
["AH09A",{"$f":"IF(kur!$E$6=\"\",\"\",kur!$E$6)","v":"AH"},{"$f":"IF(kur!$D$6=\"\",\"\",kur!$D$6)","v":"Al-Qur'an Hadits"},9,"GANJIL","mempraktikkan hukum mad silah, mad badal, mad tamkrn, dan mad farqi dalam Q.S. al-Qari‘ah (101), Q.S. az-Zalzalah (99)  dan pada surah-surah pendek pilihan.","mensimulasikan isi kandungan Q.S. al-Qari‘ah (101, Q.S. az-Zalzalah (99)   tentang fenomena alam dalam kehidupan","mendemontrasikan sikap tentang upaya pelestarian alam sesuai hadis riwayat At-Tirmizi\n(مَنأَحْيىأَرْضًامَيِّتَةً...).riwayat Ibnu Majah \n(مَنْحَفَرَبِئْرًافَلَهُأَرْبَعُوْنَذِرَاعًا...)",null,null,null,null,null,null,null,null,null,null,null,null,3]
["AH09B",{"$f":"IF(kur!$E$6=\"\",\"\",kur!$E$6)","v":"AH"},{"$f":"IF(kur!$D$6=\"\",\"\",kur!$D$6)","v":"Al-Qur'an Hadits"},9,"GENAP","mempraktikkan hukum mad lazim mukhaffaf kilmi, musaqqal kilmi, mad lazim musaqqal harfi, dan mad lazim mukhaffaa harfi dalam Al-Qur`an","menyajikan data  tentang pemanfaatan waktu dan menuntut ilmu sesuai  isi kandungan Q.S. al-‘Asr (03) dan Q.S. al-‘Alaq (96) ","membuat jadwal kegiatan harian yang mencerminkan pemanfaatan waktu dan menuntut ilmu sesuai Q.S. al-‘Asr (03) dan Q.S. al-‘Alaq (96) dan hadis riwayat Al-Bukhari dari Abdullah bin Umar كُنْفِيالدُّنْيَاكَأَنَّكَغَرِيْبٌ...tentang perilaku menghargai waktu dan hadis riwayat Ibnu majah dari Anas bin Malik  طَلَبُالْعِلْمِفَرِيْضَةٌعَلَىكُلِمُسْلِمٍ",null,null,null,null,null,null,null,null,null,null,null,null,3]
["AA09A",{"$f":"IF(kur!$E$7=\"\",\"\",kur!$E$7)","v":"AA"},{"$f":"IF(kur!$D$7=\"\",\"\",kur!$D$7)","v":"Akidah Akhlak"},9,"GANJIL","menyajikan data dari berbagai sumber tentang fakta dan fenomena hari akhir dan alam ghaib lain yang berhubungan dengan hari akhir","menyajikan data tentang hikmah orang yang mengimani alam gaib yang berhubungan dengan hari akhir (‘alam barzah, yaumul ba‘af, yaumul piswb, yaumul mrzwn,yaumul jazw’)","menyajikan kisah-kisah dari fenomena kehidupan tentang dampak positif dari berilmu, kerja keras, kreatif, dan produktif","mensimulasikan adab islami kepada tetangga\n","menceritakan kisah keteladanan sahabat Umar bin Khattab r.a.",null,null,null,null,null,null,null,null,null,null,5]
["AA09B",{"$f":"IF(kur!$E$7=\"\",\"\",kur!$E$7)","v":"AA"},{"$f":"IF(kur!$D$7=\"\",\"\",kur!$D$7)","v":"Akidah Akhlak"},9,"GENAP","menyajikan kisah-kisah dari berbagai sumber dalam fenomena kehidupan tentang qaia’ dan qadar","mensimulasikan contoh perilaku terpujidan dampak negatif perilaku tercela dalam pergaulan remaja","mensimulasikan adab terhadap lingkungan, yaitu kepada binatang dan tumbuhan di tempat umum dan di jalan","menceritakan kisah keteladaan Usman bin Affan r.a, dan Ali bin Abi Talib k.w.",null,null,null,null,null,null,null,null,null,null,null,4]
["FK09A",{"$f":"IF(kur!$E$8=\"\",\"\",kur!$E$8)","v":"FK"},{"$f":"IF(kur!$D$8=\"\",\"\",kur!$D$8)","v":"Fikih"},9,"GANJIL","mendemonstrasikan tata cara menyembelih binatang ","menyajikan contoh tata cara pelaksanaan kurban akikah","mempraktikkan pelaksanaan jual beli dan qirad","menyajikan tata cara menghidari riba",null,null,null,null,null,null,null,null,null,null,null,4]
["FK09B",{"$f":"IF(kur!$E$8=\"\",\"\",kur!$E$8)","v":"FK"},{"$f":"IF(kur!$D$8=\"\",\"\",kur!$D$8)","v":"Fikih"},9,"GENAP","mendemonstrasikan pelaksanaan pinjam-meminjam ","mendemonstrasikan tata cara pelaksanaan hutang-piutang","mensimulasikan tatacara gadai","mensimulasikan tata cara pelaksanaan pemberian upah","mendemonstrasikan tata cara merawat jenazah","mensimulasikan tata cara pembagian waris",null,null,null,null,null,null,null,null,null,6]
["BA09A",{"$f":"IF(kur!$E$9=\"\",\"\",kur!$E$9)","v":"BA"},{"$f":"IF(kur!$D$9=\"\",\"\",kur!$D$9)","v":"Bahasa Arab"},9,"GANJIL","mendemonstrasikan ungkapan informasi lisan dan tulisan sederhana tentang topik\nرأسالسنةالهجرية dengan memperhatikan struktur teks dan unsur kebahasaan yang benar dan sesuai konteks","mendemonstrasikan ungkapan informasi lisan dan tulisan sederhana tentang topik\nالحفل بمولدالرسول dengan memperhatikan struktur teks dan unsur kebahasaan yang benar dan sesuai konteks","mendemonstrasikan ungkapan informasi lisan dan tulisan sederhana tentang topik\nنزولالقرآنوالعيدان dengan memperhatikan struktur teks dan unsur kebahasaan yang benar dan sesuai konteks",null,null,null,null,null,null,null,null,null,null,null,null,3]
["BA09B",{"$f":"IF(kur!$E$9=\"\",\"\",kur!$E$9)","v":"BA"},{"$f":"IF(kur!$D$9=\"\",\"\",kur!$D$9)","v":"Bahasa Arab"},9,"GENAP","mendemonstrasikan ungkapan informasi lisan dan tulisan sederhana tentang topik\nرأسالسنةالهجرية dengan memperhatikan struktur teks dan unsur kebahasaan yang benar dan sesuai konteks","mendemonstrasikan ungkapan informasi lisan dan tulisan sederhana tentang topik\nالحفل بمولدالرسول  dengan memperhatikan struktur teks dan unsur kebahasaan yang benar dan sesuai konteks","mendemonstrasikan ungkapan informasi lisan dan tulisan sederhana tentang topik\nنزولالقرآنوالعيدان dengan memperhatikan struktur teks dan unsur kebahasaan yang benar dan sesuai konteks",null,null,null,null,null,null,null,null,null,null,null,null,3]
["SKI09A",{"$f":"IF(kur!$E$10=\"\",\"\",kur!$E$10)","v":"SKI"},{"$f":"IF(kur!$D$10=\"\",\"\",kur!$D$10)","v":"Sejarah Kebudayaan Islam"},9,"GANJIL","memaparkanalur perjalanan para pedagang Arab dalam berdakwah di Indonesia","menceritakan sejarah kerajaan Islam di Jawa, Sumatera, dan Sulawesi","menceritakan biografi Abdurrauf Singkel, Muhammad Arsyad Al-Banjari, K.H. Ahmad Dahlan, dan K.H. Hasyim Asy‘ari dalam menyebarkan agama Islam di Indonesia","membuat peta konsep mengenai nilai-nilai perjuangan Abdurrauf Singkel, Muhammad Arsyad Al-Banjari, K.H. Ahmad Dahlan dan K.H. Hasyim Asy‘ari dalam menyebarkan agama Islam di Indonesia",null,null,null,null,null,null,null,null,null,null,null,4]
["SKI09B",{"$f":"IF(kur!$E$10=\"\",\"\",kur!$E$10)","v":"SKI"},{"$f":"IF(kur!$D$10=\"\",\"\",kur!$D$10)","v":"Sejarah Kebudayaan Islam"},9,"GENAP","menunjukkan contoh bentuk seni budaya lokal","memaparkan bentuk tradisi umat Islam (di Jawa, Sunda, Melayu, Bugis, Minang, Madura)","mensimulasikan contoh seni budaya lokal(Wayang, Kasidah, dan Hadrah)","mensimulasikan contoh tradisi umat Islam (Jawa, Sunda, Melayu, Bugis, Minang, Madura)",null,null,null,null,null,null,null,null,null,null,null,4]
["PKN09A",{"$f":"IF(kur!$E$12=\"\",\"\",kur!$E$12)","v":"PKN"},{"$f":"IF(kur!$D$12=\"\",\"\",kur!$D$12)","v":"Pendidikan Pancasila dan Kewarganegaaraan"},9,"GANJIL","mendemonstrasikan peran teladan tokoh-tokoh nasional dalam perwujudan Pancasila sebagai dasar negara","menerapkan isi alinea dan pokok pikiran yang terkandung dalam Pembukaan Undang-Undang Dasar Negara Republik Indonesia Tahun 1945","mewujudkan prinsip-prinsip kedaulatan sesuai Undang-Undang Dasar Negara Republik Indonesia Tahun 1945","mendukung peran mediator  penyelesaian masalah keberagaman suku, agama, ras, dan antargolongan (SARA) dalam bingkai Bhinneka Tunggal Ika","mendukung peran mediator penyelesaian masalah sosial, budaya, ekonomi, dan gender dalam bingkai Bhinneka Tunggal Ika","mendemonstrasikan peran para pahlawan untuk cinta tanah  air/bela negara dalam konteks Negara Kesatuan Republik Indonesia",null,null,null,null,null,null,null,null,null,6]
["PKN09B",{"$f":"IF(kur!$E$12=\"\",\"\",kur!$E$12)","v":"PKN"},{"$f":"IF(kur!$D$12=\"\",\"\",kur!$D$12)","v":"Pendidikan Pancasila dan Kewarganegaaraan"},9,"GENAP","mendemonstrasikan peran teladan tokoh-tokoh nasional dalam perwujudan Pancasila sebagai dasar negara","menerapkan isi alinea dan pokok pikiran yang terkandung dalam Pembukaan Undang-Undang Dasar Negara Republik Indonesia Tahun 1945","mewujudkan prinsip-prinsip kedaulatan sesuai Undang-Undang Dasar Negara Republik Indonesia Tahun 1945","mendukung peran mediator  penyelesaian masalah keberagaman suku, agama, ras, dan antargolongan (SARA) dalam bingkai Bhinneka Tunggal Ika","mendukung peran mediator penyelesaian masalah sosial, budaya, ekonomi, dan gender dalam bingkai Bhinneka Tunggal Ika","mendemonstrasikan peran para pahlawan untuk cinta tanah  air/bela negara dalam konteks Negara Kesatuan Republik Indonesia",null,null,null,null,null,null,null,null,null,6]
["BIN09A",{"$f":"IF(kur!$E$13=\"\",\"\",kur!$E$13)","v":"BIN"},{"$f":"IF(kur!$D$13=\"\",\"\",kur!$D$13)","v":"Bahasa Indonesia"},9,"GANJIL","menyimpulkan tujuan, bahan/ alat, langkah, dan hasil dalam laporan percobaan yang didengar dan/atau dibaca  ","menyajikan tujuan, bahan/ alat, langkah, dan hasil dalam laporan percobaan  secara tulis dan lisan dengan memperhatikan kelengkapan data, struktur, aspek  kebahasaan, dan aspek lisan ","menyimpulkan gagasan, pandangan, arahan, atau pesan dalam pidato (lingkungan hidup, kondisi sosial, dan/atau keragaman budaya) yang didengar dan/atau dibaca ","menuangkan gagasan, pikiran, arahan atau pesan dalam pidato (lingkungan hidup, kondisi sosial, dan/atau keragaman budaya) secara lisan dan/atau tulis dengan memperhatikan struktur dan kebahasaan","menyimpulkan unsur-unsur pembangun karya sastra dengan bukti yang mendukung dari cerita pendek yang dibaca atau didengar ","mengungkapkan pengalaman dan gagasan dalam bentuk cerita pendek dengan memperhatikan struktur dan kebahasaan ","menyimpulkan isi teks  tanggapan berupa  kritik, sanggahan, atau pujian  (mengenai lingkungan hidup, kondisi sosial, dan/atau keragaman budaya) yang didengar dan dibaca ","mengungkapkan  kritik, sanggahan, atau pujian dalam bentuk teks tanggapan  secara lisan dan/atau tulis dengan memperhatikan struktur dan kebahasaan ","menyimpulkan isi gagasan, pendapat, argumen yang mendukung dan yang kontra serta solusi atas permasalahan aktual  dalam teks diskusi yang didengar dan dibaca ","menyajikan gagasan/pendapat, argumen yang mendukung dan yang kontra serta solusi atas permasalahan aktual  dalam teks diskusi dengan memperhatikan struktur dan aspek  kebahasaan, dan aspek lisan (intonasi, gesture, pelafalan) ",null,null,null,null,null,10]
["BIN09B",{"$f":"IF(kur!$E$13=\"\",\"\",kur!$E$13)","v":"BIN"},{"$f":"IF(kur!$D$13=\"\",\"\",kur!$D$13)","v":"Bahasa Indonesia"},9,"GENAP","menyimpulkan tujuan, bahan/ alat, langkah, dan hasil dalam laporan percobaan yang didengar dan/atau dibaca  ","menyajikan tujuan, bahan/ alat, langkah, dan hasil dalam laporan percobaan  secara tulis dan lisan dengan memperhatikan kelengkapan data, struktur, aspek  kebahasaan, dan aspek lisan ","menyimpulkan gagasan, pandangan, arahan, atau pesan dalam pidato (lingkungan hidup, kondisi sosial, dan/atau keragaman budaya) yang didengar dan/atau dibaca ","menuangkan gagasan, pikiran, arahan atau pesan dalam pidato (lingkungan hidup, kondisi sosial, dan/atau keragaman budaya) secara lisan dan/atau tulis dengan memperhatikan struktur dan kebahasaan","menyimpulkan unsur-unsur pembangun karya sastra dengan bukti yang mendukung dari cerita pendek yang dibaca atau didengar ","mengungkapkan pengalaman dan gagasan dalam bentuk cerita pendek dengan memperhatikan struktur dan kebahasaan ","menyimpulkan isi teks  tanggapan berupa  kritik, sanggahan, atau pujian  (mengenai lingkungan hidup, kondisi sosial, dan/atau keragaman budaya) yang didengar dan dibaca ","mengungkapkan  kritik, sanggahan, atau pujian dalam bentuk teks tanggapan  secara lisan dan/atau tulis dengan memperhatikan struktur dan kebahasaan ","menyimpulkan isi gagasan, pendapat, argumen yang mendukung dan yang kontra serta solusi atas permasalahan aktual  dalam teks diskusi yang didengar dan dibaca ","menyajikan gagasan/pendapat, argumen yang mendukung dan yang kontra serta solusi atas permasalahan aktual  dalam teks diskusi dengan memperhatikan struktur dan aspek  kebahasaan, dan aspek lisan (intonasi, gesture, pelafalan) ",null,null,null,null,null,10]
["MTK09A",{"$f":"IF(kur!$E$14=\"\",\"\",kur!$E$14)","v":"MTK"},{"$f":"IF(kur!$D$14=\"\",\"\",kur!$D$14)","v":"Matematika"},9,"GANJIL","menyelesaikan masalah yang berkaitan dengan sifat-sifat operasi bilangan berpangkat bulat dan bentuk akar ","menyelesaikan masalah yang berkaitan dengan persamaan kuadrat  ","menyajikan fungsi kuadrat  menggunakan tabel, persamaan, dan grafik ","menyajikan dan menyelesaikan masalah kontekstual dengan menggunakan sifat-sifat fungsi kuadrat  ","menyelesaikan masalah kontekstual yang berkaitan dengantransformasi geometri (refleksi, translasi, rotasi, dan dilatasi)  ","menyelesaikan masalah yang berkaitan dengan kesebangunan dan kekongruenan antar bangun datar  ","menyelesaikan masalah kontekstual yang berkaitan denganluas permukaan dan volume bangun ruang sisi lengkung (tabung, kerucut, dan bola), serta gabungan beberapa bangun ruang sisi lengkung ",null,null,null,null,null,null,null,null,7]
["MTK09B",{"$f":"IF(kur!$E$14=\"\",\"\",kur!$E$14)","v":"MTK"},{"$f":"IF(kur!$D$14=\"\",\"\",kur!$D$14)","v":"Matematika"},9,"GENAP","menyelesaikan masalah yang berkaitan dengan sifat-sifat operasi bilangan berpangkat bulat dan bentuk akar  ","menyelesaikan masalah yang berkaitan dengan persamaan kuadrat  ","menyajikan fungsi kuadrat  menggunakan tabel, persamaan, dan grafik ","menyajikan dan menyelesaikan masalah kontekstual dengan menggunakan sifat-sifat fungsi kuadrat  ","menyelesaikan masalah kontekstual yang berkaitan dengantransformasi geometri (refleksi, translasi, rotasi, dan dilatasi)  ","menyelesaikan masalah yang berkaitan dengan kesebangunan dan kekongruenan antar bangun datar  ","menyelesaikan masalah kontekstual yang berkaitan denganluas permukaan dan volume bangun ruang sisi lengkung (tabung, kerucut, dan bola), serta gabungan beberapa bangun ruang sisi lengkung ",null,null,null,null,null,null,null,null,7]
["IPA09A",{"$f":"IF(kur!$E$15=\"\",\"\",kur!$E$15)","v":"IPA"},{"$f":"IF(kur!$D$15=\"\",\"\",kur!$D$15)","v":"Ilmu Pengetahuan Alam"},9,"GANJIL","menyajikan hasil penelusuran informasi dari berbagai sumber terkait kesehatan dan upaya \npencegahan gangguan pada organ reproduksi ","menyajikan karya hasil perkembangbiakan pada \ntumbuhan ","menyajikan hasil penelusuran informasi dari berbagai sumber terkait tentang tanaman dan hewan hasil pemuliaan ","menyajikan hasil pengamatan tentang gejala listrik statis dalam kehidupan sehari-hari","menyajikan hasil rancangan dan pengukuran berbagai rangkaian listrik ","membuat karya sederhana yang memanfaatkan prinsip elektromagnet dan/atau induksi elektromagnetik ","membuat salah satu produk bioteknologi konvensional yang ada di lingkungan sekitar ","menyajikan hasil penyelidikan tentang sifat dan pemanfaatan bahan dalam kehidupan sehari-hari ","menyajikan hasil penyelidikan tentang sifat-sifat tanah dan pentingnya tanah bagi kehidupan \n","menyajikan karya tentang proses dan produk teknologi sederhana yang  ramah lingkungan ",null,null,null,null,null,10]
["IPA09B",{"$f":"IF(kur!$E$15=\"\",\"\",kur!$E$15)","v":"IPA"},{"$f":"IF(kur!$D$15=\"\",\"\",kur!$D$15)","v":"Ilmu Pengetahuan Alam"},9,"GENAP","menyajikan hasil penelusuran informasi dari berbagai sumber terkait kesehatan dan upaya \npencegahan gangguan pada organ reproduksi ","menyajikan karya hasil perkembangbiakan pada \ntumbuhan ","menyajikan hasil penelusuran informasi dari berbagai sumber terkait tentang tanaman dan hewan hasil pemuliaan ","menyajikan hasil pengamatan tentang gejala listrik statis dalam kehidupan sehari-hari","menyajikan hasil rancangan dan pengukuran berbagai rangkaian listrik ","membuat karya sederhana yang memanfaatkan prinsip elektromagnet dan/atau induksi elektromagnetik ","membuat salah satu produk bioteknologi konvensional yang ada di lingkungan sekitar ","menyajikan hasil penyelidikan tentang sifat dan pemanfaatan bahan dalam kehidupan sehari-hari ","menyajikan hasil penyelidikan tentang sifat-sifat tanah dan pentingnya tanah bagi kehidupan \n","menyajikan karya tentang proses dan produk teknologi sederhana yang  ramah lingkungan ",null,null,null,null,null,10]
["IPS09A",{"$f":"IF(kur!$E$16=\"\",\"\",kur!$E$16)","v":"IPS"},{"$f":"IF(kur!$D$16=\"\",\"\",kur!$D$16)","v":"Ilmu Pengetahuan Sosial"},9,"GANJIL","menyajikan hasil telaah tentang perubahan keruangan dan interaksi antarruang negara-negara Asia danbenua lainnya yang diakibatkan faktor alam, manusia dan pengaruhnya terhada keberlangsungan kehidupan manusia dalam ekonomi, sosial,pendidikan dan politik","menyajikan hasil analisis tentang perubahan kehidupan sosial budaya Bangsa Indonesia dalam menghadapi arus globalisasi untuk memperkokoh kehidupan kebangsaan  ","menyajikan hasil analisis tentang ketergantungan antarruang dilihat dari konsep ekonomi (produksi, distribusi, konsumsi, harga,pasar) dan pengaruhnya terhadap migrasi penduduk, transportasi, lembaga sosial dan ekonomi, pekerjaan, pendidikan, dan kesejahteraan masyarakat \n\n","menyajikan hasil analisis kronologi, perubahan dan kesinambungan ruang (geografis, politik, ekonomi, pendidikan, sosial, budaya) dari awal kemerdekaan sampai awal reformasi ",null,null,null,null,null,null,null,null,null,null,null,4]
["IPS09B",{"$f":"IF(kur!$E$16=\"\",\"\",kur!$E$16)","v":"IPS"},{"$f":"IF(kur!$D$16=\"\",\"\",kur!$D$16)","v":"Ilmu Pengetahuan Sosial"},9,"GENAP","menyajikan hasil telaah tentang perubahan keruangan dan interaksi antarruang negara-negara Asia danbenua lainnya yang diakibatkan faktor alam, manusia dan pengaruhnya terhada keberlangsungan kehidupan manusia dalam ekonomi, sosial,pendidikan dan politik","menyajikan hasil analisis tentang perubahan kehidupan sosial budaya Bangsa Indonesia dalam menghadapi arus globalisasi untuk memperkokoh kehidupan kebangsaan  ","menyajikan hasil analisis tentang ketergantungan antarruang dilihat dari konsep ekonomi (produksi, distribusi, konsumsi, harga,pasar) dan pengaruhnya terhadap migrasi penduduk, transportasi, lembaga sosial dan ekonomi, pekerjaan, pendidikan, dan kesejahteraan masyarakat \n\n","menyajikan hasil analisis kronologi, perubahan dan kesinambungan ruang (geografis, politik, ekonomi, pendidikan, sosial, budaya) dari awal kemerdekaan sampai awal reformasi ",null,null,null,null,null,null,null,null,null,null,null,4]
["SB09A",{"$f":"IF(kur!$E$17=\"\",\"\",kur!$E$17)","v":"SB"},{"$f":"IF(kur!$D$17=\"\",\"\",kur!$D$17)","v":"Seni Budaya "},9,"GANJIL"," membuat karya seni lukis dengan berbagai bahan dan teknik \n\n","membuat karya seni patung dengan berbagai bahan dan teknik ","memeragakan cara menerapkan gerak tari kreasi berdasarkan pola lantai dengan menggunakan unsur pendukung tari \n","mementaskan drama musikal dan/atau operet sesuai konsep, teknik, dan prosedur \n",null,null,null,null,null,null,null,null,null,null,null,4]
["SB09B",{"$f":"IF(kur!$E$17=\"\",\"\",kur!$E$17)","v":"SB"},{"$f":"IF(kur!$D$17=\"\",\"\",kur!$D$17)","v":"Seni Budaya "},9,"GENAP"," membuat karya seni lukis dengan berbagai bahan dan teknik \n\n","membuat karya seni patung dengan berbagai bahan dan teknik ","memeragakan cara menerapkan gerak tari kreasi berdasarkan pola lantai dengan menggunakan unsur pendukung tari \n","mementaskan drama musikal dan/atau operet sesuai konsep, teknik, dan prosedur \n",null,null,null,null,null,null,null,null,null,null,null,4]
["PJ09A",{"$f":"IF(kur!$E$18=\"\",\"\",kur!$E$18)","v":"PJ"},{"$f":"IF(kur!$D$18=\"\",\"\",kur!$D$18)","v":"Pendidikan Jasmani,Olahraga danKesehatan"},9,"GANJIL","mempraktikkan variasi dan kombinasigerak spesifik dalam berbagai permainan bola besar sederhana dan atau tradisional \n\n\n\n","mempraktikkan variasi dan kombinasi gerak spesifik dalam  berbagai permainan bola kecil sederhana dan atau tradisional ","mempraktikkan kombinasi gerak spesifik jalan, lari, lompat, dan lempar dalam berbagai permainan sederhana dan atau tradisional ","mempraktikkan variasidan kombinasi gerak spesifik seni beladiri ","mempraktikkan penyusunan program pengembangan komponen kebugaran jasmani terkait dengan kesehatan dan keterampilan secara sederhana","mempraktikkan kombinasi  keterampilan berbentuk rangkaian gerak sederhana secara konsisten, spesifik senam lantai ","mempraktikkan variasi dan kombinasi gerak berbentuk rangkaian langkah dan ayunan lengan mengikuti irama (ketukan) tanpa/dengan musik sebagai pembentuk gerak pemanasan, inti latihan, dan pendinginan dalam aktivitas gerak berirama \n","mempraktikkan gerak spesifik salah satu gaya renang dalam bentuk perlombaan ","memaparkan tindakan P3K pada kejadian darurat, baik pada diri sendiri maupun orang lain ","memaparkan peran aktivitas fisik terhadap pencegahan penyakit  \n",null,null,null,null,null,10]
["PJ09B",{"$f":"IF(kur!$E$18=\"\",\"\",kur!$E$18)","v":"PJ"},{"$f":"IF(kur!$D$18=\"\",\"\",kur!$D$18)","v":"Pendidikan Jasmani,Olahraga danKesehatan"},9,"GENAP","mempraktikkan variasi dan kombinasigerak spesifik dalam berbagai permainan bola besar sederhana dan atau tradisional \n\n\n\n","mempraktikkan variasi dan kombinasi gerak spesifik dalam  berbagai permainan bola kecil sederhana dan atau tradisional ","mempraktikkan kombinasi gerak spesifik jalan, lari, lompat, dan lempar dalam berbagai permainan sederhana dan atau tradisional ","mempraktikkan variasidan kombinasi gerak spesifik seni beladiri ","mempraktikkan penyusunan program pengembangan komponen kebugaran jasmani terkait dengan kesehatan dan keterampilan secara sederhana","mempraktikkan kombinasi  keterampilan berbentuk rangkaian gerak sederhana secara konsisten, spesifik senam lantai ","mempraktikkan variasi dan kombinasi gerak berbentuk rangkaian langkah dan ayunan lengan mengikuti irama (ketukan) tanpa/dengan musik sebagai pembentuk gerak pemanasan, inti latihan, dan pendinginan dalam aktivitas gerak berirama \n","mempraktikkan gerak spesifik salah satu gaya renang dalam bentuk perlombaan ","memaparkan tindakan P3K pada kejadian darurat, baik pada diri sendiri maupun orang lain ","memaparkan peran aktivitas fisik terhadap pencegahan penyakit  \n",null,null,null,null,null,10]
["BIG09A",{"$f":"IF(kur!$E$19=\"\",\"\",kur!$E$19)","v":"BIG"},{"$f":"IF(kur!$D$19=\"\",\"\",kur!$D$19)","v":"Bahasa Inggris"},9,"GANJIL","menyusun teks interaksi interpersonal lisan dan tulis sangat pendek dan sederhana yang melibatkan tindakan menyatakan harapan, doa, dan ucapan selamat atas suatu kebahagiaan dan prestasi, dan menanggapinya, dengan memperhatikan fungsi sosial, struktur teks, dan unsur kebahasaan yang benar dan sesuai konteks","menyusun teks interaksi transaksional lisan dan tulis sangat pendek dan sederhana yang melibatkan tindakan  memberi dan meminta informasi terkait maksud, tujuan, persetujuan melakukan suatu tindakan/kegiatan, dengan memperhatikan fungsi sosial, struktur teks, dan unsur kebahasaan yang benar dan sesuai konteks","menangkap makna secara kontekstual terkait dengan fungsi sosial, struktur teks, dan unsur kebahasaan teks khusus dalam bentuk label pendek dan sederhana, terkait obat/makanan/minuman ","menangkap makna secara kontekstual terkait fungsi sosial, struktur teks, dan unsur kebahasaan teks prosedur lisan dan tulis,sangat pendek dan sederhana, dalam bentuk resep dan manual ","menyusun teks interaksi transaksional lisan dan tulis sangat pendek dan sederhana yang melibatkan tindakan   memberi dan meminta informasi terkait keadaan/tindakan/ kegiatan/kejadian yang sedang dilakukan/terjadi pada saat ini, waktu lampau, dan waktu yang akan datang, dengan memperhatikan fungsi sosial, struktur teks, dan unsur kebahasaan yang benar dan sesuai konteks","menyusun teks interaksi transaksional lisan dan tulis sangat pendek dan sederhana yang melibatkan tindakan  memberi dan meminta informasi terkait dengan keadaan/ tindakan/kegiatan/ kejadian yang sudah/telah dilakukan/terjadi di waktu lampau dikaitkan dengan keadaan sekarang, tanpa menyebutkan waktu terjadinya secara spesifik, dengan memperhatikan fungsi sosial, struktur teks, dan unsur kebahasaan yang benar dan sesuai konteks \n","menangkap makna secara kontekstual terkait fungsi sosial, struktur teks, dan unsur kebahasaan teks naratif, lisan dan tulis, sangat pendek dan sederhana, terkait fairy  tales",null,null,null,null,null,null,null,null,7]
["BIG09B",{"$f":"IF(kur!$E$19=\"\",\"\",kur!$E$19)","v":"BIG"},{"$f":"IF(kur!$D$19=\"\",\"\",kur!$D$19)","v":"Bahasa Inggris"},9,"GENAP","menyusun teks interaksi interpersonal lisan dan tulis sangat pendek dan sederhana yang melibatkan tindakan menyatakan harapan, doa, dan ucapan selamat atas suatu kebahagiaan dan prestasi, dan menanggapinya, dengan memperhatikan fungsi sosial, struktur teks, dan unsur kebahasaan yang benar dan sesuai konteks","menyusun teks interaksi transaksional lisan dan tulis sangat pendek dan sederhana yang melibatkan tindakan  memberi dan meminta informasi terkait maksud, tujuan, persetujuan melakukan suatu tindakan/kegiatan, dengan memperhatikan fungsi sosial, struktur teks, dan unsur kebahasaan yang benar dan sesuai konteks","menangkap makna secara kontekstual terkait dengan fungsi sosial, struktur teks, dan unsur kebahasaan teks khusus dalam bentuk label pendek dan sederhana, terkait obat/makanan/minuman ","menangkap makna secara kontekstual terkait fungsi sosial, struktur teks, dan unsur kebahasaan teks prosedur lisan dan tulis,sangat pendek dan sederhana, dalam bentuk resep dan manual ","menyusun teks interaksi transaksional lisan dan tulis sangat pendek dan sederhana yang melibatkan tindakan   memberi dan meminta informasi terkait keadaan/tindakan/ kegiatan/kejadian yang sedang dilakukan/terjadi pada saat ini, waktu lampau, dan waktu yang akan datang, dengan memperhatikan fungsi sosial, struktur teks, dan unsur kebahasaan yang benar dan sesuai konteks","menyusun teks interaksi transaksional lisan dan tulis sangat pendek dan sederhana yang melibatkan tindakan  memberi dan meminta informasi terkait dengan keadaan/ tindakan/kegiatan/ kejadian yang sudah/telah dilakukan/terjadi di waktu lampau dikaitkan dengan keadaan sekarang, tanpa menyebutkan waktu terjadinya secara spesifik, dengan memperhatikan fungsi sosial, struktur teks, dan unsur kebahasaan yang benar dan sesuai konteks \n","menangkap makna secara kontekstual terkait fungsi sosial, struktur teks, dan unsur kebahasaan teks naratif, lisan dan tulis, sangat pendek dan sederhana, terkait fairy  tales",null,null,null,null,null,null,null,null,7]
["BM09A",{"$f":"IF(kur!$E$21=\"\",\"\",kur!$E$21)","v":"BM"},{"$f":"IF(kur!$D$21=\"\",\"\",kur!$D$21)","v":"Bahasa Madura"},9,"GANJIL","menyusun teks (dalam bentuk laporan/berita) untulk menyatakan pendapat dan memberi tanggapan sesuai konteks","melakukan kegiatan bermain peran drana tradisional (wayang/topeng dhalang/kethoprak/ludruk)","melakukan kegiatan bermain peran dranma modern","berpidato atau menjadi pewara pada suatu kegiatan sekolah sesuai konteks","menulis laporan kegiatan sesuai kaidah",null,null,null,null,null,null,null,null,null,null,5]
["BM09B",{"$f":"IF(kur!$E$21=\"\",\"\",kur!$E$21)","v":"BM"},{"$f":"IF(kur!$D$21=\"\",\"\",kur!$D$21)","v":"Bahasa Madura"},9,"GENAP","menyusun teks (dalam bentuk laporan/berita) untulk menyatakan pendapat dan memberi tanggapan sesuai konteks","melakukan kegiatan bermain peran drana tradisional (wayang/topeng dhalang/kethoprak/ludruk)","melakukan kegiatan bermain peran dranma modern","berpidato atau menjadi pewara pada suatu kegiatan sekolah sesuai konteks","menulis laporan kegiatan sesuai kaidah",null,null,null,null,null,null,null,null,null,null,5]
[{"$f":"$B522 & TEXT($D522,\"00\") & IF($E522=\"GANJIL\",\"A\",\"B\")","v":"09A"},{"$f":"IF(kur!$E$22=\"\",\"\",kur!$E$22)","v":""},{"$f":"IF(kur!$D$22=\"\",\"\",kur!$D$22)","v":""},9,"GANJIL",null,null,null,null,null,null,null,null,null,null,null,null,null,null,null,{"$f":"COUNTA($F522:$T522)","v":0}]
[{"$f":"$B523 & TEXT($D523,\"00\") & IF($E523=\"GANJIL\",\"A\",\"B\")","v":"09B"},{"$f":"IF(kur!$E$22=\"\",\"\",kur!$E$22)","v":""},{"$f":"IF(kur!$D$22=\"\",\"\",kur!$D$22)","v":""},9,"GENAP",null,null,null,null,null,null,null,null,null,null,null,null,null,null,null,{"$f":"COUNTA($F523:$T523)","v":0}]
[{"$f":"$B524 & TEXT($D524,\"00\") & IF($E524=\"GANJIL\",\"A\",\"B\")","v":"09A"},{"$f":"IF(kur!$E$23=\"\",\"\",kur!$E$23)","v":""},{"$f":"IF(kur!$D$23=\"\",\"\",kur!$D$23)","v":""},9,"GANJIL",null,null,null,null,null,null,null,null,null,null,null,null,null,null,null,{"$f":"COUNTA($F524:$T524)","v":0}]
[{"$f":"$B525 & TEXT($D525,\"00\") & IF($E525=\"GANJIL\",\"A\",\"B\")","v":"09B"},{"$f":"IF(kur!$E$23=\"\",\"\",kur!$E$23)","v":""},{"$f":"IF(kur!$D$23=\"\",\"\",kur!$D$23)","v":""},9,"GENAP",null,null,null,null,null,null,null,null,null,null,null,null,null,null,null,{"$f":"COUNTA($F525:$T525)","v":0}]

{"sheet":"data","index":4,"n_rows":28,"n_cols":18,"rows_kept":28,"cut":false,"hidden":false,"merged":[[0,0,0,1]]}
["MUATAN PELAJARAN"]
["KODE","PELAJARAN",null,1,"Satu","I","Naik",{"$f":"sekolah!E6","v":121235270083},null,{"$f":"sekolah!$E$20","v":9},1,null,"2016 / 2017"]
[{"$f":"IF(kur!$E6=\"\",\"\",kur!$E6)","v":"AH"},{"$f":"IF(kur!$D6=\"\",\"\",kur!$D6)","v":"Al-Qur'an Hadits"},null,2,"Dua","II","Tidak Naik",{"$f":"LEFT(H2,2)","v":"12"},null,{"$f":"VLOOKUP(J2,kelasku,3,0)","v":"IX"},2,null,"2017 / 2018"]
[{"$f":"IF(kur!$E7=\"\",\"\",kur!$E7)","v":"AA"},{"$f":"IF(kur!$D7=\"\",\"\",kur!$D7)","v":"Akidah Akhlak"},null,3,"Tiga","III",null,{"$f":"IF(H3=\"11\",\"MI\",IF(H3=\"12\",\"MTS\",\"MA\"))","v":"MTS"},null,{"$f":"VLOOKUP($J$2,kelasku,2,0)","v":"Sembilan"},3,null,"2018 / 2019",null,null,null,"111235270132","Nurul Hidayah Putri"]
[{"$f":"IF(kur!$E8=\"\",\"\",kur!$E8)","v":"FK"},{"$f":"IF(kur!$D8=\"\",\"\",kur!$D8)","v":"Fikih"},null,4,"Empat","IV",null,null,null,{"$f":"\" ( \"&$J$4&\" ) \"","v":" ( Sembilan ) "},4,null,"2019 / 2020",null,null,null,"111235270133","Nurul Hidayah "]
[{"$f":"IF(kur!$E9=\"\",\"\",kur!$E9)","v":"BA"},{"$f":"IF(kur!$D9=\"\",\"\",kur!$D9)","v":"Bahasa Arab"},null,5,"Lima","V",null,"MULTI KKM",null,null,5,null,"2020 / 2021",null,null,null,"121235270083","Nurul Hidayah "]
[{"$f":"IF(kur!$E10=\"\",\"\",kur!$E10)","v":"SKI"},{"$f":"IF(kur!$D10=\"\",\"\",kur!$D10)","v":"Sejarah Kebudayaan Islam"},null,6,"Enam","VI",null,"SATU KKM","SB",null,6,null,"2021 / 2022",null,null,null,"131235270045"]
[{"$f":"IF(kur!$E12=\"\",\"\",kur!$E12)","v":"PKN"},{"$f":"IF(kur!$D12=\"\",\"\",kur!$D12)","v":"Pendidikan Pancasila dan Kewarganegaaraan"},null,7,"Tujuh","VII",null,null,"B","A",7]
[{"$f":"IF(kur!$E13=\"\",\"\",kur!$E13)","v":"BIN"},{"$f":"IF(kur!$D13=\"\",\"\",kur!$D13)","v":"Bahasa Indonesia"},null,8,"Delapan","VIII",null,"Ganjil","C","B",8]
[{"$f":"IF(kur!$E14=\"\",\"\",kur!$E14)","v":"MTK"},{"$f":"IF(kur!$D14=\"\",\"\",kur!$D14)","v":"Matematika"},null,9,"Sembilan","IX",null,"Genap","PB","C",9]
[{"$f":"IF(kur!$E15=\"\",\"\",kur!$E15)","v":"IPA"},{"$f":"IF(kur!$D15=\"\",\"\",kur!$D15)","v":"Ilmu Pengetahuan Alam"},null,10,"Sepuluh","X",null,null,null,"D"]
[{"$f":"IF(kur!$E16=\"\",\"\",kur!$E16)","v":"IPS"},{"$f":"IF(kur!$D16=\"\",\"\",kur!$D16)","v":"Ilmu Pengetahuan Sosial"},null,null,null,null,null,null,null,"E"]
[{"$f":"IF(kur!$E17=\"\",\"\",kur!$E17)","v":"SB"},{"$f":"IF(kur!$D17=\"\",\"\",kur!$D17)","v":"Seni Budaya "},null,null,null,null,null,null,null,"F"]
[{"$f":"IF(kur!$E18=\"\",\"\",kur!$E18)","v":"PJ"},{"$f":"IF(kur!$D18=\"\",\"\",kur!$D18)","v":"Pendidikan Jasmani,Olahraga danKesehatan"}]
[{"$f":"IF(kur!$E19=\"\",\"\",kur!$E19)","v":"BIG"},{"$f":"IF(kur!$D19=\"\",\"\",kur!$D19)","v":"Bahasa Inggris"}]
[{"$f":"IF(kur!$E21=\"\",\"\",kur!$E21)","v":"BM"},{"$f":"IF(kur!$D21=\"\",\"\",kur!$D21)","v":"Bahasa Madura"}]
[{"$f":"IF(kur!$E22=\"\",\"\",kur!$E22)","v":""},{"$f":"IF(kur!$D22=\"\",\"\",kur!$D22)","v":""}]
[{"$f":"IF(kur!$E23=\"\",\"\",kur!$E23)","v":""},{"$f":"IF(kur!$D23=\"\",\"\",kur!$D23)","v":""}]
[null,{"$f":"IF(kur!$D24=\"\",\"\",kur!$D24)","v":""}]
[null,{"$f":"IF(kur!$D25=\"\",\"\",kur!$D25)","v":""}]
[]
[null,"ASPEK","ASPEK KI-2"]
[null,{"$f":"kur!K9","v":"ketaatan beribadah"},{"$f":"kur!N9","v":"jujur"}]
[null,{"$f":"kur!K10","v":"perilaku bersyukur"},{"$f":"kur!N10","v":"disiplin"}]
[null,{"$f":"kur!K11","v":"kebiasaan berdoa sebelum belajar"},{"$f":"kur!N11","v":"tanggung jawab"}]
[null,{"$f":"kur!K12","v":"meyakini kebesaran / anugerah Allah"},{"$f":"kur!N12","v":"peduli"}]
[null,{"$f":"kur!K13","v":"toleransi beribadah"},{"$f":"kur!N13","v":"santun"}]
[null,{"$f":"kur!K14","v":"kebiasaan mengucapkan salam"},{"$f":"kur!N14","v":"percaya diri"}]

{"sheet":"KI","index":5,"n_rows":159,"n_cols":122,"rows_kept":159,"cut":false,"hidden":true,"merged":[[56,52,57,58],[56,59,57,65],[56,38,57,44],[56,45,57,51],[3,17,4,18],[3,19,4,19],[3,32,4,32],[56,31,57,37],[3,33,5,33],[3,31,4,31],[3,62,4,68],[56,10,57,16],[56,17,57,23],[56,24,57,30],[3,11,4,11],[3,12,4,12],[3,13,4,13],[3,10,4,10],[3,24,4,24],[3,25,5,25],[3,27,4,27],[3,28,4,28],[3,29,4,29],[3,30,4,30],[3,15,4,15],[3,14,4,14],[3,16,5,16],[3,0,4,1],[3,20,4,20],[3,21,4,21],[3,22,4,22],[3,23,4,23],[3,2,4,2],[3,3,4,3],[3,4,4,4],[3,5,4,5],[3,6,4,6],[3,7,4,7],[3,8,5,8],[3,69,4,75],[3,76,4,82],[3,83,4,89],[3,34,4,40],[3,41,4,47],[3,48,4,54],[3,55,4,61]]}
[]
[]
[]
["ASPEK YANG DINILAI",null,{"$f":"kur!$K9","v":"ketaatan beribadah"},{"$f":"kur!$K10","v":"perilaku bersyukur"},{"$f":"kur!$K11","v":"kebiasaan berdoa sebelum belajar"},{"$f":"kur!$K12","v":"meyakini kebesaran / anugerah Allah"},{"$f":"kur!$K13","v":"toleransi beribadah"},{"$f":"kur!$K14","v":"kebiasaan mengucapkan salam"},"DESKRIPSI",null,{"$f":"kur!$N9","v":"jujur"},{"$f":"kur!$N10","v":"disiplin"},{"$f":"kur!$N11","v":"tanggung jawab"},{"$f":"kur!$N12","v":"peduli"},{"$f":"kur!$N13","v":"santun"},{"$f":"kur!$N14","v":"percaya diri"},"DESKRIPSI","ASPEK YANG DINILAI",null,{"$f":"kur!$K9","v":"ketaatan beribadah"},{"$f":"kur!$K10","v":"perilaku bersyukur"},{"$f":"kur!$K11","v":"kebiasaan berdoa sebelum belajar"},{"$f":"kur!$K12","v":"meyakini kebesaran / anugerah Allah"},{"$f":"kur!$K13","v":"toleransi beribadah"},{"$f":"kur!$K14","v":"kebiasaan mengucapkan salam"},"DESKRIPSI",null,{"$f":"kur!$N9","v":"jujur"},{"$f":"kur!$N10","v":"disiplin"},{"$f":"kur!$N11","v":"tanggung jawab"},{"$f":"kur!$N12","v":"peduli"},{"$f":"kur!$N13","v":"santun"},{"$f":"kur!$N14","v":"percaya diri"},"DESKRIPSI","SANGAT BAIK",null,null,null,null,null,null,"BAIK",null,null,null,null,null,null,"CUKUP BAIK",null,null,null,null,null,null,"PERLU BIMBINGAN",null,null,null,null,null,null,"SANGAT BAIK",null,null,null,null,null,null,"BAIK",null,null,null,null,null,null,"CUKUP BAIK",null,null,null,null,null,null,"PERLU BIMBINGAN"]
[]
["NO","NAMA SISWA","ASPEK 1","ASPEK 2","ASPEK 3","ASPEK 4","ASPEK 5","ASPEK 6",null,null,"ASPEK 1","ASPEK 2","ASPEK 3","ASPEK 4","ASPEK 5","ASPEK 6",null,"NO","NAMA SISWA","ASPEK 1","ASPEK 2","ASPEK 3","ASPEK 4","ASPEK 5","ASPEK 6",null,null,"ASPEK 1","ASPEK 2","ASPEK 3","ASPEK 4","ASPEK 5","ASPEK 6",null,"ASPEK 1","ASPEK 2","ASPEK 3","ASPEK 4","ASPEK 5","ASPEK 6","FINAL","ASPEK 1","ASPEK 2","ASPEK 3","ASPEK 4","ASPEK 5","ASPEK 6","FINAL","ASPEK 1","ASPEK 2","ASPEK 3","ASPEK 4","ASPEK 5","ASPEK 6","FINAL","ASPEK 1","ASPEK 2","ASPEK 3","ASPEK 4","ASPEK 5","ASPEK 6","FINAL","ASPEK 1","ASPEK 2","ASPEK 3","ASPEK 4","ASPEK 5","ASPEK 6","FINAL","ASPEK 1","ASPEK 2","ASPEK 3","ASPEK 4","ASPEK 5","ASPEK 6","FINAL","ASPEK 1","ASPEK 2","ASPEK 3","ASPEK 4","ASPEK 5","ASPEK 6","FINAL","ASPEK 1","ASPEK 2","ASPEK 3","ASPEK 4","ASPEK 5","ASPEK 6","FINAL"]
[{"$f":"Database!$A4","v":1},{"$f":"IF(Database!$D4=\"\",\"\",Database!$D4)","v":"jaya"},null,null,null,"B",null,null,{"$f":"IFERROR(SUBSTITUTE(CONCATENATE(\"Ananda \",PROPER($B7),\" \",Q60,X60,AE60,AL60),\",\",\".\",LEN(CONCATENATE(\"Ananda \",PROPER($B7),\" \",Q60,X60,AE60,AL60))-LEN(SUBSTITUTE(CONCATENATE(\"Ananda \",PROPER($B7),\" \",Q60,X60,AE60,AL60),\",\",\"\"))),\"\")","v":"Ananda Jaya BAIK dalam meyakini kebesaran / anugerah Allah. "},{"$f":"IF(K60=\"\",\"\",IF(L60=\"\",\"\",IF(M60=\"\",\"\",IF(N60=\"\",\"\",IF(O60=\",\"\",IF(P8=\"\",\"\"\",1)))))","v":""},"PB","B","C","PB","B","SB",{"$f":"IFERROR(SUBSTITUTE(CONCATENATE(\"Ananda \",PROPER($B7),\" \",AS60,AZ60,BG60,BN60),\",\",\".\",LEN(CONCATENATE(\"Ananda \",PROPER($B7),\" \",AS60,AZ60,BG60,BN60))-LEN(SUBSTITUTE(CONCATENATE(\"Ananda \",PROPER($B7),\" \",AS60,AZ60,BG60,BN60),\",\",\"\"))),\"\")","v":"Ananda Jaya SANGAT BAIK dalam percaya diri, BAIK dalam disiplin, santun, CUKUP BAIK dalam tanggung jawab, PERLU BIMBINGAN dalam jujur, peduli. "},{"$f":"Database!$A4","v":1},{"$f":"IF(Database!$D4=\"\",\"\",Database!$D4)","v":"jaya"},"B","C","SB","PB","C","SB",{"$f":"IFERROR(SUBSTITUTE(CONCATENATE(\"Ananda \",PROPER($S7),\" \",AO7,AV7,BC7,BJ7),\",\",\".\",LEN(CONCATENATE(\"Ananda \",PROPER($S7),\" \",AO7,AV7,BC7,BJ7))-LEN(SUBSTITUTE(CONCATENATE(\"Ananda \",PROPER($S7),\" \",AO7,AV7,BC7,BJ7),\",\",\"\"))),\"\")","v":"Ananda Jaya SANGAT BAIK dalam kebiasaan berdoa sebelum belajar, kebiasaan mengucapkan salam, BAIK dalam ketaatan beribadah, CUKUP BAIK dalam perilaku bersyukur, toleransi beribadah, PERLU BIMBINGAN dalam meyakini kebesaran / anugerah Allah. "},null,"PB","C",null,"SB",null,"B",{"$f":"IFERROR(SUBSTITUTE(CONCATENATE(\"Ananda \",PROPER($B7),\" \",BQ7,BX7,CE7,CL7),\",\",\".\",LEN(CONCATENATE(\"Ananda \",PROPER($B7),\" \",BQ7,BX7,CE7,CL7))-LEN(SUBSTITUTE(CONCATENATE(\"Ananda \",PROPER($B7),\" \",BQ7,BX7,CE7,CL7),\",\",\"\"))),\"\")","v":"Ananda Jaya SANGAT BAIK dalam peduli, BAIK dalam percaya diri, CUKUP BAIK dalam disiplin, PERLU BIMBINGAN dalam jujur. "},{"$f":"IF(T7=\"SB\",INDEX(aspek.ki1,RIGHT(AI$6)*1),\"\")","v":""},"","kebiasaan berdoa sebelum belajar","","","kebiasaan mengucapkan salam",{"$f":"IF(BU110<1,\"\",IF(COUNTA($AP7:$AU7),CONCATENATE(AI$4,\" dalam \",IF(LEN(AI7),AI7&\", \",\"\"),IF(LEN(AJ7),AJ7&\", \",\"\"),IF(LEN(AK7),AK7&\", \",\"\"),IF(LEN(AL7),AL7&\", \",\"\"),IF(LEN(AM7),AM7&\", \",\"\"),IF(LEN(AN7),AN7&\", \",\"\")),\"\"))","v":"SANGAT BAIK dalam kebiasaan berdoa sebelum belajar, kebiasaan mengucapkan salam, "},{"$f":"IF(T7=\"B\",INDEX(aspek.ki1,RIGHT(AP$6)*1),\"\")","v":"ketaatan beribadah"},"","","","","",{"$f":"IF(CB110<1,\"\",IF(COUNTA($AP7:$AU7),CONCATENATE(AP$4,\" dalam \",IF(LEN(AP7),AP7&\", \",\"\"),IF(LEN(AQ7),AQ7&\", \",\"\"),IF(LEN(AR7),AR7&\", \",\"\"),IF(LEN(AS7),AS7&\", \",\"\"),IF(LEN(AT7),AT7&\", \",\"\"),IF(LEN(AU7),AU7&\", \",\"\")),\"\"))","v":"BAIK dalam ketaatan beribadah, "},{"$f":"IF(T7=\"C\",INDEX(aspek.ki1,RIGHT(AW$6)*1),\"\")","v":""},"perilaku bersyukur","","","toleransi beribadah","",{"$f":"IF(CI110<1,\"\",IF(COUNTA($AP7:$AU7),CONCATENATE(AW$4,\" dalam \",IF(LEN(AW7),AW7&\", \",\"\"),IF(LEN(AX7),AX7&\", \",\"\"),IF(LEN(AY7),AY7&\", \",\"\"),IF(LEN(AZ7),AZ7&\", \",\"\"),IF(LEN(BA7),BA7&\", \",\"\"),IF(LEN(BB7),BB7&\", \",\"\")),\"\"))","v":"CUKUP BAIK dalam perilaku bersyukur, toleransi beribadah, "},{"$f":"IF(T7=\"PB\",INDEX(aspek.ki1,RIGHT(BD$6)*1),\"\")","v":""},"","","meyakini kebesaran / anugerah Allah","","",{"$f":"IF(CP110<1,\"\",IF(COUNTA($AP7:$AU7),CONCATENATE(BD$4,\" dalam \",IF(LEN(BD7),BD7&\", \",\"\"),IF(LEN(BE7),BE7&\", \",\"\"),IF(LEN(BF7),BF7&\", \",\"\"),IF(LEN(BG7),BG7&\", \",\"\"),IF(LEN(BH7),BH7&\", \",\"\"),IF(LEN(BI7),BI7&\", \",\"\")),\"\"))","v":"PERLU BIMBINGAN dalam meyakini kebesaran / anugerah Allah, "},{"$f":"IF(AB7=\"SB\",INDEX(aspek.ki2,RIGHT(BK$6)*1),\"\")","v":""},{"$f":"IF(AC7=\"SB\",INDEX(aspek.ki2,RIGHT(BL$6)*1),\"\")","v":""},{"$f":"IF(AD7=\"SB\",INDEX(aspek.ki2,RIGHT(BM$6)*1),\"\")","v":""},{"$f":"IF(AE7=\"SB\",INDEX(aspek.ki2,RIGHT(BN$6)*1),\"\")","v":"peduli"},{"$f":"IF(AF7=\"SB\",INDEX(aspek.ki2,RIGHT(BO$6)*1),\"\")","v":""},{"$f":"IF(AG7=\"SB\",INDEX(aspek.ki2,RIGHT(BP$6)*1),\"\")","v":""},{"$f":"IF(CW110<1,\"\",IF(COUNTA($BR7:$BW7),CONCATENATE(BK$4,\" dalam \",IF(LEN(BK7),BK7&\", \",\"\"),IF(LEN(BL7),BL7&\", \",\"\"),IF(LEN(BM7),BM7&\", \",\"\"),IF(LEN(BN7),BN7&\", \",\"\"),IF(LEN(BO7),BO7&\", \",\"\"),IF(LEN(BP7),BP7&\", \",\"\")),\"\"))","v":"SANGAT BAIK dalam peduli, "},{"$f":"IF(AB7=\"B\",INDEX(aspek.ki2,RIGHT(BR$6)*1),\"\")","v":""},{"$f":"IF(AC7=\"B\",INDEX(aspek.ki2,RIGHT(BS$6)*1),\"\")","v":""},{"$f":"IF(AD7=\"B\",INDEX(aspek.ki2,RIGHT(BT$6)*1),\"\")","v":""},{"$f":"IF(AE7=\"B\",INDEX(aspek.ki2,RIGHT(BU$6)*1),\"\")","v":""},{"$f":"IF(AF7=\"B\",INDEX(aspek.ki2,RIGHT(BV$6)*1),\"\")","v":""},{"$f":"IF(AG7=\"B\",INDEX(aspek.ki2,RIGHT(BW$6)*1),\"\")","v":"percaya diri"},{"$f":"IF(DD110<1,\"\",IF(COUNTA($BR7:$BW7),CONCATENATE(BR$4,\" dalam \",IF(LEN(BR7),BR7&\", \",\"\"),IF(LEN(BS7),BS7&\", \",\"\"),IF(LEN(BT7),BT7&\", \",\"\"),IF(LEN(BU7),BU7&\", \",\"\"),IF(LEN(BV7),BV7&\", \",\"\"),IF(LEN(BW7),BW7&\", \",\"\")),\"\"))","v":"BAIK dalam percaya diri, "},{"$f":"IF(AB7=\"C\",INDEX(aspek.ki2,RIGHT(BY$6)*1),\"\")","v":""},{"$f":"IF(AC7=\"C\",INDEX(aspek.ki2,RIGHT(BZ$6)*1),\"\")","v":"disiplin"},{"$f":"IF(AD7=\"C\",INDEX(aspek.ki2,RIGHT(CA$6)*1),\"\")","v":""},{"$f":"IF(AE7=\"C\",INDEX(aspek.ki2,RIGHT(CB$6)*1),\"\")","v":""},{"$f":"IF(AF7=\"C\",INDEX(aspek.ki2,RIGHT(CC$6)*1),\"\")","v":""},{"$f":"IF(AG7=\"C\",INDEX(aspek.ki2,RIGHT(CD$6)*1),\"\")","v":""},{"$f":"IF(DK110<1,\"\",IF(COUNTA($BR7:$BW7),CONCATENATE(BY$4,\" dalam \",IF(LEN(BY7),BY7&\", \",\"\"),IF(LEN(BZ7),BZ7&\", \",\"\"),IF(LEN(CA7),CA7&\", \",\"\"),IF(LEN(CB7),CB7&\", \",\"\"),IF(LEN(CC7),CC7&\", \",\"\"),IF(LEN(CD7),CD7&\", \",\"\")),\"\"))","v":"CUKUP BAIK dalam disiplin, "},{"$f":"IF(AB7=\"PB\",INDEX(aspek.ki2,RIGHT(CF$6)*1),\"\")","v":"jujur"},{"$f":"IF(AC7=\"PB\",INDEX(aspek.ki2,RIGHT(CG$6)*1),\"\")","v":""},{"$f":"IF(AD7=\"PB\",INDEX(aspek.ki2,RIGHT(CH$6)*1),\"\")","v":""},{"$f":"IF(AE7=\"PB\",INDEX(aspek.ki2,RIGHT(CI$6)*1),\"\")","v":""},{"$f":"IF(AF7=\"PB\",INDEX(aspek.ki2,RIGHT(CJ$6)*1),\"\")","v":""},{"$f":"IF(AG7=\"PB\",INDEX(aspek.ki2,RIGHT(CK$6)*1),\"\")","v":""},{"$f":"IF(DR110<1,\"\",IF(COUNTA($BR7:$BW7),CONCATENATE(CF$4,\" dalam \",IF(LEN(CF7),CF7&\", \",\"\"),IF(LEN(CG7),CG7&\", \",\"\"),IF(LEN(CH7),CH7&\", \",\"\"),IF(LEN(CI7),CI7&\", \",\"\"),IF(LEN(CJ7),CJ7&\", \",\"\"),IF(LEN(CK7),CK7&\", \",\"\")),\"\"))","v":"PERLU BIMBINGAN dalam jujur, "}]
[{"$f":"Database!$A5","v":2},{"$f":"IF(Database!$D5=\"\",\"\",Database!$D5)","v":"IMG_CTV"},null,null,null,null,null,null,"",null,null,null,null,null,null,null,"",{"$f":"Database!$A5","v":2},{"$f":"IF(Database!$D5=\"\",\"\",Database!$D5)","v":"IMG_CTV"},null,null,null,null,null,null,"",null,null,null,null,null,null,null,"",{"$f":"IF(T8=\"SB\",INDEX(aspek.ki1,RIGHT(AI$6)*1),\"\")","v":""},{"$f":"IF(U8=\"SB\",INDEX(aspek.ki1,RIGHT(AJ$6)*1),\"\")","v":""},{"$f":"IF(V8=\"SB\",INDEX(aspek.ki1,RIGHT(AK$6)*1),\"\")","v":""},{"$f":"IF(W8=\"SB\",INDEX(aspek.ki1,RIGHT(AL$6)*1),\"\")","v":""},{"$f":"IF(X8=\"SB\",INDEX(aspek.ki1,RIGHT(AM$6)*1),\"\")","v":""},{"$f":"IF(Y8=\"SB\",INDEX(aspek.ki1,RIGHT(AN$6)*1),\"\")","v":""},{"$f":"IF(BU111<1,\"\",IF(COUNTA($AP8:$AU8),CONCATENATE(AI$4,\" dalam \",IF(LEN(AI8),AI8&\", \",\"\"),IF(LEN(AJ8),AJ8&\", \",\"\"),IF(LEN(AK8),AK8&\", \",\"\"),IF(LEN(AL8),AL8&\", \",\"\"),IF(LEN(AM8),AM8&\", \",\"\"),IF(LEN(AN8),AN8&\", \",\"\")),\"\"))","v":""},{"$f":"IF(T8=\"B\",INDEX(aspek.ki1,RIGHT(AP$6)*1),\"\")","v":""},{"$f":"IF(U8=\"B\",INDEX(aspek.ki1,RIGHT(AQ$6)*1),\"\")","v":""},{"$f":"IF(V8=\"B\",INDEX(aspek.ki1,RIGHT(AR$6)*1),\"\")","v":""},{"$f":"IF(W8=\"B\",INDEX(aspek.ki1,RIGHT(AS$6)*1),\"\")","v":""},{"$f":"IF(X8=\"B\",INDEX(aspek.ki1,RIGHT(AT$6)*1),\"\")","v":""},{"$f":"IF(Y8=\"B\",INDEX(aspek.ki1,RIGHT(AU$6)*1),\"\")","v":""},{"$f":"IF(CB111<1,\"\",IF(COUNTA($AP8:$AU8),CONCATENATE(AP$4,\" dalam \",IF(LEN(AP8),AP8&\", \",\"\"),IF(LEN(AQ8),AQ8&\", \",\"\"),IF(LEN(AR8),AR8&\", \",\"\"),IF(LEN(AS8),AS8&\", \",\"\"),IF(LEN(AT8),AT8&\", \",\"\"),IF(LEN(AU8),AU8&\", \",\"\")),\"\"))","v":""},{"$f":"IF(T8=\"C\",INDEX(aspek.ki1,RIGHT(AW$6)*1),\"\")","v":""},{"$f":"IF(U8=\"C\",INDEX(aspek.ki1,RIGHT(AX$6)*1),\"\")","v":""},{"$f":"IF(V8=\"C\",INDEX(aspek.ki1,RIGHT(AY$6)*1),\"\")","v":""},{"$f":"IF(W8=\"C\",INDEX(aspek.ki1,RIGHT(AZ$6)*1),\"\")","v":""},{"$f":"IF(X8=\"C\",INDEX(aspek.ki1,RIGHT(BA$6)*1),\"\")","v":""},{"$f":"IF(Y8=\"C\",INDEX(aspek.ki1,RIGHT(BB$6)*1),\"\")","v":""},{"$f":"IF(CI111<1,\"\",IF(COUNTA($AP8:$AU8),CONCATENATE(AW$4,\" dalam \",IF(LEN(AW8),AW8&\", \",\"\"),IF(LEN(AX8),AX8&\", \",\"\"),IF(LEN(AY8),AY8&\", \",\"\"),IF(LEN(AZ8),AZ8&\", \",\"\"),IF(LEN(BA8),BA8&\", \",\"\"),IF(LEN(BB8),BB8&\", \",\"\")),\"\"))","v":""},{"$f":"IF(T8=\"PB\",INDEX(aspek.ki1,RIGHT(BD$6)*1),\"\")","v":""},{"$f":"IF(U8=\"PB\",INDEX(aspek.ki1,RIGHT(BE$6)*1),\"\")","v":""},{"$f":"IF(V8=\"PB\",INDEX(aspek.ki1,RIGHT(BF$6)*1),\"\")","v":""},{"$f":"IF(W8=\"PB\",INDEX(aspek.ki1,RIGHT(BG$6)*1),\"\")","v":""},{"$f":"IF(X8=\"PB\",INDEX(aspek.ki1,RIGHT(BH$6)*1),\"\")","v":""},{"$f":"IF(Y8=\"PB\",INDEX(aspek.ki1,RIGHT(BI$6)*1),\"\")","v":""},{"$f":"IF(CP111<1,\"\",IF(COUNTA($AP8:$AU8),CONCATENATE(BD$4,\" dalam \",IF(LEN(BD8),BD8&\", \",\"\"),IF(LEN(BE8),BE8&\", \",\"\"),IF(LEN(BF8),BF8&\", \",\"\"),IF(LEN(BG8),BG8&\", \",\"\"),IF(LEN(BH8),BH8&\", \",\"\"),IF(LEN(BI8),BI8&\", \",\"\")),\"\"))","v":""},"","","","","","",{"$f":"IF(CW111<1,\"\",IF(COUNTA($BR8:$BW8),CONCATENATE(BK$4,\" dalam \",IF(LEN(BK8),BK8&\", \",\"\"),IF(LEN(BL8),BL8&\", \",\"\"),IF(LEN(BM8),BM8&\", \",\"\"),IF(LEN(BN8),BN8&\", \",\"\"),IF(LEN(BO8),BO8&\", \",\"\"),IF(LEN(BP8),BP8&\", \",\"\")),\"\"))","v":""},"","","","","","",{"$f":"IF(DD111<1,\"\",IF(COUNTA($BR8:$BW8),CONCATENATE(BR$4,\" dalam \",IF(LEN(BR8),BR8&\", \",\"\"),IF(LEN(BS8),BS8&\", \",\"\"),IF(LEN(BT8),BT8&\", \",\"\"),IF(LEN(BU8),BU8&\", \",\"\"),IF(LEN(BV8),BV8&\", \",\"\"),IF(LEN(BW8),BW8&\", \",\"\")),\"\"))","v":""},"","","","","","",{"$f":"IF(DK111<1,\"\",IF(COUNTA($BR8:$BW8),CONCATENATE(BY$4,\" dalam \",IF(LEN(BY8),BY8&\", \",\"\"),IF(LEN(BZ8),BZ8&\", \",\"\"),IF(LEN(CA8),CA8&\", \",\"\"),IF(LEN(CB8),CB8&\", \",\"\"),IF(LEN(CC8),CC8&\", \",\"\"),IF(LEN(CD8),CD8&\", \",\"\")),\"\"))","v":""},"","","","","","",{"$f":"IF(DR111<1,\"\",IF(COUNTA($BR8:$BW8),CONCATENATE(CF$4,\" dalam \",IF(LEN(CF8),CF8&\", \",\"\"),IF(LEN(CG8),CG8&\", \",\"\"),IF(LEN(CH8),CH8&\", \",\"\"),IF(LEN(CI8),CI8&\", \",\"\"),IF(LEN(CJ8),CJ8&\", \",\"\"),IF(LEN(CK8),CK8&\", \",\"\")),\"\"))","v":""}]
[{"$f":"Database!$A6","v":3},{"$f":"IF(Database!$D6=\"\",\"\",Database!$D6)","v":"sadi"},"SB","B","B","PB","SB","C","Ananda Sadi SANGAT BAIK dalam ketaatan beribadah, toleransi beribadah, BAIK dalam perilaku bersyukur, kebiasaan berdoa sebelum belajar, CUKUP BAIK dalam kebiasaan mengucapkan salam, PERLU BIMBINGAN dalam meyakini kebesaran / anugerah Allah. ",{"$f":"IF(K62=\"\",\"\",IF(L62=\"\",\"\",IF(M62=\"\",\"\",IF(N62=\"\",\"\",IF(O62=\",\"\",IF(P8=\"\",\"\"\",1)))))","v":""},"PB","SB","B","C","SB","B","Ananda Sadi SANGAT BAIK dalam disiplin, santun, BAIK dalam tanggung jawab, percaya diri, CUKUP BAIK dalam peduli, PERLU BIMBINGAN dalam jujur. ",{"$f":"Database!$A6","v":3},{"$f":"IF(Database!$D6=\"\",\"\",Database!$D6)","v":"sadi"},null,null,null,null,null,null,"",null,null,null,null,null,null,null,"","","","","","","","","","","","","","","","","","","","","","","","","","","","","","","","","","","","","","","","","","","","","","","","","","","","","","","","",""]
[{"$f":"Database!$A7","v":4},{"$f":"IF(Database!$D7=\"\",\"\",Database!$D7)","v":"INDAH"},null,null,null,"SB",null,null,"Ananda Indah SANGAT BAIK dalam meyakini kebesaran / anugerah Allah. ","",null,null,null,null,null,null,"",{"$f":"Database!$A7","v":4},{"$f":"IF(Database!$D7=\"\",\"\",Database!$D7)","v":"INDAH"},null,null,null,null,null,null,"",null,null,null,"PB",null,null,"SB","Ananda Indah SANGAT BAIK dalam percaya diri, PERLU BIMBINGAN dalam tanggung jawab. ","","","","","","","","","","","","","","","","","","","","","","","","","","","","","","","","","","percaya diri","SANGAT BAIK dalam percaya diri, ","","","","","","","","","","","","","","","","","tanggung jawab","","","","PERLU BIMBINGAN dalam tanggung jawab, "]
[{"$f":"Database!$A8","v":5},{"$f":"IF(Database!$D8=\"\",\"\",Database!$D8)","v":"riski"},null,null,null,null,null,null,"","",null,null,null,null,null,null,"",{"$f":"Database!$A8","v":5},{"$f":"IF(Database!$D8=\"\",\"\",Database!$D8)","v":"riski"},null,null,null,null,null,null,"",null,null,null,null,null,null,null,"","","","","","","","","","","","","","","","","","","","","","","","","","","","","","","","","","","","","","","","","","","","","","","","","","","","","","","","",""]
[{"$f":"Database!$A9","v":6},{"$f":"IF(Database!$D9=\"\",\"\",Database!$D9)","v":"risal"},null,null,null,null,null,null,"","",null,null,null,null,null,null,"",{"$f":"Database!$A9","v":6},{"$f":"IF(Database!$D9=\"\",\"\",Database!$D9)","v":"risal"},null,null,null,null,null,null,"",null,null,null,null,null,null,null,"","","","","","","","","","","","","","","","","","","","","","","","","","","","","","","","","","","","","","","","","","","","","","","","","","","","","","","","",""]
[{"$f":"Database!$A10","v":7},{"$f":"IF(Database!$D10=\"\",\"\",Database!$D10)","v":"saya"},null,null,null,null,null,null,"","",null,null,null,null,null,null,"",{"$f":"Database!$A10","v":7},{"$f":"IF(Database!$D10=\"\",\"\",Database!$D10)","v":"saya"},null,null,null,null,null,null,"",null,null,null,null,null,null,null,"","","","","","","","","","","","","","","","","","","","","","","","","","","","","","","","","","","","","","","","","","","","","","","","","","","","","","","","",""]
[{"$f":"Database!$A11","v":8},{"$f":"IF(Database!$D11=\"\",\"\",Database!$D11)","v":"dia"},null,null,null,null,null,null,"","",null,null,null,null,null,null,"",{"$f":"Database!$A11","v":8},{"$f":"IF(Database!$D11=\"\",\"\",Database!$D11)","v":"dia"},null,null,null,null,null,null,"",null,null,null,null,null,null,null,"","","","","","","","","","","","","","","","","","","","","","","","","","","","","","","","","","","","","","","","","","","","","","","","","","","","","","","","",""]
[{"$f":"Database!$A12","v":""},{"$f":"IF(Database!$D12=\"\",\"\",Database!$D12)","v":""},null,null,null,null,null,null,"","",null,null,null,null,null,null,"",{"$f":"Database!$A12","v":""},{"$f":"IF(Database!$D12=\"\",\"\",Database!$D12)","v":""},null,null,null,null,null,null,"",null,null,null,null,null,null,null,"","","","","","","","","","","","","","","","","","","","","","","","","","","","","","","","","","","","","","","","","","","","","","","","","","","","","","","","",""]
[{"$f":"Database!$A13","v":""},{"$f":"IF(Database!$D13=\"\",\"\",Database!$D13)","v":""},null,null,null,null,null,null,"","",null,null,null,null,null,null,"",{"$f":"Database!$A13","v":""},{"$f":"IF(Database!$D13=\"\",\"\",Database!$D13)","v":""},null,null,null,null,null,null,"",null,null,null,null,null,null,null,"","","","","","","","","","","","","","","","","","","","","","","","","","","","","","","","","","","","","","","","","","","","","","","","","","","","","","","","",""]
[{"$f":"Database!$A14","v":""},{"$f":"IF(Database!$D14=\"\",\"\",Database!$D14)","v":""},null,null,null,null,null,null,"","",null,null,null,null,null,null,"",{"$f":"Database!$A14","v":""},{"$f":"IF(Database!$D14=\"\",\"\",Database!$D14)","v":""},null,null,null,null,null,null,"",null,null,null,null,null,null,null,"","","","","","","","","","","","","","","","","","","","","","","","","","","","","","","","","","","","","","","","","","","","","","","","","","","","","","","","",""]
[{"$f":"Database!$A15","v":""},{"$f":"IF(Database!$D15=\"\",\"\",Database!$D15)","v":""},null,null,null,null,null,null,"","",null,null,null,null,null,null,"",{"$f":"Database!$A15","v":""},{"$f":"IF(Database!$D15=\"\",\"\",Database!$D15)","v":""},null,null,null,null,null,null,"",null,null,null,null,null,null,null,"","","","","","","","","","","","","","","","","","","","","","","","","","","","","","","","","","","","","","","","","","","","","","","","","","","","","","","","",""]
[{"$f":"Database!$A16","v":""},{"$f":"IF(Database!$D16=\"\",\"\",Database!$D16)","v":""},null,null,null,null,null,null,"","",null,null,null,null,null,null,"",{"$f":"Database!$A16","v":""},{"$f":"IF(Database!$D16=\"\",\"\",Database!$D16)","v":""},null,null,null,null,null,null,"",null,null,null,null,null,null,null,"","","","","","","","","","","","","","","","","","","","","","","","","","","","","","","","","","","","","","","","","","","","","","","","","","","","","","","","",""]
[{"$f":"Database!$A17","v":""},{"$f":"IF(Database!$D17=\"\",\"\",Database!$D17)","v":""},null,null,null,null,null,null,"","",null,null,null,null,null,null,"",{"$f":"Database!$A17","v":""},{"$f":"IF(Database!$D17=\"\",\"\",Database!$D17)","v":""},null,null,null,null,null,null,"",null,null,null,null,null,null,null,"","","","","","","","","","","","","","","","","","","","","","","","","","","","","","","","","","","","","","","","","","","","","","","","","","","","","","","","",""]
[{"$f":"Database!$A18","v":""},{"$f":"IF(Database!$D18=\"\",\"\",Database!$D18)","v":""},null,null,null,null,null,null,"","",null,null,null,null,null,null,"",{"$f":"Database!$A18","v":""},{"$f":"IF(Database!$D18=\"\",\"\",Database!$D18)","v":""},null,null,null,null,null,null,"",null,null,null,null,null,null,null,"","","","","","","","","","","","","","","","","","","","","","","","","","","","","","","","","","","","","","","","","","","","","","","","","","","","","","","","",""]
[{"$f":"Database!$A19","v":""},{"$f":"IF(Database!$D19=\"\",\"\",Database!$D19)","v":""},null,null,null,null,null,null,"","",null,null,null,null,null,null,"",{"$f":"Database!$A19","v":""},{"$f":"IF(Database!$D19=\"\",\"\",Database!$D19)","v":""},null,null,null,null,null,null,"",null,null,null,null,null,null,null,"","","","","","","","","","","","","","","","","","","","","","","","","","","","","","","","","","","","","","","","","","","","","","","","","","","","","","","","",""]
[{"$f":"Database!$A20","v":""},{"$f":"IF(Database!$D20=\"\",\"\",Database!$D20)","v":""},null,null,null,null,null,null,"","",null,null,null,null,null,null,"",{"$f":"Database!$A20","v":""},{"$f":"IF(Database!$D20=\"\",\"\",Database!$D20)","v":""},null,null,null,null,null,null,"",null,null,null,null,null,null,null,"","","","","","","","","","","","","","","","","","","","","","","","","","","","","","","","","","","","","","","","","","","","","","","","","","","","","","","","",""]
[{"$f":"Database!$A21","v":""},{"$f":"IF(Database!$D21=\"\",\"\",Database!$D21)","v":""},null,null,null,null,null,null,"","",null,null,null,null,null,null,"",{"$f":"Database!$A21","v":""},{"$f":"IF(Database!$D21=\"\",\"\",Database!$D21)","v":""},null,null,null,null,null,null,"",null,null,null,null,null,null,null,"","","","","","","","","","","","","","","","","","","","","","","","","","","","","","","","","","","","","","","","","","","","","","","","","","","","","","","","",""]
[{"$f":"Database!$A22","v":""},{"$f":"IF(Database!$D22=\"\",\"\",Database!$D22)","v":""},null,null,null,null,null,null,"","",null,null,null,null,null,null,"",{"$f":"Database!$A22","v":""},{"$f":"IF(Database!$D22=\"\",\"\",Database!$D22)","v":""},null,null,null,null,null,null,"",null,null,null,null,null,null,null,"","","","","","","","","","","","","","","","","","","","","","","","","","","","","","","","","","","","","","","","","","","","","","","","","","","","","","","","",""]
[{"$f":"Database!$A23","v":""},{"$f":"IF(Database!$D23=\"\",\"\",Database!$D23)","v":""},null,null,null,null,null,null,"","",null,null,null,null,null,null,"",{"$f":"Database!$A23","v":""},{"$f":"IF(Database!$D23=\"\",\"\",Database!$D23)","v":""},null,null,null,null,null,null,"",null,null,null,null,null,null,null,"","","","","","","","","","","","","","","","","","","","","","","","","","","","","","","","","","","","","","","","","","","","","","","","","","","","","","","","",""]
[{"$f":"Database!$A24","v":""},{"$f":"IF(Database!$D24=\"\",\"\",Database!$D24)","v":""},null,null,null,null,null,null,"","",null,null,null,null,null,null,"",{"$f":"Database!$A24","v":""},{"$f":"IF(Database!$D24=\"\",\"\",Database!$D24)","v":""},null,null,null,null,null,null,"",null,null,null,null,null,null,null,"","","","","","","","","","","","","","","","","","","","","","","","","","","","","","","","","","","","","","","","","","","","","","","","","","","","","","","","",""]
[{"$f":"Database!$A25","v":""},{"$f":"IF(Database!$D25=\"\",\"\",Database!$D25)","v":""},null,null,null,null,null,null,"","",null,null,null,null,null,null,"",{"$f":"Database!$A25","v":""},{"$f":"IF(Database!$D25=\"\",\"\",Database!$D25)","v":""},null,null,null,null,null,null,"",null,null,null,null,null,null,null,"","","","","","","","","","","","","","","","","","","","","","","","","","","","","","","","","","","","","","","","","","","","","","","","","","","","","","","","",""]
[{"$f":"Database!$A26","v":""},{"$f":"IF(Database!$D26=\"\",\"\",Database!$D26)","v":""},null,null,null,null,null,null,"","",null,null,null,null,null,null,"",{"$f":"Database!$A26","v":""},{"$f":"IF(Database!$D26=\"\",\"\",Database!$D26)","v":""},null,null,null,null,null,null,"",null,null,null,null,null,null,null,"","","","","","","","","","","","","","","","","","","","","","","","","","","","","","","","","","","","","","","","","","","","","","","","","","","","","","","","",""]
[{"$f":"Database!$A27","v":""},{"$f":"IF(Database!$D27=\"\",\"\",Database!$D27)","v":""},null,null,null,null,null,null,"","",null,null,null,null,null,null,"",{"$f":"Database!$A27","v":""},{"$f":"IF(Database!$D27=\"\",\"\",Database!$D27)","v":""},null,null,null,null,null,null,"",null,null,null,null,null,null,null,"","","","","","","","","","","","","","","","","","","","","","","","","","","","","","","","","","","","","","","","","","","","","","","","","","","","","","","","",""]
[{"$f":"Database!$A28","v":""},{"$f":"IF(Database!$D28=\"\",\"\",Database!$D28)","v":""},null,null,null,null,null,null,"","",null,null,null,null,null,null,"",{"$f":"Database!$A28","v":""},{"$f":"IF(Database!$D28=\"\",\"\",Database!$D28)","v":""},null,null,null,null,null,null,"",null,null,null,null,null,null,null,"","","","","","","","","","","","","","","","","","","","","","","","","","","","","","","","","","","","","","","","","","","","","","","","","","","","","","","","",""]
[{"$f":"Database!$A29","v":""},{"$f":"IF(Database!$D29=\"\",\"\",Database!$D29)","v":""},null,null,null,null,null,null,"","",null,null,null,null,null,null,"",{"$f":"Database!$A29","v":""},{"$f":"IF(Database!$D29=\"\",\"\",Database!$D29)","v":""},null,null,null,null,null,null,"",null,null,null,null,null,null,null,"","","","","","","","","","","","","","","","","","","","","","","","","","","","","","","","","","","","","","","","","","","","","","","","","","","","","","","","",""]
[{"$f":"Database!$A30","v":""},{"$f":"IF(Database!$D30=\"\",\"\",Database!$D30)","v":""},null,null,null,null,null,null,"","",null,null,null,null,null,null,"",{"$f":"Database!$A30","v":""},{"$f":"IF(Database!$D30=\"\",\"\",Database!$D30)","v":""},null,null,null,null,null,null,"",null,null,null,null,null,null,null,"","","","","","","","","","","","","","","","","","","","","","","","","","","","","","","","","","","","","","","","","","","","","","","","","","","","","","","","",""]
[{"$f":"Database!$A31","v":""},{"$f":"IF(Database!$D31=\"\",\"\",Database!$D31)","v":""},null,null,null,null,null,null,"","",null,null,null,null,null,null,"",{"$f":"Database!$A31","v":""},{"$f":"IF(Database!$D31=\"\",\"\",Database!$D31)","v":""},null,null,null,null,null,null,"",null,null,null,null,null,null,null,"","","","","","","","","","","","","","","","","","","","","","","","","","","","","","","","","","","","","","","","","","","","","","","","","","","","","","","","",""]
[{"$f":"Database!$A32","v":""},{"$f":"IF(Database!$D32=\"\",\"\",Database!$D32)","v":""},null,null,null,null,null,null,"","",null,null,null,null,null,null,"",{"$f":"Database!$A32","v":""},{"$f":"IF(Database!$D32=\"\",\"\",Database!$D32)","v":""},null,null,null,null,null,null,"",null,null,null,null,null,null,null,"","","","","","","","","","","","","","","","","","","","","","","","","","","","","","","","","","","","","","","","","","","","","","","","","","","","","","","","",""]
[{"$f":"Database!$A33","v":""},{"$f":"IF(Database!$D33=\"\",\"\",Database!$D33)","v":""},null,null,null,null,null,null,"","",null,null,null,null,null,null,"",{"$f":"Database!$A33","v":""},{"$f":"IF(Database!$D33=\"\",\"\",Database!$D33)","v":""},null,null,null,null,null,null,"",null,null,null,null,null,null,null,"","","","","","","","","","","","","","","","","","","","","","","","","","","","","","","","","","","","","","","","","","","","","","","","","","","","","","","","",""]
[{"$f":"Database!$A34","v":""},{"$f":"IF(Database!$D34=\"\",\"\",Database!$D34)","v":""},null,null,null,null,null,null,"","",null,null,null,null,null,null,"",{"$f":"Database!$A34","v":""},{"$f":"IF(Database!$D34=\"\",\"\",Database!$D34)","v":""},null,null,null,null,null,null,"",null,null,null,null,null,null,null,"","","","","","","","","","","","","","","","","","","","","","","","","","","","","","","","","","","","","","","","","","","","","","","","","","","","","","","","",""]
[{"$f":"Database!$A35","v":""},{"$f":"IF(Database!$D35=\"\",\"\",Database!$D35)","v":""},null,null,null,null,null,null,"","",null,null,null,null,null,null,"",{"$f":"Database!$A35","v":""},{"$f":"IF(Database!$D35=\"\",\"\",Database!$D35)","v":""},null,null,null,null,null,null,"",null,null,null,null,null,null,null,"","","","","","","","","","","","","","","","","","","","","","","","","","","","","","","","","","","","","","","","","","","","","","","","","","","","","","","","",""]
[{"$f":"Database!$A36","v":""},{"$f":"IF(Database!$D36=\"\",\"\",Database!$D36)","v":""},null,null,null,null,null,null,{"$f":"IFERROR(SUBSTITUTE(CONCATENATE(\"Ananda \",PROPER($B39),\" \",Q92,X92,AE92,AL92),\",\",\".\",LEN(CONCATENATE(\"Ananda \",PROPER($B39),\" \",Q92,X92,AE92,AL92))-LEN(SUBSTITUTE(CONCATENATE(\"Ananda \",PROPER($B39),\" \",Q92,X92,AE92,AL92),\",\",\"\"))),\"\")","v":""},"",null,null,null,null,null,null,{"$f":"IFERROR(SUBSTITUTE(CONCATENATE(\"Ananda \",PROPER($B39),\" \",AS92,AZ92,BG92,BN92),\",\",\".\",LEN(CONCATENATE(\"Ananda \",PROPER($B39),\" \",AS92,AZ92,BG92,BN92))-LEN(SUBSTITUTE(CONCATENATE(\"Ananda \",PROPER($B39),\" \",AS92,AZ92,BG92,BN92),\",\",\"\"))),\"\")","v":""},{"$f":"Database!$A36","v":""},{"$f":"IF(Database!$D36=\"\",\"\",Database!$D36)","v":""},null,null,null,null,null,null,{"$f":"IFERROR(SUBSTITUTE(CONCATENATE(\"Ananda \",PROPER($S39),\" \",AO39,AV39,BC39,BJ39),\",\",\".\",LEN(CONCATENATE(\"Ananda \",PROPER($S39),\" \",AO39,AV39,BC39,BJ39))-LEN(SUBSTITUTE(CONCATENATE(\"Ananda \",PROPER($S39),\" \",AO39,AV39,BC39,BJ39),\",\",\"\"))),\"\")","v":""},null,null,null,null,null,null,null,{"$f":"IFERROR(SUBSTITUTE(CONCATENATE(\"Ananda \",PROPER($B39),\" \",BQ39,BX39,CE39,CL39),\",\",\".\",LEN(CONCATENATE(\"Ananda \",PROPER($B39),\" \",BQ39,BX39,CE39,CL39))-LEN(SUBSTITUTE(CONCATENATE(\"Ananda \",PROPER($B39),\" \",BQ39,BX39,CE39,CL39),\",\",\"\"))),\"\")","v":""},"","","","","","","","","","","","","","","","","","","","","","","","","","","","",{"$f":"IF(AB39=\"SB\",INDEX(aspek.ki2,RIGHT(BK$6)*1),\"\")","v":""},{"$f":"IF(AC39=\"SB\",INDEX(aspek.ki2,RIGHT(BL$6)*1),\"\")","v":""},{"$f":"IF(AD39=\"SB\",INDEX(aspek.ki2,RIGHT(BM$6)*1),\"\")","v":""},{"$f":"IF(AE39=\"SB\",INDEX(aspek.ki2,RIGHT(BN$6)*1),\"\")","v":""},{"$f":"IF(AF39=\"SB\",INDEX(aspek.ki2,RIGHT(BO$6)*1),\"\")","v":""},{"$f":"IF(AG39=\"SB\",INDEX(aspek.ki2,RIGHT(BP$6)*1),\"\")","v":""},"",{"$f":"IF(AB39=\"B\",INDEX(aspek.ki2,RIGHT(BR$6)*1),\"\")","v":""},{"$f":"IF(AC39=\"B\",INDEX(aspek.ki2,RIGHT(BS$6)*1),\"\")","v":""},{"$f":"IF(AD39=\"B\",INDEX(aspek.ki2,RIGHT(BT$6)*1),\"\")","v":""},{"$f":"IF(AE39=\"B\",INDEX(aspek.ki2,RIGHT(BU$6)*1),\"\")","v":""},{"$f":"IF(AF39=\"B\",INDEX(aspek.ki2,RIGHT(BV$6)*1),\"\")","v":""},{"$f":"IF(AG39=\"B\",INDEX(aspek.ki2,RIGHT(BW$6)*1),\"\")","v":""},"",{"$f":"IF(AB39=\"C\",INDEX(aspek.ki2,RIGHT(BY$6)*1),\"\")","v":""},{"$f":"IF(AC39=\"C\",INDEX(aspek.ki2,RIGHT(BZ$6)*1),\"\")","v":""},{"$f":"IF(AD39=\"C\",INDEX(aspek.ki2,RIGHT(CA$6)*1),\"\")","v":""},{"$f":"IF(AE39=\"C\",INDEX(aspek.ki2,RIGHT(CB$6)*1),\"\")","v":""},{"$f":"IF(AF39=\"C\",INDEX(aspek.ki2,RIGHT(CC$6)*1),\"\")","v":""},{"$f":"IF(AG39=\"C\",INDEX(aspek.ki2,RIGHT(CD$6)*1),\"\")","v":""},"",{"$f":"IF(AB39=\"PB\",INDEX(aspek.ki2,RIGHT(CF$6)*1),\"\")","v":""},{"$f":"IF(AC39=\"PB\",INDEX(aspek.ki2,RIGHT(CG$6)*1),\"\")","v":""},{"$f":"IF(AD39=\"PB\",INDEX(aspek.ki2,RIGHT(CH$6)*1),\"\")","v":""},{"$f":"IF(AE39=\"PB\",INDEX(aspek.ki2,RIGHT(CI$6)*1),\"\")","v":""},{"$f":"IF(AF39=\"PB\",INDEX(aspek.ki2,RIGHT(CJ$6)*1),\"\")","v":""},{"$f":"IF(AG39=\"PB\",INDEX(aspek.ki2,RIGHT(CK$6)*1),\"\")","v":""},""]
[{"$f":"Database!$A37","v":""},{"$f":"IF(Database!$D37=\"\",\"\",Database!$D37)","v":""},null,null,null,null,null,null,"","",null,null,null,null,null,null,"",{"$f":"Database!$A37","v":""},{"$f":"IF(Database!$D37=\"\",\"\",Database!$D37)","v":""},null,null,null,null,null,null,"",null,null,null,null,null,null,null,"","","","","","","","","","","","","","","","","","","","","","","","","","","","","","","","","","","","","","","","","","","","","","","","","","","","","","","","",""]
[{"$f":"Database!$A38","v":""},{"$f":"IF(Database!$D38=\"\",\"\",Database!$D38)","v":""},null,null,null,null,null,null,"","",null,null,null,null,null,null,"",{"$f":"Database!$A38","v":""},{"$f":"IF(Database!$D38=\"\",\"\",Database!$D38)","v":""},null,null,null,null,null,null,"",null,null,null,null,null,null,null,"","","","","","","","","","","","","","","","","","","","","","","","","","","","","","","","","","","","","","","","","","","","","","","","","","","","","","","","",""]
[{"$f":"Database!$A39","v":""},{"$f":"IF(Database!$D39=\"\",\"\",Database!$D39)","v":""},null,null,null,null,null,null,"","",null,null,null,null,null,null,"",{"$f":"Database!$A39","v":""},{"$f":"IF(Database!$D39=\"\",\"\",Database!$D39)","v":""},null,null,null,null,null,null,"",null,null,null,null,null,null,null,"","","","","","","","","","","","","","","","","","","","","","","","","","","","","","","","","","","","","","","","","","","","","","","","","","","","","","","","",""]
[{"$f":"Database!$A40","v":""},{"$f":"IF(Database!$D40=\"\",\"\",Database!$D40)","v":""},null,null,null,null,null,null,"","",null,null,null,null,null,null,"",{"$f":"Database!$A40","v":""},{"$f":"IF(Database!$D40=\"\",\"\",Database!$D40)","v":""},null,null,null,null,null,null,"",null,null,null,null,null,null,null,"","","","","","","","","","","","","","","","","","","","","","","","","","","","","","","","","","","","","","","","","","","","","","","","","","","","","","","","",""]
[{"$f":"Database!$A41","v":""},{"$f":"IF(Database!$D41=\"\",\"\",Database!$D41)","v":""},null,null,null,null,null,null,"","",null,null,null,null,null,null,"",{"$f":"Database!$A41","v":""},{"$f":"IF(Database!$D41=\"\",\"\",Database!$D41)","v":""},null,null,null,null,null,null,"",null,null,null,null,null,null,null,"","","","","","","","","","","","","","","","","","","","","","","","","","","","","","","","","","","","","","","","","","","","","","","","","","","","","","","","",""]
[{"$f":"Database!$A42","v":""},{"$f":"IF(Database!$D42=\"\",\"\",Database!$D42)","v":""},null,null,null,null,null,null,"","",null,null,null,null,null,null,"",{"$f":"Database!$A42","v":""},{"$f":"IF(Database!$D42=\"\",\"\",Database!$D42)","v":""},null,null,null,null,null,null,"",null,null,null,null,null,null,null,"","","","","","","","","","","","","","","","","","","","","","","","","","","","","","","","","","","","","","","","","","","","","","","","","","","","","","","","",""]
[{"$f":"Database!$A43","v":""},{"$f":"IF(Database!$D43=\"\",\"\",Database!$D43)","v":""},null,null,null,null,null,null,"","",null,null,null,null,null,null,"",{"$f":"Database!$A43","v":""},{"$f":"IF(Database!$D43=\"\",\"\",Database!$D43)","v":""},null,null,null,null,null,null,"",null,null,null,null,null,null,null,"","","","","","","","","","","","","","","","","","","","","","","","","","","","","","","","","","","","","","","","","","","","","","","","","","","","","","","","",""]
[{"$f":"Database!$A44","v":""},{"$f":"IF(Database!$D44=\"\",\"\",Database!$D44)","v":""},null,null,null,null,null,null,"","",null,null,null,null,null,null,"",{"$f":"Database!$A44","v":""},{"$f":"IF(Database!$D44=\"\",\"\",Database!$D44)","v":""},null,null,null,null,null,null,"",null,null,null,null,null,null,null,"","","","","","","","","","","","","","","","","","","","","","","","","","","","","","","","","","","","","","","","","","","","","","","","","","","","","","","","",""]
[{"$f":"Database!$A45","v":""},{"$f":"IF(Database!$D45=\"\",\"\",Database!$D45)","v":""},null,null,null,null,null,null,"","",null,null,null,null,null,null,"",{"$f":"Database!$A45","v":""},{"$f":"IF(Database!$D45=\"\",\"\",Database!$D45)","v":""},null,null,null,null,null,null,"",null,null,null,null,null,null,null,"","","","","","","","","","","","","","","","","","","","","","","","","","","","","","","","","","","","","","","","","","","","","","","","","","","","","","","","",""]
[{"$f":"Database!$A46","v":""},{"$f":"IF(Database!$D46=\"\",\"\",Database!$D46)","v":""},null,null,null,null,null,null,"","",null,null,null,null,null,null,"",{"$f":"Database!$A46","v":""},{"$f":"IF(Database!$D46=\"\",\"\",Database!$D46)","v":""},null,null,null,null,null,null,"",null,null,null,null,null,null,null,"","","","","","","","","","","","","","","","","","","","","","","","","","","","","","","","","","","","","","","","","","","","","","","","","","","","","","","","",""]
[{"$f":"Database!$A47","v":""},{"$f":"IF(Database!$D47=\"\",\"\",Database!$D47)","v":""},null,null,null,null,null,null,"","",null,null,null,null,null,null,"",{"$f":"Database!$A47","v":""},{"$f":"IF(Database!$D47=\"\",\"\",Database!$D47)","v":""},null,null,null,null,null,null,"",null,null,null,null,null,null,null,"","","","","","","","","","","","","","","","","","","","","","","","","","","","","","","","","","","","","","","","","","","","","","","","","","","","","","","","",""]
[{"$f":"Database!$A48","v":""},{"$f":"IF(Database!$D48=\"\",\"\",Database!$D48)","v":""},null,null,null,null,null,null,"","",null,null,null,null,null,null,"",{"$f":"Database!$A48","v":""},{"$f":"IF(Database!$D48=\"\",\"\",Database!$D48)","v":""},null,null,null,null,null,null,"",null,null,null,null,null,null,null,"","","","","","","","","","","","","","","","","","","","","","","","","","","","","","","","","","","","","","","","","","","","","","","","","","","","","","","","",""]
[{"$f":"Database!$A49","v":""},{"$f":"IF(Database!$D49=\"\",\"\",Database!$D49)","v":""},null,null,null,null,null,null,"","",null,null,null,null,null,null,"",{"$f":"Database!$A49","v":""},{"$f":"IF(Database!$D49=\"\",\"\",Database!$D49)","v":""},null,null,null,null,null,null,"",null,null,null,null,null,null,null,"","","","","","","","","","","","","","","","","","","","","","","","","","","","","","","","","","","","","","","","","","","","","","","","","","","","","","","","",""]
[{"$f":"Database!$A50","v":""},{"$f":"IF(Database!$D50=\"\",\"\",Database!$D50)","v":""},null,null,null,null,null,null,"","",null,null,null,null,null,null,"",{"$f":"Database!$A50","v":""},{"$f":"IF(Database!$D50=\"\",\"\",Database!$D50)","v":""},null,null,null,null,null,null,"",null,null,null,null,null,null,null,"","","","","","","","","","","","","","","","","","","","","","","","","","","","","","","","","","","","","","","","","","","","","","","","","","","","","","","","",""]
[{"$f":"Database!$A51","v":""},{"$f":"IF(Database!$D51=\"\",\"\",Database!$D51)","v":""},null,null,null,null,null,null,"","",null,null,null,null,null,null,"",{"$f":"Database!$A51","v":""},{"$f":"IF(Database!$D51=\"\",\"\",Database!$D51)","v":""},null,null,null,null,null,null,"",null,null,null,null,null,null,null,"","","","","","","","","","","","","","","","","","","","","","","","","","","","","","","","","","","","","","","","","","","","","","","","","","","","","","","","",""]
[{"$f":"Database!$A52","v":""},{"$f":"IF(Database!$D52=\"\",\"\",Database!$D52)","v":""},null,null,null,null,null,null,"","",null,null,null,null,null,null,"",{"$f":"Database!$A52","v":""},{"$f":"IF(Database!$D52=\"\",\"\",Database!$D52)","v":""},null,null,null,null,null,null,"",null,null,null,null,null,null,null,"","","","","","","","","","","","","","","","","","","","","","","","","","","","","","","","","","","","","","","","","","","","","","","","","","","","","","","","",""]
[{"$f":"Database!$A53","v":""},{"$f":"IF(Database!$D53=\"\",\"\",Database!$D53)","v":""},null,null,null,null,null,null,"","",null,null,null,null,null,null,"",{"$f":"Database!$A53","v":""},{"$f":"IF(Database!$D53=\"\",\"\",Database!$D53)","v":""},null,null,null,null,null,null,"",null,null,null,null,null,null,null,"","","","","","","","","","","","","","","","","","","","","","","","","","","","","","","","","","","","","","","","","","","","","","","","","","","","","","","","",""]
[null,null,null,null,null,null,null,null,null,null,"SANGAT BAIK",null,null,null,null,null,null,"BAIK",null,null,null,null,null,null,"CUKUP BAIK",null,null,null,null,null,null,"PERLU BIMBINGAN",null,null,null,null,null,null,"SANGAT BAIK",null,null,null,null,null,null,"BAIK",null,null,null,null,null,null,"CUKUP BAIK",null,null,null,null,null,null,"PERLU BIMBINGAN"]
[]
[null,null,null,null,null,null,null,null,null,null,"ASPEK 1","ASPEK 2","ASPEK 3","ASPEK 4","ASPEK 5","ASPEK 6","ASPEK FINAL","ASPEK 1","ASPEK 2","ASPEK 3","ASPEK 4","ASPEK 5","ASPEK 6","ASPEK FINAL","ASPEK 1","ASPEK 2","ASPEK 3","ASPEK 4","ASPEK 5","ASPEK 6","ASPEK FINAL","ASPEK 1","ASPEK 2","ASPEK 3","ASPEK 4","ASPEK 5","ASPEK 6","ASPEK FINAL","ASPEK 1","ASPEK 2","ASPEK 3","ASPEK 4","ASPEK 5","ASPEK 6","ASPEK FINAL","ASPEK 1","ASPEK 2","ASPEK 3","ASPEK 4","ASPEK 5","ASPEK 6","ASPEK FINAL","ASPEK 1","ASPEK 2","ASPEK 3","ASPEK 4","ASPEK 5","ASPEK 6","ASPEK FINAL","ASPEK 1","ASPEK 2","ASPEK 3","ASPEK 4","ASPEK 5","ASPEK 6","ASPEK FINAL"]
[null,null,null,null,null,null,null,null,null,null,{"$f":"IF(C7=\"SB\",INDEX(aspek.ki1,RIGHT(K$59)*1),\"\")","v":""},{"$f":"IF(D7=\"SB\",INDEX(aspek.ki1,RIGHT(L$59)*1),\"\")","v":""},{"$f":"IF(E7=\"SB\",INDEX(aspek.ki1,RIGHT(M$59)*1),\"\")","v":""},{"$f":"IF(F7=\"SB\",INDEX(aspek.ki1,RIGHT(N$59)*1),\"\")","v":""},{"$f":"IF(G7=\"SB\",INDEX(aspek.ki1,RIGHT(O$59)*1),\"\")","v":""},{"$f":"IF(H7=\"SB\",INDEX(aspek.ki1,RIGHT(P$59)*1),\"\")","v":""},{"$f":"IF(Q110<1,\"\",IF(COUNTA($R60:$W60),CONCATENATE(K$57,\" dalam \",IF(LEN(K60),K60&\", \",\"\"),IF(LEN(L60),L60&\", \",\"\"),IF(LEN(M60),M60&\", \",\"\"),IF(LEN(N60),N60&\", \",\"\"),IF(LEN(O60),O60&\", \",\"\"),IF(LEN(P60),P60&\", \",\"\")),\"\"))","v":""},{"$f":"IF(C7=\"B\",INDEX(aspek.ki1,RIGHT(R$59)*1),\"\")","v":""},{"$f":"IF(D7=\"B\",INDEX(aspek.ki1,RIGHT(S$59)*1),\"\")","v":""},{"$f":"IF(E7=\"B\",INDEX(aspek.ki1,RIGHT(T$59)*1),\"\")","v":""},{"$f":"IF(F7=\"B\",INDEX(aspek.ki1,RIGHT(U$59)*1),\"\")","v":"meyakini kebesaran / anugerah Allah"},{"$f":"IF(G7=\"B\",INDEX(aspek.ki1,RIGHT(V$59)*1),\"\")","v":""},{"$f":"IF(H7=\"B\",INDEX(aspek.ki1,RIGHT(W$59)*1),\"\")","v":""},{"$f":"IF(X110<1,\"\",IF(COUNTA($R60:$W60),CONCATENATE(R$57,\" dalam \",IF(LEN(R60),R60&\", \",\"\"),IF(LEN(S60),S60&\", \",\"\"),IF(LEN(T60),T60&\", \",\"\"),IF(LEN(U60),U60&\", \",\"\"),IF(LEN(V60),V60&\", \",\"\"),IF(LEN(W60),W60&\", \",\"\")),\"\"))","v":"BAIK dalam meyakini kebesaran / anugerah Allah, "},{"$f":"IF(C7=\"C\",INDEX(aspek.ki1,RIGHT(Y$59)*1),\"\")","v":""},{"$f":"IF(D7=\"C\",INDEX(aspek.ki1,RIGHT(Z$59)*1),\"\")","v":""},{"$f":"IF(E7=\"C\",INDEX(aspek.ki1,RIGHT(AA$59)*1),\"\")","v":""},{"$f":"IF(F7=\"C\",INDEX(aspek.ki1,RIGHT(AB$59)*1),\"\")","v":""},{"$f":"IF(G7=\"C\",INDEX(aspek.ki1,RIGHT(AC$59)*1),\"\")","v":""},{"$f":"IF(H7=\"C\",INDEX(aspek.ki1,RIGHT(AD$59)*1),\"\")","v":""},{"$f":"IF(AE110<1,\"\",IF(COUNTA($R60:$W60),CONCATENATE(Y$57,\" dalam \",IF(LEN(Y60),Y60&\", \",\"\"),IF(LEN(Z60),Z60&\", \",\"\"),IF(LEN(AA60),AA60&\", \",\"\"),IF(LEN(AB60),AB60&\", \",\"\"),IF(LEN(AC60),AC60&\", \",\"\"),IF(LEN(AD60),AD60&\", \",\"\")),\"\"))","v":""},{"$f":"IF(C7=\"PB\",INDEX(aspek.ki1,RIGHT(AF$59)*1),\"\")","v":""},{"$f":"IF(D7=\"PB\",INDEX(aspek.ki1,RIGHT(AG$59)*1),\"\")","v":""},{"$f":"IF(E7=\"PB\",INDEX(aspek.ki1,RIGHT(AH$59)*1),\"\")","v":""},{"$f":"IF(F7=\"PB\",INDEX(aspek.ki1,RIGHT(AI$59)*1),\"\")","v":""},{"$f":"IF(G7=\"PB\",INDEX(aspek.ki1,RIGHT(AJ$59)*1),\"\")","v":""},{"$f":"IF(H7=\"PB\",INDEX(aspek.ki1,RIGHT(AK$59)*1),\"\")","v":""},{"$f":"IF(AL110<1,\"\",IF(COUNTA($R60:$W60),CONCATENATE(AF$57,\" dalam \",IF(LEN(AF60),AF60&\", \",\"\"),IF(LEN(AG60),AG60&\", \",\"\"),IF(LEN(AH60),AH60&\", \",\"\"),IF(LEN(AI60),AI60&\", \",\"\"),IF(LEN(AJ60),AJ60&\", \",\"\"),IF(LEN(AK60),AK60&\", \",\"\")),\"\"))","v":""},{"$f":"IF(K7=\"SB\",INDEX(aspek.ki2,RIGHT(AM$59)*1),\"\")","v":""},"","","","","percaya diri",{"$f":"IF(AS110<1,\"\",IF(COUNTA($AT60:$AY60),CONCATENATE(AM$57,\" dalam \",IF(LEN(AM60),AM60&\", \",\"\"),IF(LEN(AN60),AN60&\", \",\"\"),IF(LEN(AO60),AO60&\", \",\"\"),IF(LEN(AP60),AP60&\", \",\"\"),IF(LEN(AQ60),AQ60&\", \",\"\"),IF(LEN(AR60),AR60&\", \",\"\")),\"\"))","v":"SANGAT BAIK dalam percaya diri, "},{"$f":"IF(K7=\"B\",INDEX(aspek.ki2,RIGHT(AT$59)*1),\"\")","v":""},"disiplin","","","santun","",{"$f":"IF(AZ110<1,\"\",IF(COUNTA($AT60:$AY60),CONCATENATE(AT$57,\" dalam \",IF(LEN(AT60),AT60&\", \",\"\"),IF(LEN(AU60),AU60&\", \",\"\"),IF(LEN(AV60),AV60&\", \",\"\"),IF(LEN(AW60),AW60&\", \",\"\"),IF(LEN(AX60),AX60&\", \",\"\"),IF(LEN(AY60),AY60&\", \",\"\")),\"\"))","v":"BAIK dalam disiplin, santun, "},{"$f":"IF(K7=\"C\",INDEX(aspek.ki2,RIGHT(BA$59)*1),\"\")","v":""},"","tanggung jawab","","","",{"$f":"IF(BG110<1,\"\",IF(COUNTA($AT60:$AY60),CONCATENATE(BA$57,\" dalam \",IF(LEN(BA60),BA60&\", \",\"\"),IF(LEN(BB60),BB60&\", \",\"\"),IF(LEN(BC60),BC60&\", \",\"\"),IF(LEN(BD60),BD60&\", \",\"\"),IF(LEN(BE60),BE60&\", \",\"\"),IF(LEN(BF60),BF60&\", \",\"\")),\"\"))","v":"CUKUP BAIK dalam tanggung jawab, "},{"$f":"IF(K7=\"PB\",INDEX(aspek.ki2,RIGHT(BH$59)*1),\"\")","v":"jujur"},"","","peduli","","",{"$f":"IF(BN110<1,\"\",IF(COUNTA($AT60:$AY60),CONCATENATE(BH$57,\" dalam \",IF(LEN(BH60),BH60&\", \",\"\"),IF(LEN(BI60),BI60&\", \",\"\"),IF(LEN(BJ60),BJ60&\", \",\"\"),IF(LEN(BK60),BK60&\", \",\"\"),IF(LEN(BL60),BL60&\", \",\"\"),IF(LEN(BM60),BM60&\", \",\"\")),\"\"))","v":"PERLU BIMBINGAN dalam jujur, peduli, "}]
[null,null,null,null,null,null,null,null,null,null,{"$f":"IF(C8=\"SB\",INDEX(aspek.ki1,RIGHT(K$59)*1),\"\")","v":""},"","","","","",{"$f":"IF(Q111<1,\"\",IF(COUNTA($R61:$W61),CONCATENATE(K$57,\" dalam \",IF(LEN(K61),K61&\", \",\"\"),IF(LEN(L61),L61&\", \",\"\"),IF(LEN(M61),M61&\", \",\"\"),IF(LEN(N61),N61&\", \",\"\"),IF(LEN(O61),O61&\", \",\"\"),IF(LEN(P61),P61&\", \",\"\")),\"\"))","v":""},"","","","","","",{"$f":"IF(X111<1,\"\",IF(COUNTA($R61:$W61),CONCATENATE(R$57,\" dalam \",IF(LEN(R61),R61&\", \",\"\"),IF(LEN(S61),S61&\", \",\"\"),IF(LEN(T61),T61&\", \",\"\"),IF(LEN(U61),U61&\", \",\"\"),IF(LEN(V61),V61&\", \",\"\"),IF(LEN(W61),W61&\", \",\"\")),\"\"))","v":""},"","","","","","",{"$f":"IF(AE111<1,\"\",IF(COUNTA($R61:$W61),CONCATENATE(Y$57,\" dalam \",IF(LEN(Y61),Y61&\", \",\"\"),IF(LEN(Z61),Z61&\", \",\"\"),IF(LEN(AA61),AA61&\", \",\"\"),IF(LEN(AB61),AB61&\", \",\"\"),IF(LEN(AC61),AC61&\", \",\"\"),IF(LEN(AD61),AD61&\", \",\"\")),\"\"))","v":""},"","","","","","",{"$f":"IF(AL111<1,\"\",IF(COUNTA($R61:$W61),CONCATENATE(AF$57,\" dalam \",IF(LEN(AF61),AF61&\", \",\"\"),IF(LEN(AG61),AG61&\", \",\"\"),IF(LEN(AH61),AH61&\", \",\"\"),IF(LEN(AI61),AI61&\", \",\"\"),IF(LEN(AJ61),AJ61&\", \",\"\"),IF(LEN(AK61),AK61&\", \",\"\")),\"\"))","v":""},{"$f":"IF(K8=\"SB\",INDEX(aspek.ki2,RIGHT(AM$59)*1),\"\")","v":""},{"$f":"IF(L8=\"SB\",INDEX(aspek.ki2,RIGHT(AN$59)*1),\"\")","v":""},{"$f":"IF(M8=\"SB\",INDEX(aspek.ki2,RIGHT(AO$59)*1),\"\")","v":""},{"$f":"IF(N8=\"SB\",INDEX(aspek.ki2,RIGHT(AP$59)*1),\"\")","v":""},{"$f":"IF(O8=\"SB\",INDEX(aspek.ki2,RIGHT(AQ$59)*1),\"\")","v":""},{"$f":"IF(P8=\"SB\",INDEX(aspek.ki2,RIGHT(AR$59)*1),\"\")","v":""},{"$f":"IF(AS111<1,\"\",IF(COUNTA($AT61:$AY61),CONCATENATE(AM$57,\" dalam \",IF(LEN(AM61),AM61&\", \",\"\"),IF(LEN(AN61),AN61&\", \",\"\"),IF(LEN(AO61),AO61&\", \",\"\"),IF(LEN(AP61),AP61&\", \",\"\"),IF(LEN(AQ61),AQ61&\", \",\"\"),IF(LEN(AR61),AR61&\", \",\"\")),\"\"))","v":""},{"$f":"IF(K8=\"B\",INDEX(aspek.ki2,RIGHT(AT$59)*1),\"\")","v":""},{"$f":"IF(L8=\"B\",INDEX(aspek.ki2,RIGHT(AU$59)*1),\"\")","v":""},{"$f":"IF(M8=\"B\",INDEX(aspek.ki2,RIGHT(AV$59)*1),\"\")","v":""},{"$f":"IF(N8=\"B\",INDEX(aspek.ki2,RIGHT(AW$59)*1),\"\")","v":""},{"$f":"IF(O8=\"B\",INDEX(aspek.ki2,RIGHT(AX$59)*1),\"\")","v":""},{"$f":"IF(P8=\"B\",INDEX(aspek.ki2,RIGHT(AY$59)*1),\"\")","v":""},{"$f":"IF(AZ111<1,\"\",IF(COUNTA($AT61:$AY61),CONCATENATE(AT$57,\" dalam \",IF(LEN(AT61),AT61&\", \",\"\"),IF(LEN(AU61),AU61&\", \",\"\"),IF(LEN(AV61),AV61&\", \",\"\"),IF(LEN(AW61),AW61&\", \",\"\"),IF(LEN(AX61),AX61&\", \",\"\"),IF(LEN(AY61),AY61&\", \",\"\")),\"\"))","v":""},{"$f":"IF(K8=\"C\",INDEX(aspek.ki2,RIGHT(BA$59)*1),\"\")","v":""},{"$f":"IF(L8=\"C\",INDEX(aspek.ki2,RIGHT(BB$59)*1),\"\")","v":""},{"$f":"IF(M8=\"C\",INDEX(aspek.ki2,RIGHT(BC$59)*1),\"\")","v":""},{"$f":"IF(N8=\"C\",INDEX(aspek.ki2,RIGHT(BD$59)*1),\"\")","v":""},{"$f":"IF(O8=\"C\",INDEX(aspek.ki2,RIGHT(BE$59)*1),\"\")","v":""},{"$f":"IF(P8=\"C\",INDEX(aspek.ki2,RIGHT(BF$59)*1),\"\")","v":""},{"$f":"IF(BG111<1,\"\",IF(COUNTA($AT61:$AY61),CONCATENATE(BA$57,\" dalam \",IF(LEN(BA61),BA61&\", \",\"\"),IF(LEN(BB61),BB61&\", \",\"\"),IF(LEN(BC61),BC61&\", \",\"\"),IF(LEN(BD61),BD61&\", \",\"\"),IF(LEN(BE61),BE61&\", \",\"\"),IF(LEN(BF61),BF61&\", \",\"\")),\"\"))","v":""},{"$f":"IF(K8=\"PB\",INDEX(aspek.ki2,RIGHT(BH$59)*1),\"\")","v":""},{"$f":"IF(L8=\"PB\",INDEX(aspek.ki2,RIGHT(BI$59)*1),\"\")","v":""},{"$f":"IF(M8=\"PB\",INDEX(aspek.ki2,RIGHT(BJ$59)*1),\"\")","v":""},{"$f":"IF(N8=\"PB\",INDEX(aspek.ki2,RIGHT(BK$59)*1),\"\")","v":""},{"$f":"IF(O8=\"PB\",INDEX(aspek.ki2,RIGHT(BL$59)*1),\"\")","v":""},{"$f":"IF(P8=\"PB\",INDEX(aspek.ki2,RIGHT(BM$59)*1),\"\")","v":""},{"$f":"IF(BN111<1,\"\",IF(COUNTA($AT61:$AY61),CONCATENATE(BH$57,\" dalam \",IF(LEN(BH61),BH61&\", \",\"\"),IF(LEN(BI61),BI61&\", \",\"\"),IF(LEN(BJ61),BJ61&\", \",\"\"),IF(LEN(BK61),BK61&\", \",\"\"),IF(LEN(BL61),BL61&\", \",\"\"),IF(LEN(BM61),BM61&\", \",\"\")),\"\"))","v":""}]
[null,null,null,null,null,null,null,null,null,null,"ketaatan beribadah","","","","toleransi beribadah","","SANGAT BAIK dalam ketaatan beribadah, toleransi beribadah, ","","perilaku bersyukur","kebiasaan berdoa sebelum belajar","","","","BAIK dalam perilaku bersyukur, kebiasaan berdoa sebelum belajar, ","","","","","","kebiasaan mengucapkan salam","CUKUP BAIK dalam kebiasaan mengucapkan salam, ","","","","meyakini kebesaran / anugerah Allah","","","PERLU BIMBINGAN dalam meyakini kebesaran / anugerah Allah, ","","disiplin","","","santun","","SANGAT BAIK dalam disiplin, santun, ","","","tanggung jawab","","","percaya diri","BAIK dalam tanggung jawab, percaya diri, ","","","","peduli","","","CUKUP BAIK dalam peduli, ","jujur","","","","","","PERLU BIMBINGAN dalam jujur, "]
[null,null,null,null,null,null,null,null,null,null,"","","","meyakini kebesaran / anugerah Allah","","","SANGAT BAIK dalam meyakini kebesaran / anugerah Allah, ","","","","","","","","","","","","","","","","","","","","","","","","","","","","","","","","","","","","","","","","","","","","","","","","",""]
[null,null,null,null,null,null,null,null,null,null,"","","","","","","","","","","","","","","","","","","","","","","","","","","","","","","","","","","","","","","","","","","","","","","","","","","","","","","",""]
[null,null,null,null,null,null,null,null,null,null,"","","","","","","","","","","","","","","","","","","","","","","","","","","","","","","","","","","","","","","","","","","","","","","","","","","","","","","",""]
[null,null,null,null,null,null,null,null,null,null,"","","","","","","","","","","","","","","","","","","","","","","","","","","","","","","","","","","","","","","","","","","","","","","","","","","","","","","",""]
[null,null,null,null,null,null,null,null,null,null,"","","","","","","","","","","","","","","","","","","","","","","","","","","","","","","","","","","","","","","","","","","","","","","","","","","","","","","",""]
[null,null,null,null,null,null,null,null,null,null,"","","","","","","","","","","","","","","","","","","","","","","","","","","","","","","","","","","","","","","","","","","","","","","","","","","","","","","",""]
[null,null,null,null,null,null,null,null,null,null,"","","","","","","","","","","","","","","","","","","","","","","","","","","","","","","","","","","","","","","","","","","","","","","","","","","","","","","",""]
[null,null,null,null,null,null,null,null,null,null,"","","","","","","","","","","","","","","","","","","","","","","","","","","","","","","","","","","","","","","","","","","","","","","","","","","","","","","",""]
[null,null,null,null,null,null,null,null,null,null,"","","","","","","","","","","","","","","","","","","","","","","","","","","","","","","","","","","","","","","","","","","","","","","","","","","","","","","",""]
[null,null,null,null,null,null,null,null,null,null,"","","","","","","","","","","","","","","","","","","","","","","","","","","","","","","","","","","","","","","","","","","","","","","","","","","","","","","",""]
[null,null,null,null,null,null,null,null,null,null,"","","","","","","","","","","","","","","","","","","","","","","","","","","","","","","","","","","","","","","","","","","","","","","","","","","","","","","",""]
[null,null,null,null,null,null,null,null,null,null,"","","","","","","","","","","","","","","","","","","","","","","","","","","","","","","","","","","","","","","","","","","","","","","","","","","","","","","",""]
[null,null,null,null,null,null,null,null,null,null,"","","","","","","","","","","","","","","","","","","","","","","","","","","","","","","","","","","","","","","","","","","","","","","","","","","","","","","",""]
[null,null,null,null,null,null,null,null,null,null,"","","","","","","","","","","","","","","","","","","","","","","","","","","","","","","","","","","","","","","","","","","","","","","","","","","","","","","",""]
[null,null,null,null,null,null,null,null,null,null,"","","","","","","","","","","","","","","","","","","","","","","","","","","","","","","","","","","","","","","","","","","","","","","","","","","","","","","",""]
[null,null,null,null,null,null,null,null,null,null,"","","","","","","","","","","","","","","","","","","","","","","","","","","","","","","","","","","","","","","","","","","","","","","","","","","","","","","",""]
[null,null,null,null,null,null,null,null,null,null,"","","","","","","","","","","","","","","","","","","","","","","","","","","","","","","","","","","","","","","","","","","","","","","","","","","","","","","",""]
[null,null,null,null,null,null,null,null,null,null,"","","","","","","","","","","","","","","","","","","","","","","","","","","","","","","","","","","","","","","","","","","","","","","","","","","","","","","",""]
[null,null,null,null,null,null,null,null,null,null,"","","","","","","","","","","","","","","","","","","","","","","","","","","","","","","","","","","","","","","","","","","","","","","","","","","","","","","",""]
[null,null,null,null,null,null,null,null,null,null,"","","","","","","","","","","","","","","","","","","","","","","","","","","","","","","","","","","","","","","","","","","","","","","","","","","","","","","",""]
[null,null,null,null,null,null,null,null,null,null,"","","","","","","","","","","","","","","","","","","","","","","","","","","","","","","","","","","","","","","","","","","","","","","","","","","","","","","",""]
[null,null,null,null,null,null,null,null,null,null,"","","","","","","","","","","","","","","","","","","","","","","","","","","","","","","","","","","","","","","","","","","","","","","","","","","","","","","",""]
[null,null,null,null,null,null,null,null,null,null,"","","","","","","","","","","","","","","","","","","","","","","","","","","","","","","","","","","","","","","","","","","","","","","","","","","","","","","",""]
[null,null,null,null,null,null,null,null,null,null,"","","","","","","","","","","","","","","","","","","","","","","","","","","","","","","","","","","","","","","","","","","","","","","","","","","","","","","",""]
[null,null,null,null,null,null,null,null,null,null,"","","","","","","","","","","","","","","","","","","","","","","","","","","","","","","","","","","","","","","","","","","","","","","","","","","","","","","",""]
[null,null,null,null,null,null,null,null,null,null,"","","","","","","","","","","","","","","","","","","","","","","","","","","","","","","","","","","","","","","","","","","","","","","","","","","","","","","",""]
[null,null,null,null,null,null,null,null,null,null,"","","","","","","","","","","","","","","","","","","","","","","","","","","","","","","","","","","","","","","","","","","","","","","","","","","","","","","",""]
[null,null,null,null,null,null,null,null,null,null,"","","","","","","","","","","","","","","","","","","","","","","","","","","","","","","","","","","","","","","","","","","","","","","","","","","","","","","",""]
[null,null,null,null,null,null,null,null,null,null,"","","","","","","","","","","","","","","","","","","","","","","","","","","","","","","","","","","","","","","","","","","","","","","","","","","","","","","",""]
[null,null,null,null,null,null,null,null,null,null,{"$f":"IF(C39=\"SB\",INDEX(aspek.ki1,RIGHT(K$59)*1),\"\")","v":""},{"$f":"IF(D39=\"SB\",INDEX(aspek.ki1,RIGHT(L$59)*1),\"\")","v":""},{"$f":"IF(E39=\"SB\",INDEX(aspek.ki1,RIGHT(M$59)*1),\"\")","v":""},{"$f":"IF(F39=\"SB\",INDEX(aspek.ki1,RIGHT(N$59)*1),\"\")","v":""},{"$f":"IF(G39=\"SB\",INDEX(aspek.ki1,RIGHT(O$59)*1),\"\")","v":""},{"$f":"IF(H39=\"SB\",INDEX(aspek.ki1,RIGHT(P$59)*1),\"\")","v":""},{"$f":"IF(Q142<1,\"\",IF(COUNTA($R92:$W92),CONCATENATE(K$57,\" dalam \",IF(LEN(K92),K92&\", \",\"\"),IF(LEN(L92),L92&\", \",\"\"),IF(LEN(M92),M92&\", \",\"\"),IF(LEN(N92),N92&\", \",\"\"),IF(LEN(O92),O92&\", \",\"\"),IF(LEN(P92),P92&\", \",\"\")),\"\"))","v":""},{"$f":"IF(C39=\"B\",INDEX(aspek.ki1,RIGHT(R$59)*1),\"\")","v":""},{"$f":"IF(D39=\"B\",INDEX(aspek.ki1,RIGHT(S$59)*1),\"\")","v":""},{"$f":"IF(E39=\"B\",INDEX(aspek.ki1,RIGHT(T$59)*1),\"\")","v":""},{"$f":"IF(F39=\"B\",INDEX(aspek.ki1,RIGHT(U$59)*1),\"\")","v":""},{"$f":"IF(G39=\"B\",INDEX(aspek.ki1,RIGHT(V$59)*1),\"\")","v":""},{"$f":"IF(H39=\"B\",INDEX(aspek.ki1,RIGHT(W$59)*1),\"\")","v":""},{"$f":"IF(X142<1,\"\",IF(COUNTA($R92:$W92),CONCATENATE(R$57,\" dalam \",IF(LEN(R92),R92&\", \",\"\"),IF(LEN(S92),S92&\", \",\"\"),IF(LEN(T92),T92&\", \",\"\"),IF(LEN(U92),U92&\", \",\"\"),IF(LEN(V92),V92&\", \",\"\"),IF(LEN(W92),W92&\", \",\"\")),\"\"))","v":""},{"$f":"IF(C39=\"C\",INDEX(aspek.ki1,RIGHT(Y$59)*1),\"\")","v":""},{"$f":"IF(D39=\"C\",INDEX(aspek.ki1,RIGHT(Z$59)*1),\"\")","v":""},{"$f":"IF(E39=\"C\",INDEX(aspek.ki1,RIGHT(AA$59)*1),\"\")","v":""},{"$f":"IF(F39=\"C\",INDEX(aspek.ki1,RIGHT(AB$59)*1),\"\")","v":""},{"$f":"IF(G39=\"C\",INDEX(aspek.ki1,RIGHT(AC$59)*1),\"\")","v":""},{"$f":"IF(H39=\"C\",INDEX(aspek.ki1,RIGHT(AD$59)*1),\"\")","v":""},{"$f":"IF(AE142<1,\"\",IF(COUNTA($R92:$W92),CONCATENATE(Y$57,\" dalam \",IF(LEN(Y92),Y92&\", \",\"\"),IF(LEN(Z92),Z92&\", \",\"\"),IF(LEN(AA92),AA92&\", \",\"\"),IF(LEN(AB92),AB92&\", \",\"\"),IF(LEN(AC92),AC92&\", \",\"\"),IF(LEN(AD92),AD92&\", \",\"\")),\"\"))","v":""},{"$f":"IF(C39=\"PB\",INDEX(aspek.ki1,RIGHT(AF$59)*1),\"\")","v":""},{"$f":"IF(D39=\"PB\",INDEX(aspek.ki1,RIGHT(AG$59)*1),\"\")","v":""},{"$f":"IF(E39=\"PB\",INDEX(aspek.ki1,RIGHT(AH$59)*1),\"\")","v":""},{"$f":"IF(F39=\"PB\",INDEX(aspek.ki1,RIGHT(AI$59)*1),\"\")","v":""},{"$f":"IF(G39=\"PB\",INDEX(aspek.ki1,RIGHT(AJ$59)*1),\"\")","v":""},{"$f":"IF(H39=\"PB\",INDEX(aspek.ki1,RIGHT(AK$59)*1),\"\")","v":""},{"$f":"IF(AL142<1,\"\",IF(COUNTA($R92:$W92),CONCATENATE(AF$57,\" dalam \",IF(LEN(AF92),AF92&\", \",\"\"),IF(LEN(AG92),AG92&\", \",\"\"),IF(LEN(AH92),AH92&\", \",\"\"),IF(LEN(AI92),AI92&\", \",\"\"),IF(LEN(AJ92),AJ92&\", \",\"\"),IF(LEN(AK92),AK92&\", \",\"\")),\"\"))","v":""},"","","","","","","","","","","","","","","","","","","","","","","","","","","",""]
[null,null,null,null,null,null,null,null,null,null,"","","","","","","","","","","","","","","","","","","","","","","","","","","","","","","","","","","","","","","","","","","","","","","","","","","","","","","",""]
[null,null,null,null,null,null,null,null,null,null,"","","","","","","","","","","","","","","","","","","","","","","","","","","","","","","","","","","","","","","","","","","","","","","","","","","","","","","",""]
[null,null,null,null,null,null,null,null,null,null,"","","","","","","","","","","","","","","","","","","","","","","","","","","","","","","","","","","","","","","","","","","","","","","","","","","","","","","",""]
[null,null,null,null,null,null,null,null,null,null,"","","","","","","","","","","","","","","","","","","","","","","","","","","","","","","","","","","","","","","","","","","","","","","","","","","","","","","",""]
[null,null,null,null,null,null,null,null,null,null,"","","","","","","","","","","","","","","","","","","","","","","","","","","","","","","","","","","","","","","","","","","","","","","","","","","","","","","",""]
[null,null,null,null,null,null,null,null,null,null,"","","","","","","","","","","","","","","","","","","","","","","","","","","","","","","","","","","","","","","","","","","","","","","","","","","","","","","",""]
[null,null,null,null,null,null,null,null,null,null,"","","","","","","","","","","","","","","","","","","","","","","","","","","","","","","","","","","","","","","","","","","","","","","","","","","","","","","",""]
[null,null,null,null,null,null,null,null,null,null,"","","","","","","","","","","","","","","","","","","","","","","","","","","","","","","","","","","","","","","","","","","","","","","","","","","","","","","",""]
[null,null,null,null,null,null,null,null,null,null,"","","","","","","","","","","","","","","","","","","","","","","","","","","","","","","","","","","","","","","","","","","","","","","","","","","","","","","",""]
[null,null,null,null,null,null,null,null,null,null,"","","","","","","","","","","","","","","","","","","","","","","","","","","","","","","","","","","","","","","","","","","","","","","","","","","","","","","",""]
[null,null,null,null,null,null,null,null,null,null,"","","","","","","","","","","","","","","","","","","","","","","","","","","","","","","","","","","","","","","","","","","","","","","","","","","","","","","",""]
[null,null,null,null,null,null,null,null,null,null,"","","","","","","","","","","","","","","","","","","","","","","","","","","","","","","","","","","","","","","","","","","","","","","","","","","","","","","",""]
[null,null,null,null,null,null,null,null,null,null,"","","","","","","","","","","","","","","","","","","","","","","","","","","","","","","","","","","","","","","","","","","","","","","","","","","","","","","",""]
[null,null,null,null,null,null,null,null,null,null,"","","","","","","","","","","","","","","","","","","","","","","","","","","","","","","","","","","","","","","","","","","","","","","","","","","","","","","",""]
[null,null,null,null,null,null,null,null,null,null,"","","","","","","","","","","","","","","","","","","","","","","","","","","","","","","","","","","","","","","","","","","","","","","","","","","","","","","",""]
[null,null,null,null,null,null,null,null,null,null,"","","","","","","","","","","","","","","","","","","","",{"$f":"IF(AE158<1,\"\",IF(COUNTA($R108:$W108),CONCATENATE(Y$57,\" dalam \",IF(LEN(Y108),Y108&\", \",\"\"),IF(LEN(Z108),Z108&\", \",\"\"),IF(LEN(AA108),AA108&\", \",\"\"),IF(LEN(AB108),AB108&\", \",\"\"),IF(LEN(AC108),AC108&\", \",\"\"),IF(LEN(AD108),AD108&\", \",\"\")),\"\"))","v":""},"","","","","","","","","","","","","","","","","","","","","","","","","","","","","","","","","","",""]
[null,null,null,null,null,null,null,null,null,null,"","","","","","","","","","","","","","","","","","","","","","","","","","","","","","","","","","","","","","","","","","","","","","","","","","","","","","","",""]
[null,null,null,null,null,null,null,null,null,null,{"$f":"IF(K60=\"\",\"\",1)","v":""},"","","","","",{"$f":"SUM(K110:P110)","v":0},{"$f":"IF(R60=\"\",\"\",1)","v":""},"","",1,"","",{"$f":"SUM(R110:W110)","v":1},{"$f":"IF(Y60=\"\",\"\",1)","v":""},"","","","","",{"$f":"SUM(Y110:AD110)","v":0},{"$f":"IF(AF60=\"\",\"\",1)","v":""},"","","","","",{"$f":"SUM(AF110:AK110)","v":0},"","","","","",1,{"$f":"SUM(AM110:AR110)","v":1},"",1,"","",1,"",{"$f":"SUM(AT110:AY110)","v":2},"","",1,"","","",{"$f":"SUM(BA110:BF110)","v":1},1,"","",1,"","",{"$f":"SUM(BH110:BM110)","v":2},{"$f":"IF(AI7=\"\",\"\",1)","v":""},"",1,"","",1,{"$f":"SUM(BO110:BT110)","v":2},{"$f":"IF(AP7=\"\",\"\",1)","v":1},"","","","","",{"$f":"SUM(BV110:CA110)","v":1},{"$f":"IF(AW7=\"\",\"\",1)","v":""},1,"","",1,"",{"$f":"SUM(CC110:CH110)","v":2},{"$f":"IF(BD7=\"\",\"\",1)","v":""},"","",1,"","",{"$f":"SUM(CJ110:CO110)","v":1},{"$f":"IF(BK7=\"\",\"\",1)","v":""},"","",1,"","",{"$f":"SUM(CQ110:CV110)","v":1},{"$f":"IF(BR7=\"\",\"\",1)","v":""},"","","","",1,{"$f":"SUM(CX110:DC110)","v":1},{"$f":"IF(BY7=\"\",\"\",1)","v":""},1,"","","","",{"$f":"SUM(DE110:DJ110)","v":1},{"$f":"IF(CF7=\"\",\"\",1)","v":1},"","","","","",{"$f":"SUM(DL110:DQ110)","v":1}]
[null,null,null,null,null,null,null,null,null,null,{"$f":"IF(K61=\"\",\"\",1)","v":""},"","","","","",{"$f":"SUM(K111:P111)","v":0},{"$f":"IF(R61=\"\",\"\",1)","v":""},"","","","","",{"$f":"SUM(R111:W111)","v":0},{"$f":"IF(Y61=\"\",\"\",1)","v":""},"","","","","",{"$f":"SUM(Y111:AD111)","v":0},{"$f":"IF(AF61=\"\",\"\",1)","v":""},"","","","","",{"$f":"SUM(AF111:AK111)","v":0},{"$f":"IF(AM61=\"\",\"\",1)","v":""},"","","","","",{"$f":"SUM(AM111:AR111)","v":0},{"$f":"IF(AT61=\"\",\"\",1)","v":""},"","","","","",{"$f":"SUM(AT111:AY111)","v":0},{"$f":"IF(BA61=\"\",\"\",1)","v":""},"","","","","",{"$f":"SUM(BA111:BF111)","v":0},{"$f":"IF(BH61=\"\",\"\",1)","v":""},"","","","","",{"$f":"SUM(BH111:BM111)","v":0},{"$f":"IF(AI8=\"\",\"\",1)","v":""},{"$f":"IF(AJ8=\"\",\"\",1)","v":""},{"$f":"IF(AK8=\"\",\"\",1)","v":""},{"$f":"IF(AL8=\"\",\"\",1)","v":""},{"$f":"IF(AM8=\"\",\"\",1)","v":""},{"$f":"IF(AN8=\"\",\"\",1)","v":""},{"$f":"SUM(BO111:BT111)","v":0},{"$f":"IF(AP8=\"\",\"\",1)","v":""},{"$f":"IF(AQ8=\"\",\"\",1)","v":""},{"$f":"IF(AR8=\"\",\"\",1)","v":""},{"$f":"IF(AS8=\"\",\"\",1)","v":""},{"$f":"IF(AT8=\"\",\"\",1)","v":""},{"$f":"IF(AU8=\"\",\"\",1)","v":""},{"$f":"SUM(BV111:CA111)","v":0},{"$f":"IF(AW8=\"\",\"\",1)","v":""},{"$f":"IF(AX8=\"\",\"\",1)","v":""},{"$f":"IF(AY8=\"\",\"\",1)","v":""},{"$f":"IF(AZ8=\"\",\"\",1)","v":""},{"$f":"IF(BA8=\"\",\"\",1)","v":""},{"$f":"IF(BB8=\"\",\"\",1)","v":""},{"$f":"SUM(CC111:CH111)","v":0},{"$f":"IF(BD8=\"\",\"\",1)","v":""},{"$f":"IF(BE8=\"\",\"\",1)","v":""},{"$f":"IF(BF8=\"\",\"\",1)","v":""},{"$f":"IF(BG8=\"\",\"\",1)","v":""},{"$f":"IF(BH8=\"\",\"\",1)","v":""},{"$f":"IF(BI8=\"\",\"\",1)","v":""},{"$f":"SUM(CJ111:CO111)","v":0},{"$f":"IF(BK8=\"\",\"\",1)","v":""},{"$f":"IF(BL8=\"\",\"\",1)","v":""},{"$f":"IF(BM8=\"\",\"\",1)","v":""},{"$f":"IF(BN8=\"\",\"\",1)","v":""},{"$f":"IF(BO8=\"\",\"\",1)","v":""},{"$f":"IF(BP8=\"\",\"\",1)","v":""},{"$f":"SUM(CQ111:CV111)","v":0},{"$f":"IF(BR8=\"\",\"\",1)","v":""},{"$f":"IF(BS8=\"\",\"\",1)","v":""},{"$f":"IF(BT8=\"\",\"\",1)","v":""},{"$f":"IF(BU8=\"\",\"\",1)","v":""},{"$f":"IF(BV8=\"\",\"\",1)","v":""},{"$f":"IF(BW8=\"\",\"\",1)","v":""},{"$f":"SUM(CX111:DC111)","v":0},{"$f":"IF(BY8=\"\",\"\",1)","v":""},{"$f":"IF(BZ8=\"\",\"\",1)","v":""},{"$f":"IF(CA8=\"\",\"\",1)","v":""},{"$f":"IF(CB8=\"\",\"\",1)","v":""},{"$f":"IF(CC8=\"\",\"\",1)","v":""},{"$f":"IF(CD8=\"\",\"\",1)","v":""},{"$f":"SUM(DE111:DJ111)","v":0},{"$f":"IF(CF8=\"\",\"\",1)","v":""},{"$f":"IF(CG8=\"\",\"\",1)","v":""},{"$f":"IF(CH8=\"\",\"\",1)","v":""},{"$f":"IF(CI8=\"\",\"\",1)","v":""},{"$f":"IF(CJ8=\"\",\"\",1)","v":""},{"$f":"IF(CK8=\"\",\"\",1)","v":""},{"$f":"SUM(DL111:DQ111)","v":0}]
[null,null,null,null,null,null,null,null,null,null,{"$f":"IF(K62=\"\",\"\",1)","v":1},"","","",1,"",2,{"$f":"IF(R62=\"\",\"\",1)","v":""},1,1,"","","",2,{"$f":"IF(Y62=\"\",\"\",1)","v":""},"","","","",1,1,{"$f":"IF(AF62=\"\",\"\",1)","v":""},"","",1,"","",1,"",1,"","",1,"",2,"","",1,"","",1,2,"","","",1,"","",1,{"$f":"IF(BH62=\"\",\"\",1)","v":1},"","","","","",1,"","","","","","",0,"","","","","","",0,"","","","","","",0,"","","","","","",0,"","","","","","",0,"","","","","","",0,"","","","","","",0,"","","","","","",0]
[null,null,null,null,null,null,null,null,null,null,{"$f":"IF(K63=\"\",\"\",1)","v":""},"","",1,"","",1,{"$f":"IF(R63=\"\",\"\",1)","v":""},"","","","","",0,{"$f":"IF(Y63=\"\",\"\",1)","v":""},"","","","","",0,{"$f":"IF(AF63=\"\",\"\",1)","v":""},"","","","","",0,"","","","","","",0,"","","","","","",0,"","","","","","",0,{"$f":"IF(BH63=\"\",\"\",1)","v":""},"","","","","",0,"","","","","","",0,"","","","","","",0,"","","","","","",0,"","","","","","",0,"","","","","",1,1,"","","","","","",0,"","","","","","",0,"","",1,"","","",1]
[null,null,null,null,null,null,null,null,null,null,{"$f":"IF(K64=\"\",\"\",1)","v":""},"","","","","",0,{"$f":"IF(R64=\"\",\"\",1)","v":""},"","","","","",0,{"$f":"IF(Y64=\"\",\"\",1)","v":""},"","","","","",0,{"$f":"IF(AF64=\"\",\"\",1)","v":""},"","","","","",0,"","","","","","",0,"","","","","","",0,"","","","","","",0,{"$f":"IF(BH64=\"\",\"\",1)","v":""},"","","","","",0,"","","","","","",0,"","","","","","",0,"","","","","","",0,"","","","","","",0,"","","","","","",0,"","","","","","",0,"","","","","","",0,"","","","","","",0]
[null,null,null,null,null,null,null,null,null,null,{"$f":"IF(K65=\"\",\"\",1)","v":""},"","","","","",0,{"$f":"IF(R65=\"\",\"\",1)","v":""},"","","","","",0,{"$f":"IF(Y65=\"\",\"\",1)","v":""},"","","","","",0,{"$f":"IF(AF65=\"\",\"\",1)","v":""},"","","","","",0,"","","","","","",0,"","","","","","",0,"","","","","","",0,{"$f":"IF(BH65=\"\",\"\",1)","v":""},"","","","","",0,"","","","","","",0,"","","","","","",0,"","","","","","",0,"","","","","","",0,"","","","","","",0,"","","","","","",0,"","","","","","",0,"","","","","","",0]
[null,null,null,null,null,null,null,null,null,null,{"$f":"IF(K66=\"\",\"\",1)","v":""},"","","","","",0,{"$f":"IF(R66=\"\",\"\",1)","v":""},"","","","","",0,{"$f":"IF(Y66=\"\",\"\",1)","v":""},"","","","","",0,{"$f":"IF(AF66=\"\",\"\",1)","v":""},"","","","","",0,"","","","","","",0,"","","","","","",0,"","","","","","",0,{"$f":"IF(BH66=\"\",\"\",1)","v":""},"","","","","",0,"","","","","","",0,"","","","","","",0,"","","","","","",0,"","","","","","",0,"","","","","","",0,"","","","","","",0,"","","","","","",0,"","","","","","",0]
[null,null,null,null,null,null,null,null,null,null,{"$f":"IF(K67=\"\",\"\",1)","v":""},"","","","","",0,{"$f":"IF(R67=\"\",\"\",1)","v":""},"","","","","",0,{"$f":"IF(Y67=\"\",\"\",1)","v":""},"","","","","",0,{"$f":"IF(AF67=\"\",\"\",1)","v":""},"","","","","",0,"","","","","","",0,"","","","","","",0,"","","","","","",0,{"$f":"IF(BH67=\"\",\"\",1)","v":""},"","","","","",0,"","","","","","",0,"","","","","","",0,"","","","","","",0,"","","","","","",0,"","","","","","",0,"","","","","","",0,"","","","","","",0,"","","","","","",0]
[null,null,null,null,null,null,null,null,null,null,{"$f":"IF(K68=\"\",\"\",1)","v":""},"","","","","",0,{"$f":"IF(R68=\"\",\"\",1)","v":""},"","","","","",0,{"$f":"IF(Y68=\"\",\"\",1)","v":""},"","","","","",0,{"$f":"IF(AF68=\"\",\"\",1)","v":""},"","","","","",0,"","","","","","",0,"","","","","","",0,"","","","","","",0,{"$f":"IF(BH68=\"\",\"\",1)","v":""},"","","","","",0,"","","","","","",0,"","","","","","",0,"","","","","","",0,"","","","","","",0,"","","","","","",0,"","","","","","",0,"","","","","","",0,"","","","","","",0]
[null,null,null,null,null,null,null,null,null,null,{"$f":"IF(K69=\"\",\"\",1)","v":""},"","","","","",0,{"$f":"IF(R69=\"\",\"\",1)","v":""},"","","","","",0,{"$f":"IF(Y69=\"\",\"\",1)","v":""},"","","","","",0,{"$f":"IF(AF69=\"\",\"\",1)","v":""},"","","","","",0,"","","","","","",0,"","","","","","",0,"","","","","","",0,{"$f":"IF(BH69=\"\",\"\",1)","v":""},"","","","","",0,"","","","","","",0,"","","","","","",0,"","","","","","",0,"","","","","","",0,"","","","","","",0,"","","","","","",0,"","","","","","",0,"","","","","","",0]
[null,null,null,null,null,null,null,null,null,null,{"$f":"IF(K70=\"\",\"\",1)","v":""},"","","","","",0,{"$f":"IF(R70=\"\",\"\",1)","v":""},"","","","","",0,{"$f":"IF(Y70=\"\",\"\",1)","v":""},"","","","","",0,{"$f":"IF(AF70=\"\",\"\",1)","v":""},"","","","","",0,"","","","","","",0,"","","","","","",0,"","","","","","",0,{"$f":"IF(BH70=\"\",\"\",1)","v":""},"","","","","",0,"","","","","","",0,"","","","","","",0,"","","","","","",0,"","","","","","",0,"","","","","","",0,"","","","","","",0,"","","","","","",0,"","","","","","",0]
[null,null,null,null,null,null,null,null,null,null,{"$f":"IF(K71=\"\",\"\",1)","v":""},"","","","","",0,{"$f":"IF(R71=\"\",\"\",1)","v":""},"","","","","",0,{"$f":"IF(Y71=\"\",\"\",1)","v":""},"","","","","",0,{"$f":"IF(AF71=\"\",\"\",1)","v":""},"","","","","",0,{"$f":"IF(AM71=\"\",\"\",1)","v":""},"","","","","",0,{"$f":"IF(AT71=\"\",\"\",1)","v":""},"","","","","",0,{"$f":"IF(BA71=\"\",\"\",1)","v":""},"","","","","",0,{"$f":"IF(BH71=\"\",\"\",1)","v":""},"","","","","",0,"","","","","","",0,"","","","","","",0,"","","","","","",0,"","","","","","",0,"","","","","","",0,"","","","","","",0,"","","","","","",0,"","","","","","",0]
[null,null,null,null,null,null,null,null,null,null,{"$f":"IF(K72=\"\",\"\",1)","v":""},"","","","","",0,{"$f":"IF(R72=\"\",\"\",1)","v":""},"","","","","",0,{"$f":"IF(Y72=\"\",\"\",1)","v":""},"","","","","",0,{"$f":"IF(AF72=\"\",\"\",1)","v":""},"","","","","",0,"","","","","","",0,"","","","","","",0,"","","","","","",0,{"$f":"IF(BH72=\"\",\"\",1)","v":""},"","","","","",0,"","","","","","",0,"","","","","","",0,"","","","","","",0,"","","","","","",0,"","","","","","",0,"","","","","","",0,"","","","","","",0,"","","","","","",0]
[null,null,null,null,null,null,null,null,null,null,{"$f":"IF(K73=\"\",\"\",1)","v":""},"","","","","",0,{"$f":"IF(R73=\"\",\"\",1)","v":""},"","","","","",0,{"$f":"IF(Y73=\"\",\"\",1)","v":""},"","","","","",0,{"$f":"IF(AF73=\"\",\"\",1)","v":""},"","","","","",0,"","","","","","",0,"","","","","","",0,"","","","","","",0,{"$f":"IF(BH73=\"\",\"\",1)","v":""},"","","","","",0,"","","","","","",0,"","","","","","",0,"","","","","","",0,"","","","","","",0,"","","","","","",0,"","","","","","",0,"","","","","","",0,"","","","","","",0]
[null,null,null,null,null,null,null,null,null,null,{"$f":"IF(K74=\"\",\"\",1)","v":""},"","","","","",0,{"$f":"IF(R74=\"\",\"\",1)","v":""},"","","","","",0,{"$f":"IF(Y74=\"\",\"\",1)","v":""},"","","","","",0,{"$f":"IF(AF74=\"\",\"\",1)","v":""},"","","","","",0,"","","","","","",0,"","","","","","",0,"","","","","","",0,{"$f":"IF(BH74=\"\",\"\",1)","v":""},"","","","","",0,"","","","","","",0,"","","","","","",0,"","","","","","",0,"","","","","","",0,"","","","","","",0,"","","","","","",0,"","","","","","",0,"","","","","","",0]
[null,null,null,null,null,null,null,null,null,null,{"$f":"IF(K75=\"\",\"\",1)","v":""},"","","","","",0,{"$f":"IF(R75=\"\",\"\",1)","v":""},"","","","","",0,{"$f":"IF(Y75=\"\",\"\",1)","v":""},"","","","","",0,{"$f":"IF(AF75=\"\",\"\",1)","v":""},"","","","","",0,"","","","","","",0,"","","","","","",0,"","","","","","",0,{"$f":"IF(BH75=\"\",\"\",1)","v":""},"","","","","",0,"","","","","","",0,"","","","","","",0,"","","","","","",0,"","","","","","",0,"","","","","","",0,"","","","","","",0,"","","","","","",0,"","","","","","",0]
[null,null,null,null,null,null,null,null,null,null,{"$f":"IF(K76=\"\",\"\",1)","v":""},"","","","","",0,{"$f":"IF(R76=\"\",\"\",1)","v":""},"","","","","",0,{"$f":"IF(Y76=\"\",\"\",1)","v":""},"","","","","",0,{"$f":"IF(AF76=\"\",\"\",1)","v":""},"","","","","",0,"","","","","","",0,"","","","","","",0,"","","","","","",0,{"$f":"IF(BH76=\"\",\"\",1)","v":""},"","","","","",0,"","","","","","",0,"","","","","","",0,"","","","","","",0,"","","","","","",0,"","","","","","",0,"","","","","","",0,"","","","","","",0,"","","","","","",0]
[null,null,null,null,null,null,null,null,null,null,{"$f":"IF(K77=\"\",\"\",1)","v":""},"","","","","",0,{"$f":"IF(R77=\"\",\"\",1)","v":""},"","","","","",0,{"$f":"IF(Y77=\"\",\"\",1)","v":""},"","","","","",0,{"$f":"IF(AF77=\"\",\"\",1)","v":""},"","","","","",0,"","","","","","",0,"","","","","","",0,"","","","","","",0,{"$f":"IF(BH77=\"\",\"\",1)","v":""},"","","","","",0,"","","","","","",0,"","","","","","",0,"","","","","","",0,"","","","","","",0,"","","","","","",0,"","","","","","",0,"","","","","","",0,"","","","","","",0]
[null,null,null,null,null,null,null,null,null,null,{"$f":"IF(K78=\"\",\"\",1)","v":""},"","","","","",0,{"$f":"IF(R78=\"\",\"\",1)","v":""},"","","","","",0,{"$f":"IF(Y78=\"\",\"\",1)","v":""},"","","","","",0,{"$f":"IF(AF78=\"\",\"\",1)","v":""},"","","","","",0,"","","","","","",0,"","","","","","",0,"","","","","","",0,{"$f":"IF(BH78=\"\",\"\",1)","v":""},"","","","","",0,"","","","","","",0,"","","","","","",0,"","","","","","",0,"","","","","","",0,"","","","","","",0,"","","","","","",0,"","","","","","",0,"","","","","","",0]
[null,null,null,null,null,null,null,null,null,null,{"$f":"IF(K79=\"\",\"\",1)","v":""},"","","","","",0,{"$f":"IF(R79=\"\",\"\",1)","v":""},"","","","","",0,{"$f":"IF(Y79=\"\",\"\",1)","v":""},"","","","","",0,{"$f":"IF(AF79=\"\",\"\",1)","v":""},"","","","","",0,"","","","","","",0,"","","","","","",0,"","","","","","",0,{"$f":"IF(BH79=\"\",\"\",1)","v":""},"","","","","",0,"","","","","","",0,"","","","","","",0,"","","","","","",0,"","","","","","",0,"","","","","","",0,"","","","","","",0,"","","","","","",0,"","","","","","",0]
[null,null,null,null,null,null,null,null,null,null,{"$f":"IF(K80=\"\",\"\",1)","v":""},"","","","","",0,{"$f":"IF(R80=\"\",\"\",1)","v":""},"","","","","",0,{"$f":"IF(Y80=\"\",\"\",1)","v":""},"","","","","",0,{"$f":"IF(AF80=\"\",\"\",1)","v":""},"","","","","",0,"","","","","","",0,"","","","","","",0,"","","","","","",0,{"$f":"IF(BH80=\"\",\"\",1)","v":""},"","","","","",0,"","","","","","",0,"","","","","","",0,"","","","","","",0,"","","","","","",0,"","","","","","",0,"","","","","","",0,"","","","","","",0,"","","","","","",0]
[null,null,null,null,null,null,null,null,null,null,{"$f":"IF(K81=\"\",\"\",1)","v":""},"","","","","",0,{"$f":"IF(R81=\"\",\"\",1)","v":""},"","","","","",0,{"$f":"IF(Y81=\"\",\"\",1)","v":""},"","","","","",0,{"$f":"IF(AF81=\"\",\"\",1)","v":""},"","","","","",0,{"$f":"IF(AM81=\"\",\"\",1)","v":""},"","","","","",0,{"$f":"IF(AT81=\"\",\"\",1)","v":""},"","","","","",0,{"$f":"IF(BA81=\"\",\"\",1)","v":""},"","","","","",0,{"$f":"IF(BH81=\"\",\"\",1)","v":""},"","","","","",0,"","","","","","",0,"","","","","","",0,"","","","","","",0,"","","","","","",0,"","","","","","",0,"","","","","","",0,"","","","","","",0,"","","","","","",0]
[null,null,null,null,null,null,null,null,null,null,{"$f":"IF(K82=\"\",\"\",1)","v":""},"","","","","",0,{"$f":"IF(R82=\"\",\"\",1)","v":""},"","","","","",0,{"$f":"IF(Y82=\"\",\"\",1)","v":""},"","","","","",0,{"$f":"IF(AF82=\"\",\"\",1)","v":""},"","","","","",0,"","","","","","",0,"","","","","","",0,"","","","","","",0,{"$f":"IF(BH82=\"\",\"\",1)","v":""},"","","","","",0,"","","","","","",0,"","","","","","",0,"","","","","","",0,"","","","","","",0,"","","","","","",0,"","","","","","",0,"","","","","","",0,"","","","","","",0]
[null,null,null,null,null,null,null,null,null,null,{"$f":"IF(K83=\"\",\"\",1)","v":""},"","","","","",0,{"$f":"IF(R83=\"\",\"\",1)","v":""},"","","","","",0,{"$f":"IF(Y83=\"\",\"\",1)","v":""},"","","","","",0,{"$f":"IF(AF83=\"\",\"\",1)","v":""},"","","","","",0,"","","","","","",0,"","","","","","",0,"","","","","","",0,{"$f":"IF(BH83=\"\",\"\",1)","v":""},"","","","","",0,"","","","","","",0,"","","","","","",0,"","","","","","",0,"","","","","","",0,"","","","","","",0,"","","","","","",0,"","","","","","",0,"","","","","","",0]
[null,null,null,null,null,null,null,null,null,null,{"$f":"IF(K84=\"\",\"\",1)","v":""},"","","","","",0,{"$f":"IF(R84=\"\",\"\",1)","v":""},"","","","","",0,{"$f":"IF(Y84=\"\",\"\",1)","v":""},"","","","","",0,{"$f":"IF(AF84=\"\",\"\",1)","v":""},"","","","","",0,"","","","","","",0,"","","","","","",0,"","","","","","",0,{"$f":"IF(BH84=\"\",\"\",1)","v":""},"","","","","",0,"","","","","","",0,"","","","","","",0,"","","","","","",0,"","","","","","",0,"","","","","","",0,"","","","","","",0,"","","","","","",0,"","","","","","",0]
[null,null,null,null,null,null,null,null,null,null,{"$f":"IF(K85=\"\",\"\",1)","v":""},"","","","","",0,{"$f":"IF(R85=\"\",\"\",1)","v":""},"","","","","",0,{"$f":"IF(Y85=\"\",\"\",1)","v":""},"","","","","",0,{"$f":"IF(AF85=\"\",\"\",1)","v":""},"","","","","",0,"","","","","","",0,"","","","","","",0,"","","","","","",0,{"$f":"IF(BH85=\"\",\"\",1)","v":""},"","","","","",0,"","","","","","",0,"","","","","","",0,"","","","","","",0,"","","","","","",0,"","","","","","",0,"","","","","","",0,"","","","","","",0,"","","","","","",0]
[null,null,null,null,null,null,null,null,null,null,{"$f":"IF(K86=\"\",\"\",1)","v":""},"","","","","",0,{"$f":"IF(R86=\"\",\"\",1)","v":""},"","","","","",0,{"$f":"IF(Y86=\"\",\"\",1)","v":""},"","","","","",0,{"$f":"IF(AF86=\"\",\"\",1)","v":""},"","","","","",0,"","","","","","",0,"","","","","","",0,"","","","","","",0,{"$f":"IF(BH86=\"\",\"\",1)","v":""},"","","","","",0,"","","","","","",0,"","","","","","",0,"","","","","","",0,"","","","","","",0,"","","","","","",0,"","","","","","",0,"","","","","","",0,"","","","","","",0]
[null,null,null,null,null,null,null,null,null,null,{"$f":"IF(K87=\"\",\"\",1)","v":""},"","","","","",0,{"$f":"IF(R87=\"\",\"\",1)","v":""},"","","","","",0,{"$f":"IF(Y87=\"\",\"\",1)","v":""},"","","","","",0,{"$f":"IF(AF87=\"\",\"\",1)","v":""},"","","","","",0,"","","","","","",0,"","","","","","",0,"","","","","","",0,{"$f":"IF(BH87=\"\",\"\",1)","v":""},"","","","","",0,"","","","","","",0,"","","","","","",0,"","","","","","",0,"","","","","","",0,"","","","","","",0,"","","","","","",0,"","","","","","",0,"","","","","","",0]
[null,null,null,null,null,null,null,null,null,null,{"$f":"IF(K88=\"\",\"\",1)","v":""},"","","","","",0,{"$f":"IF(R88=\"\",\"\",1)","v":""},"","","","","",0,{"$f":"IF(Y88=\"\",\"\",1)","v":""},"","","","","",0,{"$f":"IF(AF88=\"\",\"\",1)","v":""},"","","","","",0,"","","","","","",0,"","","","","","",0,"","","","","","",0,{"$f":"IF(BH88=\"\",\"\",1)","v":""},"","","","","",0,"","","","","","",0,"","","","","","",0,"","","","","","",0,"","","","","","",0,"","","","","","",0,"","","","","","",0,"","","","","","",0,"","","","","","",0]
[null,null,null,null,null,null,null,null,null,null,{"$f":"IF(K89=\"\",\"\",1)","v":""},"","","","","",0,{"$f":"IF(R89=\"\",\"\",1)","v":""},"","","","","",0,{"$f":"IF(Y89=\"\",\"\",1)","v":""},"","","","","",0,{"$f":"IF(AF89=\"\",\"\",1)","v":""},"","","","","",0,"","","","","","",0,"","","","","","",0,"","","","","","",0,{"$f":"IF(BH89=\"\",\"\",1)","v":""},"","","","","",0,"","","","","","",0,"","","","","","",0,"","","","","","",0,"","","","","","",0,"","","","","","",0,"","","","","","",0,"","","","","","",0,"","","","","","",0]
[null,null,null,null,null,null,null,null,null,null,{"$f":"IF(K90=\"\",\"\",1)","v":""},"","","","","",0,{"$f":"IF(R90=\"\",\"\",1)","v":""},"","","","","",0,{"$f":"IF(Y90=\"\",\"\",1)","v":""},"","","","","",0,{"$f":"IF(AF90=\"\",\"\",1)","v":""},"","","","","",0,"","","","","","",0,"","","","","","",0,"","","","","","",0,{"$f":"IF(BH90=\"\",\"\",1)","v":""},"","","","","",0,"","","","","","",0,"","","","","","",0,"","","","","","",0,"","","","","","",0,"","","","","","",0,"","","","","","",0,"","","","","","",0,"","","","","","",0]
[null,null,null,null,null,null,null,null,null,null,{"$f":"IF(K91=\"\",\"\",1)","v":""},"","","","","",0,{"$f":"IF(R91=\"\",\"\",1)","v":""},"","","","","",0,{"$f":"IF(Y91=\"\",\"\",1)","v":""},"","","","","",0,{"$f":"IF(AF91=\"\",\"\",1)","v":""},"","","","","",0,{"$f":"IF(AM91=\"\",\"\",1)","v":""},"","","","","",0,{"$f":"IF(AT91=\"\",\"\",1)","v":""},"","","","","",0,{"$f":"IF(BA91=\"\",\"\",1)","v":""},"","","","","",0,{"$f":"IF(BH91=\"\",\"\",1)","v":""},"","","","","",0,"","","","","","",0,"","","","","","",0,"","","","","","",0,"","","","","","",0,"","","","","","",0,"","","","","","",0,"","","","","","",0,"","","","","","",0]
[null,null,null,null,null,null,null,null,null,null,{"$f":"IF(K92=\"\",\"\",1)","v":""},"","","","","",0,{"$f":"IF(R92=\"\",\"\",1)","v":""},"","","","","",0,{"$f":"IF(Y92=\"\",\"\",1)","v":""},"","","","","",0,{"$f":"IF(AF92=\"\",\"\",1)","v":""},"","","","","",0,"","","","","","",0,"","","","","","",0,"","","","","","",0,{"$f":"IF(BH92=\"\",\"\",1)","v":""},"","","","","",0,"","","","","","",0,"","","","","","",0,"","","","","","",0,"","","","","","",0,"","","","","","",0,"","","","","","",0,"","","","","","",0,"","","","","","",0]
[null,null,null,null,null,null,null,null,null,null,{"$f":"IF(K93=\"\",\"\",1)","v":""},"","","","","",0,{"$f":"IF(R93=\"\",\"\",1)","v":""},"","","","","",0,{"$f":"IF(Y93=\"\",\"\",1)","v":""},"","","","","",0,{"$f":"IF(AF93=\"\",\"\",1)","v":""},"","","","","",0,"","","","","","",0,"","","","","","",0,"","","","","","",0,{"$f":"IF(BH93=\"\",\"\",1)","v":""},"","","","","",0,"","","","","","",0,"","","","","","",0,"","","","","","",0,"","","","","","",0,"","","","","","",0,"","","","","","",0,"","","","","","",0,"","","","","","",0]
[null,null,null,null,null,null,null,null,null,null,{"$f":"IF(K94=\"\",\"\",1)","v":""},"","","","","",0,{"$f":"IF(R94=\"\",\"\",1)","v":""},"","","","","",0,{"$f":"IF(Y94=\"\",\"\",1)","v":""},"","","","","",0,{"$f":"IF(AF94=\"\",\"\",1)","v":""},"","","","","",0,"","","","","","",0,"","","","","","",0,"","","","","","",0,{"$f":"IF(BH94=\"\",\"\",1)","v":""},"","","","","",0,"","","","","","",0,"","","","","","",0,"","","","","","",0,"","","","","","",0,"","","","","","",0,"","","","","","",0,"","","","","","",0,"","","","","","",0]
[null,null,null,null,null,null,null,null,null,null,{"$f":"IF(K95=\"\",\"\",1)","v":""},"","","","","",0,{"$f":"IF(R95=\"\",\"\",1)","v":""},"","","","","",0,{"$f":"IF(Y95=\"\",\"\",1)","v":""},"","","","","",0,{"$f":"IF(AF95=\"\",\"\",1)","v":""},"","","","","",0,"","","","","","",0,"","","","","","",0,"","","","","","",0,{"$f":"IF(BH95=\"\",\"\",1)","v":""},"","","","","",0,"","","","","","",0,"","","","","","",0,"","","","","","",0,"","","","","","",0,"","","","","","",0,"","","","","","",0,"","","","","","",0,"","","","","","",0]
[null,null,null,null,null,null,null,null,null,null,{"$f":"IF(K96=\"\",\"\",1)","v":""},"","","","","",0,{"$f":"IF(R96=\"\",\"\",1)","v":""},"","","","","",0,{"$f":"IF(Y96=\"\",\"\",1)","v":""},"","","","","",0,{"$f":"IF(AF96=\"\",\"\",1)","v":""},"","","","","",0,"","","","","","",0,"","","","","","",0,"","","","","","",0,{"$f":"IF(BH96=\"\",\"\",1)","v":""},"","","","","",0,"","","","","","",0,"","","","","","",0,"","","","","","",0,"","","","","","",0,"","","","","","",0,"","","","","","",0,"","","","","","",0,"","","","","","",0]
[null,null,null,null,null,null,null,null,null,null,{"$f":"IF(K97=\"\",\"\",1)","v":""},"","","","","",0,{"$f":"IF(R97=\"\",\"\",1)","v":""},"","","","","",0,{"$f":"IF(Y97=\"\",\"\",1)","v":""},"","","","","",0,{"$f":"IF(AF97=\"\",\"\",1)","v":""},"","","","","",0,"","","","","","",0,"","","","","","",0,"","","","","","",0,{"$f":"IF(BH97=\"\",\"\",1)","v":""},"","","","","",0,"","","","","","",0,"","","","","","",0,"","","","","","",0,"","","","","","",0,"","","","","","",0,"","","","","","",0,"","","","","","",0,"","","","","","",0]
[null,null,null,null,null,null,null,null,null,null,{"$f":"IF(K98=\"\",\"\",1)","v":""},"","","","","",0,{"$f":"IF(R98=\"\",\"\",1)","v":""},"","","","","",0,{"$f":"IF(Y98=\"\",\"\",1)","v":""},"","","","","",0,{"$f":"IF(AF98=\"\",\"\",1)","v":""},"","","","","",0,"","","","","","",0,"","","","","","",0,"","","","","","",0,{"$f":"IF(BH98=\"\",\"\",1)","v":""},"","","","","",0,"","","","","","",0,"","","","","","",0,"","","","","","",0,"","","","","","",0,"","","","","","",0,"","","","","","",0,"","","","","","",0,"","","","","","",0]
[null,null,null,null,null,null,null,null,null,null,{"$f":"IF(K99=\"\",\"\",1)","v":""},"","","","","",0,{"$f":"IF(R99=\"\",\"\",1)","v":""},"","","","","",0,{"$f":"IF(Y99=\"\",\"\",1)","v":""},"","","","","",0,{"$f":"IF(AF99=\"\",\"\",1)","v":""},"","","","","",0,"","","","","","",0,"","","","","","",0,"","","","","","",0,{"$f":"IF(BH99=\"\",\"\",1)","v":""},"","","","","",0,"","","","","","",0,"","","","","","",0,"","","","","","",0,"","","","","","",0,"","","","","","",0,"","","","","","",0,"","","","","","",0,"","","","","","",0]
[null,null,null,null,null,null,null,null,null,null,{"$f":"IF(K100=\"\",\"\",1)","v":""},"","","","","",0,{"$f":"IF(R100=\"\",\"\",1)","v":""},"","","","","",0,{"$f":"IF(Y100=\"\",\"\",1)","v":""},"","","","","",0,{"$f":"IF(AF100=\"\",\"\",1)","v":""},"","","","","",0,"","","","","","",0,"","","","","","",0,"","","","","","",0,{"$f":"IF(BH100=\"\",\"\",1)","v":""},"","","","","",0,"","","","","","",0,"","","","","","",0,"","","","","","",0,"","","","","","",0,"","","","","","",0,"","","","","","",0,"","","","","","",0,"","","","","","",0]
[null,null,null,null,null,null,null,null,null,null,{"$f":"IF(K101=\"\",\"\",1)","v":""},"","","","","",0,{"$f":"IF(R101=\"\",\"\",1)","v":""},"","","","","",0,{"$f":"IF(Y101=\"\",\"\",1)","v":""},"","","","","",0,{"$f":"IF(AF101=\"\",\"\",1)","v":""},"","","","","",0,{"$f":"IF(AM101=\"\",\"\",1)","v":""},"","","","","",0,{"$f":"IF(AT101=\"\",\"\",1)","v":""},"","","","","",0,{"$f":"IF(BA101=\"\",\"\",1)","v":""},"","","","","",0,{"$f":"IF(BH101=\"\",\"\",1)","v":""},"","","","","",0,"","","","","","",0,"","","","","","",0,"","","","","","",0,"","","","","","",0,"","","","","","",0,"","","","","","",0,"","","","","","",0,"","","","","","",0]
[null,null,null,null,null,null,null,null,null,null,{"$f":"IF(K102=\"\",\"\",1)","v":""},"","","","","",0,{"$f":"IF(R102=\"\",\"\",1)","v":""},"","","","","",0,{"$f":"IF(Y102=\"\",\"\",1)","v":""},"","","","","",0,{"$f":"IF(AF102=\"\",\"\",1)","v":""},"","","","","",0,"","","","","","",0,"","","","","","",0,"","","","","","",0,{"$f":"IF(BH102=\"\",\"\",1)","v":""},"","","","","",0,"","","","","","",0,"","","","","","",0,"","","","","","",0,"","","","","","",0,"","","","","","",0,"","","","","","",0,"","","","","","",0,"","","","","","",0]
[null,null,null,null,null,null,null,null,null,null,{"$f":"IF(K103=\"\",\"\",1)","v":""},"","","","","",0,{"$f":"IF(R103=\"\",\"\",1)","v":""},"","","","","",0,{"$f":"IF(Y103=\"\",\"\",1)","v":""},"","","","","",0,{"$f":"IF(AF103=\"\",\"\",1)","v":""},"","","","","",0,"","","","","","",0,"","","","","","",0,"","","","","","",0,{"$f":"IF(BH103=\"\",\"\",1)","v":""},"","","","","",0,"","","","","","",0,"","","","","","",0,"","","","","","",0,"","","","","","",0,"","","","","","",0,"","","","","","",0,"","","","","","",0,"","","","","","",0]
[null,null,null,null,null,null,null,null,null,null,{"$f":"IF(K104=\"\",\"\",1)","v":""},"","","","","",0,{"$f":"IF(R104=\"\",\"\",1)","v":""},"","","","","",0,{"$f":"IF(Y104=\"\",\"\",1)","v":""},"","","","","",0,{"$f":"IF(AF104=\"\",\"\",1)","v":""},"","","","","",0,"","","","","","",0,"","","","","","",0,"","","","","","",0,{"$f":"IF(BH104=\"\",\"\",1)","v":""},"","","","","",0,"","","","","","",0,"","","","","","",0,"","","","","","",0,"","","","","","",0,"","","","","","",0,"","","","","","",0,"","","","","","",0,"","","","","","",0]
[null,null,null,null,null,null,null,null,null,null,{"$f":"IF(K105=\"\",\"\",1)","v":""},"","","","","",0,{"$f":"IF(R105=\"\",\"\",1)","v":""},"","","","","",0,{"$f":"IF(Y105=\"\",\"\",1)","v":""},"","","","","",0,{"$f":"IF(AF105=\"\",\"\",1)","v":""},"","","","","",0,"","","","","","",0,"","","","","","",0,"","","","","","",0,{"$f":"IF(BH105=\"\",\"\",1)","v":""},"","","","","",0,"","","","","","",0,"","","","","","",0,"","","","","","",0,"","","","","","",0,"","","","","","",0,"","","","","","",0,"","","","","","",0,"","","","","","",0]
[null,null,null,null,null,null,null,null,null,null,{"$f":"IF(K106=\"\",\"\",1)","v":""},"","","","","",0,{"$f":"IF(R106=\"\",\"\",1)","v":""},"","","","","",0,{"$f":"IF(Y106=\"\",\"\",1)","v":""},"","","","","",0,{"$f":"IF(AF106=\"\",\"\",1)","v":""},"","","","","",0,"","","","","","",0,"","","","","","",0,"","","","","","",0,{"$f":"IF(BH106=\"\",\"\",1)","v":""},"","","","","",0,"","","","","","",0,"","","","","","",0,"","","","","","",0,"","","","","","",0,"","","","","","",0,"","","","","","",0,"","","","","","",0,"","","","","","",0]
[null,null,null,null,null,null,null,null,null,null,{"$f":"IF(K107=\"\",\"\",1)","v":""},"","","","","",0,{"$f":"IF(R107=\"\",\"\",1)","v":""},"","","","","",0,{"$f":"IF(Y107=\"\",\"\",1)","v":""},"","","","","",0,{"$f":"IF(AF107=\"\",\"\",1)","v":""},"","","","","",0,"","","","","","",0,"","","","","","",0,"","","","","","",0,{"$f":"IF(BH107=\"\",\"\",1)","v":""},"","","","","",0,"","","","","","",0,"","","","","","",0,"","","","","","",0,"","","","","","",0,"","","","","","",0,"","","","","","",0,"","","","","","",0,"","","","","","",0]
[null,null,null,null,null,null,null,null,null,null,{"$f":"IF(K108=\"\",\"\",1)","v":""},"","","","","",0,{"$f":"IF(R108=\"\",\"\",1)","v":""},"","","","","",0,{"$f":"IF(Y108=\"\",\"\",1)","v":""},"","","","","",0,{"$f":"IF(AF108=\"\",\"\",1)","v":""},"","","","","",0,"","","","","","",0,"","","","","","",0,"","","","","","",0,{"$f":"IF(BH108=\"\",\"\",1)","v":""},"","","","","",0,"","","","","","",0,"","","","","","",0,"","","","","","",0,"","","","","","",0,"","","","","","",0,"","","","","","",0,"","","","","","",0,"","","","","","",0]
[null,null,null,null,null,null,null,null,null,null,{"$f":"IF(K109=\"\",\"\",1)","v":""},"","","","","",0,{"$f":"IF(R109=\"\",\"\",1)","v":""},"","","","","",0,{"$f":"IF(Y109=\"\",\"\",1)","v":""},"","","","","",0,{"$f":"IF(AF109=\"\",\"\",1)","v":""},"","","","","",0,"","","","","","",0,"","","","","","",0,"","","","","","",0,{"$f":"IF(BH109=\"\",\"\",1)","v":""},"","","","","",0,"","","","","","",0,"","","","","","",0,"","","","","","",0,"","","","","","",0,"","","","","","",0,"","","","","","",0,"","","","","","",0,"","","","","","",0]

{"sheet":"induk2","index":6,"n_rows":72,"n_cols":47,"rows_kept":72,"cut":false,"hidden":true,"merged":[[54,9,54,15],[54,16,54,17],[54,18,54,19],[0,34,0,36],[1,37,2,37],[1,34,2,36],[53,18,53,19],[54,32,54,33],[54,30,54,31],[54,23,54,29],[49,16,49,17],[50,16,50,17],[43,9,43,15],[44,9,44,15],[45,9,45,15],[45,16,45,17],[44,23,44,29],[45,23,45,29],[42,32,42,33],[43,18,43,19],[43,32,43,33],[43,23,43,29],[36,9,36,19],[36,23,36,33],[56,18,56,19],[55,9,55,15],[56,9,56,15],[55,16,55,17],[56,16,56,17],[55,32,55,33],[56,32,56,33],[55,30,55,31],[56,30,56,31],[55,23,55,29],[60,8,63,13],[60,14,63,19],[59,8,59,13],[59,14,59,19],[55,18,55,19],[43,30,43,31],[44,30,44,31],[45,30,45,31],[42,23,42,29],[49,18,49,19],[50,18,50,19],[48,22,48,29],[49,22,49,29],[50,22,50,29],[62,23,62,28],[59,22,59,33],[43,16,43,17],[56,23,56,29],[53,30,53,31],[42,9,42,15],[42,16,42,17],[49,9,49,15],[48,9,48,15],[42,30,42,31],[60,22,61,33],[48,16,48,17],[48,18,48,19],[60,36,60,38],[53,16,53,17],[20,8,21,8],[44,18,44,19],[42,18,42,19],[38,9,38,14],[39,9,39,14],[53,9,53,15],[48,30,48,31],[49,30,49,31],[50,30,50,31],[48,32,48,33],[49,32,49,33],[50,32,50,33],[50,9,50,15],[53,32,53,33],[53,23,53,29],[44,32,44,33],[45,18,45,19],[45,32,45,33],[44,16,44,17],[37,23,37,29],[37,9,37,14],[38,23,38,29],[39,23,39,29],[33,23,33,29],[32,9,32,14],[33,9,33,14],[34,23,34,29],[35,23,35,29],[34,9,34,14],[35,9,35,14],[30,23,30,29],[31,23,31,29],[31,9,31,14],[29,9,29,14],[30,9,30,14],[32,23,32,29],[25,23,25,29],[26,23,26,29],[27,23,27,29],[27,9,27,14],[28,23,28,29],[29,23,29,29],[17,32,17,33],[20,18,20,19],[20,32,20,33],[17,9,17,15],[17,30,17,31],[20,16,20,17],[20,15,21,15],[17,16,17,17],[20,9,21,14],[16,30,16,31],[16,16,16,17],[16,23,16,29],[14,32,14,33],[13,9,13,15],[14,9,14,15],[14,23,14,29],[14,16,14,17],[15,32,15,33],[15,23,15,29],[1,8,1,33],[2,8,2,33],[4,21,4,32],[5,21,5,32],[6,21,6,32],[7,21,7,32],[8,21,8,32],[11,18,11,19],[11,30,11,31],[12,30,12,31],[13,30,13,31],[14,30,14,31],[11,32,11,33],[13,18,13,19],[13,32,13,33],[14,18,14,19],[11,23,11,29],[11,9,11,15],[11,16,11,17],[12,16,12,17],[13,16,13,17],[12,32,12,33],[12,9,12,15],[12,18,12,19],[12,23,12,29],[13,23,13,29],[63,23,63,29],[15,16,15,17],[20,23,21,29],[20,30,20,31],[36,8,39,8],[23,9,23,14],[24,9,24,14],[25,9,25,14],[26,9,26,14],[28,9,28,14],[22,8,25,8],[22,9,22,19],[17,23,17,29],[15,18,15,19],[16,18,16,19],[17,18,17,19],[22,22,25,22],[22,23,22,33],[23,23,23,29],[24,23,24,29],[16,32,16,33],[15,9,15,15],[16,9,16,15],[15,30,15,31]]}
[{"$f":"sekolah!$E$20","v":9},{"$f":"sekolah!$H$20","v":"C"},null,null,null,null,null,null,null,null,null,null,null,null,null,null,null,null,null,null,null,null,null,null,null,null,null,null,null,null,null,null,null,null,"NOMER URUT ==>",null,null,1]
[{"$f":"kur!$I$1","v":"MULTI KKM"},null,"SUSTER_RS",null,null,null,null,null,"BUKU INDUK PESERTA DIDIK",null,null,null,null,null,null,null,null,null,null,null,null,null,null,null,null,null,null,null,null,null,null,null,null,null,"JUMLAH SISWA",null,null,{"$f":"Database!$D$54","v":8},null,null,null,null,null,null,null,null,1]
[{"$f":"sekolah!$E$21","v":"Genap"},null,null,null,null,null,null,null,{"$f":"UPPER(sekolah!$E$5)","v":"MTS NURUL HIDAYAH"}]
[{"$f":"VLOOKUP($AL$1,siswa,3,0)","v":6786545673}]
[{"$f":"IF($A$4=0,\"\",\" / \")","v":" / "},null,null,null,null,null,null,null,null,null,null,null,null,null,null,null,"Nama Peserta Didik",null,null,null,":",{"$f":"VLOOKUP($AL$1,siswa,4,0)","v":"jaya"}]
[{"$f":"IF($B$1=0,data!$J$5,$B$1)","v":"C"},null,null,null,null,null,null,null,null,null,null,null,null,null,null,null,"NIS / NISN",null,null,null,":",{"$f":"VLOOKUP($AL$1,siswa,2,0)&$A$5&VLOOKUP($AL$1,siswa,3,0)","v":"1234 / 6786545673"}]
[{"$f":"IF($B$1=0,$A$1,$A$1&\"  \"&$B$1)","v":"9  C"},null,null,null,null,null,null,null,null,null,null,null,null,null,null,null,"Kelas",null,null,null,":",{"$f":"$A$1&\" \"&$A$6","v":"9 C"}]
[null,null,null,null,null,null,null,null,null,null,null,null,null,null,null,null,"Semester",null,null,null,":",{"$f":"sekolah!$E$21","v":"Genap"}]
[null,null,null,null,null,null,null,null,null,null,null,null,null,null,null,null,"Tahun Pelajaran",null,null,null,":",{"$f":"sekolah!$E$22","v":"2017 / 2018"}]
["DATA"]
["NAMA",{"$f":"VLOOKUP(AL1,siswa,4,0)","v":"jaya"},null,null,null,null,null,null,"A. SIKAP SPIRITUAL",null,null,null,null,null,null,null,null,null,null,null,null,null,"B. SIKAP SOSIAL"]
[null,null,null,null,null,null,null,null,"No","Aspek",null,null,null,null,null,null,"Predikat Ganjil",null,"Predikat Genap",null,null,null,"No","Aspek",null,null,null,null,null,null,"Predikat Ganjil",null,"Predikat Genap"]
[{"$f":"VLOOKUP($AL$1,sosial1,3,0)","v":0},{"$f":"VLOOKUP($AL$1,sosial2,3,0)","v":"B"},{"$f":"VLOOKUP($AL$1,sosial1,11,0)","v":"PB"},{"$f":"VLOOKUP($AL$1,sosial2,11,0)","v":"PB"},null,null,null,null,1,{"$f":"IF(kur!$K9=\"\",\"\",kur!$K9)","v":"ketaatan beribadah"},null,null,null,null,null,null,{"$f":"IF(A13=0,\"\",A13)","v":""},null,{"$f":"IF(B13=0,\"\",B13)","v":"B"},null,null,null,1,{"$f":"IF(kur!$N9=\"\",\"\",kur!$N9)","v":"jujur"},null,null,null,null,null,null,{"$f":"IF(C13=0,\"\",C13)","v":"PB"},null,{"$f":"IF($D13=0,\"\",$D13)","v":"PB"}]
[{"$f":"VLOOKUP($AL$1,sosial1,4,0)","v":0},{"$f":"VLOOKUP($AL$1,sosial2,4,0)","v":"C"},{"$f":"VLOOKUP($AL$1,sosial1,12,0)","v":"B"},{"$f":"VLOOKUP($AL$1,sosial2,12,0)","v":"C"},null,null,null,null,{"$f":"IF(J14=\"\",\"\",MAX($I$13:I13)+1)","v":2},{"$f":"IF(kur!$K10=\"\",\"\",kur!$K10)","v":"perilaku bersyukur"},null,null,null,null,null,null,"",null,"C",null,null,null,2,{"$f":"IF(kur!$N10=\"\",\"\",kur!$N10)","v":"disiplin"},null,null,null,null,null,null,"B",null,"C"]
[{"$f":"VLOOKUP($AL$1,sosial1,5,0)","v":0},{"$f":"VLOOKUP($AL$1,sosial2,5,0)","v":"SB"},{"$f":"VLOOKUP($AL$1,sosial1,13,0)","v":"C"},{"$f":"VLOOKUP($AL$1,sosial2,13,0)","v":0},null,null,null,null,{"$f":"IF(J15=\"\",\"\",MAX($I$13:I14)+1)","v":3},{"$f":"IF(kur!$K11=\"\",\"\",kur!$K11)","v":"kebiasaan berdoa sebelum belajar"},null,null,null,null,null,null,"",null,"SB",null,null,null,3,{"$f":"IF(kur!$N11=\"\",\"\",kur!$N11)","v":"tanggung jawab"},null,null,null,null,null,null,"C",null,""]
[{"$f":"VLOOKUP($AL$1,sosial1,6,0)","v":"B"},{"$f":"VLOOKUP($AL$1,sosial2,6,0)","v":"PB"},{"$f":"VLOOKUP($AL$1,sosial1,14,0)","v":"PB"},{"$f":"VLOOKUP($AL$1,sosial2,14,0)","v":"SB"},null,null,null,null,{"$f":"IF(J16=\"\",\"\",MAX($I$13:I15)+1)","v":4},{"$f":"IF(kur!$K12=\"\",\"\",kur!$K12)","v":"meyakini kebesaran / anugerah Allah"},null,null,null,null,null,null,"B",null,"PB",null,null,null,4,{"$f":"IF(kur!$N12=\"\",\"\",kur!$N12)","v":"peduli"},null,null,null,null,null,null,"PB",null,"SB"]
[{"$f":"VLOOKUP($AL$1,sosial1,7,0)","v":0},{"$f":"VLOOKUP($AL$1,sosial2,7,0)","v":"C"},{"$f":"VLOOKUP($AL$1,sosial1,15,0)","v":"B"},{"$f":"VLOOKUP($AL$1,sosial2,15,0)","v":0},null,null,null,null,{"$f":"IF(J17=\"\",\"\",MAX($I$13:I16)+1)","v":5},{"$f":"IF(kur!$K13=\"\",\"\",kur!$K13)","v":"toleransi beribadah"},null,null,null,null,null,null,"",null,"C",null,null,null,5,{"$f":"IF(kur!$N13=\"\",\"\",kur!$N13)","v":"santun"},null,null,null,null,null,null,"B",null,""]
[{"$f":"VLOOKUP($AL$1,sosial1,8,0)","v":0},{"$f":"VLOOKUP($AL$1,sosial2,8,0)","v":"SB"},{"$f":"VLOOKUP($AL$1,sosial1,16,0)","v":"SB"},{"$f":"VLOOKUP($AL$1,sosial2,16,0)","v":"B"},null,null,null,null,{"$f":"IF(J18=\"\",\"\",MAX($I$13:I17)+1)","v":6},{"$f":"IF(kur!$K14=\"\",\"\",kur!$K14)","v":"kebiasaan mengucapkan salam"},null,null,null,null,null,null,"",null,"SB",null,null,null,6,{"$f":"IF(kur!$N14=\"\",\"\",kur!$N14)","v":"percaya diri"},null,null,null,null,null,null,"SB",null,"B"]
[]
[null,null,null,null,null,null,null,null,"C. PENGETAHUAN",null,null,null,null,null,null,null,null,null,null,null,null,null,"D. KETRAMPILAN"]
[null,null,null,null,null,null,null,null,"No","Muatan Pelajaran",null,null,null,null,null,"KKM","Ganjil",null,"Genap",null,null,null,"No","Muatan Pelajaran",null,null,null,null,null,null,"Ganjil",null,"Genap"]
[null,null,null,null,null,null,null,null,null,null,null,null,null,null,null,null,"Nilai","Predikat","Nilai","Predikat",null,null,null,null,null,null,null,null,null,null,"Nilai","Predikat","Nilai","Predikat"]
[{"$f":"pts!A14","v":92},{"$f":"pts!B14","v":84},{"$f":"pts!C14","v":75},{"$f":"pts!D14","v":0},null,null,null,null,1,"Pendidikan Agama Islam",null,null,null,null,null,null,null,null,null,null,null,null,1,"Pendidikan Agama Islam"]
[{"$f":"pts!A15","v":82},{"$f":"pts!B15","v":64},{"$f":"pts!C15","v":45},{"$f":"pts!D15","v":"Al-Qur'an Hadits"},{"$f":"VLOOKUP($AL$1,nil.ganjil,3,0)","v":88},{"$f":"VLOOKUP($AL$1,nil.genap,3,0)","v":76},{"$f":"VLOOKUP($AL$1,nil.ganjil,19,0)","v":89},{"$f":"VLOOKUP($AL$1,nil.genap,19,0)","v":79},null,"a. Al - Qur'an Hadits",null,null,null,null,null,{"$f":"IF($A$2=\"satu KKM\",$C$23,$C24)","v":45},{"$f":"IF($E24=0,\"\",$E24)","v":88},{"$f":"IF(Q24=\"\",\"\",IF(Q24>=$A24,\"A\",IF(Q24>=$B24,\"B\",IF(Q24>=$C24,\"C\",\"D\"))))","v":"A"},{"$f":"IF($F24=0,\"\",$F24)","v":76},{"$f":"IF(S24=\"\",\"\",IF(S24>=$A24,\"A\",IF(S24>=$B24,\"B\",IF(S24>=$C24,\"C\",\"D\"))))","v":"B"},null,null,null,"a. Al - Qur'an Hadits",null,null,null,null,null,null,{"$f":"IF($G24=0,\"\",$G24)","v":89},{"$f":"IF(AE24=\"\",\"\",IF(AE24>=$A24,\"A\",IF(AE24>=$B24,\"B\",IF(AE24>=$C24,\"C\",\"D\"))))","v":"A"},{"$f":"IF($H24=0,\"\",$H24)","v":79},{"$f":"IF(AG24=\"\",\"\",IF(AG24>=$A24,\"A\",IF(AG24>=$B24,\"B\",IF(AG24>=$C24,\"C\",\"D\"))))","v":"B"}]
[{"$f":"pts!A16","v":85},{"$f":"pts!B16","v":70},{"$f":"pts!C16","v":56},{"$f":"pts!D16","v":"Akidah Akhlak"},{"$f":"VLOOKUP($AL$1,nil.ganjil,4,0)","v":65},{"$f":"VLOOKUP($AL$1,nil.genap,4,0)","v":65},{"$f":"VLOOKUP($AL$1,nil.ganjil,20,0)","v":70},{"$f":"VLOOKUP($AL$1,nil.genap,20,0)","v":66},null,"b. Akidah Akhlak",null,null,null,null,null,{"$f":"IF($A$2=\"satu KKM\",$C$23,$C25)","v":56},{"$f":"IF($E25=0,\"\",$E25)","v":65},{"$f":"IF(Q25=\"\",\"\",IF(Q25>=$A25,\"A\",IF(Q25>=$B25,\"B\",IF(Q25>=$C25,\"C\",\"D\"))))","v":"C"},{"$f":"IF($F25=0,\"\",$F25)","v":65},{"$f":"IF(S25=\"\",\"\",IF(S25>=$A25,\"A\",IF(S25>=$B25,\"B\",IF(S25>=$C25,\"C\",\"D\"))))","v":"C"},null,null,null,"b. Akidah Akhlak",null,null,null,null,null,null,{"$f":"IF($G25=0,\"\",$G25)","v":70},{"$f":"IF(AE25=\"\",\"\",IF(AE25>=$A25,\"A\",IF(AE25>=$B25,\"B\",IF(AE25>=$C25,\"C\",\"D\"))))","v":"B"},{"$f":"IF($H25=0,\"\",$H25)","v":66},{"$f":"IF(AG25=\"\",\"\",IF(AG25>=$A25,\"A\",IF(AG25>=$B25,\"B\",IF(AG25>=$C25,\"C\",\"D\"))))","v":"C"}]
[{"$f":"pts!A17","v":92},{"$f":"pts!B17","v":84},{"$f":"pts!C17","v":76},{"$f":"pts!D17","v":"Fikih"},{"$f":"VLOOKUP($AL$1,nil.ganjil,5,0)","v":78},{"$f":"VLOOKUP($AL$1,nil.genap,5,0)","v":78},{"$f":"VLOOKUP($AL$1,nil.ganjil,21,0)","v":81},{"$f":"VLOOKUP($AL$1,nil.genap,21,0)","v":79},null,"c. Fikih",null,null,null,null,null,{"$f":"IF($A$2=\"satu KKM\",$C$23,$C26)","v":76},78,"C",78,"C",null,null,null,"c. Fikih",null,null,null,null,null,null,81,"C",79,"C"]
[{"$f":"pts!A18","v":85},{"$f":"pts!B18","v":70},{"$f":"pts!C18","v":56},{"$f":"pts!D18","v":"Sejarah Kebudayaan Islam"},{"$f":"VLOOKUP($AL$1,nil.ganjil,7,0)","v":76},{"$f":"VLOOKUP($AL$1,nil.genap,7,0)","v":76},{"$f":"VLOOKUP($AL$1,nil.ganjil,23,0)","v":77},{"$f":"VLOOKUP($AL$1,nil.genap,23,0)","v":79},null,{"$f":"IF($A$1<3,\"\",\"d. Sejarah Kebudayaan Islam\")","v":"d. Sejarah Kebudayaan Islam"},null,null,null,null,null,{"$f":"IF(J27=\"\",\"\",IF($A$2=\"satu KKM\",$C$23,$C27))","v":56},76,"B",76,"B",null,null,null,{"$f":"IF($A$1<3,\"\",\"d. Sejarah Kebudayaan Islam\")","v":"d. Sejarah Kebudayaan Islam"},null,null,null,null,null,null,77,"B",79,"B"]
[{"$f":"pts!A19","v":91},{"$f":"pts!B19","v":82},{"$f":"pts!C19","v":74},{"$f":"pts!D19","v":"Pendidikan Pancasila dan Kewarganegaaraan"},{"$f":"VLOOKUP($AL$1,nil.ganjil,8,0)","v":74},{"$f":"VLOOKUP($AL$1,nil.genap,8,0)","v":74},{"$f":"VLOOKUP($AL$1,nil.ganjil,24,0)","v":79},{"$f":"VLOOKUP($AL$1,nil.genap,24,0)","v":75},2,"Pendidikan Pancasila dan Kewarganegaraan",null,null,null,null,null,{"$f":"IF($A$2=\"satu KKM\",$C$23,$C28)","v":74},74,"C",74,"C",null,null,2,"Pendidikan Pancasila dan Kewarganegaraan",null,null,null,null,null,null,79,"C",75,"C"]
[{"$f":"pts!A20","v":92},{"$f":"pts!B20","v":84},{"$f":"pts!C20","v":75},{"$f":"pts!D20","v":"Bahasa Indonesia"},{"$f":"VLOOKUP($AL$1,nil.ganjil,9,0)","v":78},{"$f":"VLOOKUP($AL$1,nil.genap,9,0)","v":78},{"$f":"VLOOKUP($AL$1,nil.ganjil,25,0)","v":81},{"$f":"VLOOKUP($AL$1,nil.genap,25,0)","v":79},3,"Bahasa Indonesia",null,null,null,null,null,{"$f":"IF($A$2=\"satu KKM\",$C$23,$C29)","v":75},78,"C",78,"C",null,null,3,"Bahasa Indonesia",null,null,null,null,null,null,81,"C",79,"C"]
[{"$f":"pts!A21","v":91},{"$f":"pts!B21","v":82},{"$f":"pts!C21","v":72},{"$f":"pts!D21","v":"Bahasa Arab"},{"$f":"VLOOKUP($AL$1,nil.ganjil,6,0)","v":67},{"$f":"VLOOKUP($AL$1,nil.genap,6,0)","v":67},{"$f":"VLOOKUP($AL$1,nil.ganjil,22,0)","v":68},{"$f":"VLOOKUP($AL$1,nil.genap,22,0)","v":72},4,"Bahasa Arab",null,null,null,null,null,{"$f":"IF($A$2=\"satu KKM\",$C$23,$C30)","v":72},67,"D",67,"D",null,null,4,"Bahasa Arab",null,null,null,null,null,null,68,"D",72,"C"]
[{"$f":"pts!A22","v":85},{"$f":"pts!B22","v":70},{"$f":"pts!C22","v":56},{"$f":"pts!D22","v":"Matematika"},{"$f":"VLOOKUP($AL$1,nil.ganjil,10,0)","v":45},{"$f":"VLOOKUP($AL$1,nil.genap,10,0)","v":45},{"$f":"VLOOKUP($AL$1,nil.ganjil,26,0)","v":46},{"$f":"VLOOKUP($AL$1,nil.genap,26,0)","v":50},5,"Matematika",null,null,null,null,null,{"$f":"IF($A$2=\"satu KKM\",$C$23,$C31)","v":56},45,"D",45,"D",null,null,5,"Matematika",null,null,null,null,null,null,46,"D",50,"D"]
[{"$f":"pts!A23","v":92},{"$f":"pts!B23","v":84},{"$f":"pts!C23","v":77},{"$f":"pts!D23","v":"Ilmu Pengetahuan Alam"},{"$f":"VLOOKUP($AL$1,nil.ganjil,11,0)","v":56},{"$f":"VLOOKUP($AL$1,nil.genap,11,0)","v":56},{"$f":"VLOOKUP($AL$1,nil.ganjil,27,0)","v":57},{"$f":"VLOOKUP($AL$1,nil.genap,27,0)","v":59},{"$f":"IF(J32=\"\",\"\",MAX($I$23:I31)+1)","v":6},{"$f":"IF($A$1<4,\"\",\"Ilmu Pengetahuan Alam\")","v":"Ilmu Pengetahuan Alam"},null,null,null,null,null,{"$f":"IF(J32=\"\",\"\",IF($A$2=\"satu KKM\",$C$23,$C32))","v":77},56,"D",56,"D",null,null,{"$f":"IF(X32=\"\",\"\",MAX($W$23:W31)+1)","v":6},{"$f":"IF($A$1<4,\"\",\"Ilmu Pengetahuan Alam\")","v":"Ilmu Pengetahuan Alam"},null,null,null,null,null,null,57,"D",59,"D"]
[{"$f":"pts!A24","v":93},{"$f":"pts!B24","v":86},{"$f":"pts!C24","v":78},{"$f":"pts!D24","v":"Ilmu Pengetahuan Sosial"},{"$f":"VLOOKUP($AL$1,nil.ganjil,12,0)","v":78},{"$f":"VLOOKUP($AL$1,nil.genap,12,0)","v":78},{"$f":"VLOOKUP($AL$1,nil.ganjil,28,0)","v":83},{"$f":"VLOOKUP($AL$1,nil.genap,28,0)","v":79},{"$f":"IF(J33=\"\",\"\",MAX($I$23:I32)+1)","v":7},{"$f":"IF($A$1<4,\"\",\"Ilmu Pengetahuan Sosial\")","v":"Ilmu Pengetahuan Sosial"},null,null,null,null,null,{"$f":"IF(J33=\"\",\"\",IF($A$2=\"satu KKM\",$C$23,$C33))","v":78},78,"C",78,"C",null,null,{"$f":"IF(X33=\"\",\"\",MAX($W$23:W32)+1)","v":7},{"$f":"IF($A$1<4,\"\",\"Ilmu Pengetahuan Sosial\")","v":"Ilmu Pengetahuan Sosial"},null,null,null,null,null,null,83,"C",79,"C"]
[{"$f":"pts!A25","v":93},{"$f":"pts!B25","v":86},{"$f":"pts!C25","v":79},{"$f":"pts!D25","v":"Seni Budaya "},{"$f":"VLOOKUP($AL$1,nil.ganjil,13,0)","v":56},{"$f":"VLOOKUP($AL$1,nil.genap,13,0)","v":56},{"$f":"VLOOKUP($AL$1,nil.ganjil,29,0)","v":59},{"$f":"VLOOKUP($AL$1,nil.genap,29,0)","v":57},{"$f":"IF(J34=\"\",\"\",MAX($I$23:I33)+1)","v":8},"Seni Budaya",null,null,null,null,null,{"$f":"IF($A$2=\"satu KKM\",$C$23,$C34)","v":79},56,"D",56,"D",null,null,{"$f":"IF(X34=\"\",\"\",MAX($W$23:W33)+1)","v":8},"Seni Budaya",null,null,null,null,null,null,59,"D",57,"D"]
[{"$f":"pts!A26","v":78},{"$f":"pts!B26","v":56},{"$f":"pts!C26","v":34},{"$f":"pts!D26","v":"Pendidikan Jasmani,Olahraga danKesehatan"},{"$f":"VLOOKUP($AL$1,nil.ganjil,14,0)","v":78},{"$f":"VLOOKUP($AL$1,nil.genap,14,0)","v":78},{"$f":"VLOOKUP($AL$1,nil.ganjil,30,0)","v":79},{"$f":"VLOOKUP($AL$1,nil.genap,30,0)","v":83},{"$f":"IF(J35=\"\",\"\",MAX($I$23:I34)+1)","v":9},"Pendidikan Jasmani,Olahraga & Kesehatan",null,null,null,null,null,{"$f":"IF($A$2=\"satu KKM\",$C$23,$C35)","v":34},78,"A",78,"A",null,null,{"$f":"IF(X35=\"\",\"\",MAX($W$23:W34)+1)","v":9},"Pendidikan Jasmani,Olahraga & Kesehatan",null,null,null,null,null,null,79,"A",83,"A"]
[{"$f":"pts!A27","v":94},{"$f":"pts!B27","v":88},{"$f":"pts!C27","v":81},{"$f":"pts!D27","v":"Bahasa Inggris"},{"$f":"VLOOKUP($AL$1,nil.ganjil,15,0)","v":65},{"$f":"VLOOKUP($AL$1,nil.genap,15,0)","v":65},{"$f":"VLOOKUP($AL$1,nil.ganjil,31,0)","v":66},{"$f":"VLOOKUP($AL$1,nil.genap,31,0)","v":68},{"$f":"IF(J36=\"\",\"\",MAX($I$23:I35)+1)","v":10},{"$f":"IF(induk2!$A$1<7,\"\",\"Bahasa Inggris\")","v":"Bahasa Inggris"},null,null,null,null,null,{"$f":"IF(J36=\"\",\"\",IF($A$2=\"satu KKM\",$C$23,$C36))","v":81},65,"D",65,"D",null,null,{"$f":"IF(X36=\"\",\"\",MAX($W$23:W35)+1)","v":10},{"$f":"IF(induk2!$A$1<7,\"\",\"Bahasa Inggris\")","v":"Bahasa Inggris"},null,null,null,null,null,null,66,"D",68,{"$f":"IF(AG36=\"\",\"\",IF(AG36>=$A36,\"A\",IF(AG36>=$B36,\"B\",IF(AG36>=$C36,\"C\",\"D\"))))","v":"D"}]
[null,null,null,null,null,null,null,null,{"$f":"IF(J37=\"\",\"\",MAX($I$23:I36)+1)","v":11},"Muatan Lokal",null,null,null,null,null,null,null,null,null,null,null,null,{"$f":"IF(X37=\"\",\"\",MAX($W$23:W36)+1)","v":11},"Muatan Lokal"]
[{"$f":"pts!A29","v":92},{"$f":"pts!B29","v":84},{"$f":"pts!C29","v":76},{"$f":"pts!D29","v":"Bahasa Madura"},{"$f":"VLOOKUP($AL$1,nil.ganjil,16,0)","v":76},{"$f":"VLOOKUP($AL$1,nil.genap,16,0)","v":76},{"$f":"VLOOKUP($AL$1,nil.ganjil,32,0)","v":81},{"$f":"VLOOKUP($AL$1,nil.genap,32,0)","v":77},null,{"$f":"IF(kur!$D21=\"\",\"\",\"a. \"&kur!$D21)","v":"a. Bahasa Madura"},null,null,null,null,null,{"$f":"IF(J38=\"\",\"\",IF($A$2=\"satu KKM\",$C$23,$C38))","v":76},76,"C",76,"C",null,null,null,{"$f":"IF(kur!$D21=\"\",\"\",\"a. \"&kur!$D21)","v":"a. Bahasa Madura"},null,null,null,null,null,null,{"$f":"IF($G38=0,\"\",$G38)","v":81},"C",77,{"$f":"IF(AG38=\"\",\"\",IF(AG38>=$A38,\"A\",IF(AG38>=$B38,\"B\",IF(AG38>=$C38,\"C\",\"D\"))))","v":"C"}]
[{"$f":"pts!A30","v":""},{"$f":"pts!B30","v":""},{"$f":"pts!C30","v":0},{"$f":"pts!D30","v":0},{"$f":"VLOOKUP($AL$1,nil.ganjil,17,0)","v":0},{"$f":"VLOOKUP($AL$1,nil.genap,17,0)","v":0},{"$f":"VLOOKUP($AL$1,nil.ganjil,33,0)","v":""},{"$f":"VLOOKUP($AL$1,nil.genap,33,0)","v":""},null,{"$f":"IF(kur!$D22=\"\",\"\",\"b. \"&kur!$D22)","v":""},null,null,null,null,null,{"$f":"IF(J39=\"\",\"\",IF($A$2=\"satu KKM\",$C$23,$C39))","v":""},"","","","",null,null,null,{"$f":"IF(kur!$D22=\"\",\"\",\"b. \"&kur!$D22)","v":""},null,null,null,null,null,null,{"$f":"IF($G39=0,\"\",$G39)","v":""},"","",{"$f":"IF(AG39=\"\",\"\",IF(AG39>=$A39,\"A\",IF(AG39>=$B39,\"B\",IF(AG39>=$C39,\"C\",\"D\"))))","v":""}]
[{"$f":"pts!A31","v":""},{"$f":"pts!B31","v":""},{"$f":"pts!C31","v":0},{"$f":"pts!D31","v":0},{"$f":"VLOOKUP($AL$1,nil.ganjil,18,0)","v":0},{"$f":"VLOOKUP($AL$1,nil.genap,18,0)","v":0},{"$f":"VLOOKUP($AL$1,nil.ganjil,34,0)","v":""},{"$f":"VLOOKUP($AL$1,nil.genap,34,0)","v":""},null,{"$f":"IF(kur!$D23=\"\",\"\",\"b. \"&kur!$D23)","v":""},null,null,null,null,null,{"$f":"IF(J40=\"\",\"\",IF($A$2=\"satu KKM\",$C$23,$C40))","v":""},"","","","",null,null,null,{"$f":"IF(kur!$D23=\"\",\"\",\"c. \"&kur!$D23)","v":""},null,null,null,null,null,null,{"$f":"IF($G40=0,\"\",$G40)","v":""},"","",{"$f":"IF(AG40=\"\",\"\",IF(AG40>=$A40,\"A\",IF(AG40>=$B40,\"B\",IF(AG40>=$C40,\"C\",\"D\"))))","v":""}]
[]
[null,null,null,null,null,null,null,null,"E. PENGEMBANGAN DIRI",null,null,null,null,null,null,null,null,null,null,null,null,null,"F. EKSTRAKURIKULER"]
[null,null,null,null,null,null,null,null,"No","Nama Kegiatan",null,null,null,null,null,null,"Nilai Ganjil",null,"Nilai Genap",null,null,null,"No","Kegiatan Ekstra",null,null,null,null,null,null,"Nilai Ganjil",null,"Nilai Genap"]
[{"$f":"VLOOKUP($AL$1,cat.ganjil,6,0)","v":0},{"$f":"VLOOKUP($AL$1,cat.genap,6,0)","v":0},{"$f":"VLOOKUP($AL$1,cat.ganjil,12,0)","v":0},{"$f":"VLOOKUP($AL$1,cat.genap,12,0)","v":0},null,null,null,null,{"$f":"raport!$D47","v":1},{"$f":"IF(catatan!F6=\"\",\"\",catatan!F6)","v":"FERS"},null,null,null,null,null,null,{"$f":"IF(A44=0,\"\",A44)","v":""},null,{"$f":"IF(B44=0,\"\",B44)","v":""},null,null,null,{"$f":"raport!$D53","v":""},{"$f":"IF(catatan!L$6=\"\",\"\",catatan!L$6)","v":""},null,null,null,null,null,null,{"$f":"IF(C44=0,\"\",C44)","v":""},null,{"$f":"IF(D44=0,\"\",D44)","v":""}]
[{"$f":"VLOOKUP($AL$1,cat.ganjil,8,0)","v":0},{"$f":"VLOOKUP($AL$1,cat.genap,8,0)","v":0},{"$f":"VLOOKUP($AL$1,cat.ganjil,14,0)","v":0},{"$f":"VLOOKUP($AL$1,cat.genap,14,0)","v":0},null,null,null,null,{"$f":"raport!$D48","v":""},{"$f":"IF(catatan!H6=\"\",\"\",catatan!H6)","v":""},null,null,null,null,null,null,{"$f":"IF(A45=0,\"\",A45)","v":""},null,{"$f":"IF(B45=0,\"\",B45)","v":""},null,null,null,{"$f":"raport!$D54","v":""},{"$f":"IF(catatan!N$6=\"\",\"\",catatan!N$6)","v":""},null,null,null,null,null,null,{"$f":"IF(C45=0,\"\",C45)","v":""},null,{"$f":"IF(D45=0,\"\",D45)","v":""}]
[{"$f":"VLOOKUP($AL$1,cat.ganjil,10,0)","v":0},{"$f":"VLOOKUP($AL$1,cat.genap,10,0)","v":0},{"$f":"VLOOKUP($AL$1,cat.ganjil,16,0)","v":0},{"$f":"VLOOKUP($AL$1,cat.genap,16,0)","v":0},null,null,null,null,{"$f":"raport!$D49","v":""},{"$f":"IF(catatan!J6=\"\",\"\",catatan!J6)","v":""},null,null,null,null,null,null,{"$f":"IF(A46=0,\"\",A46)","v":""},null,{"$f":"IF(B46=0,\"\",B46)","v":""},null,null,null,{"$f":"raport!$D55","v":""},{"$f":"IF(catatan!P$6=\"\",\"\",catatan!P$6)","v":""},null,null,null,null,null,null,{"$f":"IF(C46=0,\"\",C46)","v":""},null,{"$f":"IF(D46=0,\"\",D46)","v":""}]
[]
[null,null,null,null,null,null,null,null,"G. TINGGI DAN BERAT BADAN",null,null,null,null,null,null,null,null,null,null,null,null,null,"H. KETIDAKHADIRAN"]
[null,null,null,{"$f":"VLOOKUP($AL$1,cat.ganjil,3,0)","v":"-"},{"$f":"VLOOKUP($AL$1,cat.genap,3,0)","v":"-"},null,null,null,"No","Aspek yang dinilai",null,null,null,null,null,null,"Semester 1",null,"Semester 2",null,null,null,"Sakit",null,null,null,null,null,null,null,{"$f":"D49&\"  \"&$C$50","v":"-  hari"},null,{"$f":"E49&\"  \"&$C$50","v":"-  hari"}]
[{"$f":"VLOOKUP($AL1,cat.ganjil,19,0)","v":125},{"$f":"VLOOKUP($AL1,cat.genap,19,0)","v":0},"hari",{"$f":"VLOOKUP($AL$1,cat.ganjil,4,0)","v":"-"},{"$f":"VLOOKUP($AL$1,cat.genap,4,0)","v":"-"},null,null,null,1,"Tinggi Badan",null,null,null,null,null,null,{"$f":"IF(A50=0,\"\",A50)","v":125},null,{"$f":"IF(B50=0,\"\",B50)","v":""},null,null,null,"Izin",null,null,null,null,null,null,null,{"$f":"D50&\"  \"&$C$50","v":"-  hari"},null,{"$f":"E50&\"  \"&$C$50","v":"-  hari"}]
[{"$f":"VLOOKUP($AL2,cat.ganjil,20,0)","v":0},{"$f":"VLOOKUP($AL2,cat.genap,20,0)","v":0},null,{"$f":"VLOOKUP($AL$1,cat.ganjil,5,0)","v":"-"},{"$f":"VLOOKUP($AL$1,cat.genap,5,0)","v":"-"},null,null,null,2,"Berat Badan",null,null,null,null,null,null,{"$f":"IF(A51=0,\"\",A51)","v":""},null,{"$f":"IF(B51=0,\"\",B51)","v":""},null,null,null,"Tanpa Keterangan",null,null,null,null,null,null,null,{"$f":"D51&\"  \"&$C$50","v":"-  hari"},null,{"$f":"E51&\"  \"&$C$50","v":"-  hari"}]
[]
[null,null,null,null,null,null,null,null,"I. KONDISI KESEHATAN",null,null,null,null,null,null,null,null,null,null,null,null,null,"J. PRESTASI"]
[null,null,null,null,null,null,null,null,"No","Aspek Fisik",null,null,null,null,null,null,"Ket.Ganjil",null,"Ket.Genap",null,null,null,"No","Jenis Prestasi",null,null,null,null,null,null,"Ket.Ganjil",null,"Ket.Genap"]
[null,null,null,null,null,null,null,null,{"$f":"raport!$D69","v":1},{"$f":"catatan!U6","v":"Pendengaran"},null,null,null,null,null,null,{"$f":"IF(VLOOKUP($AL$1,cat.ganjil,21,0)=\"\",\"\",VLOOKUP($AL$1,cat.ganjil,21,0))","v":"langsung nyaman"},null,{"$f":"IF(VLOOKUP($AL$1,cat.genap,21,0)=\"\",\"\",VLOOKUP($AL$1,cat.genap,21,0))","v":""},null,null,null,{"$f":"IF(X55=\"\",\"\",1)","v":""},{"$f":"IF(catatan!Y$6=\"\",\"\",catatan!Y$6)","v":""},null,null,null,null,null,null,{"$f":"IF(VLOOKUP($AL$1,cat.ganjil,25,0)=\"\",\"\",VLOOKUP($AL$1,cat.ganjil,25,0))","v":""},null,{"$f":"IF(VLOOKUP($AL$1,cat.genap,25,0)=\"\",\"\",VLOOKUP($AL$1,cat.genap,25,0))","v":""}]
[null,null,null,null,null,null,null,null,{"$f":"raport!$D70","v":2},{"$f":"catatan!V6","v":"Penglihatan"},null,null,null,null,null,null,{"$f":"IF(VLOOKUP($AL$1,cat.ganjil,22,0)=\"\",\"\",VLOOKUP($AL$1,cat.ganjil,22,0))","v":""},null,{"$f":"IF(VLOOKUP($AL$1,cat.genap,22,0)=\"\",\"\",VLOOKUP($AL$1,cat.genap,22,0))","v":""},null,null,null,{"$f":"IF(X56=\"\",\"\",MAX($W$55:W55)+1)","v":""},{"$f":"IF(catatan!Z$6=\"\",\"\",catatan!Z$6)","v":""},null,null,null,null,null,null,{"$f":"IF(VLOOKUP($AL$1,cat.ganjil,26,0)=\"\",\"\",VLOOKUP($AL$1,cat.ganjil,26,0))","v":""},null,{"$f":"IF(VLOOKUP($AL$1,cat.genap,26,0)=\"\",\"\",VLOOKUP($AL$1,cat.genap,26,0))","v":""}]
[null,null,null,null,null,null,null,null,{"$f":"raport!$D71","v":3},{"$f":"catatan!W6","v":"Gigi"},null,null,null,null,null,null,{"$f":"IF(VLOOKUP($AL$1,cat.ganjil,23,0)=\"\",\"\",VLOOKUP($AL$1,cat.ganjil,23,0))","v":""},null,{"$f":"IF(VLOOKUP($AL$1,cat.genap,23,0)=\"\",\"\",VLOOKUP($AL$1,cat.genap,23,0))","v":""},null,null,null,{"$f":"IF(X57=\"\",\"\",MAX($W$55:W56)+1)","v":""},{"$f":"IF(catatan!AA$6=\"\",\"\",catatan!AA$6)","v":""},null,null,null,null,null,null,{"$f":"IF(VLOOKUP($AL$1,cat.ganjil,27,0)=\"\",\"\",VLOOKUP($AL$1,cat.ganjil,27,0))","v":""},null,{"$f":"IF(VLOOKUP($AL$1,cat.genap,27,0)=\"\",\"\",VLOOKUP($AL$1,cat.genap,27,0))","v":""}]
[]
[null,null,null,null,null,null,null,null,"K. SARAN -SARAN"]
[null,null,null,null,null,null,null,null,"Semester Ganjil",null,null,null,null,null,"Semester Genap",null,null,null,null,null,null,null,"Keputusan  :"]
[null,null,null,null,null,null,null,null,{"$f":"IF(VLOOKUP($AL$1,cat.ganjil,18,0)=\"\",\"\",VLOOKUP($AL$1,cat.ganjil,18,0))","v":""},null,null,null,null,null,{"$f":"IF(VLOOKUP($AL$1,cat.genap,18,0)=\"\",\"\",VLOOKUP($AL$1,cat.genap,18,0))","v":"ananda erfan sangat baik mohon pertahankan"},null,null,null,null,null,null,null,{"$f":"\"Berdasarkan pencapaian kompetensi pada semester ke-1 dan  ke-2 ananda \"&$V5&\" ditetapkan  :\"","v":"Berdasarkan pencapaian kompetensi pada semester ke-1 dan  ke-2 ananda jaya ditetapkan  :"}]
[{"$f":"$AU$2","v":1}]
[{"$f":"IF(A62=1,\"Naik\",\"Tidak Naik\")","v":"Naik"},null,null,null,null,null,null,null,null,null,null,null,null,null,null,null,null,null,null,null,null,null,null,{"$f":"\"Naik ke kelas  \"&$A$65&$C$65","v":"Naik ke kelas  10  ( Sepuluh )"}]
[{"$f":"sekolah!$E$20","v":9},null,null,null,null,null,null,null,null,null,null,null,null,null,null,null,null,null,null,null,null,null,null,{"$f":"\"Tinggal di kelas \"&$A$66&\"  \"&$B$66","v":"Tinggal di kelas   "}]
[{"$f":"IF($A$63=\"Tidak naik\",\"\",$A$64+1)","v":10},{"$f":"IFERROR(VLOOKUP($A65,kelasku,2,0),\"\")","v":"Sepuluh"},{"$f":"IF($A$63=\"Tidak naik\",\"\",\"  ( \"&$B65&\" )\")","v":"  ( Sepuluh )"}]
[{"$f":"IF($A$63=\"Naik\",\"\",sekolah!$E$20)","v":""},{"$f":"IF($A$63=\"Naik\",\"\",data!$J$5)","v":""},null,null,null,null,null,null,null,null,null,null,null,"Mengetahui",null,null,null,null,null,null,null,null,null,null,null,null,null,{"$f":"IF($V$8=\"ganjil\",sekolah!$E$30,sekolah!$E$31)","v":"Sampang, 8 Juni 2019"}]
[null,null,null,null,null,null,null,null,null,null,null,null,null,{"$f":"\"Kepala \"&sekolah!$E$5","v":"Kepala MTs Nurul Hidayah"},null,null,null,null,null,null,null,null,null,null,null,null,null,{"$f":"IF($A$1<7,\"Guru Kelas  \"&$A$7,\"Wali Kelas  \"&$A$7)","v":"Wali Kelas  9  C"}]
[]
[]
[]
[null,null,null,null,null,null,null,null,null,null,null,null,null,{"$f":"sekolah!$E$18","v":"Syafaruddin,M.MPd"},null,null,null,null,null,null,null,null,null,null,null,null,null,{"$f":"sekolah!$E$23","v":"Rusli,MPd"}]
[null,null,null,null,null,null,null,null,null,null,null,null,null,{"$f":"\"NIP. \"&sekolah!$E$19","v":"NIP. 198112102005011004"},null,null,null,null,null,null,null,null,null,null,null,null,null,{"$f":"\"NIP. \"&sekolah!$E$24","v":"NIP. "}]

{"sheet":"induk","index":7,"n_rows":71,"n_cols":39,"rows_kept":71,"cut":false,"hidden":true,"merged":[[8,21,8,32],[59,36,59,38],[7,21,7,32],[9,21,9,32],[12,23,12,31],[13,32,13,33],[14,32,14,33],[15,32,15,33],[16,32,16,33],[13,23,13,31],[36,23,36,33],[37,23,37,29],[37,32,37,33],[39,23,39,29],[39,32,39,33],[32,32,32,33],[33,23,33,29],[33,32,33,33],[35,23,35,29],[35,32,35,33],[38,23,38,29],[38,32,38,33],[28,32,28,33],[30,23,30,29],[3,8,3,33],[2,8,2,33],[5,21,5,32],[6,21,6,32],[18,32,18,33],[34,9,34,15],[34,18,34,19],[34,23,34,29],[34,32,34,33],[12,32,12,33],[14,23,14,31],[15,23,15,31],[16,23,16,31],[17,23,17,31],[17,32,17,33],[18,23,18,31],[26,23,26,29],[26,32,26,33],[27,23,27,29],[27,32,27,33],[29,23,29,29],[29,32,29,33],[28,23,28,29],[32,23,32,29],[30,32,30,33],[31,23,31,29],[31,32,31,33],[21,23,21,29],[21,32,21,33],[22,22,25,22],[22,23,22,33],[23,23,23,29],[23,32,23,33],[24,23,24,29],[24,32,24,33],[25,23,25,29],[25,32,25,33],[18,9,18,17],[12,18,12,19],[12,9,12,17],[13,9,13,17],[14,9,14,17],[15,9,15,17],[16,9,16,17],[17,9,17,17],[13,18,13,19],[14,18,14,19],[15,18,15,19],[16,18,16,19],[17,18,17,19],[18,18,18,19],[21,18,21,19],[21,9,21,15],[23,9,23,15],[24,9,24,15],[25,9,25,15],[26,9,26,15],[22,9,22,19],[27,18,27,19],[28,18,28,19],[27,9,27,15],[28,9,28,15],[37,9,37,15],[38,9,38,15],[39,9,39,15],[35,18,35,19],[37,18,37,19],[38,18,38,19],[39,18,39,19],[33,18,33,19],[22,8,25,8],[35,9,35,15],[36,9,36,19],[33,9,33,15],[23,18,23,19],[24,18,24,19],[25,18,25,19],[26,18,26,19],[32,9,32,15],[29,18,29,19],[30,18,30,19],[31,18,31,19],[29,9,29,15],[30,9,30,15],[31,9,31,15],[32,18,32,19],[50,23,50,27],[50,28,50,30],[50,31,50,33],[42,9,42,17],[42,18,42,19],[43,9,43,17],[44,9,44,17],[45,9,45,17],[43,18,43,19],[44,18,44,19],[45,18,45,19],[48,28,48,30],[48,23,48,27],[49,23,49,27],[49,28,49,30],[45,23,45,31],[43,32,43,33],[44,32,44,33],[45,32,45,33],[49,31,49,33],[61,23,61,28],[59,22,60,33],[61,29,62,33],[62,23,62,28],[56,9,56,11],[55,12,55,19],[56,12,56,19],[55,9,55,11],[59,8,59,11],[58,22,58,33],[61,8,61,11],[59,12,59,14],[60,12,60,14],[61,12,61,14],[1,37,2,37],[0,35,0,36],[1,35,2,36],[36,8,39,8],[36,22,39,22],[60,8,60,11],[55,28,55,33],[56,23,56,27],[56,28,56,33],[53,28,53,33],[54,28,54,33],[55,23,55,27],[53,9,53,11],[54,9,54,11],[53,12,53,19],[54,12,54,19],[53,23,53,27],[54,23,54,27],[42,23,42,31],[42,32,42,33],[43,23,43,31],[44,23,44,31],[48,8,50,19],[48,31,48,33]]}
[null,null,null,null,null,null,null,null,null,null,null,null,null,null,null,null,null,null,null,null,null,null,null,null,null,null,null,null,null,null,null,null,null,null,null,null,null,4]
[{"$f":"sekolah!$E$20","v":9},{"$f":"sekolah!$H$20","v":"C"},null,null,null,null,null,null,null,null,null,null,null,null,null,null,null,null,null,null,null,null,null,null,null,null,null,null,null,null,null,null,null,null,null,null,null,{"$f":"Database!$D$54","v":8}]
[{"$f":"kur!$I$1","v":"MULTI KKM"},null,"SUSTER_RS",null,null,null,null,null,"BUKU INDUK PESERTA DIDIK",null,null,null,null,null,null,null,null,null,null,null,null,null,null,null,null,null,null,null,null,null,null,null,null,null,null,null,null,null,2]
[{"$f":"sekolah!$E$21","v":"Genap"},null,null,null,null,null,null,null,{"$f":"UPPER(sekolah!$E$5)","v":"MTS NURUL HIDAYAH"}]
[{"$f":"VLOOKUP($AL$1,siswa,3,0)","v":0}]
[{"$f":"IF($A$5=0,\"\",\" / \")","v":""},null,null,null,null,null,null,null,null,null,null,null,null,null,null,null,"Nama Peserta Didik",null,null,null,":",{"$f":"VLOOKUP($AL$1,siswa,4,0)","v":"INDAH"}]
[{"$f":"IF($B$2=0,data!$J$5,$B$2)","v":"C"},null,null,null,null,null,null,null,null,null,null,null,null,null,null,null,"NIS / NISN",null,null,null,":",{"$f":"VLOOKUP($AL$1,siswa,2,0)&$A$6&VLOOKUP($AL$1,siswa,3,0)","v":""}]
[{"$f":"IF($B$2=0,$A$2,$A$2&\"  \"&$B$2)","v":"9  C"},null,null,null,null,null,null,null,null,null,null,null,null,null,null,null,"Kelas",null,null,null,":",{"$f":"$A$2&\" \"&$A$7","v":"9 C"}]
[null,null,null,null,null,null,null,null,null,null,null,null,null,null,null,null,"Semester",null,null,null,":",{"$f":"sekolah!$E$21","v":"Genap"}]
[null,null,null,null,null,null,null,null,null,null,null,null,null,null,null,null,"Tahun Pelajaran",null,null,null,":",{"$f":"sekolah!$E$22","v":"2017 / 2018"}]
["DATA"]
["NAMA",{"$f":"VLOOKUP(AL1,siswa,4,0)","v":"INDAH"},null,null,null,null,null,null,"A. SIKAP SPIRITUAL",null,null,null,null,null,null,null,null,null,null,null,null,null,"B. SIKAP SOSIAL"]
[null,null,null,null,null,null,null,null,"No","Aspek",null,null,null,null,null,null,null,null,"Predikat",null,null,null,"No","Aspek",null,null,null,null,null,null,null,null,"Predikat"]
[{"$f":"IF($A$4=\"ganjil\",VLOOKUP($AL$1,sosial1,3,0),VLOOKUP($AL$1,sosial2,3,0))","v":0},{"$f":"IF($A$4=\"ganjil\",VLOOKUP($AL$1,sosial1,11,0),VLOOKUP($AL$1,sosial2,11,0))","v":0},null,null,null,null,null,null,1,{"$f":"IF(kur!$K9=\"\",\"\",kur!$K9)","v":"ketaatan beribadah"},null,null,null,null,null,null,null,null,{"$f":"IF($A14=0,\"\",$A14)","v":""},null,null,null,1,{"$f":"IF(kur!$N9=\"\",\"\",kur!$N9)","v":"jujur"},null,null,null,null,null,null,null,null,{"$f":"IF($B14=0,\"\",$B14)","v":""}]
[{"$f":"IF($A$4=\"ganjil\",VLOOKUP($AL$1,sosial1,4,0),VLOOKUP($AL$1,sosial2,4,0))","v":0},{"$f":"IF($A$4=\"ganjil\",VLOOKUP($AL$1,sosial1,12,0),VLOOKUP($AL$1,sosial2,12,0))","v":0},null,null,null,null,null,null,{"$f":"IF(J15=\"\",\"\",MAX($I$14:I14)+1)","v":2},{"$f":"IF(kur!$K10=\"\",\"\",kur!$K10)","v":"perilaku bersyukur"},null,null,null,null,null,null,null,null,"",null,null,null,2,{"$f":"IF(kur!$N10=\"\",\"\",kur!$N10)","v":"disiplin"},null,null,null,null,null,null,null,null,""]
[{"$f":"IF($A$4=\"ganjil\",VLOOKUP($AL$1,sosial1,5,0),VLOOKUP($AL$1,sosial2,5,0))","v":0},{"$f":"IF($A$4=\"ganjil\",VLOOKUP($AL$1,sosial1,13,0),VLOOKUP($AL$1,sosial2,13,0))","v":"PB"},null,null,null,null,null,null,{"$f":"IF(J16=\"\",\"\",MAX($I$14:I15)+1)","v":3},{"$f":"IF(kur!$K11=\"\",\"\",kur!$K11)","v":"kebiasaan berdoa sebelum belajar"},null,null,null,null,null,null,null,null,"",null,null,null,3,{"$f":"IF(kur!$N11=\"\",\"\",kur!$N11)","v":"tanggung jawab"},null,null,null,null,null,null,null,null,"PB"]
[{"$f":"IF($A$4=\"ganjil\",VLOOKUP($AL$1,sosial1,6,0),VLOOKUP($AL$1,sosial2,6,0))","v":0},{"$f":"IF($A$4=\"ganjil\",VLOOKUP($AL$1,sosial1,14,0),VLOOKUP($AL$1,sosial2,14,0))","v":0},null,null,null,null,null,null,{"$f":"IF(J17=\"\",\"\",MAX($I$14:I16)+1)","v":4},{"$f":"IF(kur!$K12=\"\",\"\",kur!$K12)","v":"meyakini kebesaran / anugerah Allah"},null,null,null,null,null,null,null,null,"",null,null,null,4,{"$f":"IF(kur!$N12=\"\",\"\",kur!$N12)","v":"peduli"},null,null,null,null,null,null,null,null,""]
[{"$f":"IF($A$4=\"ganjil\",VLOOKUP($AL$1,sosial1,7,0),VLOOKUP($AL$1,sosial2,7,0))","v":0},{"$f":"IF($A$4=\"ganjil\",VLOOKUP($AL$1,sosial1,15,0),VLOOKUP($AL$1,sosial2,15,0))","v":0},null,null,null,null,null,null,{"$f":"IF(J18=\"\",\"\",MAX($I$14:I17)+1)","v":5},{"$f":"IF(kur!$K13=\"\",\"\",kur!$K13)","v":"toleransi beribadah"},null,null,null,null,null,null,null,null,"",null,null,null,5,{"$f":"IF(kur!$N13=\"\",\"\",kur!$N13)","v":"santun"},null,null,null,null,null,null,null,null,""]
[{"$f":"IF($A$4=\"ganjil\",VLOOKUP($AL$1,sosial1,8,0),VLOOKUP($AL$1,sosial2,8,0))","v":0},{"$f":"IF($A$4=\"ganjil\",VLOOKUP($AL$1,sosial1,16,0),VLOOKUP($AL$1,sosial2,16,0))","v":"SB"},null,null,null,null,null,null,{"$f":"IF(J19=\"\",\"\",MAX($I$14:I18)+1)","v":6},{"$f":"IF(kur!$K14=\"\",\"\",kur!$K14)","v":"kebiasaan mengucapkan salam"},null,null,null,null,null,null,null,null,"",null,null,null,6,{"$f":"IF(kur!$N14=\"\",\"\",kur!$N14)","v":"percaya diri"},null,null,null,null,null,null,null,null,"SB"]
[]
[null,null,null,null,null,null,null,null,"C. PENGETAHUAN",null,null,null,null,null,null,null,null,null,null,null,null,null,"D. KETRAMPILAN"]
[null,null,null,null,null,null,null,null,"No","Muatan Pelajaran",null,null,null,null,null,null,"KKM","Nilai","Predikat",null,null,null,"No","Muatan Pelajaran",null,null,null,null,null,null,"KKM","Nilai","Predikat"]
[{"$f":"pts!A14","v":92},{"$f":"pts!B14","v":84},{"$f":"pts!C14","v":75},{"$f":"pts!D14","v":0},null,null,null,null,1,"Pendidikan Agama Islam",null,null,null,null,null,null,null,null,null,null,null,null,1,"Pendidikan Agama Islam"]
[{"$f":"pts!A15","v":82},{"$f":"pts!B15","v":64},{"$f":"pts!C15","v":45},{"$f":"pts!D15","v":"Al-Qur'an Hadits"},{"$f":"IF($A$4=\"ganjil\",VLOOKUP($AL$1,nil.ganjil,3,0),VLOOKUP($AL$1,nil.genap,3,0))","v":90},{"$f":"IF($E24>=$A24,\"A\",IF($E24>=$B24,\"B\",IF($E24>=$C24,\"C\",\"D\")))","v":"A"},{"$f":"IF($A$4=\"ganjil\",VLOOKUP($AL$1,nil.ganjil,19,0),VLOOKUP($AL$1,nil.genap,19,0))","v":91},{"$f":"IF($G24>=$A24,\"A\",IF($G24>=$B24,\"B\",IF($G24>=$C24,\"C\",\"D\")))","v":"A"},null,"a. Al - Qur'an Hadits",null,null,null,null,null,null,{"$f":"IF($A$3=\"satu KKM\",$C$23,$C24)","v":45},{"$f":"IF($E24=0,\"\",$E24)","v":90},{"$f":"IF(R24=\"\",\"\",F24)","v":"A"},null,null,null,null,"a. Al - Qur'an Hadits",null,null,null,null,null,null,{"$f":"IF($A$3=\"satu KKM\",$C$23,$C24)","v":45},{"$f":"IF($G24=0,\"\",$G24)","v":91},{"$f":"IF(AF24=\"\",\"\",H24)","v":"A"}]
[{"$f":"pts!A16","v":85},{"$f":"pts!B16","v":70},{"$f":"pts!C16","v":56},{"$f":"pts!D16","v":"Akidah Akhlak"},{"$f":"IF($A$4=\"ganjil\",VLOOKUP($AL$1,nil.ganjil,4,0),VLOOKUP($AL$1,nil.genap,4,0))","v":67},{"$f":"IF($E25>=$A25,\"A\",IF($E25>=$B25,\"B\",IF($E25>=$C25,\"C\",\"D\")))","v":"C"},{"$f":"IF($A$4=\"ganjil\",VLOOKUP($AL$1,nil.ganjil,20,0),VLOOKUP($AL$1,nil.genap,20,0))","v":72},{"$f":"IF($G25>=$A25,\"A\",IF($G25>=$B25,\"B\",IF($G25>=$C25,\"C\",\"D\")))","v":"B"},null,"b. Akidah Akhlak",null,null,null,null,null,null,{"$f":"IF($A$3=\"satu KKM\",$C$23,$C25)","v":56},{"$f":"IF($E25=0,\"\",$E25)","v":67},{"$f":"IF(R25=\"\",\"\",F25)","v":"C"},null,null,null,null,"b. Akidah Akhlak",null,null,null,null,null,null,{"$f":"IF($A$3=\"satu KKM\",$C$23,$C25)","v":56},{"$f":"IF($G25=0,\"\",$G25)","v":72},"B"]
[{"$f":"pts!A17","v":92},{"$f":"pts!B17","v":84},{"$f":"pts!C17","v":76},{"$f":"pts!D17","v":"Fikih"},{"$f":"IF($A$4=\"ganjil\",VLOOKUP($AL$1,nil.ganjil,5,0),VLOOKUP($AL$1,nil.genap,5,0))","v":76},"C",{"$f":"IF($A$4=\"ganjil\",VLOOKUP($AL$1,nil.ganjil,21,0),VLOOKUP($AL$1,nil.genap,21,0))","v":78},"C",null,"c. Fikih",null,null,null,null,null,null,{"$f":"IF($A$3=\"satu KKM\",$C$23,$C26)","v":76},76,"C",null,null,null,null,"c. Fikih",null,null,null,null,null,null,{"$f":"IF($A$3=\"satu KKM\",$C$23,$C26)","v":76},78,"C"]
[{"$f":"pts!A18","v":85},{"$f":"pts!B18","v":70},{"$f":"pts!C18","v":56},{"$f":"pts!D18","v":"Sejarah Kebudayaan Islam"},{"$f":"IF($A$4=\"ganjil\",VLOOKUP($AL$1,nil.ganjil,7,0),VLOOKUP($AL$1,nil.genap,7,0))","v":78},"B",{"$f":"IF($A$4=\"ganjil\",VLOOKUP($AL$1,nil.ganjil,23,0),VLOOKUP($AL$1,nil.genap,23,0))","v":79},"B",null,{"$f":"IF($A$2<3,\"\",\"d. Sejarah Kebudayaan Islam\")","v":"d. Sejarah Kebudayaan Islam"},null,null,null,null,null,null,{"$f":"IF(J27=\"\",\"\",IF($A$3=\"satu KKM\",$C$23,$C27))","v":56},78,"B",null,null,null,null,{"$f":"IF($A$2<3,\"\",\"d. Sejarah Kebudayaan Islam\")","v":"d. Sejarah Kebudayaan Islam"},null,null,null,null,null,null,{"$f":"IF(X27=\"\",\"\",IF($A$3=\"satu KKM\",$C$23,$C27))","v":56},79,"B"]
[{"$f":"pts!A19","v":91},{"$f":"pts!B19","v":82},{"$f":"pts!C19","v":74},{"$f":"pts!D19","v":"Pendidikan Pancasila dan Kewarganegaaraan"},{"$f":"IF($A$4=\"ganjil\",VLOOKUP($AL$1,nil.ganjil,8,0),VLOOKUP($AL$1,nil.genap,8,0))","v":45},"D",{"$f":"IF($A$4=\"ganjil\",VLOOKUP($AL$1,nil.ganjil,24,0),VLOOKUP($AL$1,nil.genap,24,0))","v":50},"D",2,"Pendidika Pancasila dan Kewarganegaraan",null,null,null,null,null,null,{"$f":"IF($A$3=\"satu KKM\",$C$23,$C28)","v":74},45,"D",null,null,null,2,"Pendidikan Pancasila dan Kewarganegaraan",null,null,null,null,null,null,{"$f":"IF($A$3=\"satu KKM\",$C$23,$C28)","v":74},50,"D"]
[{"$f":"pts!A20","v":92},{"$f":"pts!B20","v":84},{"$f":"pts!C20","v":75},{"$f":"pts!D20","v":"Bahasa Indonesia"},{"$f":"IF($A$4=\"ganjil\",VLOOKUP($AL$1,nil.ganjil,9,0),VLOOKUP($AL$1,nil.genap,9,0))","v":67},"D",{"$f":"IF($A$4=\"ganjil\",VLOOKUP($AL$1,nil.ganjil,25,0),VLOOKUP($AL$1,nil.genap,25,0))","v":69},"D",3,"Bahasa Indonesia",null,null,null,null,null,null,{"$f":"IF($A$3=\"satu KKM\",$C$23,$C29)","v":75},67,"D",null,null,null,3,"Bahasa Indonesia",null,null,null,null,null,null,{"$f":"IF($A$3=\"satu KKM\",$C$23,$C29)","v":75},69,"D"]
[{"$f":"pts!A21","v":91},{"$f":"pts!B21","v":82},{"$f":"pts!C21","v":72},{"$f":"pts!D21","v":"Bahasa Arab"},{"$f":"IF($A$4=\"ganjil\",VLOOKUP($AL$1,nil.ganjil,6,0),VLOOKUP($AL$1,nil.genap,6,0))","v":74},"C",{"$f":"IF($A$4=\"ganjil\",VLOOKUP($AL$1,nil.ganjil,22,0),VLOOKUP($AL$1,nil.genap,22,0))","v":76},"C",4,"Bahasa Arab",null,null,null,null,null,null,{"$f":"IF($A$3=\"satu KKM\",$C$23,$C30)","v":72},74,"C",null,null,null,4,"Bahasa Arab",null,null,null,null,null,null,{"$f":"IF($A$3=\"satu KKM\",$C$23,$C30)","v":72},76,"C"]
[{"$f":"pts!A22","v":85},{"$f":"pts!B22","v":70},{"$f":"pts!C22","v":56},{"$f":"pts!D22","v":"Matematika"},{"$f":"IF($A$4=\"ganjil\",VLOOKUP($AL$1,nil.ganjil,10,0),VLOOKUP($AL$1,nil.genap,10,0))","v":95},"A",{"$f":"IF($A$4=\"ganjil\",VLOOKUP($AL$1,nil.ganjil,26,0),VLOOKUP($AL$1,nil.genap,26,0))","v":97},"A",5,"Matematika",null,null,null,null,null,null,{"$f":"IF($A$3=\"satu KKM\",$C$23,$C31)","v":56},95,"A",null,null,null,5,"Matematika",null,null,null,null,null,null,{"$f":"IF($A$3=\"satu KKM\",$C$23,$C31)","v":56},97,"A"]
[{"$f":"pts!A23","v":92},{"$f":"pts!B23","v":84},{"$f":"pts!C23","v":77},{"$f":"pts!D23","v":"Ilmu Pengetahuan Alam"},{"$f":"IF($A$4=\"ganjil\",VLOOKUP($AL$1,nil.ganjil,11,0),VLOOKUP($AL$1,nil.genap,11,0))","v":67},"D",{"$f":"IF($A$4=\"ganjil\",VLOOKUP($AL$1,nil.ganjil,27,0),VLOOKUP($AL$1,nil.genap,27,0))","v":68},"D",{"$f":"IF(J32=\"\",\"\",MAX($I$23:I31)+1)","v":6},{"$f":"IF($A$2<4,\"\",\"Ilmu Pengetahuan Alam\")","v":"Ilmu Pengetahuan Alam"},null,null,null,null,null,null,{"$f":"IF(J32=\"\",\"\",IF($A$3=\"satu KKM\",$C$23,$C32))","v":77},67,"D",null,null,null,{"$f":"IF(X32=\"\",\"\",MAX($W$23:W31)+1)","v":6},{"$f":"IF($A$2<4,\"\",\"Ilmu Pengetahuan Alam\")","v":"Ilmu Pengetahuan Alam"},null,null,null,null,null,null,{"$f":"IF(X32=\"\",\"\",IF($A$3=\"satu KKM\",$C$23,$C32))","v":77},68,"D"]
[{"$f":"pts!A24","v":93},{"$f":"pts!B24","v":86},{"$f":"pts!C24","v":78},{"$f":"pts!D24","v":"Ilmu Pengetahuan Sosial"},{"$f":"IF($A$4=\"ganjil\",VLOOKUP($AL$1,nil.ganjil,12,0),VLOOKUP($AL$1,nil.genap,12,0))","v":76},"D",{"$f":"IF($A$4=\"ganjil\",VLOOKUP($AL$1,nil.ganjil,28,0),VLOOKUP($AL$1,nil.genap,28,0))","v":81},"C",{"$f":"IF(J33=\"\",\"\",MAX($I$23:I32)+1)","v":7},{"$f":"IF($A$2<4,\"\",\"Ilmu Pengetahuan Sosial\")","v":"Ilmu Pengetahuan Sosial"},null,null,null,null,null,null,{"$f":"IF(J33=\"\",\"\",IF($A$3=\"satu KKM\",$C$23,$C33))","v":78},76,"D",null,null,null,{"$f":"IF(X33=\"\",\"\",MAX($W$23:W32)+1)","v":7},{"$f":"IF($A$2<4,\"\",\"Ilmu Pengetahuan Sosial\")","v":"Ilmu Pengetahuan Sosial"},null,null,null,null,null,null,{"$f":"IF(X33=\"\",\"\",IF($A$3=\"satu KKM\",$C$23,$C33))","v":78},81,"C"]
[{"$f":"pts!A25","v":93},{"$f":"pts!B25","v":86},{"$f":"pts!C25","v":79},{"$f":"pts!D25","v":"Seni Budaya "},{"$f":"IF($A$4=\"ganjil\",VLOOKUP($AL$1,nil.ganjil,13,0),VLOOKUP($AL$1,nil.genap,13,0))","v":74},"D",{"$f":"IF($A$4=\"ganjil\",VLOOKUP($AL$1,nil.ganjil,29,0),VLOOKUP($AL$1,nil.genap,29,0))","v":76},"D",{"$f":"IF(J34=\"\",\"\",MAX($I$23:I33)+1)","v":8},"Seni Budaya",null,null,null,null,null,null,{"$f":"IF($A$3=\"satu KKM\",$C$23,$C34)","v":79},74,"D",null,null,null,{"$f":"IF(X34=\"\",\"\",MAX($W$23:W33)+1)","v":8},"Seni Budaya",null,null,null,null,null,null,{"$f":"IF($A$3=\"satu KKM\",$C$23,$C34)","v":79},76,"D"]
[{"$f":"pts!A26","v":78},{"$f":"pts!B26","v":56},{"$f":"pts!C26","v":34},{"$f":"pts!D26","v":"Pendidikan Jasmani,Olahraga danKesehatan"},{"$f":"IF($A$4=\"ganjil\",VLOOKUP($AL$1,nil.ganjil,14,0),VLOOKUP($AL$1,nil.genap,14,0))","v":78},"A",{"$f":"IF($A$4=\"ganjil\",VLOOKUP($AL$1,nil.ganjil,30,0),VLOOKUP($AL$1,nil.genap,30,0))","v":80},"A",{"$f":"IF(J35=\"\",\"\",MAX($I$23:I34)+1)","v":9},"Pendidikan Jasmani,Olahraga & Kesehatan",null,null,null,null,null,null,{"$f":"IF($A$3=\"satu KKM\",$C$23,$C35)","v":34},78,"A",null,null,null,{"$f":"IF(X35=\"\",\"\",MAX($W$23:W34)+1)","v":9},"Pendidikan Jasmani,Olahraga & Kesehatan",null,null,null,null,null,null,{"$f":"IF($A$3=\"satu KKM\",$C$23,$C35)","v":34},80,"A"]
[{"$f":"pts!A27","v":94},{"$f":"pts!B27","v":88},{"$f":"pts!C27","v":81},{"$f":"pts!D27","v":"Bahasa Inggris"},{"$f":"IF($A$4=\"ganjil\",VLOOKUP($AL$1,nil.ganjil,15,0),VLOOKUP($AL$1,nil.genap,15,0))","v":45},"D",{"$f":"IF($A$4=\"ganjil\",VLOOKUP($AL$1,nil.ganjil,31,0),VLOOKUP($AL$1,nil.genap,31,0))","v":46},"D",{"$f":"IF(J36=\"\",\"\",MAX($I$23:I35)+1)","v":10},{"$f":"IF(induk!$A$2<7,\"\",\"Bahasa Inggris\")","v":"Bahasa Inggris"},null,null,null,null,null,null,{"$f":"IF(J36=\"\",\"\",IF($A$3=\"satu KKM\",$C$23,$C36))","v":81},45,"D",null,null,null,{"$f":"IF(X36=\"\",\"\",MAX($W$23:W35)+1)","v":10},{"$f":"IF(induk!$A$2<7,\"\",\"Bahasa Inggris\")","v":"Bahasa Inggris"},null,null,null,null,null,null,{"$f":"IF(X36=\"\",\"\",IF($A$3=\"satu KKM\",$C$23,$C36))","v":81},46,"D"]
[null,null,null,null,null,null,null,null,{"$f":"IF(J37=\"\",\"\",MAX($I$23:I36)+1)","v":11},"Muatan Lokal",null,null,null,null,null,null,null,null,null,null,null,null,{"$f":"IF(X37=\"\",\"\",MAX($W$23:W36)+1)","v":11},"Muatan Lokal"]
[{"$f":"pts!A29","v":92},{"$f":"pts!B29","v":84},{"$f":"pts!C29","v":76},{"$f":"pts!D29","v":"Bahasa Madura"},{"$f":"IF($A$4=\"ganjil\",VLOOKUP($AL$1,nil.ganjil,16,0),VLOOKUP($AL$1,nil.genap,16,0))","v":98},"A",{"$f":"IF($A$4=\"ganjil\",VLOOKUP($AL$1,nil.ganjil,32,0),VLOOKUP($AL$1,nil.genap,32,0))","v":103},"A",null,{"$f":"IF(kur!$D21=\"\",\"\",\"a. \"&kur!$D21)","v":"a. Bahasa Madura"},null,null,null,null,null,null,{"$f":"IF(J38=\"\",\"\",IF($A$3=\"satu KKM\",$C$23,$C38))","v":76},{"$f":"IF($E38=0,\"\",$E38)","v":98},{"$f":"IF(R38=\"\",\"\",F38)","v":"A"},null,null,null,null,{"$f":"IF(kur!$D21=\"\",\"\",\"a. \"&kur!$D21)","v":"a. Bahasa Madura"},null,null,null,null,null,null,{"$f":"IF(X38=\"\",\"\",IF($A$3=\"satu KKM\",$C$23,$C38))","v":76},103,{"$f":"IF(AF38=\"\",\"\",H38)","v":"A"}]
[{"$f":"pts!A30","v":""},{"$f":"pts!B30","v":""},{"$f":"pts!C30","v":0},{"$f":"pts!D30","v":0},{"$f":"IF($A$4=\"ganjil\",VLOOKUP($AL$1,nil.ganjil,17,0),VLOOKUP($AL$1,nil.genap,17,0))","v":0},"C",{"$f":"IF($A$4=\"ganjil\",VLOOKUP($AL$1,nil.ganjil,33,0),VLOOKUP($AL$1,nil.genap,33,0))","v":""},"A",null,{"$f":"IF(kur!$D22=\"\",\"\",\"b. \"&kur!$D22)","v":""},null,null,null,null,null,null,{"$f":"IF(J39=\"\",\"\",IF($A$3=\"satu KKM\",$C$23,$C39))","v":""},{"$f":"IF($E39=0,\"\",$E39)","v":""},{"$f":"IF(R39=\"\",\"\",F39)","v":""},null,null,null,null,{"$f":"IF(kur!$D22=\"\",\"\",\"b. \"&kur!$D22)","v":""},null,null,null,null,null,null,{"$f":"IF(X39=\"\",\"\",IF($A$3=\"satu KKM\",$C$23,$C39))","v":""},{"$f":"IF($G39=0,\"\",$G39)","v":""},{"$f":"IF(AF39=\"\",\"\",H39)","v":""}]
[{"$f":"pts!A31","v":""},{"$f":"pts!B31","v":""},{"$f":"pts!C31","v":0},{"$f":"pts!D31","v":0},{"$f":"IF($A$4=\"ganjil\",VLOOKUP($AL$1,nil.ganjil,18,0),VLOOKUP($AL$1,nil.genap,18,0))","v":0},"C",{"$f":"IF($A$4=\"ganjil\",VLOOKUP($AL$1,nil.ganjil,34,0),VLOOKUP($AL$1,nil.genap,34,0))","v":""},"A",null,{"$f":"IF(kur!$D23=\"\",\"\",\"c. \"&kur!$D23)","v":""},null,null,null,null,null,null,{"$f":"IF(J40=\"\",\"\",IF($A$3=\"satu KKM\",$C$23,$C40))","v":""},{"$f":"IF($E40=0,\"\",$E40)","v":""},{"$f":"IF(R40=\"\",\"\",F40)","v":""},null,null,null,null,{"$f":"IF(kur!$D23=\"\",\"\",\"c. \"&kur!$D23)","v":""},null,null,null,null,null,null,{"$f":"IF(X40=\"\",\"\",IF($A$3=\"satu KKM\",$C$23,$C40))","v":""},"",{"$f":"IF(AF40=\"\",\"\",H40)","v":""}]
[]
[null,null,null,null,null,null,null,null,"E. PENGEMBANGAN DIRI",null,null,null,null,null,null,null,null,null,null,null,null,null,"F. EKSTRAKURIKULER"]
[null,null,null,null,null,null,null,null,"No","Nama Kegiatan",null,null,null,null,null,null,null,null,"Nilai",null,null,null,"No","Kegiatan Ekstra",null,null,null,null,null,null,null,null,"Nilai"]
[null,null,null,null,null,null,null,null,{"$f":"raport!$D47","v":1},{"$f":"raport!$E47","v":0},null,null,null,null,null,null,null,null,{"$f":"raport!$K47","v":""},null,null,null,{"$f":"raport!$D53","v":""},{"$f":"raport!$E53","v":""},null,null,null,null,null,null,null,null,{"$f":"raport!$K53","v":""}]
[null,null,null,null,null,null,null,null,{"$f":"raport!$D48","v":""},{"$f":"raport!$E48","v":""},null,null,null,null,null,null,null,null,{"$f":"raport!$K48","v":""},null,null,null,{"$f":"raport!$D54","v":""},{"$f":"raport!$E54","v":""},null,null,null,null,null,null,null,null,{"$f":"raport!$K54","v":""}]
[null,null,null,null,null,null,null,null,{"$f":"raport!$D49","v":""},{"$f":"raport!$E49","v":""},null,null,null,null,null,null,null,null,{"$f":"raport!$K49","v":""},null,null,null,{"$f":"raport!$D55","v":""},{"$f":"raport!$E55","v":""},null,null,null,null,null,null,null,null,{"$f":"raport!$K55","v":""}]
[]
[null,null,null,null,null,null,null,null,"G. SARAN - SARAN",null,null,null,null,null,null,null,null,null,null,null,null,null,"H. TINGGI DAN BERAT BADAN"]
[null,null,null,null,null,null,null,null,{"$f":"raport!$D$58","v":""},null,null,null,null,null,null,null,null,null,null,null,null,null,"No","Aspek yang dinilai",null,null,null,null,"Semester 1",null,null,"Semester 2"]
[null,null,null,null,null,null,null,null,null,null,null,null,null,null,null,null,null,null,null,null,null,null,1,"Tinggi Badan",null,null,null,null,{"$f":"raport!$K64","v":""},null,null,{"$f":"raport!$S64","v":""}]
[null,null,null,null,null,null,null,null,null,null,null,null,null,null,null,null,null,null,null,null,null,null,2,"Berat Badan",null,null,null,null,{"$f":"raport!$K65","v":""},null,null,{"$f":"raport!$S65","v":""}]
[]
[null,null,null,null,null,null,null,null,"I. KONDISI KESEHATAN",null,null,null,null,null,null,null,null,null,null,null,null,null,"J. PRESTASI"]
[null,null,null,null,null,null,null,null,"No","Aspek Fisik",null,null,"Keterangan",null,null,null,null,null,null,null,null,null,"No","Jenis Prestasi",null,null,null,null,"Keterangan"]
[null,null,null,null,null,null,null,null,{"$f":"raport!$D69","v":1},{"$f":"raport!$E69","v":"Pendengaran"},null,null,{"$f":"raport!K69","v":""},null,null,null,null,null,null,null,null,null,{"$f":"raport!$D76","v":""},{"$f":"raport!$E76","v":""},null,null,null,null,{"$f":"raport!$K76","v":""}]
[null,null,null,null,null,null,null,null,{"$f":"raport!$D70","v":2},{"$f":"raport!$E70","v":"Penglihatan"},null,null,{"$f":"raport!K70","v":""},null,null,null,null,null,null,null,null,null,{"$f":"raport!$D77","v":""},{"$f":"raport!$E77","v":""},null,null,null,null,{"$f":"raport!$K77","v":""}]
[null,null,null,null,null,null,null,null,{"$f":"raport!$D71","v":3},{"$f":"raport!$E71","v":"Gigi"},null,null,{"$f":"raport!K71","v":""},null,null,null,null,null,null,null,null,null,{"$f":"raport!$D78","v":""},{"$f":"raport!$E78","v":""},null,null,null,null,{"$f":"raport!$K78","v":""}]
[]
[null,null,null,null,null,null,null,null,"K. KETIDAKHADIRAN",null,null,null,null,null,null,null,null,null,null,null,null,null,"Keputusan  :"]
[null,null,null,null,null,null,null,null,"Sakit",null,null,null,{"$f":"raport!$K81","v":"-    hari"},null,null,null,null,null,null,null,null,null,{"$f":"\"Berdasarkan pencapaian kompetensi pada semester ke-1 dan ke-2 ananda \"&$V6&\" ditetapkan  :\"","v":"Berdasarkan pencapaian kompetensi pada semester ke-1 dan ke-2 ananda INDAH ditetapkan  :"}]
[{"$f":"$AM$3","v":2},null,null,null,null,null,null,null,"Izin",null,null,null,{"$f":"raport!$K82","v":"-    hari"}]
[{"$f":"IF($V$9=\"ganjil\",\"\",IF(A61=1,\"Naik\",\"Tidak Naik\"))","v":"Tidak Naik"},null,null,null,null,null,null,null,"Tanpa Keterangan",null,null,null,{"$f":"raport!$K83","v":"-    hari"},null,null,null,null,null,null,null,null,null,null,{"$f":"\"Naik ke kelas  \"&$A$64&$C$64","v":"Naik ke kelas  "}]
[{"$f":"sekolah!$E$20","v":9},null,null,null,null,null,null,null,null,null,null,null,null,null,null,null,null,null,null,null,null,null,null,{"$f":"\"Tinggal di kelas \"&$A$65&\"  \"&$B$65","v":"Tinggal di kelas 9   ( Sembilan ) "}]
[{"$f":"IF($A$62=\"Tidak naik\",\"\",$A$63+1)","v":""},{"$f":"IFERROR(VLOOKUP($A64,kelasku,2,0),\"\")","v":""},{"$f":"IF($A$62=\"Tidak naik\",\"\",\"  ( \"&$B64&\" )\")","v":""}]
[{"$f":"IF($A$62=\"Naik\",\"\",sekolah!$E$20)","v":9},{"$f":"IF($A$62=\"Naik\",\"\",data!$J$5)","v":" ( Sembilan ) "},null,null,null,null,null,null,null,null,null,null,null,"Mengetahui",null,null,null,null,null,null,null,null,null,null,null,null,null,{"$f":"IF($V$9=\"ganjil\",sekolah!$E$30,sekolah!$E$31)","v":"Sampang, 8 Juni 2019"}]
[null,null,null,null,null,null,null,null,null,null,null,null,null,{"$f":"\"Kepala \"&sekolah!$E$5","v":"Kepala MTs Nurul Hidayah"},null,null,null,null,null,null,null,null,null,null,null,null,null,{"$f":"IF($A$2<7,\"Guru Kelas  \"&$A$8,\"Wali Kelas  \"&$A$8)","v":"Wali Kelas  9  C"}]
[]
[]
[]
[null,null,null,null,null,null,null,null,null,null,null,null,null,{"$f":"sekolah!$E$18","v":"Syafaruddin,M.MPd"},null,null,null,null,null,null,null,null,null,null,null,null,null,{"$f":"sekolah!$E$23","v":"Rusli,MPd"}]
[null,null,null,null,null,null,null,null,null,null,null,null,null,{"$f":"\"NIP. \"&sekolah!$E$19","v":"NIP. 198112102005011004"},null,null,null,null,null,null,null,null,null,null,null,null,null,{"$f":"\"NIP. \"&sekolah!$E$24","v":"NIP. "}]

{"sheet":"kur","index":8,"n_rows":24,"n_cols":15,"rows_kept":24,"cut":false,"hidden":true,"merged":[[0,5,1,7],[0,8,1,8],[3,2,4,2],[3,5,3,8],[3,10,4,10],[10,2,10,3],[3,4,4,4],[10,10,10,12],[6,10,6,15],[7,10,7,12],[7,13,7,15],[8,10,8,12],[8,13,8,15],[9,10,9,12],[9,13,9,15],[10,13,10,15],[11,10,11,12],[11,13,11,15],[12,10,12,12],[19,2,19,3],[15,10,16,15],[12,13,12,15],[13,10,13,12],[13,13,13,15]]}
[{"$f":"sekolah!$E$20","v":9},null,null,null,null,"PILIH KRITERIA KKM ==>>",null,null,"MULTI KKM"]
[]
[]
[{"$f":"IF(I1=\"MULTI KKM\",2,1)","v":2},null,"NO","STRUKTUR KURIKULUM","SINGKATAN","NILAI KKM",null,null,null,null,"SATU KKM","A","B","C","D"]
[null,null,null,"MUATAN PEND.AGAMA ISLAM DAN BAHASA ARAB",null,"A","B","C","D",null,null,{"$f":"100-ROUND((100-$N5)/3,0)","v":92},{"$f":"$L5-ROUND((100-$N5)/3,0)","v":84},75,{"$f":"\"0  - \"&N5-1","v":"0  - 74"}]
[{"$f":"IF(LEN($H6),\"0 - \"&$H6-1,\"\")","v":"0 - 44"},null,1,"Al-Qur'an Hadits","AH",{"$f":"IF(LEN($H6),100-ROUND((100-IF(ISNUMBER(SEARCH(\"SATU\",$I$1)),$N$5,$H6))/3,0),\"\")","v":82},{"$f":"IF(LEN($H6),$F6-ROUND((100-IF(ISNUMBER(SEARCH(\"SATU\",$I$1)),$N$5,$H6))/3,0),\"\")","v":64},45,{"$f":"IF(A$4=2,A6,O$5)","v":"0 - 44"}]
[{"$f":"IF(LEN($H7),\"0 - \"&$H7-1,\"\")","v":"0 - 55"},null,2,"Akidah Akhlak","AA",{"$f":"IF(LEN($H7),100-ROUND((100-IF(ISNUMBER(SEARCH(\"SATU\",$I$1)),$N$5,$H7))/3,0),\"\")","v":85},{"$f":"IF(LEN($H7),$F7-ROUND((100-IF(ISNUMBER(SEARCH(\"SATU\",$I$1)),$N$5,$H7))/3,0),\"\")","v":70},56,{"$f":"IF(A$4=2,A7,O$5)","v":"0 - 55"},null,"SETTING  SIKAP"]
["0 - 75",null,3,"Fikih","FK",{"$f":"IF(LEN($H8),100-ROUND((100-IF(ISNUMBER(SEARCH(\"SATU\",$I$1)),$N$5,$H8))/3,0),\"\")","v":92},{"$f":"IF(LEN($H8),$F8-ROUND((100-IF(ISNUMBER(SEARCH(\"SATU\",$I$1)),$N$5,$H8))/3,0),\"\")","v":84},76,{"$f":"IF(A$4=2,A8,O$5)","v":"0 - 75"},null,"ASPEK KI-1 ( SPIRITUAL )",null,null,"ASPEK KI-2 ( SOSIAL )"]
["0 - 71",null,4,"Bahasa Arab","BA",{"$f":"IF(LEN($H9),100-ROUND((100-IF(ISNUMBER(SEARCH(\"SATU\",$I$1)),$N$5,$H9))/3,0),\"\")","v":91},{"$f":"IF(LEN($H9),$F9-ROUND((100-IF(ISNUMBER(SEARCH(\"SATU\",$I$1)),$N$5,$H9))/3,0),\"\")","v":82},72,{"$f":"IF(A$4=2,A9,O$5)","v":"0 - 71"},null,"ketaatan beribadah",null,null,"jujur"]
["0 - 55",null,5,"Sejarah Kebudayaan Islam","SKI",{"$f":"IF(LEN($H10),100-ROUND((100-IF(ISNUMBER(SEARCH(\"SATU\",$I$1)),$N$5,$H10))/3,0),\"\")","v":85},{"$f":"IF(LEN($H10),$F10-ROUND((100-IF(ISNUMBER(SEARCH(\"SATU\",$I$1)),$N$5,$H10))/3,0),\"\")","v":70},56,{"$f":"IF(A$4=2,A10,O$5)","v":"0 - 55"},null,"perilaku bersyukur",null,null,"disiplin"]
[null,null,"MUATAN UMUM / TEMATIK",null,null,"A","B","C","D",null,"kebiasaan berdoa sebelum belajar",null,null,"tanggung jawab"]
["0 - 73",null,1,"Pendidikan Pancasila dan Kewarganegaaraan","PKN",{"$f":"IF(LEN($H12),100-ROUND((100-IF(ISNUMBER(SEARCH(\"SATU\",$I$1)),$N$5,$H12))/3,0),\"\")","v":91},{"$f":"IF(LEN($H12),$F12-ROUND((100-IF(ISNUMBER(SEARCH(\"SATU\",$I$1)),$N$5,$H12))/3,0),\"\")","v":82},74,{"$f":"IF(A$4=2,A12,O$5)","v":"0 - 73"},null,"meyakini kebesaran / anugerah Allah",null,null,"peduli"]
["0 - 74",null,2,"Bahasa Indonesia","BIN",92,84,75,"0 - 74",null,"toleransi beribadah",null,null,"santun"]
["0 - 55",null,3,"Matematika","MTK",85,70,56,"0 - 55",null,"kebiasaan mengucapkan salam",null,null,"percaya diri"]
["0 - 76",null,{"$f":"IF($A$1<4,\"\",MAX($C$12:$C14)+1)","v":4},"Ilmu Pengetahuan Alam","IPA",92,84,77,"0 - 76"]
["0 - 77",null,{"$f":"IF($A$1<4,\"\",MAX($C$12:$C15)+1)","v":5},"Ilmu Pengetahuan Sosial","IPS",93,86,78,"0 - 77",null,"ASPEK SPIRITUAL DAN SOSIAL BISA DIEDIT / DI SESUAIKAN DENGAN KEBUTUHAN SEKOLAH"]
["0 - 78",null,{"$f":"MAX($C$12:$C16)+1","v":6},"Seni Budaya ","SB",93,86,79,"0 - 78"]
["0 - 33",null,{"$f":"MAX($C$12:$C17)+1","v":7},"Pendidikan Jasmani,Olahraga danKesehatan","PJ",78,56,34,"0 - 33"]
["0 - 80",null,{"$f":"IF($A$1<7,\"\",MAX($C$12:$C18)+1)","v":8},"Bahasa Inggris","BIG",94,88,81,"0 - 80"]
[null,null,"MUATAN LOKAL",null,null,"A","B","C","D"]
["0 - 75",null,{"$f":"IF(D21=\"\",\"\",1)","v":1},"Bahasa Madura","BM",{"$f":"IF(LEN($H21),100-ROUND((100-IF(ISNUMBER(SEARCH(\"SATU\",$I$1)),$N$5,$H21))/3,0),\"\")","v":92},{"$f":"IF(LEN($H21),$F21-ROUND((100-IF(ISNUMBER(SEARCH(\"SATU\",$I$1)),$N$5,$H21))/3,0),\"\")","v":84},76,{"$f":"IF(A$4=2,A21,O$5)","v":"0 - 75"}]
["",null,{"$f":"IF(D22=\"\",\"\",MAX($C$21:C21)+1)","v":""},null,null,{"$f":"IF(LEN($H22),100-ROUND((100-IF(ISNUMBER(SEARCH(\"SATU\",$I$1)),$N$5,$H22))/3,0),\"\")","v":""},{"$f":"IF(LEN($H22),$F22-ROUND((100-IF(ISNUMBER(SEARCH(\"SATU\",$I$1)),$N$5,$H22))/3,0),\"\")","v":""},null,{"$f":"IF(A$4=2,A22,O$5)","v":""}]
["",null,{"$f":"IF(D23=\"\",\"\",MAX($C$21:C22)+1)","v":""},null,null,{"$f":"IF(LEN($H23),100-ROUND((100-IF(ISNUMBER(SEARCH(\"SATU\",$I$1)),$N$5,$H23))/3,0),\"\")","v":""},{"$f":"IF(LEN($H23),$F23-ROUND((100-IF(ISNUMBER(SEARCH(\"SATU\",$I$1)),$N$5,$H23))/3,0),\"\")","v":""},null,{"$f":"IF(A$4=2,A23,O$5)","v":""}]
["",null,null,null,null,{"$f":"IF(LEN($H24),100-ROUND((100-IF(ISNUMBER(SEARCH(\"SATU\",$I$1)),$N$5,$H24))/3,0),\"\")","v":""},{"$f":"IF(LEN($H24),$F24-ROUND((100-IF(ISNUMBER(SEARCH(\"SATU\",$I$1)),$N$5,$H24))/3,0),\"\")","v":""},null,{"$f":"IF(A$4=2,A24,O$5)","v":""}]

{"sheet":"nipts","index":9,"n_rows":59,"n_cols":49,"rows_kept":59,"cut":false,"hidden":true,"merged":[[6,48,8,48],[6,28,7,28],[6,23,6,25],[7,23,8,23],[7,24,8,24],[7,25,8,25],[6,29,6,44],[7,45,8,45],[7,46,8,46],[7,47,8,47],[6,45,6,47],[2,27,2,44],[6,5,8,5],[6,6,7,6],[6,7,6,22],[6,27,8,27],[6,26,8,26]]}
[]
[{"$f":"kur!$I$1","v":"MULTI KKM"}]
[null,null,null,null,null,null,null,null,null,null,null,null,null,null,null,null,null,null,null,null,null,null,null,null,null,null,null,"DAFTAR  NILAI  PENGETAHUAN / KI - 3"]
[null,null,null,null,null,null,"Nama Madrasah",{"$f":"\": \"&sekolah!$E$5","v":": MTs Nurul Hidayah"},null,null,null,null,null,null,null,null,null,null,"Semester",null,null,": Ganjil",null,null,null,null,null,null,"Nama Madrasah",{"$f":"\": \"&sekolah!$E$5","v":": MTs Nurul Hidayah"},null,null,null,null,null,null,null,null,null,null,"Semester",null,null,": Genap"]
[null,null,null,null,null,null,"Kelas",{"$f":"\": \"&sekolah!$E$20&\" ( \"&data!$J$4&\" )\"","v":": 9 ( Sembilan )"},null,null,null,null,null,null,null,null,null,null,"Tahun Pelajaran",null,null,{"$f":"\": \"&sekolah!$E$22","v":": 2017 / 2018"},null,null,null,null,null,null,"Kelas",{"$f":"\": \"&sekolah!$E$20&\" ( \"&data!$J$4&\" )\"","v":": 9 ( Sembilan )"},null,null,null,null,null,null,null,null,null,null,"Tahun Pelajaran",null,null,{"$f":"\": \"&sekolah!$E$22","v":": 2017 / 2018"}]
[null,null,null,null,null,"1","2","3","4","5","6","7","8","9","10","11","12","13","14","15","16","17","18","19","20","21","22"]
[null,null,null,null,null,"NO","NAMA SISWA","MATA PELAJARAN",null,null,null,null,null,null,null,null,null,null,null,null,null,null,null,"DAFTAR HADIR SISWA",null,null,"SARAN - SARAN","NO","NAMA SISWA","MATA PELAJARAN",null,null,null,null,null,null,null,null,null,null,null,null,null,null,null,"DAFTAR HADIR SISWA",null,null,"SARAN - SARAN"]
[{"$f":"IF($A$2=\"MULTI KKM\",\"\",kur!$N$5)","v":""},{"$f":"kur!L5","v":92},{"$f":"kur!M5","v":84},{"$f":"sekolah!$E$20","v":9},null,null,null,"Al-Qur'an Hadits","Akidah Akhlak","Fikih","Bhs. Arab","SKI","PKN","Bhs. Indonesia","Matematika","IPA","IPS","Seni Budaya","PJOK","Bhs. Inggris",{"$f":"IF(kur!$D$21=\"\",\"\",kur!$D$21)","v":"Bahasa Madura"},{"$f":"IF(kur!$D$22=\"\",\"\",kur!$D$22)","v":""},{"$f":"IF(kur!$D$23=\"\",\"\",kur!$D$23)","v":""},"Sakit","Izin","Tanpa Keterangan",null,null,null,"Al-Qur'an Hadits","Akidah Akhlak","Fikih","Bhs. Arab","SKI","PKN","Bhs. Indonesia","Matematika","IPA","IPS","Seni Budaya","PJOK","Bhs. Inggris",{"$f":"IF(kur!$D$21=\"\",\"\",kur!$D$21)","v":"Bahasa Madura"},{"$f":"IF(kur!$D$22=\"\",\"\",kur!$D$22)","v":""},{"$f":"IF(kur!$D$23=\"\",\"\",kur!$D$23)","v":""},"Sakit","Izin","Tanpa Keterangan"]
[null,"A","B",null,null,null,"KKM  === >>",{"$f":"IF($A$2=\"MULTI KKM\",kur!$H6,kur!$N$5)","v":45},{"$f":"IF($A$2=\"MULTI KKM\",kur!$H7,kur!$N$5)","v":56},{"$f":"IF($A$2=\"MULTI KKM\",kur!$H8,kur!$N$5)","v":76},{"$f":"IF($A$2=\"MULTI KKM\",kur!$H9,kur!$N$5)","v":72},{"$f":"IF($A$2=\"MULTI KKM\",kur!$H10,kur!$N$5)","v":56},{"$f":"IF($A$2=\"MULTI KKM\",kur!$H12,kur!$N$5)","v":74},{"$f":"IF($A$2=\"MULTI KKM\",kur!$H13,kur!$N$5)","v":75},{"$f":"IF($A$2=\"MULTI KKM\",kur!$H14,kur!$N$5)","v":56},{"$f":"IF($A$2=\"MULTI KKM\",kur!$H15,kur!$N$5)","v":77},{"$f":"IF($A$2=\"MULTI KKM\",kur!$H16,kur!$N$5)","v":78},{"$f":"IF($A$2=\"MULTI KKM\",kur!$H17,kur!$N$5)","v":79},{"$f":"IF($A$2=\"MULTI KKM\",kur!$H18,kur!$N$5)","v":34},{"$f":"IF($A$2=\"MULTI KKM\",kur!$H19,kur!$N$5)","v":81},{"$f":"IF($A$2=\"MULTI KKM\",kur!$H21,kur!$N$5)","v":76},{"$f":"IF($V$8=\"\",\"\",IF($A$2=\"MULTI KKM\",kur!$H22,kur!$N$5))","v":""},{"$f":"IF($W$8=\"\",\"\",IF($A$2=\"MULTI KKM\",kur!$H23,kur!$N$5))","v":""},null,null,null,null,null,"KKM  === >>",{"$f":"IF($A$2=\"MULTI KKM\",kur!$H6,kur!$N$5)","v":45},{"$f":"IF($A$2=\"MULTI KKM\",kur!$H7,kur!$N$5)","v":56},{"$f":"IF($A$2=\"MULTI KKM\",kur!$H8,kur!$N$5)","v":76},{"$f":"IF($A$2=\"MULTI KKM\",kur!$H9,kur!$N$5)","v":72},{"$f":"IF($A$2=\"MULTI KKM\",kur!$H10,kur!$N$5)","v":56},{"$f":"IF($A$2=\"MULTI KKM\",kur!$H12,kur!$N$5)","v":74},{"$f":"IF($A$2=\"MULTI KKM\",kur!$H13,kur!$N$5)","v":75},{"$f":"IF($A$2=\"MULTI KKM\",kur!$H14,kur!$N$5)","v":56},{"$f":"IF($A$2=\"MULTI KKM\",kur!$H15,kur!$N$5)","v":77},{"$f":"IF($A$2=\"MULTI KKM\",kur!$H16,kur!$N$5)","v":78},{"$f":"IF($A$2=\"MULTI KKM\",kur!$H17,kur!$N$5)","v":79},{"$f":"IF($A$2=\"MULTI KKM\",kur!$H18,kur!$N$5)","v":34},{"$f":"IF($A$2=\"MULTI KKM\",kur!$H19,kur!$N$5)","v":81},{"$f":"IF($A$2=\"MULTI KKM\",kur!$H21,kur!$N$5)","v":76},{"$f":"IF($V$8=\"\",\"\",IF($A$2=\"MULTI KKM\",kur!$H22,kur!$N$5))","v":""},{"$f":"IF($W$8=\"\",\"\",IF($A$2=\"MULTI KKM\",kur!$H23,kur!$N$5))","v":""}]
["QH",{"$f":"IF($A$2=\"SATU KKM\",$B$8,kur!$F6)","v":82},{"$f":"IF($A$2=\"SATU KKM\",$C$8,kur!$G6)","v":64},null,null,{"$f":"IF(Database!$A4=\"\",\"\",Database!$A4)","v":1},{"$f":"IF(Database!$D4=\"\",\"\",Database!$D4)","v":"jaya"},88,65,78,67,76,74,78,45,56,78,56,78,65,76,null,null,"-","-","-",null,{"$f":"IF(Database!$A4=\"\",\"\",Database!$A4)","v":1},{"$f":"IF(Database!$D4=\"\",\"\",Database!$D4)","v":"jaya"},88,65,78,67,76,74,78,69,56,78,56,78,65,76,null,null,"-","-","-"]
["AA",{"$f":"IF($A$2=\"SATU KKM\",$B$8,kur!$F7)","v":85},{"$f":"IF($A$2=\"SATU KKM\",$C$8,kur!$G7)","v":70},null,null,{"$f":"IF(Database!$A5=\"\",\"\",Database!$A5)","v":2},{"$f":"IF(Database!$D5=\"\",\"\",Database!$D5)","v":"IMG_CTV"},67,76,74,78,45,67,76,74,78,67,76,74,78,45,null,null,"-","-","-",null,{"$f":"IF(Database!$A5=\"\",\"\",Database!$A5)","v":2},{"$f":"IF(Database!$D5=\"\",\"\",Database!$D5)","v":"IMG_CTV"},67,76,74,78,45,67,76,74,78,67,76,74,78,45,null,null,"-","-","-"]
["FK",{"$f":"IF($A$2=\"SATU KKM\",$B$8,kur!$F8)","v":92},{"$f":"IF($A$2=\"SATU KKM\",$C$8,kur!$G8)","v":84},null,null,{"$f":"IF(Database!$A6=\"\",\"\",Database!$A6)","v":3},{"$f":"IF(Database!$D6=\"\",\"\",Database!$D6)","v":"sadi"},65,76,74,78,45,67,76,74,78,45,45,68,89,64,null,null,"-","-","-",null,{"$f":"IF(Database!$A6=\"\",\"\",Database!$A6)","v":3},{"$f":"IF(Database!$D6=\"\",\"\",Database!$D6)","v":"sadi"},67,76,74,78,45,67,76,74,78,45,45,68,89,64,null,null,"-","-","-"]
["BA",{"$f":"IF($A$2=\"SATU KKM\",$B$8,kur!$F9)","v":91},{"$f":"IF($A$2=\"SATU KKM\",$C$8,kur!$G9)","v":82},null,null,{"$f":"IF(Database!$A7=\"\",\"\",Database!$A7)","v":4},{"$f":"IF(Database!$D7=\"\",\"\",Database!$D7)","v":"INDAH"},90,67,76,74,78,45,67,95,67,76,74,78,45,98,null,null,"-","-","-",null,{"$f":"IF(Database!$A7=\"\",\"\",Database!$A7)","v":4},{"$f":"IF(Database!$D7=\"\",\"\",Database!$D7)","v":"INDAH"},90,67,76,74,78,45,67,95,67,76,74,78,45,98,null,null,"-","-","-"]
["SKI",{"$f":"IF($A$2=\"SATU KKM\",$B$8,kur!$F10)","v":85},{"$f":"IF($A$2=\"SATU KKM\",$C$8,kur!$G10)","v":70},null,null,{"$f":"IF(Database!$A8=\"\",\"\",Database!$A8)","v":5},{"$f":"IF(Database!$D8=\"\",\"\",Database!$D8)","v":"riski"},76,89,87,67,76,74,78,45,null,67,76,74,78,45,null,null,"-","-","-",null,{"$f":"IF(Database!$A8=\"\",\"\",Database!$A8)","v":5},{"$f":"IF(Database!$D8=\"\",\"\",Database!$D8)","v":"riski"},76,89,87,67,76,74,78,45,null,67,76,74,78,45,null,null,"-","-","-"]
["PKN",{"$f":"IF($A$2=\"SATU KKM\",$B$8,kur!$F12)","v":91},{"$f":"IF($A$2=\"SATU KKM\",$C$8,kur!$G12)","v":82},null,null,{"$f":"IF(Database!$A9=\"\",\"\",Database!$A9)","v":6},{"$f":"IF(Database!$D9=\"\",\"\",Database!$D9)","v":"risal"},77,76,74,78,67,76,74,78,45,76,74,78,45,84,null,null,"-","-","-",null,{"$f":"IF(Database!$A9=\"\",\"\",Database!$A9)","v":6},{"$f":"IF(Database!$D9=\"\",\"\",Database!$D9)","v":"risal"},67,76,74,78,67,76,74,78,45,76,74,78,45,84,null,null,"-","-","-"]
["BI",{"$f":"IF($A$2=\"SATU KKM\",$B$8,kur!$F13)","v":92},{"$f":"IF($A$2=\"SATU KKM\",$C$8,kur!$G13)","v":84},null,null,{"$f":"IF(Database!$A10=\"\",\"\",Database!$A10)","v":7},{"$f":"IF(Database!$D10=\"\",\"\",Database!$D10)","v":"saya"},null,null,null,null,null,null,null,null,null,null,null,null,null,null,null,null,"-","-","-",null,{"$f":"IF(Database!$A10=\"\",\"\",Database!$A10)","v":7},{"$f":"IF(Database!$D10=\"\",\"\",Database!$D10)","v":"saya"},null,null,null,null,null,null,null,null,null,null,null,null,null,null,null,null,"-","-","-"]
["MTK",{"$f":"IF($A$2=\"SATU KKM\",$B$8,kur!$F14)","v":85},{"$f":"IF($A$2=\"SATU KKM\",$C$8,kur!$G14)","v":70},null,null,{"$f":"IF(Database!$A11=\"\",\"\",Database!$A11)","v":8},{"$f":"IF(Database!$D11=\"\",\"\",Database!$D11)","v":"dia"},null,null,null,null,null,null,null,null,null,null,null,null,null,null,null,null,"-","-","-",null,{"$f":"IF(Database!$A11=\"\",\"\",Database!$A11)","v":8},{"$f":"IF(Database!$D11=\"\",\"\",Database!$D11)","v":"dia"},null,null,null,null,null,null,null,null,null,null,null,null,null,null,null,null,"-","-","-"]
["IPA",{"$f":"IF($A$2=\"SATU KKM\",$B$8,kur!$F15)","v":92},{"$f":"IF($A$2=\"SATU KKM\",$C$8,kur!$G15)","v":84},null,null,{"$f":"IF(Database!$A12=\"\",\"\",Database!$A12)","v":""},{"$f":"IF(Database!$D12=\"\",\"\",Database!$D12)","v":""},null,null,null,null,null,null,null,null,null,null,null,null,null,null,null,null,"-","-","-",null,{"$f":"IF(Database!$A12=\"\",\"\",Database!$A12)","v":""},{"$f":"IF(Database!$D12=\"\",\"\",Database!$D12)","v":""},null,null,null,null,null,null,null,null,null,null,null,null,null,null,null,null,"-","-","-"]
["IPS",{"$f":"IF($A$2=\"SATU KKM\",$B$8,kur!$F16)","v":93},{"$f":"IF($A$2=\"SATU KKM\",$C$8,kur!$G16)","v":86},null,null,{"$f":"IF(Database!$A13=\"\",\"\",Database!$A13)","v":""},{"$f":"IF(Database!$D13=\"\",\"\",Database!$D13)","v":""},null,null,null,null,null,null,null,null,null,null,null,null,null,null,null,null,"-","-","-",null,{"$f":"IF(Database!$A13=\"\",\"\",Database!$A13)","v":""},{"$f":"IF(Database!$D13=\"\",\"\",Database!$D13)","v":""},null,null,null,null,null,null,null,null,null,null,null,null,null,null,null,null,"-","-","-"]
["SB",{"$f":"IF($A$2=\"SATU KKM\",$B$8,kur!$F17)","v":93},{"$f":"IF($A$2=\"SATU KKM\",$C$8,kur!$G17)","v":86},null,null,{"$f":"IF(Database!$A14=\"\",\"\",Database!$A14)","v":""},{"$f":"IF(Database!$D14=\"\",\"\",Database!$D14)","v":""},null,null,null,null,null,null,null,null,null,null,null,null,null,null,null,null,"-","-","-",null,{"$f":"IF(Database!$A14=\"\",\"\",Database!$A14)","v":""},{"$f":"IF(Database!$D14=\"\",\"\",Database!$D14)","v":""},null,null,null,null,null,null,null,null,null,null,null,null,null,null,null,null,"-","-","-"]
["PJOK",{"$f":"IF($A$2=\"SATU KKM\",$B$8,kur!$F18)","v":78},{"$f":"IF($A$2=\"SATU KKM\",$C$8,kur!$G18)","v":56},null,null,{"$f":"IF(Database!$A15=\"\",\"\",Database!$A15)","v":""},{"$f":"IF(Database!$D15=\"\",\"\",Database!$D15)","v":""},null,null,null,null,null,null,null,null,null,null,null,null,null,null,null,null,"-","-","-",null,{"$f":"IF(Database!$A15=\"\",\"\",Database!$A15)","v":""},{"$f":"IF(Database!$D15=\"\",\"\",Database!$D15)","v":""},null,null,null,null,null,null,null,null,null,null,null,null,null,null,null,null,"-","-","-"]
["BIG",{"$f":"IF($A$2=\"SATU KKM\",$B$8,kur!$F19)","v":94},{"$f":"IF($A$2=\"SATU KKM\",$C$8,kur!$G19)","v":88},null,null,{"$f":"IF(Database!$A16=\"\",\"\",Database!$A16)","v":""},{"$f":"IF(Database!$D16=\"\",\"\",Database!$D16)","v":""},null,null,null,null,null,null,null,null,null,null,null,null,null,null,null,null,"-","-","-",null,{"$f":"IF(Database!$A16=\"\",\"\",Database!$A16)","v":""},{"$f":"IF(Database!$D16=\"\",\"\",Database!$D16)","v":""},null,null,null,null,null,null,null,null,null,null,null,null,null,null,null,null,"-","-","-"]
["BM",{"$f":"IF($A$2=\"SATU KKM\",$B$8,kur!$F21)","v":92},{"$f":"IF($A$2=\"SATU KKM\",$C$8,kur!$G21)","v":84},null,null,{"$f":"IF(Database!$A17=\"\",\"\",Database!$A17)","v":""},{"$f":"IF(Database!$D17=\"\",\"\",Database!$D17)","v":""},null,null,null,null,null,null,null,null,null,null,null,null,null,null,null,null,"-","-","-",null,{"$f":"IF(Database!$A17=\"\",\"\",Database!$A17)","v":""},{"$f":"IF(Database!$D17=\"\",\"\",Database!$D17)","v":""},null,null,null,null,null,null,null,null,null,null,null,null,null,null,null,null,"-","-","-"]
[null,{"$f":"IF($A$2=\"SATU KKM\",$B$8,kur!$F22)","v":""},{"$f":"IF($A$2=\"SATU KKM\",$C$8,kur!$G22)","v":""},null,null,{"$f":"IF(Database!$A18=\"\",\"\",Database!$A18)","v":""},{"$f":"IF(Database!$D18=\"\",\"\",Database!$D18)","v":""},null,null,null,null,null,null,null,null,null,null,null,null,null,null,null,null,"-","-","-",null,{"$f":"IF(Database!$A18=\"\",\"\",Database!$A18)","v":""},{"$f":"IF(Database!$D18=\"\",\"\",Database!$D18)","v":""},null,null,null,null,null,null,null,null,null,null,null,null,null,null,null,null,"-","-","-"]
[null,{"$f":"IF($A$2=\"SATU KKM\",$B$8,kur!$F23)","v":""},{"$f":"IF($A$2=\"SATU KKM\",$C$8,kur!$G23)","v":""},null,null,{"$f":"IF(Database!$A19=\"\",\"\",Database!$A19)","v":""},{"$f":"IF(Database!$D19=\"\",\"\",Database!$D19)","v":""},null,null,null,null,null,null,null,null,null,null,null,null,null,null,null,null,"-","-","-",null,{"$f":"IF(Database!$A19=\"\",\"\",Database!$A19)","v":""},{"$f":"IF(Database!$D19=\"\",\"\",Database!$D19)","v":""},null,null,null,null,null,null,null,null,null,null,null,null,null,null,null,null,"-","-","-"]
[null,null,null,null,null,{"$f":"IF(Database!$A20=\"\",\"\",Database!$A20)","v":""},{"$f":"IF(Database!$D20=\"\",\"\",Database!$D20)","v":""},null,null,null,null,null,null,null,null,null,null,null,null,null,null,null,null,null,null,null,null,{"$f":"IF(Database!$A20=\"\",\"\",Database!$A20)","v":""},{"$f":"IF(Database!$D20=\"\",\"\",Database!$D20)","v":""}]
[null,null,null,null,null,{"$f":"IF(Database!$A21=\"\",\"\",Database!$A21)","v":""},{"$f":"IF(Database!$D21=\"\",\"\",Database!$D21)","v":""},null,null,null,null,null,null,null,null,null,null,null,null,null,null,null,null,null,null,null,null,{"$f":"IF(Database!$A21=\"\",\"\",Database!$A21)","v":""},{"$f":"IF(Database!$D21=\"\",\"\",Database!$D21)","v":""}]
[null,null,null,null,null,{"$f":"IF(Database!$A22=\"\",\"\",Database!$A22)","v":""},{"$f":"IF(Database!$D22=\"\",\"\",Database!$D22)","v":""},null,null,null,null,null,null,null,null,null,null,null,null,null,null,null,null,null,null,null,null,{"$f":"IF(Database!$A22=\"\",\"\",Database!$A22)","v":""},{"$f":"IF(Database!$D22=\"\",\"\",Database!$D22)","v":""}]
[null,null,null,null,null,{"$f":"IF(Database!$A23=\"\",\"\",Database!$A23)","v":""},{"$f":"IF(Database!$D23=\"\",\"\",Database!$D23)","v":""},null,null,null,null,null,null,null,null,null,null,null,null,null,null,null,null,null,null,null,null,{"$f":"IF(Database!$A23=\"\",\"\",Database!$A23)","v":""},{"$f":"IF(Database!$D23=\"\",\"\",Database!$D23)","v":""}]
[null,null,null,null,null,{"$f":"IF(Database!$A24=\"\",\"\",Database!$A24)","v":""},{"$f":"IF(Database!$D24=\"\",\"\",Database!$D24)","v":""},null,null,null,null,null,null,null,null,null,null,null,null,null,null,null,null,null,null,null,null,{"$f":"IF(Database!$A24=\"\",\"\",Database!$A24)","v":""},{"$f":"IF(Database!$D24=\"\",\"\",Database!$D24)","v":""}]
[null,null,null,null,null,{"$f":"IF(Database!$A25=\"\",\"\",Database!$A25)","v":""},{"$f":"IF(Database!$D25=\"\",\"\",Database!$D25)","v":""},null,null,null,null,null,null,null,null,null,null,null,null,null,null,null,null,null,null,null,null,{"$f":"IF(Database!$A25=\"\",\"\",Database!$A25)","v":""},{"$f":"IF(Database!$D25=\"\",\"\",Database!$D25)","v":""}]
[null,null,null,null,null,{"$f":"IF(Database!$A26=\"\",\"\",Database!$A26)","v":""},{"$f":"IF(Database!$D26=\"\",\"\",Database!$D26)","v":""},null,null,null,null,null,null,null,null,null,null,null,null,null,null,null,null,null,null,null,null,{"$f":"IF(Database!$A26=\"\",\"\",Database!$A26)","v":""},{"$f":"IF(Database!$D26=\"\",\"\",Database!$D26)","v":""}]
[null,null,null,null,null,{"$f":"IF(Database!$A27=\"\",\"\",Database!$A27)","v":""},{"$f":"IF(Database!$D27=\"\",\"\",Database!$D27)","v":""},null,null,null,null,null,null,null,null,null,null,null,null,null,null,null,null,null,null,null,null,{"$f":"IF(Database!$A27=\"\",\"\",Database!$A27)","v":""},{"$f":"IF(Database!$D27=\"\",\"\",Database!$D27)","v":""}]
[null,null,null,null,null,{"$f":"IF(Database!$A28=\"\",\"\",Database!$A28)","v":""},{"$f":"IF(Database!$D28=\"\",\"\",Database!$D28)","v":""},null,null,null,null,null,null,null,null,null,null,null,null,null,null,null,null,null,null,null,null,{"$f":"IF(Database!$A28=\"\",\"\",Database!$A28)","v":""},{"$f":"IF(Database!$D28=\"\",\"\",Database!$D28)","v":""}]
[null,null,null,null,null,{"$f":"IF(Database!$A29=\"\",\"\",Database!$A29)","v":""},{"$f":"IF(Database!$D29=\"\",\"\",Database!$D29)","v":""},null,null,null,null,null,null,null,null,null,null,null,null,null,null,null,null,null,null,null,null,{"$f":"IF(Database!$A29=\"\",\"\",Database!$A29)","v":""},{"$f":"IF(Database!$D29=\"\",\"\",Database!$D29)","v":""}]
[null,null,null,null,null,{"$f":"IF(Database!$A30=\"\",\"\",Database!$A30)","v":""},{"$f":"IF(Database!$D30=\"\",\"\",Database!$D30)","v":""},null,null,null,null,null,null,null,null,null,null,null,null,null,null,null,null,null,null,null,null,{"$f":"IF(Database!$A30=\"\",\"\",Database!$A30)","v":""},{"$f":"IF(Database!$D30=\"\",\"\",Database!$D30)","v":""}]
[null,null,null,null,null,{"$f":"IF(Database!$A31=\"\",\"\",Database!$A31)","v":""},{"$f":"IF(Database!$D31=\"\",\"\",Database!$D31)","v":""},null,null,null,null,null,null,null,null,null,null,null,null,null,null,null,null,null,null,null,null,{"$f":"IF(Database!$A31=\"\",\"\",Database!$A31)","v":""},{"$f":"IF(Database!$D31=\"\",\"\",Database!$D31)","v":""}]
[null,null,null,null,null,{"$f":"IF(Database!$A32=\"\",\"\",Database!$A32)","v":""},{"$f":"IF(Database!$D32=\"\",\"\",Database!$D32)","v":""},null,null,null,null,null,null,null,null,null,null,null,null,null,null,null,null,null,null,null,null,{"$f":"IF(Database!$A32=\"\",\"\",Database!$A32)","v":""},{"$f":"IF(Database!$D32=\"\",\"\",Database!$D32)","v":""}]
[null,null,null,null,null,{"$f":"IF(Database!$A33=\"\",\"\",Database!$A33)","v":""},{"$f":"IF(Database!$D33=\"\",\"\",Database!$D33)","v":""},null,null,null,null,null,null,null,null,null,null,null,null,null,null,null,null,null,null,null,null,{"$f":"IF(Database!$A33=\"\",\"\",Database!$A33)","v":""},{"$f":"IF(Database!$D33=\"\",\"\",Database!$D33)","v":""}]
[null,null,null,null,null,{"$f":"IF(Database!$A34=\"\",\"\",Database!$A34)","v":""},{"$f":"IF(Database!$D34=\"\",\"\",Database!$D34)","v":""},null,null,null,null,null,null,null,null,null,null,null,null,null,null,null,null,null,null,null,null,{"$f":"IF(Database!$A34=\"\",\"\",Database!$A34)","v":""},{"$f":"IF(Database!$D34=\"\",\"\",Database!$D34)","v":""}]
[null,null,null,null,null,{"$f":"IF(Database!$A35=\"\",\"\",Database!$A35)","v":""},{"$f":"IF(Database!$D35=\"\",\"\",Database!$D35)","v":""},null,null,null,null,null,null,null,null,null,null,null,null,null,null,null,null,null,null,null,null,{"$f":"IF(Database!$A35=\"\",\"\",Database!$A35)","v":""},{"$f":"IF(Database!$D35=\"\",\"\",Database!$D35)","v":""}]
[null,null,null,null,null,{"$f":"IF(Database!$A36=\"\",\"\",Database!$A36)","v":""},{"$f":"IF(Database!$D36=\"\",\"\",Database!$D36)","v":""},null,null,null,null,null,null,null,null,null,null,null,null,null,null,null,null,null,null,null,null,{"$f":"IF(Database!$A36=\"\",\"\",Database!$A36)","v":""},{"$f":"IF(Database!$D36=\"\",\"\",Database!$D36)","v":""}]
[null,null,null,null,null,{"$f":"IF(Database!$A37=\"\",\"\",Database!$A37)","v":""},{"$f":"IF(Database!$D37=\"\",\"\",Database!$D37)","v":""},null,null,null,null,null,null,null,null,null,null,null,null,null,null,null,null,null,null,null,null,{"$f":"IF(Database!$A37=\"\",\"\",Database!$A37)","v":""},{"$f":"IF(Database!$D37=\"\",\"\",Database!$D37)","v":""}]
[null,null,null,null,null,{"$f":"IF(Database!$A38=\"\",\"\",Database!$A38)","v":""},{"$f":"IF(Database!$D38=\"\",\"\",Database!$D38)","v":""},null,null,null,null,null,null,null,null,null,null,null,null,null,null,null,null,null,null,null,null,{"$f":"IF(Database!$A38=\"\",\"\",Database!$A38)","v":""},{"$f":"IF(Database!$D38=\"\",\"\",Database!$D38)","v":""}]
[null,null,null,null,null,{"$f":"IF(Database!$A39=\"\",\"\",Database!$A39)","v":""},{"$f":"IF(Database!$D39=\"\",\"\",Database!$D39)","v":""},null,null,null,null,null,null,null,null,null,null,null,null,null,null,null,null,null,null,null,null,{"$f":"IF(Database!$A39=\"\",\"\",Database!$A39)","v":""},{"$f":"IF(Database!$D39=\"\",\"\",Database!$D39)","v":""}]
[null,null,null,null,null,{"$f":"IF(Database!$A40=\"\",\"\",Database!$A40)","v":""},{"$f":"IF(Database!$D40=\"\",\"\",Database!$D40)","v":""},null,null,null,null,null,null,null,null,null,null,null,null,null,null,null,null,null,null,null,null,{"$f":"IF(Database!$A40=\"\",\"\",Database!$A40)","v":""},{"$f":"IF(Database!$D40=\"\",\"\",Database!$D40)","v":""}]
[null,null,null,null,null,{"$f":"IF(Database!$A41=\"\",\"\",Database!$A41)","v":""},{"$f":"IF(Database!$D41=\"\",\"\",Database!$D41)","v":""},null,null,null,null,null,null,null,null,null,null,null,null,null,null,null,null,null,null,null,null,{"$f":"IF(Database!$A41=\"\",\"\",Database!$A41)","v":""},{"$f":"IF(Database!$D41=\"\",\"\",Database!$D41)","v":""}]
[null,null,null,null,null,{"$f":"IF(Database!$A42=\"\",\"\",Database!$A42)","v":""},{"$f":"IF(Database!$D42=\"\",\"\",Database!$D42)","v":""},null,null,null,null,null,null,null,null,null,null,null,null,null,null,null,null,null,null,null,null,{"$f":"IF(Database!$A42=\"\",\"\",Database!$A42)","v":""},{"$f":"IF(Database!$D42=\"\",\"\",Database!$D42)","v":""}]
[null,null,null,null,null,{"$f":"IF(Database!$A43=\"\",\"\",Database!$A43)","v":""},{"$f":"IF(Database!$D43=\"\",\"\",Database!$D43)","v":""},null,null,null,null,null,null,null,null,null,null,null,null,null,null,null,null,null,null,null,null,{"$f":"IF(Database!$A43=\"\",\"\",Database!$A43)","v":""},{"$f":"IF(Database!$D43=\"\",\"\",Database!$D43)","v":""}]
[null,null,null,null,null,{"$f":"IF(Database!$A44=\"\",\"\",Database!$A44)","v":""},{"$f":"IF(Database!$D44=\"\",\"\",Database!$D44)","v":""},null,null,null,null,null,null,null,null,null,null,null,null,null,null,null,null,null,null,null,null,{"$f":"IF(Database!$A44=\"\",\"\",Database!$A44)","v":""},{"$f":"IF(Database!$D44=\"\",\"\",Database!$D44)","v":""}]
[null,null,null,null,null,{"$f":"IF(Database!$A45=\"\",\"\",Database!$A45)","v":""},{"$f":"IF(Database!$D45=\"\",\"\",Database!$D45)","v":""},null,null,null,null,null,null,null,null,null,null,null,null,null,null,null,null,null,null,null,null,{"$f":"IF(Database!$A45=\"\",\"\",Database!$A45)","v":""},{"$f":"IF(Database!$D45=\"\",\"\",Database!$D45)","v":""}]
[null,null,null,null,null,{"$f":"IF(Database!$A46=\"\",\"\",Database!$A46)","v":""},{"$f":"IF(Database!$D46=\"\",\"\",Database!$D46)","v":""},null,null,null,null,null,null,null,null,null,null,null,null,null,null,null,null,null,null,null,null,{"$f":"IF(Database!$A46=\"\",\"\",Database!$A46)","v":""},{"$f":"IF(Database!$D46=\"\",\"\",Database!$D46)","v":""}]
[null,null,null,null,null,{"$f":"IF(Database!$A47=\"\",\"\",Database!$A47)","v":""},{"$f":"IF(Database!$D47=\"\",\"\",Database!$D47)","v":""},null,null,null,null,null,null,null,null,null,null,null,null,null,null,null,null,null,null,null,null,{"$f":"IF(Database!$A47=\"\",\"\",Database!$A47)","v":""},{"$f":"IF(Database!$D47=\"\",\"\",Database!$D47)","v":""}]
[null,null,null,null,null,{"$f":"IF(Database!$A48=\"\",\"\",Database!$A48)","v":""},{"$f":"IF(Database!$D48=\"\",\"\",Database!$D48)","v":""},null,null,null,null,null,null,null,null,null,null,null,null,null,null,null,null,null,null,null,null,{"$f":"IF(Database!$A48=\"\",\"\",Database!$A48)","v":""},{"$f":"IF(Database!$D48=\"\",\"\",Database!$D48)","v":""}]
[null,null,null,null,null,{"$f":"IF(Database!$A49=\"\",\"\",Database!$A49)","v":""},{"$f":"IF(Database!$D49=\"\",\"\",Database!$D49)","v":""},null,null,null,null,null,null,null,null,null,null,null,null,null,null,null,null,null,null,null,null,{"$f":"IF(Database!$A49=\"\",\"\",Database!$A49)","v":""},{"$f":"IF(Database!$D49=\"\",\"\",Database!$D49)","v":""}]
[null,null,null,null,null,{"$f":"IF(Database!$A50=\"\",\"\",Database!$A50)","v":""},{"$f":"IF(Database!$D50=\"\",\"\",Database!$D50)","v":""},null,null,null,null,null,null,null,null,null,null,null,null,null,null,null,null,null,null,null,null,{"$f":"IF(Database!$A50=\"\",\"\",Database!$A50)","v":""},{"$f":"IF(Database!$D50=\"\",\"\",Database!$D50)","v":""}]
[null,null,null,null,null,{"$f":"IF(Database!$A51=\"\",\"\",Database!$A51)","v":""},{"$f":"IF(Database!$D51=\"\",\"\",Database!$D51)","v":""},null,null,null,null,null,null,null,null,null,null,null,null,null,null,null,null,null,null,null,null,{"$f":"IF(Database!$A51=\"\",\"\",Database!$A51)","v":""},{"$f":"IF(Database!$D51=\"\",\"\",Database!$D51)","v":""}]
[null,null,null,null,null,{"$f":"IF(Database!$A52=\"\",\"\",Database!$A52)","v":""},{"$f":"IF(Database!$D52=\"\",\"\",Database!$D52)","v":""},null,null,null,null,null,null,null,null,null,null,null,null,null,null,null,null,null,null,null,null,{"$f":"IF(Database!$A52=\"\",\"\",Database!$A52)","v":""},{"$f":"IF(Database!$D52=\"\",\"\",Database!$D52)","v":""}]
[null,null,null,null,null,{"$f":"IF(Database!$A53=\"\",\"\",Database!$A53)","v":""},{"$f":"IF(Database!$D53=\"\",\"\",Database!$D53)","v":""},null,null,null,null,null,null,null,null,null,null,null,null,null,null,null,null,null,null,null,null,{"$f":"IF(Database!$A53=\"\",\"\",Database!$A53)","v":""},{"$f":"IF(Database!$D53=\"\",\"\",Database!$D53)","v":""}]

{"sheet":"legerpts","index":10,"n_rows":75,"n_cols":35,"rows_kept":75,"cut":false,"hidden":true,"merged":[[6,26,6,29],[7,26,7,29],[63,2,63,8],[64,2,64,8],[65,2,65,8],[66,2,66,8],[63,25,63,26],[64,25,64,26],[65,25,65,26],[66,25,66,26],[22,3,22,8],[23,3,23,8],[9,2,12,2],[13,3,13,8],[14,3,14,8],[15,3,15,8],[16,3,16,8],[17,3,17,8],[10,22,10,24],[9,9,9,24],[18,3,18,8],[19,3,19,8],[20,3,20,8],[21,3,21,8],[9,25,12,26],[9,27,12,28],[9,29,12,29],[13,25,13,26],[13,27,13,28],[59,3,59,8],[24,3,24,8],[9,3,12,8],[10,9,10,12],[10,13,10,21],[14,25,14,26],[14,27,14,28],[15,25,15,26],[15,27,15,28],[16,25,16,26],[16,27,16,28],[17,25,17,26],[17,27,17,28],[18,25,18,26],[18,27,18,28],[19,25,19,26],[19,27,19,28],[20,25,20,26],[20,27,20,28],[21,25,21,26],[21,27,21,28],[22,25,22,26],[22,27,22,28],[23,25,23,26],[23,27,23,28],[24,25,24,26],[24,27,24,28],[25,25,25,26],[25,27,25,28],[26,25,26,26],[26,27,26,28],[27,25,27,26],[27,27,27,28],[28,25,28,26],[28,27,28,28],[29,25,29,26],[29,27,29,28],[30,25,30,26],[30,27,30,28],[38,27,38,28],[39,25,39,26],[39,27,39,28],[40,25,40,26],[40,27,40,28],[31,25,31,26],[31,27,31,28],[32,25,32,26],[32,27,32,28],[33,25,33,26],[33,27,33,28],[34,25,34,26],[34,27,34,28],[35,25,35,26],[35,27,35,28],[41,25,41,26],[41,27,41,28],[25,3,25,8],[26,3,26,8],[27,3,27,8],[28,3,28,8],[29,3,29,8],[30,3,30,8],[31,3,31,8],[32,3,32,8],[33,3,33,8],[34,3,34,8],[35,3,35,8],[36,3,36,8],[37,3,37,8],[38,3,38,8],[39,3,39,8],[40,3,40,8],[41,3,41,8],[36,25,36,26],[36,27,36,28],[37,25,37,26],[37,27,37,28],[38,25,38,26],[50,25,50,26],[50,27,50,28],[51,25,51,26],[51,27,51,28],[52,25,52,26],[52,27,52,28],[42,3,42,8],[43,3,43,8],[44,3,44,8],[45,3,45,8],[46,3,46,8],[47,3,47,8],[48,3,48,8],[49,3,49,8],[50,3,50,8],[45,27,45,28],[46,25,46,26],[46,27,46,28],[47,25,47,26],[47,27,47,28],[48,25,48,26],[48,27,48,28],[49,25,49,26],[49,27,49,28],[1,2,1,29],[2,2,2,29],[3,2,3,29],[4,2,4,29],[53,25,53,26],[53,27,53,28],[54,25,54,26],[54,27,54,28],[60,27,60,28],[55,25,55,26],[55,27,55,28],[56,25,56,26],[56,27,56,28],[57,25,57,26],[57,27,57,28],[51,3,51,8],[52,3,52,8],[42,25,42,26],[42,27,42,28],[43,25,43,26],[43,27,43,28],[44,25,44,26],[44,27,44,28],[45,25,45,26],[53,3,53,8],[54,3,54,8],[55,3,55,8],[56,3,56,8],[63,27,63,28],[64,27,64,28],[65,27,65,28],[57,3,57,8],[58,3,58,8],[58,25,58,26],[58,27,58,28],[59,25,59,26],[59,27,59,28],[66,27,66,28],[60,3,60,8],[61,3,61,8],[62,3,62,8],[62,25,62,26],[62,27,62,28],[60,25,60,26],[61,25,61,26],[61,27,61,28]]}
[{"$f":"sekolah!$E$20","v":9}]
[{"$f":"data!$J$5","v":" ( Sembilan ) "},null,"LEGER DAN DAFTAR RANGKING"]
[{"$f":"sekolah!$H$20","v":"C"},null,"PENILAIAN TENGAH SEMESTER ( PTS )"]
[{"$f":"IF($A$3=0,$A$2,$A$3)","v":"C"},null,{"$f":"UPPER(sekolah!$E$5)","v":"MTS NURUL HIDAYAH"}]
[{"$f":"IF(A3=0,A1,A1&\"  \"&A3)","v":"9  C"},null,{"$f":"\"Alamat : \"&sekolah!$E$10","v":"Alamat : Dusun Rominah Desa Rohayu Kedungdung Sampang"}]
[]
[null,null,"Kelas",null,null,":",{"$f":"$A$1&\"  \"&$A$4","v":"9  C"},null,null,null,null,null,null,null,null,null,null,null,null,null,null,"Semester",null,null,null,":",{"$f":"sekolah!$E$21","v":"Genap"}]
[null,null,"kompetensi",null,null,":","Pengetahuan",null,null,null,null,null,null,null,null,null,null,null,null,null,null,"Tahun pelajaran",null,null,null,":",{"$f":"sekolah!$E$22","v":"2017 / 2018"}]
[]
[null,null,"No","Nama",null,null,null,null,null,"Kode Muatan Pelajatan",null,null,null,null,null,null,null,null,null,null,null,null,null,null,null,"Jumlah",null,"Rerata",null,"Rangking"]
[null,null,null,null,null,null,null,null,null,"PAI",null,null,null,"Umum / Tematik dan BA",null,null,null,null,null,null,null,null,"Muatan lokal"]
[null,null,null,null,null,null,null,null,null,{"$f":"kur!$E6","v":"AH"},{"$f":"kur!$E7","v":"AA"},{"$f":"kur!$E8","v":"FK"},{"$f":"kur!$E10","v":"SKI"},{"$f":"kur!$E12","v":"PKN"},{"$f":"kur!$E13","v":"BIN"},{"$f":"kur!$E9","v":"BA"},{"$f":"kur!$E14","v":"MTK"},{"$f":"kur!$E15","v":"IPA"},{"$f":"kur!$E16","v":"IPS"},{"$f":"kur!$E17","v":"SB"},{"$f":"kur!$E18","v":"PJ"},{"$f":"kur!$E19","v":"BIG"},{"$f":"IF(kur!$E21=\"\",\"\",kur!$E21)","v":"BM"},{"$f":"IF(kur!$E22=\"\",\"\",kur!$E22)","v":""},{"$f":"IF(kur!$E23=\"\",\"\",kur!$E23)","v":""}]
[null,null,null,null,null,null,null,null,null,{"$f":"kur!$H6","v":45},{"$f":"kur!$H7","v":56},{"$f":"kur!$H8","v":76},{"$f":"kur!$H10","v":56},{"$f":"kur!$H12","v":74},{"$f":"kur!$H13","v":75},{"$f":"kur!$H9","v":72},{"$f":"kur!$H14","v":56},{"$f":"kur!$H15","v":77},{"$f":"kur!$H16","v":78},{"$f":"kur!$H17","v":79},{"$f":"kur!$H18","v":34},{"$f":"kur!$H19","v":81},{"$f":"IF(kur!$H21=\"\",\"\",kur!$H21)","v":76},{"$f":"IF(kur!$H22=\"\",\"\",kur!$H22)","v":""},{"$f":"IF(kur!$H23=\"\",\"\",kur!$H23)","v":""}]
[null,null,{"$f":"IF(Database!$A4=\"\",\"\",Database!$A4)","v":1},{"$f":"IF(Database!$D4=\"\",\"\",Database!$D4)","v":"jaya"},null,null,null,null,null,{"$f":"IF($AA$7=\"ganjil\",IF(nipts!H10=\"\",\"\",nipts!H10),IF(nipts!AD10=\"\",\"\",nipts!AD10))","v":88},{"$f":"IF($AA$7=\"ganjil\",IF(nipts!I10=\"\",\"\",nipts!I10),IF(nipts!AE10=\"\",\"\",nipts!AE10))","v":65},{"$f":"IF($AA$7=\"ganjil\",IF(nipts!J10=\"\",\"\",nipts!J10),IF(nipts!AF10=\"\",\"\",nipts!AF10))","v":78},{"$f":"IF($AA$7=\"ganjil\",IF(nipts!L10=\"\",\"\",nipts!L10),IF(nipts!AH10=\"\",\"\",nipts!AH10))","v":76},{"$f":"IF($AA$7=\"ganjil\",IF(nipts!M10=\"\",\"\",nipts!M10),IF(nipts!AI10=\"\",\"\",nipts!AI10))","v":74},{"$f":"IF($AA$7=\"ganjil\",IF(nipts!N10=\"\",\"\",nipts!N10),IF(nipts!AJ10=\"\",\"\",nipts!AJ10))","v":78},{"$f":"IF($AA$7=\"ganjil\",IF(nipts!K10=\"\",\"\",nipts!K10),IF(nipts!AG10=\"\",\"\",nipts!AG10))","v":67},{"$f":"IF($AA$7=\"ganjil\",IF(nipts!O10=\"\",\"\",nipts!O10),IF(nipts!AK10=\"\",\"\",nipts!AK10))","v":69},{"$f":"IF($AA$7=\"ganjil\",IF(nipts!P10=\"\",\"\",nipts!P10),IF(nipts!AL10=\"\",\"\",nipts!AL10))","v":56},{"$f":"IF($AA$7=\"ganjil\",IF(nipts!Q10=\"\",\"\",nipts!Q10),IF(nipts!AM10=\"\",\"\",nipts!AM10))","v":78},{"$f":"IF($AA$7=\"ganjil\",IF(nipts!R10=\"\",\"\",nipts!R10),IF(nipts!AN10=\"\",\"\",nipts!AN10))","v":56},{"$f":"IF($AA$7=\"ganjil\",IF(nipts!S10=\"\",\"\",nipts!S10),IF(nipts!AO10=\"\",\"\",nipts!AO10))","v":78},{"$f":"IF($AA$7=\"ganjil\",IF(nipts!T10=\"\",\"\",nipts!T10),IF(nipts!AP10=\"\",\"\",nipts!AP10))","v":65},{"$f":"IF($AA$7=\"ganjil\",IF(nipts!U10=\"\",\"\",nipts!U10),IF(nipts!AQ10=\"\",\"\",nipts!AQ10))","v":76},{"$f":"IF($AA$7=\"ganjil\",IF(nipts!V10=\"\",\"\",nipts!V10),IF(nipts!AR10=\"\",\"\",nipts!AR10))","v":""},{"$f":"IF($AA$7=\"ganjil\",IF(nipts!W10=\"\",\"\",nipts!W10),IF(nipts!AS10=\"\",\"\",nipts!AS10))","v":""},{"$f":"IF(AG14=0,\"\",AG14)","v":1004},null,{"$f":"IF(AH14=0,\"\",AH14)","v":71.714285714285708},null,{"$f":"AI14","v":2},null,null,{"$f":"SUM(J14:Y14)","v":1004},{"$f":"IF(AG14<10,\"\",AVERAGE(J14:Y14))","v":71.714285714285708},{"$f":"IF(AH14=\"\",\"\",RANK(AH14,$AH$14:$AH$63,0)+COUNTIF($AH$13:AH13,AH14))","v":2}]
[null,null,{"$f":"IF(Database!$A5=\"\",\"\",Database!$A5)","v":2},{"$f":"IF(Database!$D5=\"\",\"\",Database!$D5)","v":"IMG_CTV"},null,null,null,null,null,{"$f":"IF($AA$7=\"ganjil\",IF(nipts!H11=\"\",\"\",nipts!H11),IF(nipts!AD11=\"\",\"\",nipts!AD11))","v":67},{"$f":"IF($AA$7=\"ganjil\",IF(nipts!I11=\"\",\"\",nipts!I11),IF(nipts!AE11=\"\",\"\",nipts!AE11))","v":76},{"$f":"IF($AA$7=\"ganjil\",IF(nipts!J11=\"\",\"\",nipts!J11),IF(nipts!AF11=\"\",\"\",nipts!AF11))","v":74},{"$f":"IF($AA$7=\"ganjil\",IF(nipts!L11=\"\",\"\",nipts!L11),IF(nipts!AH11=\"\",\"\",nipts!AH11))","v":45},{"$f":"IF($AA$7=\"ganjil\",IF(nipts!M11=\"\",\"\",nipts!M11),IF(nipts!AI11=\"\",\"\",nipts!AI11))","v":67},{"$f":"IF($AA$7=\"ganjil\",IF(nipts!N11=\"\",\"\",nipts!N11),IF(nipts!AJ11=\"\",\"\",nipts!AJ11))","v":76},{"$f":"IF($AA$7=\"ganjil\",IF(nipts!K11=\"\",\"\",nipts!K11),IF(nipts!AG11=\"\",\"\",nipts!AG11))","v":78},{"$f":"IF($AA$7=\"ganjil\",IF(nipts!O11=\"\",\"\",nipts!O11),IF(nipts!AK11=\"\",\"\",nipts!AK11))","v":74},{"$f":"IF($AA$7=\"ganjil\",IF(nipts!P11=\"\",\"\",nipts!P11),IF(nipts!AL11=\"\",\"\",nipts!AL11))","v":78},{"$f":"IF($AA$7=\"ganjil\",IF(nipts!Q11=\"\",\"\",nipts!Q11),IF(nipts!AM11=\"\",\"\",nipts!AM11))","v":67},{"$f":"IF($AA$7=\"ganjil\",IF(nipts!R11=\"\",\"\",nipts!R11),IF(nipts!AN11=\"\",\"\",nipts!AN11))","v":76},{"$f":"IF($AA$7=\"ganjil\",IF(nipts!S11=\"\",\"\",nipts!S11),IF(nipts!AO11=\"\",\"\",nipts!AO11))","v":74},{"$f":"IF($AA$7=\"ganjil\",IF(nipts!T11=\"\",\"\",nipts!T11),IF(nipts!AP11=\"\",\"\",nipts!AP11))","v":78},{"$f":"IF($AA$7=\"ganjil\",IF(nipts!U11=\"\",\"\",nipts!U11),IF(nipts!AQ11=\"\",\"\",nipts!AQ11))","v":45},{"$f":"IF($AA$7=\"ganjil\",IF(nipts!V11=\"\",\"\",nipts!V11),IF(nipts!AR11=\"\",\"\",nipts!AR11))","v":""},{"$f":"IF($AA$7=\"ganjil\",IF(nipts!W11=\"\",\"\",nipts!W11),IF(nipts!AS11=\"\",\"\",nipts!AS11))","v":""},{"$f":"IF(AG15=0,\"\",AG15)","v":975},null,{"$f":"IF(AH15=0,\"\",AH15)","v":69.642857142857139},null,{"$f":"AI15","v":5},null,null,{"$f":"SUM(J15:Y15)","v":975},{"$f":"IF(AG15<10,\"\",AVERAGE(J15:Y15))","v":69.642857142857139},{"$f":"IF(AH15=\"\",\"\",RANK(AH15,$AH$14:$AH$63,0)+COUNTIF($AH$13:AH14,AH15))","v":5}]
[null,null,{"$f":"IF(Database!$A6=\"\",\"\",Database!$A6)","v":3},{"$f":"IF(Database!$D6=\"\",\"\",Database!$D6)","v":"sadi"},null,null,null,null,null,{"$f":"IF($AA$7=\"ganjil\",IF(nipts!H12=\"\",\"\",nipts!H12),IF(nipts!AD12=\"\",\"\",nipts!AD12))","v":67},{"$f":"IF($AA$7=\"ganjil\",IF(nipts!I12=\"\",\"\",nipts!I12),IF(nipts!AE12=\"\",\"\",nipts!AE12))","v":76},{"$f":"IF($AA$7=\"ganjil\",IF(nipts!J12=\"\",\"\",nipts!J12),IF(nipts!AF12=\"\",\"\",nipts!AF12))","v":74},{"$f":"IF($AA$7=\"ganjil\",IF(nipts!L12=\"\",\"\",nipts!L12),IF(nipts!AH12=\"\",\"\",nipts!AH12))","v":45},{"$f":"IF($AA$7=\"ganjil\",IF(nipts!M12=\"\",\"\",nipts!M12),IF(nipts!AI12=\"\",\"\",nipts!AI12))","v":67},{"$f":"IF($AA$7=\"ganjil\",IF(nipts!N12=\"\",\"\",nipts!N12),IF(nipts!AJ12=\"\",\"\",nipts!AJ12))","v":76},{"$f":"IF($AA$7=\"ganjil\",IF(nipts!K12=\"\",\"\",nipts!K12),IF(nipts!AG12=\"\",\"\",nipts!AG12))","v":78},{"$f":"IF($AA$7=\"ganjil\",IF(nipts!O12=\"\",\"\",nipts!O12),IF(nipts!AK12=\"\",\"\",nipts!AK12))","v":74},{"$f":"IF($AA$7=\"ganjil\",IF(nipts!P12=\"\",\"\",nipts!P12),IF(nipts!AL12=\"\",\"\",nipts!AL12))","v":78},{"$f":"IF($AA$7=\"ganjil\",IF(nipts!Q12=\"\",\"\",nipts!Q12),IF(nipts!AM12=\"\",\"\",nipts!AM12))","v":45},{"$f":"IF($AA$7=\"ganjil\",IF(nipts!R12=\"\",\"\",nipts!R12),IF(nipts!AN12=\"\",\"\",nipts!AN12))","v":45},{"$f":"IF($AA$7=\"ganjil\",IF(nipts!S12=\"\",\"\",nipts!S12),IF(nipts!AO12=\"\",\"\",nipts!AO12))","v":68},{"$f":"IF($AA$7=\"ganjil\",IF(nipts!T12=\"\",\"\",nipts!T12),IF(nipts!AP12=\"\",\"\",nipts!AP12))","v":89},{"$f":"IF($AA$7=\"ganjil\",IF(nipts!U12=\"\",\"\",nipts!U12),IF(nipts!AQ12=\"\",\"\",nipts!AQ12))","v":64},{"$f":"IF($AA$7=\"ganjil\",IF(nipts!V12=\"\",\"\",nipts!V12),IF(nipts!AR12=\"\",\"\",nipts!AR12))","v":""},{"$f":"IF($AA$7=\"ganjil\",IF(nipts!W12=\"\",\"\",nipts!W12),IF(nipts!AS12=\"\",\"\",nipts!AS12))","v":""},946,null,67.571428571428569,null,6,null,null,946,67.571428571428569,{"$f":"IF(AH16=\"\",\"\",RANK(AH16,$AH$14:$AH$63,0)+COUNTIF($AH$13:AH15,AH16))","v":6}]
[null,null,{"$f":"IF(Database!$A7=\"\",\"\",Database!$A7)","v":4},{"$f":"IF(Database!$D7=\"\",\"\",Database!$D7)","v":"INDAH"},null,null,null,null,null,{"$f":"IF($AA$7=\"ganjil\",IF(nipts!H13=\"\",\"\",nipts!H13),IF(nipts!AD13=\"\",\"\",nipts!AD13))","v":90},{"$f":"IF($AA$7=\"ganjil\",IF(nipts!I13=\"\",\"\",nipts!I13),IF(nipts!AE13=\"\",\"\",nipts!AE13))","v":67},{"$f":"IF($AA$7=\"ganjil\",IF(nipts!J13=\"\",\"\",nipts!J13),IF(nipts!AF13=\"\",\"\",nipts!AF13))","v":76},{"$f":"IF($AA$7=\"ganjil\",IF(nipts!L13=\"\",\"\",nipts!L13),IF(nipts!AH13=\"\",\"\",nipts!AH13))","v":78},{"$f":"IF($AA$7=\"ganjil\",IF(nipts!M13=\"\",\"\",nipts!M13),IF(nipts!AI13=\"\",\"\",nipts!AI13))","v":45},{"$f":"IF($AA$7=\"ganjil\",IF(nipts!N13=\"\",\"\",nipts!N13),IF(nipts!AJ13=\"\",\"\",nipts!AJ13))","v":67},{"$f":"IF($AA$7=\"ganjil\",IF(nipts!K13=\"\",\"\",nipts!K13),IF(nipts!AG13=\"\",\"\",nipts!AG13))","v":74},{"$f":"IF($AA$7=\"ganjil\",IF(nipts!O13=\"\",\"\",nipts!O13),IF(nipts!AK13=\"\",\"\",nipts!AK13))","v":95},{"$f":"IF($AA$7=\"ganjil\",IF(nipts!P13=\"\",\"\",nipts!P13),IF(nipts!AL13=\"\",\"\",nipts!AL13))","v":67},{"$f":"IF($AA$7=\"ganjil\",IF(nipts!Q13=\"\",\"\",nipts!Q13),IF(nipts!AM13=\"\",\"\",nipts!AM13))","v":76},{"$f":"IF($AA$7=\"ganjil\",IF(nipts!R13=\"\",\"\",nipts!R13),IF(nipts!AN13=\"\",\"\",nipts!AN13))","v":74},{"$f":"IF($AA$7=\"ganjil\",IF(nipts!S13=\"\",\"\",nipts!S13),IF(nipts!AO13=\"\",\"\",nipts!AO13))","v":78},{"$f":"IF($AA$7=\"ganjil\",IF(nipts!T13=\"\",\"\",nipts!T13),IF(nipts!AP13=\"\",\"\",nipts!AP13))","v":45},{"$f":"IF($AA$7=\"ganjil\",IF(nipts!U13=\"\",\"\",nipts!U13),IF(nipts!AQ13=\"\",\"\",nipts!AQ13))","v":98},{"$f":"IF($AA$7=\"ganjil\",IF(nipts!V13=\"\",\"\",nipts!V13),IF(nipts!AR13=\"\",\"\",nipts!AR13))","v":""},{"$f":"IF($AA$7=\"ganjil\",IF(nipts!W13=\"\",\"\",nipts!W13),IF(nipts!AS13=\"\",\"\",nipts!AS13))","v":""},1030,null,73.571428571428569,null,1,null,null,1030,73.571428571428569,{"$f":"IF(AH17=\"\",\"\",RANK(AH17,$AH$14:$AH$63,0)+COUNTIF($AH$13:AH16,AH17))","v":1}]
[null,null,{"$f":"IF(Database!$A8=\"\",\"\",Database!$A8)","v":5},{"$f":"IF(Database!$D8=\"\",\"\",Database!$D8)","v":"riski"},null,null,null,null,null,{"$f":"IF($AA$7=\"ganjil\",IF(nipts!H14=\"\",\"\",nipts!H14),IF(nipts!AD14=\"\",\"\",nipts!AD14))","v":76},{"$f":"IF($AA$7=\"ganjil\",IF(nipts!I14=\"\",\"\",nipts!I14),IF(nipts!AE14=\"\",\"\",nipts!AE14))","v":89},{"$f":"IF($AA$7=\"ganjil\",IF(nipts!J14=\"\",\"\",nipts!J14),IF(nipts!AF14=\"\",\"\",nipts!AF14))","v":87},{"$f":"IF($AA$7=\"ganjil\",IF(nipts!L14=\"\",\"\",nipts!L14),IF(nipts!AH14=\"\",\"\",nipts!AH14))","v":76},{"$f":"IF($AA$7=\"ganjil\",IF(nipts!M14=\"\",\"\",nipts!M14),IF(nipts!AI14=\"\",\"\",nipts!AI14))","v":74},{"$f":"IF($AA$7=\"ganjil\",IF(nipts!N14=\"\",\"\",nipts!N14),IF(nipts!AJ14=\"\",\"\",nipts!AJ14))","v":78},{"$f":"IF($AA$7=\"ganjil\",IF(nipts!K14=\"\",\"\",nipts!K14),IF(nipts!AG14=\"\",\"\",nipts!AG14))","v":67},{"$f":"IF($AA$7=\"ganjil\",IF(nipts!O14=\"\",\"\",nipts!O14),IF(nipts!AK14=\"\",\"\",nipts!AK14))","v":45},72,{"$f":"IF($AA$7=\"ganjil\",IF(nipts!Q14=\"\",\"\",nipts!Q14),IF(nipts!AM14=\"\",\"\",nipts!AM14))","v":67},{"$f":"IF($AA$7=\"ganjil\",IF(nipts!R14=\"\",\"\",nipts!R14),IF(nipts!AN14=\"\",\"\",nipts!AN14))","v":76},{"$f":"IF($AA$7=\"ganjil\",IF(nipts!S14=\"\",\"\",nipts!S14),IF(nipts!AO14=\"\",\"\",nipts!AO14))","v":74},{"$f":"IF($AA$7=\"ganjil\",IF(nipts!T14=\"\",\"\",nipts!T14),IF(nipts!AP14=\"\",\"\",nipts!AP14))","v":78},{"$f":"IF($AA$7=\"ganjil\",IF(nipts!U14=\"\",\"\",nipts!U14),IF(nipts!AQ14=\"\",\"\",nipts!AQ14))","v":45},{"$f":"IF($AA$7=\"ganjil\",IF(nipts!V14=\"\",\"\",nipts!V14),IF(nipts!AR14=\"\",\"\",nipts!AR14))","v":""},{"$f":"IF($AA$7=\"ganjil\",IF(nipts!W14=\"\",\"\",nipts!W14),IF(nipts!AS14=\"\",\"\",nipts!AS14))","v":""},1004,null,71.714285714285708,null,3,null,null,1004,71.714285714285708,{"$f":"IF(AH18=\"\",\"\",RANK(AH18,$AH$14:$AH$63,0)+COUNTIF($AH$13:AH17,AH18))","v":3}]
[null,null,{"$f":"IF(Database!$A9=\"\",\"\",Database!$A9)","v":6},{"$f":"IF(Database!$D9=\"\",\"\",Database!$D9)","v":"risal"},null,null,null,null,null,{"$f":"IF($AA$7=\"ganjil\",IF(nipts!H15=\"\",\"\",nipts!H15),IF(nipts!AD15=\"\",\"\",nipts!AD15))","v":67},{"$f":"IF($AA$7=\"ganjil\",IF(nipts!I15=\"\",\"\",nipts!I15),IF(nipts!AE15=\"\",\"\",nipts!AE15))","v":76},{"$f":"IF($AA$7=\"ganjil\",IF(nipts!J15=\"\",\"\",nipts!J15),IF(nipts!AF15=\"\",\"\",nipts!AF15))","v":74},{"$f":"IF($AA$7=\"ganjil\",IF(nipts!L15=\"\",\"\",nipts!L15),IF(nipts!AH15=\"\",\"\",nipts!AH15))","v":67},{"$f":"IF($AA$7=\"ganjil\",IF(nipts!M15=\"\",\"\",nipts!M15),IF(nipts!AI15=\"\",\"\",nipts!AI15))","v":76},{"$f":"IF($AA$7=\"ganjil\",IF(nipts!N15=\"\",\"\",nipts!N15),IF(nipts!AJ15=\"\",\"\",nipts!AJ15))","v":74},{"$f":"IF($AA$7=\"ganjil\",IF(nipts!K15=\"\",\"\",nipts!K15),IF(nipts!AG15=\"\",\"\",nipts!AG15))","v":78},{"$f":"IF($AA$7=\"ganjil\",IF(nipts!O15=\"\",\"\",nipts!O15),IF(nipts!AK15=\"\",\"\",nipts!AK15))","v":78},{"$f":"IF($AA$7=\"ganjil\",IF(nipts!P15=\"\",\"\",nipts!P15),IF(nipts!AL15=\"\",\"\",nipts!AL15))","v":45},{"$f":"IF($AA$7=\"ganjil\",IF(nipts!Q15=\"\",\"\",nipts!Q15),IF(nipts!AM15=\"\",\"\",nipts!AM15))","v":76},{"$f":"IF($AA$7=\"ganjil\",IF(nipts!R15=\"\",\"\",nipts!R15),IF(nipts!AN15=\"\",\"\",nipts!AN15))","v":74},{"$f":"IF($AA$7=\"ganjil\",IF(nipts!S15=\"\",\"\",nipts!S15),IF(nipts!AO15=\"\",\"\",nipts!AO15))","v":78},{"$f":"IF($AA$7=\"ganjil\",IF(nipts!T15=\"\",\"\",nipts!T15),IF(nipts!AP15=\"\",\"\",nipts!AP15))","v":45},{"$f":"IF($AA$7=\"ganjil\",IF(nipts!U15=\"\",\"\",nipts!U15),IF(nipts!AQ15=\"\",\"\",nipts!AQ15))","v":84},{"$f":"IF($AA$7=\"ganjil\",IF(nipts!V15=\"\",\"\",nipts!V15),IF(nipts!AR15=\"\",\"\",nipts!AR15))","v":""},{"$f":"IF($AA$7=\"ganjil\",IF(nipts!W15=\"\",\"\",nipts!W15),IF(nipts!AS15=\"\",\"\",nipts!AS15))","v":""},992,null,70.857142857142861,null,4,null,null,992,70.857142857142861,{"$f":"IF(AH19=\"\",\"\",RANK(AH19,$AH$14:$AH$63,0)+COUNTIF($AH$13:AH18,AH19))","v":4}]
[null,null,{"$f":"IF(Database!$A10=\"\",\"\",Database!$A10)","v":7},{"$f":"IF(Database!$D10=\"\",\"\",Database!$D10)","v":"saya"},null,null,null,null,null,{"$f":"IF($AA$7=\"ganjil\",IF(nipts!H16=\"\",\"\",nipts!H16),IF(nipts!AD16=\"\",\"\",nipts!AD16))","v":""},{"$f":"IF($AA$7=\"ganjil\",IF(nipts!I16=\"\",\"\",nipts!I16),IF(nipts!AE16=\"\",\"\",nipts!AE16))","v":""},{"$f":"IF($AA$7=\"ganjil\",IF(nipts!J16=\"\",\"\",nipts!J16),IF(nipts!AF16=\"\",\"\",nipts!AF16))","v":""},{"$f":"IF($AA$7=\"ganjil\",IF(nipts!L16=\"\",\"\",nipts!L16),IF(nipts!AH16=\"\",\"\",nipts!AH16))","v":""},{"$f":"IF($AA$7=\"ganjil\",IF(nipts!M16=\"\",\"\",nipts!M16),IF(nipts!AI16=\"\",\"\",nipts!AI16))","v":""},{"$f":"IF($AA$7=\"ganjil\",IF(nipts!N16=\"\",\"\",nipts!N16),IF(nipts!AJ16=\"\",\"\",nipts!AJ16))","v":""},{"$f":"IF($AA$7=\"ganjil\",IF(nipts!K16=\"\",\"\",nipts!K16),IF(nipts!AG16=\"\",\"\",nipts!AG16))","v":""},{"$f":"IF($AA$7=\"ganjil\",IF(nipts!O16=\"\",\"\",nipts!O16),IF(nipts!AK16=\"\",\"\",nipts!AK16))","v":""},{"$f":"IF($AA$7=\"ganjil\",IF(nipts!P16=\"\",\"\",nipts!P16),IF(nipts!AL16=\"\",\"\",nipts!AL16))","v":""},{"$f":"IF($AA$7=\"ganjil\",IF(nipts!Q16=\"\",\"\",nipts!Q16),IF(nipts!AM16=\"\",\"\",nipts!AM16))","v":""},{"$f":"IF($AA$7=\"ganjil\",IF(nipts!R16=\"\",\"\",nipts!R16),IF(nipts!AN16=\"\",\"\",nipts!AN16))","v":""},{"$f":"IF($AA$7=\"ganjil\",IF(nipts!S16=\"\",\"\",nipts!S16),IF(nipts!AO16=\"\",\"\",nipts!AO16))","v":""},{"$f":"IF($AA$7=\"ganjil\",IF(nipts!T16=\"\",\"\",nipts!T16),IF(nipts!AP16=\"\",\"\",nipts!AP16))","v":""},{"$f":"IF($AA$7=\"ganjil\",IF(nipts!U16=\"\",\"\",nipts!U16),IF(nipts!AQ16=\"\",\"\",nipts!AQ16))","v":""},{"$f":"IF($AA$7=\"ganjil\",IF(nipts!V16=\"\",\"\",nipts!V16),IF(nipts!AR16=\"\",\"\",nipts!AR16))","v":""},{"$f":"IF($AA$7=\"ganjil\",IF(nipts!W16=\"\",\"\",nipts!W16),IF(nipts!AS16=\"\",\"\",nipts!AS16))","v":""},"",null,"",null,"",null,null,0,"",{"$f":"IF(AH20=\"\",\"\",RANK(AH20,$AH$14:$AH$63,0)+COUNTIF($AH$13:AH19,AH20))","v":""}]
[null,null,{"$f":"IF(Database!$A11=\"\",\"\",Database!$A11)","v":8},{"$f":"IF(Database!$D11=\"\",\"\",Database!$D11)","v":"dia"},null,null,null,null,null,{"$f":"IF($AA$7=\"ganjil\",IF(nipts!H17=\"\",\"\",nipts!H17),IF(nipts!AD17=\"\",\"\",nipts!AD17))","v":""},{"$f":"IF($AA$7=\"ganjil\",IF(nipts!I17=\"\",\"\",nipts!I17),IF(nipts!AE17=\"\",\"\",nipts!AE17))","v":""},{"$f":"IF($AA$7=\"ganjil\",IF(nipts!J17=\"\",\"\",nipts!J17),IF(nipts!AF17=\"\",\"\",nipts!AF17))","v":""},{"$f":"IF($AA$7=\"ganjil\",IF(nipts!L17=\"\",\"\",nipts!L17),IF(nipts!AH17=\"\",\"\",nipts!AH17))","v":""},{"$f":"IF($AA$7=\"ganjil\",IF(nipts!M17=\"\",\"\",nipts!M17),IF(nipts!AI17=\"\",\"\",nipts!AI17))","v":""},{"$f":"IF($AA$7=\"ganjil\",IF(nipts!N17=\"\",\"\",nipts!N17),IF(nipts!AJ17=\"\",\"\",nipts!AJ17))","v":""},{"$f":"IF($AA$7=\"ganjil\",IF(nipts!K17=\"\",\"\",nipts!K17),IF(nipts!AG17=\"\",\"\",nipts!AG17))","v":""},{"$f":"IF($AA$7=\"ganjil\",IF(nipts!O17=\"\",\"\",nipts!O17),IF(nipts!AK17=\"\",\"\",nipts!AK17))","v":""},{"$f":"IF($AA$7=\"ganjil\",IF(nipts!P17=\"\",\"\",nipts!P17),IF(nipts!AL17=\"\",\"\",nipts!AL17))","v":""},{"$f":"IF($AA$7=\"ganjil\",IF(nipts!Q17=\"\",\"\",nipts!Q17),IF(nipts!AM17=\"\",\"\",nipts!AM17))","v":""},{"$f":"IF($AA$7=\"ganjil\",IF(nipts!R17=\"\",\"\",nipts!R17),IF(nipts!AN17=\"\",\"\",nipts!AN17))","v":""},{"$f":"IF($AA$7=\"ganjil\",IF(nipts!S17=\"\",\"\",nipts!S17),IF(nipts!AO17=\"\",\"\",nipts!AO17))","v":""},{"$f":"IF($AA$7=\"ganjil\",IF(nipts!T17=\"\",\"\",nipts!T17),IF(nipts!AP17=\"\",\"\",nipts!AP17))","v":""},{"$f":"IF($AA$7=\"ganjil\",IF(nipts!U17=\"\",\"\",nipts!U17),IF(nipts!AQ17=\"\",\"\",nipts!AQ17))","v":""},{"$f":"IF($AA$7=\"ganjil\",IF(nipts!V17=\"\",\"\",nipts!V17),IF(nipts!AR17=\"\",\"\",nipts!AR17))","v":""},{"$f":"IF($AA$7=\"ganjil\",IF(nipts!W17=\"\",\"\",nipts!W17),IF(nipts!AS17=\"\",\"\",nipts!AS17))","v":""},"",null,"",null,"",null,null,0,"",{"$f":"IF(AH21=\"\",\"\",RANK(AH21,$AH$14:$AH$63,0)+COUNTIF($AH$13:AH20,AH21))","v":""}]
[null,null,{"$f":"IF(Database!$A12=\"\",\"\",Database!$A12)","v":""},{"$f":"IF(Database!$D12=\"\",\"\",Database!$D12)","v":""},null,null,null,null,null,{"$f":"IF($AA$7=\"ganjil\",IF(nipts!H18=\"\",\"\",nipts!H18),IF(nipts!AD18=\"\",\"\",nipts!AD18))","v":""},{"$f":"IF($AA$7=\"ganjil\",IF(nipts!I18=\"\",\"\",nipts!I18),IF(nipts!AE18=\"\",\"\",nipts!AE18))","v":""},{"$f":"IF($AA$7=\"ganjil\",IF(nipts!J18=\"\",\"\",nipts!J18),IF(nipts!AF18=\"\",\"\",nipts!AF18))","v":""},{"$f":"IF($AA$7=\"ganjil\",IF(nipts!L18=\"\",\"\",nipts!L18),IF(nipts!AH18=\"\",\"\",nipts!AH18))","v":""},{"$f":"IF($AA$7=\"ganjil\",IF(nipts!M18=\"\",\"\",nipts!M18),IF(nipts!AI18=\"\",\"\",nipts!AI18))","v":""},{"$f":"IF($AA$7=\"ganjil\",IF(nipts!N18=\"\",\"\",nipts!N18),IF(nipts!AJ18=\"\",\"\",nipts!AJ18))","v":""},{"$f":"IF($AA$7=\"ganjil\",IF(nipts!K18=\"\",\"\",nipts!K18),IF(nipts!AG18=\"\",\"\",nipts!AG18))","v":""},{"$f":"IF($AA$7=\"ganjil\",IF(nipts!O18=\"\",\"\",nipts!O18),IF(nipts!AK18=\"\",\"\",nipts!AK18))","v":""},{"$f":"IF($AA$7=\"ganjil\",IF(nipts!P18=\"\",\"\",nipts!P18),IF(nipts!AL18=\"\",\"\",nipts!AL18))","v":""},{"$f":"IF($AA$7=\"ganjil\",IF(nipts!Q18=\"\",\"\",nipts!Q18),IF(nipts!AM18=\"\",\"\",nipts!AM18))","v":""},{"$f":"IF($AA$7=\"ganjil\",IF(nipts!R18=\"\",\"\",nipts!R18),IF(nipts!AN18=\"\",\"\",nipts!AN18))","v":""},{"$f":"IF($AA$7=\"ganjil\",IF(nipts!S18=\"\",\"\",nipts!S18),IF(nipts!AO18=\"\",\"\",nipts!AO18))","v":""},{"$f":"IF($AA$7=\"ganjil\",IF(nipts!T18=\"\",\"\",nipts!T18),IF(nipts!AP18=\"\",\"\",nipts!AP18))","v":""},{"$f":"IF($AA$7=\"ganjil\",IF(nipts!U18=\"\",\"\",nipts!U18),IF(nipts!AQ18=\"\",\"\",nipts!AQ18))","v":""},{"$f":"IF($AA$7=\"ganjil\",IF(nipts!V18=\"\",\"\",nipts!V18),IF(nipts!AR18=\"\",\"\",nipts!AR18))","v":""},{"$f":"IF($AA$7=\"ganjil\",IF(nipts!W18=\"\",\"\",nipts!W18),IF(nipts!AS18=\"\",\"\",nipts!AS18))","v":""},"",null,"",null,"",null,null,0,"",{"$f":"IF(AH22=\"\",\"\",RANK(AH22,$AH$14:$AH$63,0)+COUNTIF($AH$13:AH21,AH22))","v":""}]
[null,null,{"$f":"IF(Database!$A13=\"\",\"\",Database!$A13)","v":""},{"$f":"IF(Database!$D13=\"\",\"\",Database!$D13)","v":""},null,null,null,null,null,{"$f":"IF($AA$7=\"ganjil\",IF(nipts!H19=\"\",\"\",nipts!H19),IF(nipts!AD19=\"\",\"\",nipts!AD19))","v":""},{"$f":"IF($AA$7=\"ganjil\",IF(nipts!I19=\"\",\"\",nipts!I19),IF(nipts!AE19=\"\",\"\",nipts!AE19))","v":""},{"$f":"IF($AA$7=\"ganjil\",IF(nipts!J19=\"\",\"\",nipts!J19),IF(nipts!AF19=\"\",\"\",nipts!AF19))","v":""},{"$f":"IF($AA$7=\"ganjil\",IF(nipts!L19=\"\",\"\",nipts!L19),IF(nipts!AH19=\"\",\"\",nipts!AH19))","v":""},{"$f":"IF($AA$7=\"ganjil\",IF(nipts!M19=\"\",\"\",nipts!M19),IF(nipts!AI19=\"\",\"\",nipts!AI19))","v":""},{"$f":"IF($AA$7=\"ganjil\",IF(nipts!N19=\"\",\"\",nipts!N19),IF(nipts!AJ19=\"\",\"\",nipts!AJ19))","v":""},{"$f":"IF($AA$7=\"ganjil\",IF(nipts!K19=\"\",\"\",nipts!K19),IF(nipts!AG19=\"\",\"\",nipts!AG19))","v":""},{"$f":"IF($AA$7=\"ganjil\",IF(nipts!O19=\"\",\"\",nipts!O19),IF(nipts!AK19=\"\",\"\",nipts!AK19))","v":""},{"$f":"IF($AA$7=\"ganjil\",IF(nipts!P19=\"\",\"\",nipts!P19),IF(nipts!AL19=\"\",\"\",nipts!AL19))","v":""},{"$f":"IF($AA$7=\"ganjil\",IF(nipts!Q19=\"\",\"\",nipts!Q19),IF(nipts!AM19=\"\",\"\",nipts!AM19))","v":""},{"$f":"IF($AA$7=\"ganjil\",IF(nipts!R19=\"\",\"\",nipts!R19),IF(nipts!AN19=\"\",\"\",nipts!AN19))","v":""},{"$f":"IF($AA$7=\"ganjil\",IF(nipts!S19=\"\",\"\",nipts!S19),IF(nipts!AO19=\"\",\"\",nipts!AO19))","v":""},{"$f":"IF($AA$7=\"ganjil\",IF(nipts!T19=\"\",\"\",nipts!T19),IF(nipts!AP19=\"\",\"\",nipts!AP19))","v":""},{"$f":"IF($AA$7=\"ganjil\",IF(nipts!U19=\"\",\"\",nipts!U19),IF(nipts!AQ19=\"\",\"\",nipts!AQ19))","v":""},{"$f":"IF($AA$7=\"ganjil\",IF(nipts!V19=\"\",\"\",nipts!V19),IF(nipts!AR19=\"\",\"\",nipts!AR19))","v":""},{"$f":"IF($AA$7=\"ganjil\",IF(nipts!W19=\"\",\"\",nipts!W19),IF(nipts!AS19=\"\",\"\",nipts!AS19))","v":""},"",null,"",null,"",null,null,0,"",{"$f":"IF(AH23=\"\",\"\",RANK(AH23,$AH$14:$AH$63,0)+COUNTIF($AH$13:AH22,AH23))","v":""}]
[null,null,{"$f":"IF(Database!$A14=\"\",\"\",Database!$A14)","v":""},{"$f":"IF(Database!$D14=\"\",\"\",Database!$D14)","v":""},null,null,null,null,null,{"$f":"IF($AA$7=\"ganjil\",IF(nipts!H20=\"\",\"\",nipts!H20),IF(nipts!AD20=\"\",\"\",nipts!AD20))","v":""},{"$f":"IF($AA$7=\"ganjil\",IF(nipts!I20=\"\",\"\",nipts!I20),IF(nipts!AE20=\"\",\"\",nipts!AE20))","v":""},{"$f":"IF($AA$7=\"ganjil\",IF(nipts!J20=\"\",\"\",nipts!J20),IF(nipts!AF20=\"\",\"\",nipts!AF20))","v":""},{"$f":"IF($AA$7=\"ganjil\",IF(nipts!L20=\"\",\"\",nipts!L20),IF(nipts!AH20=\"\",\"\",nipts!AH20))","v":""},{"$f":"IF($AA$7=\"ganjil\",IF(nipts!M20=\"\",\"\",nipts!M20),IF(nipts!AI20=\"\",\"\",nipts!AI20))","v":""},{"$f":"IF($AA$7=\"ganjil\",IF(nipts!N20=\"\",\"\",nipts!N20),IF(nipts!AJ20=\"\",\"\",nipts!AJ20))","v":""},{"$f":"IF($AA$7=\"ganjil\",IF(nipts!K20=\"\",\"\",nipts!K20),IF(nipts!AG20=\"\",\"\",nipts!AG20))","v":""},{"$f":"IF($AA$7=\"ganjil\",IF(nipts!O20=\"\",\"\",nipts!O20),IF(nipts!AK20=\"\",\"\",nipts!AK20))","v":""},{"$f":"IF($AA$7=\"ganjil\",IF(nipts!P20=\"\",\"\",nipts!P20),IF(nipts!AL20=\"\",\"\",nipts!AL20))","v":""},{"$f":"IF($AA$7=\"ganjil\",IF(nipts!Q20=\"\",\"\",nipts!Q20),IF(nipts!AM20=\"\",\"\",nipts!AM20))","v":""},{"$f":"IF($AA$7=\"ganjil\",IF(nipts!R20=\"\",\"\",nipts!R20),IF(nipts!AN20=\"\",\"\",nipts!AN20))","v":""},{"$f":"IF($AA$7=\"ganjil\",IF(nipts!S20=\"\",\"\",nipts!S20),IF(nipts!AO20=\"\",\"\",nipts!AO20))","v":""},{"$f":"IF($AA$7=\"ganjil\",IF(nipts!T20=\"\",\"\",nipts!T20),IF(nipts!AP20=\"\",\"\",nipts!AP20))","v":""},{"$f":"IF($AA$7=\"ganjil\",IF(nipts!U20=\"\",\"\",nipts!U20),IF(nipts!AQ20=\"\",\"\",nipts!AQ20))","v":""},{"$f":"IF($AA$7=\"ganjil\",IF(nipts!V20=\"\",\"\",nipts!V20),IF(nipts!AR20=\"\",\"\",nipts!AR20))","v":""},{"$f":"IF($AA$7=\"ganjil\",IF(nipts!W20=\"\",\"\",nipts!W20),IF(nipts!AS20=\"\",\"\",nipts!AS20))","v":""},"",null,"",null,"",null,null,0,"",{"$f":"IF(AH24=\"\",\"\",RANK(AH24,$AH$14:$AH$63,0)+COUNTIF($AH$13:AH23,AH24))","v":""}]
[null,null,{"$f":"IF(Database!$A15=\"\",\"\",Database!$A15)","v":""},{"$f":"IF(Database!$D15=\"\",\"\",Database!$D15)","v":""},null,null,null,null,null,{"$f":"IF($AA$7=\"ganjil\",IF(nipts!H21=\"\",\"\",nipts!H21),IF(nipts!AD21=\"\",\"\",nipts!AD21))","v":""},{"$f":"IF($AA$7=\"ganjil\",IF(nipts!I21=\"\",\"\",nipts!I21),IF(nipts!AE21=\"\",\"\",nipts!AE21))","v":""},{"$f":"IF($AA$7=\"ganjil\",IF(nipts!J21=\"\",\"\",nipts!J21),IF(nipts!AF21=\"\",\"\",nipts!AF21))","v":""},{"$f":"IF($AA$7=\"ganjil\",IF(nipts!L21=\"\",\"\",nipts!L21),IF(nipts!AH21=\"\",\"\",nipts!AH21))","v":""},{"$f":"IF($AA$7=\"ganjil\",IF(nipts!M21=\"\",\"\",nipts!M21),IF(nipts!AI21=\"\",\"\",nipts!AI21))","v":""},{"$f":"IF($AA$7=\"ganjil\",IF(nipts!N21=\"\",\"\",nipts!N21),IF(nipts!AJ21=\"\",\"\",nipts!AJ21))","v":""},{"$f":"IF($AA$7=\"ganjil\",IF(nipts!K21=\"\",\"\",nipts!K21),IF(nipts!AG21=\"\",\"\",nipts!AG21))","v":""},{"$f":"IF($AA$7=\"ganjil\",IF(nipts!O21=\"\",\"\",nipts!O21),IF(nipts!AK21=\"\",\"\",nipts!AK21))","v":""},{"$f":"IF($AA$7=\"ganjil\",IF(nipts!P21=\"\",\"\",nipts!P21),IF(nipts!AL21=\"\",\"\",nipts!AL21))","v":""},{"$f":"IF($AA$7=\"ganjil\",IF(nipts!Q21=\"\",\"\",nipts!Q21),IF(nipts!AM21=\"\",\"\",nipts!AM21))","v":""},{"$f":"IF($AA$7=\"ganjil\",IF(nipts!R21=\"\",\"\",nipts!R21),IF(nipts!AN21=\"\",\"\",nipts!AN21))","v":""},{"$f":"IF($AA$7=\"ganjil\",IF(nipts!S21=\"\",\"\",nipts!S21),IF(nipts!AO21=\"\",\"\",nipts!AO21))","v":""},{"$f":"IF($AA$7=\"ganjil\",IF(nipts!T21=\"\",\"\",nipts!T21),IF(nipts!AP21=\"\",\"\",nipts!AP21))","v":""},{"$f":"IF($AA$7=\"ganjil\",IF(nipts!U21=\"\",\"\",nipts!U21),IF(nipts!AQ21=\"\",\"\",nipts!AQ21))","v":""},{"$f":"IF($AA$7=\"ganjil\",IF(nipts!V21=\"\",\"\",nipts!V21),IF(nipts!AR21=\"\",\"\",nipts!AR21))","v":""},{"$f":"IF($AA$7=\"ganjil\",IF(nipts!W21=\"\",\"\",nipts!W21),IF(nipts!AS21=\"\",\"\",nipts!AS21))","v":""},{"$f":"IF(AG25=0,\"\",AG25)","v":""},null,{"$f":"IF(AH25=0,\"\",AH25)","v":""},null,"",null,null,0,"",{"$f":"IF(AH25=\"\",\"\",RANK(AH25,$AH$14:$AH$63,0)+COUNTIF($AH$13:AH24,AH25))","v":""}]
[null,null,{"$f":"IF(Database!$A16=\"\",\"\",Database!$A16)","v":""},{"$f":"IF(Database!$D16=\"\",\"\",Database!$D16)","v":""},null,null,null,null,null,{"$f":"IF($AA$7=\"ganjil\",IF(nipts!H22=\"\",\"\",nipts!H22),IF(nipts!AD22=\"\",\"\",nipts!AD22))","v":""},{"$f":"IF($AA$7=\"ganjil\",IF(nipts!I22=\"\",\"\",nipts!I22),IF(nipts!AE22=\"\",\"\",nipts!AE22))","v":""},{"$f":"IF($AA$7=\"ganjil\",IF(nipts!J22=\"\",\"\",nipts!J22),IF(nipts!AF22=\"\",\"\",nipts!AF22))","v":""},{"$f":"IF($AA$7=\"ganjil\",IF(nipts!L22=\"\",\"\",nipts!L22),IF(nipts!AH22=\"\",\"\",nipts!AH22))","v":""},{"$f":"IF($AA$7=\"ganjil\",IF(nipts!M22=\"\",\"\",nipts!M22),IF(nipts!AI22=\"\",\"\",nipts!AI22))","v":""},{"$f":"IF($AA$7=\"ganjil\",IF(nipts!N22=\"\",\"\",nipts!N22),IF(nipts!AJ22=\"\",\"\",nipts!AJ22))","v":""},{"$f":"IF($AA$7=\"ganjil\",IF(nipts!K22=\"\",\"\",nipts!K22),IF(nipts!AG22=\"\",\"\",nipts!AG22))","v":""},{"$f":"IF($AA$7=\"ganjil\",IF(nipts!O22=\"\",\"\",nipts!O22),IF(nipts!AK22=\"\",\"\",nipts!AK22))","v":""},{"$f":"IF($AA$7=\"ganjil\",IF(nipts!P22=\"\",\"\",nipts!P22),IF(nipts!AL22=\"\",\"\",nipts!AL22))","v":""},{"$f":"IF($AA$7=\"ganjil\",IF(nipts!Q22=\"\",\"\",nipts!Q22),IF(nipts!AM22=\"\",\"\",nipts!AM22))","v":""},{"$f":"IF($AA$7=\"ganjil\",IF(nipts!R22=\"\",\"\",nipts!R22),IF(nipts!AN22=\"\",\"\",nipts!AN22))","v":""},{"$f":"IF($AA$7=\"ganjil\",IF(nipts!S22=\"\",\"\",nipts!S22),IF(nipts!AO22=\"\",\"\",nipts!AO22))","v":""},{"$f":"IF($AA$7=\"ganjil\",IF(nipts!T22=\"\",\"\",nipts!T22),IF(nipts!AP22=\"\",\"\",nipts!AP22))","v":""},{"$f":"IF($AA$7=\"ganjil\",IF(nipts!U22=\"\",\"\",nipts!U22),IF(nipts!AQ22=\"\",\"\",nipts!AQ22))","v":""},{"$f":"IF($AA$7=\"ganjil\",IF(nipts!V22=\"\",\"\",nipts!V22),IF(nipts!AR22=\"\",\"\",nipts!AR22))","v":""},{"$f":"IF($AA$7=\"ganjil\",IF(nipts!W22=\"\",\"\",nipts!W22),IF(nipts!AS22=\"\",\"\",nipts!AS22))","v":""},"",null,"",null,"",null,null,{"$f":"SUM(J26:Y26)","v":0},{"$f":"IF(AG26<10,\"\",AVERAGE(J26:Y26))","v":""},{"$f":"IF(AH26=\"\",\"\",RANK(AH26,$AH$14:$AH$63,0)+COUNTIF($AH$13:AH25,AH26))","v":""}]
[null,null,{"$f":"IF(Database!$A17=\"\",\"\",Database!$A17)","v":""},{"$f":"IF(Database!$D17=\"\",\"\",Database!$D17)","v":""},null,null,null,null,null,{"$f":"IF($AA$7=\"ganjil\",IF(nipts!H23=\"\",\"\",nipts!H23),IF(nipts!AD23=\"\",\"\",nipts!AD23))","v":""},{"$f":"IF($AA$7=\"ganjil\",IF(nipts!I23=\"\",\"\",nipts!I23),IF(nipts!AE23=\"\",\"\",nipts!AE23))","v":""},{"$f":"IF($AA$7=\"ganjil\",IF(nipts!J23=\"\",\"\",nipts!J23),IF(nipts!AF23=\"\",\"\",nipts!AF23))","v":""},{"$f":"IF($AA$7=\"ganjil\",IF(nipts!L23=\"\",\"\",nipts!L23),IF(nipts!AH23=\"\",\"\",nipts!AH23))","v":""},{"$f":"IF($AA$7=\"ganjil\",IF(nipts!M23=\"\",\"\",nipts!M23),IF(nipts!AI23=\"\",\"\",nipts!AI23))","v":""},{"$f":"IF($AA$7=\"ganjil\",IF(nipts!N23=\"\",\"\",nipts!N23),IF(nipts!AJ23=\"\",\"\",nipts!AJ23))","v":""},{"$f":"IF($AA$7=\"ganjil\",IF(nipts!K23=\"\",\"\",nipts!K23),IF(nipts!AG23=\"\",\"\",nipts!AG23))","v":""},{"$f":"IF($AA$7=\"ganjil\",IF(nipts!O23=\"\",\"\",nipts!O23),IF(nipts!AK23=\"\",\"\",nipts!AK23))","v":""},{"$f":"IF($AA$7=\"ganjil\",IF(nipts!P23=\"\",\"\",nipts!P23),IF(nipts!AL23=\"\",\"\",nipts!AL23))","v":""},{"$f":"IF($AA$7=\"ganjil\",IF(nipts!Q23=\"\",\"\",nipts!Q23),IF(nipts!AM23=\"\",\"\",nipts!AM23))","v":""},{"$f":"IF($AA$7=\"ganjil\",IF(nipts!R23=\"\",\"\",nipts!R23),IF(nipts!AN23=\"\",\"\",nipts!AN23))","v":""},{"$f":"IF($AA$7=\"ganjil\",IF(nipts!S23=\"\",\"\",nipts!S23),IF(nipts!AO23=\"\",\"\",nipts!AO23))","v":""},{"$f":"IF($AA$7=\"ganjil\",IF(nipts!T23=\"\",\"\",nipts!T23),IF(nipts!AP23=\"\",\"\",nipts!AP23))","v":""},{"$f":"IF($AA$7=\"ganjil\",IF(nipts!U23=\"\",\"\",nipts!U23),IF(nipts!AQ23=\"\",\"\",nipts!AQ23))","v":""},{"$f":"IF($AA$7=\"ganjil\",IF(nipts!V23=\"\",\"\",nipts!V23),IF(nipts!AR23=\"\",\"\",nipts!AR23))","v":""},{"$f":"IF($AA$7=\"ganjil\",IF(nipts!W23=\"\",\"\",nipts!W23),IF(nipts!AS23=\"\",\"\",nipts!AS23))","v":""},"",null,"",null,"",null,null,0,"",{"$f":"IF(AH27=\"\",\"\",RANK(AH27,$AH$14:$AH$63,0)+COUNTIF($AH$13:AH26,AH27))","v":""}]
[null,null,{"$f":"IF(Database!$A18=\"\",\"\",Database!$A18)","v":""},{"$f":"IF(Database!$D18=\"\",\"\",Database!$D18)","v":""},null,null,null,null,null,{"$f":"IF($AA$7=\"ganjil\",IF(nipts!H24=\"\",\"\",nipts!H24),IF(nipts!AD24=\"\",\"\",nipts!AD24))","v":""},{"$f":"IF($AA$7=\"ganjil\",IF(nipts!I24=\"\",\"\",nipts!I24),IF(nipts!AE24=\"\",\"\",nipts!AE24))","v":""},{"$f":"IF($AA$7=\"ganjil\",IF(nipts!J24=\"\",\"\",nipts!J24),IF(nipts!AF24=\"\",\"\",nipts!AF24))","v":""},{"$f":"IF($AA$7=\"ganjil\",IF(nipts!L24=\"\",\"\",nipts!L24),IF(nipts!AH24=\"\",\"\",nipts!AH24))","v":""},{"$f":"IF($AA$7=\"ganjil\",IF(nipts!M24=\"\",\"\",nipts!M24),IF(nipts!AI24=\"\",\"\",nipts!AI24))","v":""},{"$f":"IF($AA$7=\"ganjil\",IF(nipts!N24=\"\",\"\",nipts!N24),IF(nipts!AJ24=\"\",\"\",nipts!AJ24))","v":""},{"$f":"IF($AA$7=\"ganjil\",IF(nipts!K24=\"\",\"\",nipts!K24),IF(nipts!AG24=\"\",\"\",nipts!AG24))","v":""},{"$f":"IF($AA$7=\"ganjil\",IF(nipts!O24=\"\",\"\",nipts!O24),IF(nipts!AK24=\"\",\"\",nipts!AK24))","v":""},{"$f":"IF($AA$7=\"ganjil\",IF(nipts!P24=\"\",\"\",nipts!P24),IF(nipts!AL24=\"\",\"\",nipts!AL24))","v":""},{"$f":"IF($AA$7=\"ganjil\",IF(nipts!Q24=\"\",\"\",nipts!Q24),IF(nipts!AM24=\"\",\"\",nipts!AM24))","v":""},{"$f":"IF($AA$7=\"ganjil\",IF(nipts!R24=\"\",\"\",nipts!R24),IF(nipts!AN24=\"\",\"\",nipts!AN24))","v":""},{"$f":"IF($AA$7=\"ganjil\",IF(nipts!S24=\"\",\"\",nipts!S24),IF(nipts!AO24=\"\",\"\",nipts!AO24))","v":""},{"$f":"IF($AA$7=\"ganjil\",IF(nipts!T24=\"\",\"\",nipts!T24),IF(nipts!AP24=\"\",\"\",nipts!AP24))","v":""},{"$f":"IF($AA$7=\"ganjil\",IF(nipts!U24=\"\",\"\",nipts!U24),IF(nipts!AQ24=\"\",\"\",nipts!AQ24))","v":""},{"$f":"IF($AA$7=\"ganjil\",IF(nipts!V24=\"\",\"\",nipts!V24),IF(nipts!AR24=\"\",\"\",nipts!AR24))","v":""},{"$f":"IF($AA$7=\"ganjil\",IF(nipts!W24=\"\",\"\",nipts!W24),IF(nipts!AS24=\"\",\"\",nipts!AS24))","v":""},"",null,"",null,"",null,null,0,"",{"$f":"IF(AH28=\"\",\"\",RANK(AH28,$AH$14:$AH$63,0)+COUNTIF($AH$13:AH27,AH28))","v":""}]
[null,null,{"$f":"IF(Database!$A19=\"\",\"\",Database!$A19)","v":""},{"$f":"IF(Database!$D19=\"\",\"\",Database!$D19)","v":""},null,null,null,null,null,{"$f":"IF($AA$7=\"ganjil\",IF(nipts!H25=\"\",\"\",nipts!H25),IF(nipts!AD25=\"\",\"\",nipts!AD25))","v":""},{"$f":"IF($AA$7=\"ganjil\",IF(nipts!I25=\"\",\"\",nipts!I25),IF(nipts!AE25=\"\",\"\",nipts!AE25))","v":""},{"$f":"IF($AA$7=\"ganjil\",IF(nipts!J25=\"\",\"\",nipts!J25),IF(nipts!AF25=\"\",\"\",nipts!AF25))","v":""},{"$f":"IF($AA$7=\"ganjil\",IF(nipts!L25=\"\",\"\",nipts!L25),IF(nipts!AH25=\"\",\"\",nipts!AH25))","v":""},{"$f":"IF($AA$7=\"ganjil\",IF(nipts!M25=\"\",\"\",nipts!M25),IF(nipts!AI25=\"\",\"\",nipts!AI25))","v":""},{"$f":"IF($AA$7=\"ganjil\",IF(nipts!N25=\"\",\"\",nipts!N25),IF(nipts!AJ25=\"\",\"\",nipts!AJ25))","v":""},{"$f":"IF($AA$7=\"ganjil\",IF(nipts!K25=\"\",\"\",nipts!K25),IF(nipts!AG25=\"\",\"\",nipts!AG25))","v":""},{"$f":"IF($AA$7=\"ganjil\",IF(nipts!O25=\"\",\"\",nipts!O25),IF(nipts!AK25=\"\",\"\",nipts!AK25))","v":""},{"$f":"IF($AA$7=\"ganjil\",IF(nipts!P25=\"\",\"\",nipts!P25),IF(nipts!AL25=\"\",\"\",nipts!AL25))","v":""},{"$f":"IF($AA$7=\"ganjil\",IF(nipts!Q25=\"\",\"\",nipts!Q25),IF(nipts!AM25=\"\",\"\",nipts!AM25))","v":""},{"$f":"IF($AA$7=\"ganjil\",IF(nipts!R25=\"\",\"\",nipts!R25),IF(nipts!AN25=\"\",\"\",nipts!AN25))","v":""},{"$f":"IF($AA$7=\"ganjil\",IF(nipts!S25=\"\",\"\",nipts!S25),IF(nipts!AO25=\"\",\"\",nipts!AO25))","v":""},{"$f":"IF($AA$7=\"ganjil\",IF(nipts!T25=\"\",\"\",nipts!T25),IF(nipts!AP25=\"\",\"\",nipts!AP25))","v":""},{"$f":"IF($AA$7=\"ganjil\",IF(nipts!U25=\"\",\"\",nipts!U25),IF(nipts!AQ25=\"\",\"\",nipts!AQ25))","v":""},{"$f":"IF($AA$7=\"ganjil\",IF(nipts!V25=\"\",\"\",nipts!V25),IF(nipts!AR25=\"\",\"\",nipts!AR25))","v":""},{"$f":"IF($AA$7=\"ganjil\",IF(nipts!W25=\"\",\"\",nipts!W25),IF(nipts!AS25=\"\",\"\",nipts!AS25))","v":""},"",null,"",null,"",null,null,0,"",{"$f":"IF(AH29=\"\",\"\",RANK(AH29,$AH$14:$AH$63,0)+COUNTIF($AH$13:AH28,AH29))","v":""}]
[null,null,{"$f":"IF(Database!$A20=\"\",\"\",Database!$A20)","v":""},{"$f":"IF(Database!$D20=\"\",\"\",Database!$D20)","v":""},null,null,null,null,null,{"$f":"IF($AA$7=\"ganjil\",IF(nipts!H26=\"\",\"\",nipts!H26),IF(nipts!AD26=\"\",\"\",nipts!AD26))","v":""},{"$f":"IF($AA$7=\"ganjil\",IF(nipts!I26=\"\",\"\",nipts!I26),IF(nipts!AE26=\"\",\"\",nipts!AE26))","v":""},{"$f":"IF($AA$7=\"ganjil\",IF(nipts!J26=\"\",\"\",nipts!J26),IF(nipts!AF26=\"\",\"\",nipts!AF26))","v":""},{"$f":"IF($AA$7=\"ganjil\",IF(nipts!L26=\"\",\"\",nipts!L26),IF(nipts!AH26=\"\",\"\",nipts!AH26))","v":""},{"$f":"IF($AA$7=\"ganjil\",IF(nipts!M26=\"\",\"\",nipts!M26),IF(nipts!AI26=\"\",\"\",nipts!AI26))","v":""},{"$f":"IF($AA$7=\"ganjil\",IF(nipts!N26=\"\",\"\",nipts!N26),IF(nipts!AJ26=\"\",\"\",nipts!AJ26))","v":""},{"$f":"IF($AA$7=\"ganjil\",IF(nipts!K26=\"\",\"\",nipts!K26),IF(nipts!AG26=\"\",\"\",nipts!AG26))","v":""},{"$f":"IF($AA$7=\"ganjil\",IF(nipts!O26=\"\",\"\",nipts!O26),IF(nipts!AK26=\"\",\"\",nipts!AK26))","v":""},{"$f":"IF($AA$7=\"ganjil\",IF(nipts!P26=\"\",\"\",nipts!P26),IF(nipts!AL26=\"\",\"\",nipts!AL26))","v":""},{"$f":"IF($AA$7=\"ganjil\",IF(nipts!Q26=\"\",\"\",nipts!Q26),IF(nipts!AM26=\"\",\"\",nipts!AM26))","v":""},{"$f":"IF($AA$7=\"ganjil\",IF(nipts!R26=\"\",\"\",nipts!R26),IF(nipts!AN26=\"\",\"\",nipts!AN26))","v":""},{"$f":"IF($AA$7=\"ganjil\",IF(nipts!S26=\"\",\"\",nipts!S26),IF(nipts!AO26=\"\",\"\",nipts!AO26))","v":""},{"$f":"IF($AA$7=\"ganjil\",IF(nipts!T26=\"\",\"\",nipts!T26),IF(nipts!AP26=\"\",\"\",nipts!AP26))","v":""},{"$f":"IF($AA$7=\"ganjil\",IF(nipts!U26=\"\",\"\",nipts!U26),IF(nipts!AQ26=\"\",\"\",nipts!AQ26))","v":""},{"$f":"IF($AA$7=\"ganjil\",IF(nipts!V26=\"\",\"\",nipts!V26),IF(nipts!AR26=\"\",\"\",nipts!AR26))","v":""},{"$f":"IF($AA$7=\"ganjil\",IF(nipts!W26=\"\",\"\",nipts!W26),IF(nipts!AS26=\"\",\"\",nipts!AS26))","v":""},"",null,"",null,"",null,null,0,"",{"$f":"IF(AH30=\"\",\"\",RANK(AH30,$AH$14:$AH$63,0)+COUNTIF($AH$13:AH29,AH30))","v":""}]
[null,null,{"$f":"IF(Database!$A21=\"\",\"\",Database!$A21)","v":""},{"$f":"IF(Database!$D21=\"\",\"\",Database!$D21)","v":""},null,null,null,null,null,{"$f":"IF($AA$7=\"ganjil\",IF(nipts!H27=\"\",\"\",nipts!H27),IF(nipts!AD27=\"\",\"\",nipts!AD27))","v":""},{"$f":"IF($AA$7=\"ganjil\",IF(nipts!I27=\"\",\"\",nipts!I27),IF(nipts!AE27=\"\",\"\",nipts!AE27))","v":""},{"$f":"IF($AA$7=\"ganjil\",IF(nipts!J27=\"\",\"\",nipts!J27),IF(nipts!AF27=\"\",\"\",nipts!AF27))","v":""},{"$f":"IF($AA$7=\"ganjil\",IF(nipts!L27=\"\",\"\",nipts!L27),IF(nipts!AH27=\"\",\"\",nipts!AH27))","v":""},{"$f":"IF($AA$7=\"ganjil\",IF(nipts!M27=\"\",\"\",nipts!M27),IF(nipts!AI27=\"\",\"\",nipts!AI27))","v":""},{"$f":"IF($AA$7=\"ganjil\",IF(nipts!N27=\"\",\"\",nipts!N27),IF(nipts!AJ27=\"\",\"\",nipts!AJ27))","v":""},{"$f":"IF($AA$7=\"ganjil\",IF(nipts!K27=\"\",\"\",nipts!K27),IF(nipts!AG27=\"\",\"\",nipts!AG27))","v":""},{"$f":"IF($AA$7=\"ganjil\",IF(nipts!O27=\"\",\"\",nipts!O27),IF(nipts!AK27=\"\",\"\",nipts!AK27))","v":""},{"$f":"IF($AA$7=\"ganjil\",IF(nipts!P27=\"\",\"\",nipts!P27),IF(nipts!AL27=\"\",\"\",nipts!AL27))","v":""},{"$f":"IF($AA$7=\"ganjil\",IF(nipts!Q27=\"\",\"\",nipts!Q27),IF(nipts!AM27=\"\",\"\",nipts!AM27))","v":""},{"$f":"IF($AA$7=\"ganjil\",IF(nipts!R27=\"\",\"\",nipts!R27),IF(nipts!AN27=\"\",\"\",nipts!AN27))","v":""},{"$f":"IF($AA$7=\"ganjil\",IF(nipts!S27=\"\",\"\",nipts!S27),IF(nipts!AO27=\"\",\"\",nipts!AO27))","v":""},{"$f":"IF($AA$7=\"ganjil\",IF(nipts!T27=\"\",\"\",nipts!T27),IF(nipts!AP27=\"\",\"\",nipts!AP27))","v":""},{"$f":"IF($AA$7=\"ganjil\",IF(nipts!U27=\"\",\"\",nipts!U27),IF(nipts!AQ27=\"\",\"\",nipts!AQ27))","v":""},{"$f":"IF($AA$7=\"ganjil\",IF(nipts!V27=\"\",\"\",nipts!V27),IF(nipts!AR27=\"\",\"\",nipts!AR27))","v":""},{"$f":"IF($AA$7=\"ganjil\",IF(nipts!W27=\"\",\"\",nipts!W27),IF(nipts!AS27=\"\",\"\",nipts!AS27))","v":""},"",null,"",null,"",null,null,0,"",{"$f":"IF(AH31=\"\",\"\",RANK(AH31,$AH$14:$AH$63,0)+COUNTIF($AH$13:AH30,AH31))","v":""}]
[null,null,{"$f":"IF(Database!$A22=\"\",\"\",Database!$A22)","v":""},{"$f":"IF(Database!$D22=\"\",\"\",Database!$D22)","v":""},null,null,null,null,null,{"$f":"IF($AA$7=\"ganjil\",IF(nipts!H28=\"\",\"\",nipts!H28),IF(nipts!AD28=\"\",\"\",nipts!AD28))","v":""},{"$f":"IF($AA$7=\"ganjil\",IF(nipts!I28=\"\",\"\",nipts!I28),IF(nipts!AE28=\"\",\"\",nipts!AE28))","v":""},{"$f":"IF($AA$7=\"ganjil\",IF(nipts!J28=\"\",\"\",nipts!J28),IF(nipts!AF28=\"\",\"\",nipts!AF28))","v":""},{"$f":"IF($AA$7=\"ganjil\",IF(nipts!L28=\"\",\"\",nipts!L28),IF(nipts!AH28=\"\",\"\",nipts!AH28))","v":""},{"$f":"IF($AA$7=\"ganjil\",IF(nipts!M28=\"\",\"\",nipts!M28),IF(nipts!AI28=\"\",\"\",nipts!AI28))","v":""},{"$f":"IF($AA$7=\"ganjil\",IF(nipts!N28=\"\",\"\",nipts!N28),IF(nipts!AJ28=\"\",\"\",nipts!AJ28))","v":""},{"$f":"IF($AA$7=\"ganjil\",IF(nipts!K28=\"\",\"\",nipts!K28),IF(nipts!AG28=\"\",\"\",nipts!AG28))","v":""},{"$f":"IF($AA$7=\"ganjil\",IF(nipts!O28=\"\",\"\",nipts!O28),IF(nipts!AK28=\"\",\"\",nipts!AK28))","v":""},{"$f":"IF($AA$7=\"ganjil\",IF(nipts!P28=\"\",\"\",nipts!P28),IF(nipts!AL28=\"\",\"\",nipts!AL28))","v":""},{"$f":"IF($AA$7=\"ganjil\",IF(nipts!Q28=\"\",\"\",nipts!Q28),IF(nipts!AM28=\"\",\"\",nipts!AM28))","v":""},{"$f":"IF($AA$7=\"ganjil\",IF(nipts!R28=\"\",\"\",nipts!R28),IF(nipts!AN28=\"\",\"\",nipts!AN28))","v":""},{"$f":"IF($AA$7=\"ganjil\",IF(nipts!S28=\"\",\"\",nipts!S28),IF(nipts!AO28=\"\",\"\",nipts!AO28))","v":""},{"$f":"IF($AA$7=\"ganjil\",IF(nipts!T28=\"\",\"\",nipts!T28),IF(nipts!AP28=\"\",\"\",nipts!AP28))","v":""},{"$f":"IF($AA$7=\"ganjil\",IF(nipts!U28=\"\",\"\",nipts!U28),IF(nipts!AQ28=\"\",\"\",nipts!AQ28))","v":""},{"$f":"IF($AA$7=\"ganjil\",IF(nipts!V28=\"\",\"\",nipts!V28),IF(nipts!AR28=\"\",\"\",nipts!AR28))","v":""},{"$f":"IF($AA$7=\"ganjil\",IF(nipts!W28=\"\",\"\",nipts!W28),IF(nipts!AS28=\"\",\"\",nipts!AS28))","v":""},"",null,"",null,"",null,null,0,"",{"$f":"IF(AH32=\"\",\"\",RANK(AH32,$AH$14:$AH$63,0)+COUNTIF($AH$13:AH31,AH32))","v":""}]
[null,null,{"$f":"IF(Database!$A23=\"\",\"\",Database!$A23)","v":""},{"$f":"IF(Database!$D23=\"\",\"\",Database!$D23)","v":""},null,null,null,null,null,{"$f":"IF($AA$7=\"ganjil\",IF(nipts!H29=\"\",\"\",nipts!H29),IF(nipts!AD29=\"\",\"\",nipts!AD29))","v":""},{"$f":"IF($AA$7=\"ganjil\",IF(nipts!I29=\"\",\"\",nipts!I29),IF(nipts!AE29=\"\",\"\",nipts!AE29))","v":""},{"$f":"IF($AA$7=\"ganjil\",IF(nipts!J29=\"\",\"\",nipts!J29),IF(nipts!AF29=\"\",\"\",nipts!AF29))","v":""},{"$f":"IF($AA$7=\"ganjil\",IF(nipts!L29=\"\",\"\",nipts!L29),IF(nipts!AH29=\"\",\"\",nipts!AH29))","v":""},{"$f":"IF($AA$7=\"ganjil\",IF(nipts!M29=\"\",\"\",nipts!M29),IF(nipts!AI29=\"\",\"\",nipts!AI29))","v":""},{"$f":"IF($AA$7=\"ganjil\",IF(nipts!N29=\"\",\"\",nipts!N29),IF(nipts!AJ29=\"\",\"\",nipts!AJ29))","v":""},{"$f":"IF($AA$7=\"ganjil\",IF(nipts!K29=\"\",\"\",nipts!K29),IF(nipts!AG29=\"\",\"\",nipts!AG29))","v":""},{"$f":"IF($AA$7=\"ganjil\",IF(nipts!O29=\"\",\"\",nipts!O29),IF(nipts!AK29=\"\",\"\",nipts!AK29))","v":""},{"$f":"IF($AA$7=\"ganjil\",IF(nipts!P29=\"\",\"\",nipts!P29),IF(nipts!AL29=\"\",\"\",nipts!AL29))","v":""},{"$f":"IF($AA$7=\"ganjil\",IF(nipts!Q29=\"\",\"\",nipts!Q29),IF(nipts!AM29=\"\",\"\",nipts!AM29))","v":""},{"$f":"IF($AA$7=\"ganjil\",IF(nipts!R29=\"\",\"\",nipts!R29),IF(nipts!AN29=\"\",\"\",nipts!AN29))","v":""},{"$f":"IF($AA$7=\"ganjil\",IF(nipts!S29=\"\",\"\",nipts!S29),IF(nipts!AO29=\"\",\"\",nipts!AO29))","v":""},{"$f":"IF($AA$7=\"ganjil\",IF(nipts!T29=\"\",\"\",nipts!T29),IF(nipts!AP29=\"\",\"\",nipts!AP29))","v":""},{"$f":"IF($AA$7=\"ganjil\",IF(nipts!U29=\"\",\"\",nipts!U29),IF(nipts!AQ29=\"\",\"\",nipts!AQ29))","v":""},{"$f":"IF($AA$7=\"ganjil\",IF(nipts!V29=\"\",\"\",nipts!V29),IF(nipts!AR29=\"\",\"\",nipts!AR29))","v":""},{"$f":"IF($AA$7=\"ganjil\",IF(nipts!W29=\"\",\"\",nipts!W29),IF(nipts!AS29=\"\",\"\",nipts!AS29))","v":""},"",null,"",null,"",null,null,0,"",{"$f":"IF(AH33=\"\",\"\",RANK(AH33,$AH$14:$AH$63,0)+COUNTIF($AH$13:AH32,AH33))","v":""}]
[null,null,{"$f":"IF(Database!$A24=\"\",\"\",Database!$A24)","v":""},{"$f":"IF(Database!$D24=\"\",\"\",Database!$D24)","v":""},null,null,null,null,null,{"$f":"IF($AA$7=\"ganjil\",IF(nipts!H30=\"\",\"\",nipts!H30),IF(nipts!AD30=\"\",\"\",nipts!AD30))","v":""},{"$f":"IF($AA$7=\"ganjil\",IF(nipts!I30=\"\",\"\",nipts!I30),IF(nipts!AE30=\"\",\"\",nipts!AE30))","v":""},{"$f":"IF($AA$7=\"ganjil\",IF(nipts!J30=\"\",\"\",nipts!J30),IF(nipts!AF30=\"\",\"\",nipts!AF30))","v":""},{"$f":"IF($AA$7=\"ganjil\",IF(nipts!L30=\"\",\"\",nipts!L30),IF(nipts!AH30=\"\",\"\",nipts!AH30))","v":""},{"$f":"IF($AA$7=\"ganjil\",IF(nipts!M30=\"\",\"\",nipts!M30),IF(nipts!AI30=\"\",\"\",nipts!AI30))","v":""},{"$f":"IF($AA$7=\"ganjil\",IF(nipts!N30=\"\",\"\",nipts!N30),IF(nipts!AJ30=\"\",\"\",nipts!AJ30))","v":""},{"$f":"IF($AA$7=\"ganjil\",IF(nipts!K30=\"\",\"\",nipts!K30),IF(nipts!AG30=\"\",\"\",nipts!AG30))","v":""},{"$f":"IF($AA$7=\"ganjil\",IF(nipts!O30=\"\",\"\",nipts!O30),IF(nipts!AK30=\"\",\"\",nipts!AK30))","v":""},{"$f":"IF($AA$7=\"ganjil\",IF(nipts!P30=\"\",\"\",nipts!P30),IF(nipts!AL30=\"\",\"\",nipts!AL30))","v":""},{"$f":"IF($AA$7=\"ganjil\",IF(nipts!Q30=\"\",\"\",nipts!Q30),IF(nipts!AM30=\"\",\"\",nipts!AM30))","v":""},{"$f":"IF($AA$7=\"ganjil\",IF(nipts!R30=\"\",\"\",nipts!R30),IF(nipts!AN30=\"\",\"\",nipts!AN30))","v":""},{"$f":"IF($AA$7=\"ganjil\",IF(nipts!S30=\"\",\"\",nipts!S30),IF(nipts!AO30=\"\",\"\",nipts!AO30))","v":""},{"$f":"IF($AA$7=\"ganjil\",IF(nipts!T30=\"\",\"\",nipts!T30),IF(nipts!AP30=\"\",\"\",nipts!AP30))","v":""},{"$f":"IF($AA$7=\"ganjil\",IF(nipts!U30=\"\",\"\",nipts!U30),IF(nipts!AQ30=\"\",\"\",nipts!AQ30))","v":""},{"$f":"IF($AA$7=\"ganjil\",IF(nipts!V30=\"\",\"\",nipts!V30),IF(nipts!AR30=\"\",\"\",nipts!AR30))","v":""},{"$f":"IF($AA$7=\"ganjil\",IF(nipts!W30=\"\",\"\",nipts!W30),IF(nipts!AS30=\"\",\"\",nipts!AS30))","v":""},"",null,"",null,"",null,null,0,"",{"$f":"IF(AH34=\"\",\"\",RANK(AH34,$AH$14:$AH$63,0)+COUNTIF($AH$13:AH33,AH34))","v":""}]
[null,null,{"$f":"IF(Database!$A25=\"\",\"\",Database!$A25)","v":""},{"$f":"IF(Database!$D25=\"\",\"\",Database!$D25)","v":""},null,null,null,null,null,{"$f":"IF($AA$7=\"ganjil\",IF(nipts!H31=\"\",\"\",nipts!H31),IF(nipts!AD31=\"\",\"\",nipts!AD31))","v":""},{"$f":"IF($AA$7=\"ganjil\",IF(nipts!I31=\"\",\"\",nipts!I31),IF(nipts!AE31=\"\",\"\",nipts!AE31))","v":""},{"$f":"IF($AA$7=\"ganjil\",IF(nipts!J31=\"\",\"\",nipts!J31),IF(nipts!AF31=\"\",\"\",nipts!AF31))","v":""},{"$f":"IF($AA$7=\"ganjil\",IF(nipts!L31=\"\",\"\",nipts!L31),IF(nipts!AH31=\"\",\"\",nipts!AH31))","v":""},{"$f":"IF($AA$7=\"ganjil\",IF(nipts!M31=\"\",\"\",nipts!M31),IF(nipts!AI31=\"\",\"\",nipts!AI31))","v":""},{"$f":"IF($AA$7=\"ganjil\",IF(nipts!N31=\"\",\"\",nipts!N31),IF(nipts!AJ31=\"\",\"\",nipts!AJ31))","v":""},{"$f":"IF($AA$7=\"ganjil\",IF(nipts!K31=\"\",\"\",nipts!K31),IF(nipts!AG31=\"\",\"\",nipts!AG31))","v":""},{"$f":"IF($AA$7=\"ganjil\",IF(nipts!O31=\"\",\"\",nipts!O31),IF(nipts!AK31=\"\",\"\",nipts!AK31))","v":""},{"$f":"IF($AA$7=\"ganjil\",IF(nipts!P31=\"\",\"\",nipts!P31),IF(nipts!AL31=\"\",\"\",nipts!AL31))","v":""},{"$f":"IF($AA$7=\"ganjil\",IF(nipts!Q31=\"\",\"\",nipts!Q31),IF(nipts!AM31=\"\",\"\",nipts!AM31))","v":""},{"$f":"IF($AA$7=\"ganjil\",IF(nipts!R31=\"\",\"\",nipts!R31),IF(nipts!AN31=\"\",\"\",nipts!AN31))","v":""},{"$f":"IF($AA$7=\"ganjil\",IF(nipts!S31=\"\",\"\",nipts!S31),IF(nipts!AO31=\"\",\"\",nipts!AO31))","v":""},{"$f":"IF($AA$7=\"ganjil\",IF(nipts!T31=\"\",\"\",nipts!T31),IF(nipts!AP31=\"\",\"\",nipts!AP31))","v":""},{"$f":"IF($AA$7=\"ganjil\",IF(nipts!U31=\"\",\"\",nipts!U31),IF(nipts!AQ31=\"\",\"\",nipts!AQ31))","v":""},{"$f":"IF($AA$7=\"ganjil\",IF(nipts!V31=\"\",\"\",nipts!V31),IF(nipts!AR31=\"\",\"\",nipts!AR31))","v":""},{"$f":"IF($AA$7=\"ganjil\",IF(nipts!W31=\"\",\"\",nipts!W31),IF(nipts!AS31=\"\",\"\",nipts!AS31))","v":""},"",null,"",null,"",null,null,0,"",{"$f":"IF(AH35=\"\",\"\",RANK(AH35,$AH$14:$AH$63,0)+COUNTIF($AH$13:AH34,AH35))","v":""}]
[null,null,{"$f":"IF(Database!$A26=\"\",\"\",Database!$A26)","v":""},{"$f":"IF(Database!$D26=\"\",\"\",Database!$D26)","v":""},null,null,null,null,null,{"$f":"IF($AA$7=\"ganjil\",IF(nipts!H32=\"\",\"\",nipts!H32),IF(nipts!AD32=\"\",\"\",nipts!AD32))","v":""},{"$f":"IF($AA$7=\"ganjil\",IF(nipts!I32=\"\",\"\",nipts!I32),IF(nipts!AE32=\"\",\"\",nipts!AE32))","v":""},{"$f":"IF($AA$7=\"ganjil\",IF(nipts!J32=\"\",\"\",nipts!J32),IF(nipts!AF32=\"\",\"\",nipts!AF32))","v":""},{"$f":"IF($AA$7=\"ganjil\",IF(nipts!L32=\"\",\"\",nipts!L32),IF(nipts!AH32=\"\",\"\",nipts!AH32))","v":""},{"$f":"IF($AA$7=\"ganjil\",IF(nipts!M32=\"\",\"\",nipts!M32),IF(nipts!AI32=\"\",\"\",nipts!AI32))","v":""},{"$f":"IF($AA$7=\"ganjil\",IF(nipts!N32=\"\",\"\",nipts!N32),IF(nipts!AJ32=\"\",\"\",nipts!AJ32))","v":""},{"$f":"IF($AA$7=\"ganjil\",IF(nipts!K32=\"\",\"\",nipts!K32),IF(nipts!AG32=\"\",\"\",nipts!AG32))","v":""},{"$f":"IF($AA$7=\"ganjil\",IF(nipts!O32=\"\",\"\",nipts!O32),IF(nipts!AK32=\"\",\"\",nipts!AK32))","v":""},{"$f":"IF($AA$7=\"ganjil\",IF(nipts!P32=\"\",\"\",nipts!P32),IF(nipts!AL32=\"\",\"\",nipts!AL32))","v":""},{"$f":"IF($AA$7=\"ganjil\",IF(nipts!Q32=\"\",\"\",nipts!Q32),IF(nipts!AM32=\"\",\"\",nipts!AM32))","v":""},{"$f":"IF($AA$7=\"ganjil\",IF(nipts!R32=\"\",\"\",nipts!R32),IF(nipts!AN32=\"\",\"\",nipts!AN32))","v":""},{"$f":"IF($AA$7=\"ganjil\",IF(nipts!S32=\"\",\"\",nipts!S32),IF(nipts!AO32=\"\",\"\",nipts!AO32))","v":""},{"$f":"IF($AA$7=\"ganjil\",IF(nipts!T32=\"\",\"\",nipts!T32),IF(nipts!AP32=\"\",\"\",nipts!AP32))","v":""},{"$f":"IF($AA$7=\"ganjil\",IF(nipts!U32=\"\",\"\",nipts!U32),IF(nipts!AQ32=\"\",\"\",nipts!AQ32))","v":""},{"$f":"IF($AA$7=\"ganjil\",IF(nipts!V32=\"\",\"\",nipts!V32),IF(nipts!AR32=\"\",\"\",nipts!AR32))","v":""},{"$f":"IF($AA$7=\"ganjil\",IF(nipts!W32=\"\",\"\",nipts!W32),IF(nipts!AS32=\"\",\"\",nipts!AS32))","v":""},"",null,"",null,"",null,null,0,"",{"$f":"IF(AH36=\"\",\"\",RANK(AH36,$AH$14:$AH$63,0)+COUNTIF($AH$13:AH35,AH36))","v":""}]
[null,null,{"$f":"IF(Database!$A27=\"\",\"\",Database!$A27)","v":""},{"$f":"IF(Database!$D27=\"\",\"\",Database!$D27)","v":""},null,null,null,null,null,{"$f":"IF($AA$7=\"ganjil\",IF(nipts!H33=\"\",\"\",nipts!H33),IF(nipts!AD33=\"\",\"\",nipts!AD33))","v":""},{"$f":"IF($AA$7=\"ganjil\",IF(nipts!I33=\"\",\"\",nipts!I33),IF(nipts!AE33=\"\",\"\",nipts!AE33))","v":""},{"$f":"IF($AA$7=\"ganjil\",IF(nipts!J33=\"\",\"\",nipts!J33),IF(nipts!AF33=\"\",\"\",nipts!AF33))","v":""},{"$f":"IF($AA$7=\"ganjil\",IF(nipts!L33=\"\",\"\",nipts!L33),IF(nipts!AH33=\"\",\"\",nipts!AH33))","v":""},{"$f":"IF($AA$7=\"ganjil\",IF(nipts!M33=\"\",\"\",nipts!M33),IF(nipts!AI33=\"\",\"\",nipts!AI33))","v":""},{"$f":"IF($AA$7=\"ganjil\",IF(nipts!N33=\"\",\"\",nipts!N33),IF(nipts!AJ33=\"\",\"\",nipts!AJ33))","v":""},{"$f":"IF($AA$7=\"ganjil\",IF(nipts!K33=\"\",\"\",nipts!K33),IF(nipts!AG33=\"\",\"\",nipts!AG33))","v":""},{"$f":"IF($AA$7=\"ganjil\",IF(nipts!O33=\"\",\"\",nipts!O33),IF(nipts!AK33=\"\",\"\",nipts!AK33))","v":""},{"$f":"IF($AA$7=\"ganjil\",IF(nipts!P33=\"\",\"\",nipts!P33),IF(nipts!AL33=\"\",\"\",nipts!AL33))","v":""},{"$f":"IF($AA$7=\"ganjil\",IF(nipts!Q33=\"\",\"\",nipts!Q33),IF(nipts!AM33=\"\",\"\",nipts!AM33))","v":""},{"$f":"IF($AA$7=\"ganjil\",IF(nipts!R33=\"\",\"\",nipts!R33),IF(nipts!AN33=\"\",\"\",nipts!AN33))","v":""},{"$f":"IF($AA$7=\"ganjil\",IF(nipts!S33=\"\",\"\",nipts!S33),IF(nipts!AO33=\"\",\"\",nipts!AO33))","v":""},{"$f":"IF($AA$7=\"ganjil\",IF(nipts!T33=\"\",\"\",nipts!T33),IF(nipts!AP33=\"\",\"\",nipts!AP33))","v":""},{"$f":"IF($AA$7=\"ganjil\",IF(nipts!U33=\"\",\"\",nipts!U33),IF(nipts!AQ33=\"\",\"\",nipts!AQ33))","v":""},{"$f":"IF($AA$7=\"ganjil\",IF(nipts!V33=\"\",\"\",nipts!V33),IF(nipts!AR33=\"\",\"\",nipts!AR33))","v":""},{"$f":"IF($AA$7=\"ganjil\",IF(nipts!W33=\"\",\"\",nipts!W33),IF(nipts!AS33=\"\",\"\",nipts!AS33))","v":""},"",null,"",null,"",null,null,0,"",{"$f":"IF(AH37=\"\",\"\",RANK(AH37,$AH$14:$AH$63,0)+COUNTIF($AH$13:AH36,AH37))","v":""}]
[null,null,{"$f":"IF(Database!$A28=\"\",\"\",Database!$A28)","v":""},{"$f":"IF(Database!$D28=\"\",\"\",Database!$D28)","v":""},null,null,null,null,null,{"$f":"IF($AA$7=\"ganjil\",IF(nipts!H34=\"\",\"\",nipts!H34),IF(nipts!AD34=\"\",\"\",nipts!AD34))","v":""},{"$f":"IF($AA$7=\"ganjil\",IF(nipts!I34=\"\",\"\",nipts!I34),IF(nipts!AE34=\"\",\"\",nipts!AE34))","v":""},{"$f":"IF($AA$7=\"ganjil\",IF(nipts!J34=\"\",\"\",nipts!J34),IF(nipts!AF34=\"\",\"\",nipts!AF34))","v":""},{"$f":"IF($AA$7=\"ganjil\",IF(nipts!L34=\"\",\"\",nipts!L34),IF(nipts!AH34=\"\",\"\",nipts!AH34))","v":""},{"$f":"IF($AA$7=\"ganjil\",IF(nipts!M34=\"\",\"\",nipts!M34),IF(nipts!AI34=\"\",\"\",nipts!AI34))","v":""},{"$f":"IF($AA$7=\"ganjil\",IF(nipts!N34=\"\",\"\",nipts!N34),IF(nipts!AJ34=\"\",\"\",nipts!AJ34))","v":""},{"$f":"IF($AA$7=\"ganjil\",IF(nipts!K34=\"\",\"\",nipts!K34),IF(nipts!AG34=\"\",\"\",nipts!AG34))","v":""},{"$f":"IF($AA$7=\"ganjil\",IF(nipts!O34=\"\",\"\",nipts!O34),IF(nipts!AK34=\"\",\"\",nipts!AK34))","v":""},{"$f":"IF($AA$7=\"ganjil\",IF(nipts!P34=\"\",\"\",nipts!P34),IF(nipts!AL34=\"\",\"\",nipts!AL34))","v":""},{"$f":"IF($AA$7=\"ganjil\",IF(nipts!Q34=\"\",\"\",nipts!Q34),IF(nipts!AM34=\"\",\"\",nipts!AM34))","v":""},{"$f":"IF($AA$7=\"ganjil\",IF(nipts!R34=\"\",\"\",nipts!R34),IF(nipts!AN34=\"\",\"\",nipts!AN34))","v":""},{"$f":"IF($AA$7=\"ganjil\",IF(nipts!S34=\"\",\"\",nipts!S34),IF(nipts!AO34=\"\",\"\",nipts!AO34))","v":""},{"$f":"IF($AA$7=\"ganjil\",IF(nipts!T34=\"\",\"\",nipts!T34),IF(nipts!AP34=\"\",\"\",nipts!AP34))","v":""},{"$f":"IF($AA$7=\"ganjil\",IF(nipts!U34=\"\",\"\",nipts!U34),IF(nipts!AQ34=\"\",\"\",nipts!AQ34))","v":""},{"$f":"IF($AA$7=\"ganjil\",IF(nipts!V34=\"\",\"\",nipts!V34),IF(nipts!AR34=\"\",\"\",nipts!AR34))","v":""},{"$f":"IF($AA$7=\"ganjil\",IF(nipts!W34=\"\",\"\",nipts!W34),IF(nipts!AS34=\"\",\"\",nipts!AS34))","v":""},"",null,"",null,"",null,null,0,"",{"$f":"IF(AH38=\"\",\"\",RANK(AH38,$AH$14:$AH$63,0)+COUNTIF($AH$13:AH37,AH38))","v":""}]
[null,null,{"$f":"IF(Database!$A29=\"\",\"\",Database!$A29)","v":""},{"$f":"IF(Database!$D29=\"\",\"\",Database!$D29)","v":""},null,null,null,null,null,{"$f":"IF($AA$7=\"ganjil\",IF(nipts!H35=\"\",\"\",nipts!H35),IF(nipts!AD35=\"\",\"\",nipts!AD35))","v":""},{"$f":"IF($AA$7=\"ganjil\",IF(nipts!I35=\"\",\"\",nipts!I35),IF(nipts!AE35=\"\",\"\",nipts!AE35))","v":""},{"$f":"IF($AA$7=\"ganjil\",IF(nipts!J35=\"\",\"\",nipts!J35),IF(nipts!AF35=\"\",\"\",nipts!AF35))","v":""},{"$f":"IF($AA$7=\"ganjil\",IF(nipts!L35=\"\",\"\",nipts!L35),IF(nipts!AH35=\"\",\"\",nipts!AH35))","v":""},{"$f":"IF($AA$7=\"ganjil\",IF(nipts!M35=\"\",\"\",nipts!M35),IF(nipts!AI35=\"\",\"\",nipts!AI35))","v":""},{"$f":"IF($AA$7=\"ganjil\",IF(nipts!N35=\"\",\"\",nipts!N35),IF(nipts!AJ35=\"\",\"\",nipts!AJ35))","v":""},{"$f":"IF($AA$7=\"ganjil\",IF(nipts!K35=\"\",\"\",nipts!K35),IF(nipts!AG35=\"\",\"\",nipts!AG35))","v":""},{"$f":"IF($AA$7=\"ganjil\",IF(nipts!O35=\"\",\"\",nipts!O35),IF(nipts!AK35=\"\",\"\",nipts!AK35))","v":""},{"$f":"IF($AA$7=\"ganjil\",IF(nipts!P35=\"\",\"\",nipts!P35),IF(nipts!AL35=\"\",\"\",nipts!AL35))","v":""},{"$f":"IF($AA$7=\"ganjil\",IF(nipts!Q35=\"\",\"\",nipts!Q35),IF(nipts!AM35=\"\",\"\",nipts!AM35))","v":""},{"$f":"IF($AA$7=\"ganjil\",IF(nipts!R35=\"\",\"\",nipts!R35),IF(nipts!AN35=\"\",\"\",nipts!AN35))","v":""},{"$f":"IF($AA$7=\"ganjil\",IF(nipts!S35=\"\",\"\",nipts!S35),IF(nipts!AO35=\"\",\"\",nipts!AO35))","v":""},{"$f":"IF($AA$7=\"ganjil\",IF(nipts!T35=\"\",\"\",nipts!T35),IF(nipts!AP35=\"\",\"\",nipts!AP35))","v":""},{"$f":"IF($AA$7=\"ganjil\",IF(nipts!U35=\"\",\"\",nipts!U35),IF(nipts!AQ35=\"\",\"\",nipts!AQ35))","v":""},{"$f":"IF($AA$7=\"ganjil\",IF(nipts!V35=\"\",\"\",nipts!V35),IF(nipts!AR35=\"\",\"\",nipts!AR35))","v":""},{"$f":"IF($AA$7=\"ganjil\",IF(nipts!W35=\"\",\"\",nipts!W35),IF(nipts!AS35=\"\",\"\",nipts!AS35))","v":""},"",null,"",null,"",null,null,0,"",{"$f":"IF(AH39=\"\",\"\",RANK(AH39,$AH$14:$AH$63,0)+COUNTIF($AH$13:AH38,AH39))","v":""}]
[null,null,{"$f":"IF(Database!$A30=\"\",\"\",Database!$A30)","v":""},{"$f":"IF(Database!$D30=\"\",\"\",Database!$D30)","v":""},null,null,null,null,null,{"$f":"IF($AA$7=\"ganjil\",IF(nipts!H36=\"\",\"\",nipts!H36),IF(nipts!AD36=\"\",\"\",nipts!AD36))","v":""},{"$f":"IF($AA$7=\"ganjil\",IF(nipts!I36=\"\",\"\",nipts!I36),IF(nipts!AE36=\"\",\"\",nipts!AE36))","v":""},{"$f":"IF($AA$7=\"ganjil\",IF(nipts!J36=\"\",\"\",nipts!J36),IF(nipts!AF36=\"\",\"\",nipts!AF36))","v":""},{"$f":"IF($AA$7=\"ganjil\",IF(nipts!L36=\"\",\"\",nipts!L36),IF(nipts!AH36=\"\",\"\",nipts!AH36))","v":""},{"$f":"IF($AA$7=\"ganjil\",IF(nipts!M36=\"\",\"\",nipts!M36),IF(nipts!AI36=\"\",\"\",nipts!AI36))","v":""},{"$f":"IF($AA$7=\"ganjil\",IF(nipts!N36=\"\",\"\",nipts!N36),IF(nipts!AJ36=\"\",\"\",nipts!AJ36))","v":""},{"$f":"IF($AA$7=\"ganjil\",IF(nipts!K36=\"\",\"\",nipts!K36),IF(nipts!AG36=\"\",\"\",nipts!AG36))","v":""},{"$f":"IF($AA$7=\"ganjil\",IF(nipts!O36=\"\",\"\",nipts!O36),IF(nipts!AK36=\"\",\"\",nipts!AK36))","v":""},{"$f":"IF($AA$7=\"ganjil\",IF(nipts!P36=\"\",\"\",nipts!P36),IF(nipts!AL36=\"\",\"\",nipts!AL36))","v":""},{"$f":"IF($AA$7=\"ganjil\",IF(nipts!Q36=\"\",\"\",nipts!Q36),IF(nipts!AM36=\"\",\"\",nipts!AM36))","v":""},{"$f":"IF($AA$7=\"ganjil\",IF(nipts!R36=\"\",\"\",nipts!R36),IF(nipts!AN36=\"\",\"\",nipts!AN36))","v":""},{"$f":"IF($AA$7=\"ganjil\",IF(nipts!S36=\"\",\"\",nipts!S36),IF(nipts!AO36=\"\",\"\",nipts!AO36))","v":""},{"$f":"IF($AA$7=\"ganjil\",IF(nipts!T36=\"\",\"\",nipts!T36),IF(nipts!AP36=\"\",\"\",nipts!AP36))","v":""},{"$f":"IF($AA$7=\"ganjil\",IF(nipts!U36=\"\",\"\",nipts!U36),IF(nipts!AQ36=\"\",\"\",nipts!AQ36))","v":""},{"$f":"IF($AA$7=\"ganjil\",IF(nipts!V36=\"\",\"\",nipts!V36),IF(nipts!AR36=\"\",\"\",nipts!AR36))","v":""},{"$f":"IF($AA$7=\"ganjil\",IF(nipts!W36=\"\",\"\",nipts!W36),IF(nipts!AS36=\"\",\"\",nipts!AS36))","v":""},"",null,"",null,"",null,null,0,"",{"$f":"IF(AH40=\"\",\"\",RANK(AH40,$AH$14:$AH$63,0)+COUNTIF($AH$13:AH39,AH40))","v":""}]
[null,null,{"$f":"IF(Database!$A31=\"\",\"\",Database!$A31)","v":""},{"$f":"IF(Database!$D31=\"\",\"\",Database!$D31)","v":""},null,null,null,null,null,{"$f":"IF($AA$7=\"ganjil\",IF(nipts!H37=\"\",\"\",nipts!H37),IF(nipts!AD37=\"\",\"\",nipts!AD37))","v":""},{"$f":"IF($AA$7=\"ganjil\",IF(nipts!I37=\"\",\"\",nipts!I37),IF(nipts!AE37=\"\",\"\",nipts!AE37))","v":""},{"$f":"IF($AA$7=\"ganjil\",IF(nipts!J37=\"\",\"\",nipts!J37),IF(nipts!AF37=\"\",\"\",nipts!AF37))","v":""},{"$f":"IF($AA$7=\"ganjil\",IF(nipts!L37=\"\",\"\",nipts!L37),IF(nipts!AH37=\"\",\"\",nipts!AH37))","v":""},{"$f":"IF($AA$7=\"ganjil\",IF(nipts!M37=\"\",\"\",nipts!M37),IF(nipts!AI37=\"\",\"\",nipts!AI37))","v":""},{"$f":"IF($AA$7=\"ganjil\",IF(nipts!N37=\"\",\"\",nipts!N37),IF(nipts!AJ37=\"\",\"\",nipts!AJ37))","v":""},{"$f":"IF($AA$7=\"ganjil\",IF(nipts!K37=\"\",\"\",nipts!K37),IF(nipts!AG37=\"\",\"\",nipts!AG37))","v":""},{"$f":"IF($AA$7=\"ganjil\",IF(nipts!O37=\"\",\"\",nipts!O37),IF(nipts!AK37=\"\",\"\",nipts!AK37))","v":""},{"$f":"IF($AA$7=\"ganjil\",IF(nipts!P37=\"\",\"\",nipts!P37),IF(nipts!AL37=\"\",\"\",nipts!AL37))","v":""},{"$f":"IF($AA$7=\"ganjil\",IF(nipts!Q37=\"\",\"\",nipts!Q37),IF(nipts!AM37=\"\",\"\",nipts!AM37))","v":""},{"$f":"IF($AA$7=\"ganjil\",IF(nipts!R37=\"\",\"\",nipts!R37),IF(nipts!AN37=\"\",\"\",nipts!AN37))","v":""},{"$f":"IF($AA$7=\"ganjil\",IF(nipts!S37=\"\",\"\",nipts!S37),IF(nipts!AO37=\"\",\"\",nipts!AO37))","v":""},{"$f":"IF($AA$7=\"ganjil\",IF(nipts!T37=\"\",\"\",nipts!T37),IF(nipts!AP37=\"\",\"\",nipts!AP37))","v":""},{"$f":"IF($AA$7=\"ganjil\",IF(nipts!U37=\"\",\"\",nipts!U37),IF(nipts!AQ37=\"\",\"\",nipts!AQ37))","v":""},{"$f":"IF($AA$7=\"ganjil\",IF(nipts!V37=\"\",\"\",nipts!V37),IF(nipts!AR37=\"\",\"\",nipts!AR37))","v":""},{"$f":"IF($AA$7=\"ganjil\",IF(nipts!W37=\"\",\"\",nipts!W37),IF(nipts!AS37=\"\",\"\",nipts!AS37))","v":""},"",null,"",null,"",null,null,0,"",{"$f":"IF(AH41=\"\",\"\",RANK(AH41,$AH$14:$AH$63,0)+COUNTIF($AH$13:AH40,AH41))","v":""}]
[null,null,{"$f":"IF(Database!$A32=\"\",\"\",Database!$A32)","v":""},{"$f":"IF(Database!$D32=\"\",\"\",Database!$D32)","v":""},null,null,null,null,null,{"$f":"IF($AA$7=\"ganjil\",IF(nipts!H38=\"\",\"\",nipts!H38),IF(nipts!AD38=\"\",\"\",nipts!AD38))","v":""},{"$f":"IF($AA$7=\"ganjil\",IF(nipts!I38=\"\",\"\",nipts!I38),IF(nipts!AE38=\"\",\"\",nipts!AE38))","v":""},{"$f":"IF($AA$7=\"ganjil\",IF(nipts!J38=\"\",\"\",nipts!J38),IF(nipts!AF38=\"\",\"\",nipts!AF38))","v":""},{"$f":"IF($AA$7=\"ganjil\",IF(nipts!L38=\"\",\"\",nipts!L38),IF(nipts!AH38=\"\",\"\",nipts!AH38))","v":""},{"$f":"IF($AA$7=\"ganjil\",IF(nipts!M38=\"\",\"\",nipts!M38),IF(nipts!AI38=\"\",\"\",nipts!AI38))","v":""},{"$f":"IF($AA$7=\"ganjil\",IF(nipts!N38=\"\",\"\",nipts!N38),IF(nipts!AJ38=\"\",\"\",nipts!AJ38))","v":""},{"$f":"IF($AA$7=\"ganjil\",IF(nipts!K38=\"\",\"\",nipts!K38),IF(nipts!AG38=\"\",\"\",nipts!AG38))","v":""},{"$f":"IF($AA$7=\"ganjil\",IF(nipts!O38=\"\",\"\",nipts!O38),IF(nipts!AK38=\"\",\"\",nipts!AK38))","v":""},{"$f":"IF($AA$7=\"ganjil\",IF(nipts!P38=\"\",\"\",nipts!P38),IF(nipts!AL38=\"\",\"\",nipts!AL38))","v":""},{"$f":"IF($AA$7=\"ganjil\",IF(nipts!Q38=\"\",\"\",nipts!Q38),IF(nipts!AM38=\"\",\"\",nipts!AM38))","v":""},{"$f":"IF($AA$7=\"ganjil\",IF(nipts!R38=\"\",\"\",nipts!R38),IF(nipts!AN38=\"\",\"\",nipts!AN38))","v":""},{"$f":"IF($AA$7=\"ganjil\",IF(nipts!S38=\"\",\"\",nipts!S38),IF(nipts!AO38=\"\",\"\",nipts!AO38))","v":""},{"$f":"IF($AA$7=\"ganjil\",IF(nipts!T38=\"\",\"\",nipts!T38),IF(nipts!AP38=\"\",\"\",nipts!AP38))","v":""},{"$f":"IF($AA$7=\"ganjil\",IF(nipts!U38=\"\",\"\",nipts!U38),IF(nipts!AQ38=\"\",\"\",nipts!AQ38))","v":""},{"$f":"IF($AA$7=\"ganjil\",IF(nipts!V38=\"\",\"\",nipts!V38),IF(nipts!AR38=\"\",\"\",nipts!AR38))","v":""},{"$f":"IF($AA$7=\"ganjil\",IF(nipts!W38=\"\",\"\",nipts!W38),IF(nipts!AS38=\"\",\"\",nipts!AS38))","v":""},"",null,"",null,"",null,null,0,"",{"$f":"IF(AH42=\"\",\"\",RANK(AH42,$AH$14:$AH$63,0)+COUNTIF($AH$13:AH41,AH42))","v":""}]
[null,null,{"$f":"IF(Database!$A33=\"\",\"\",Database!$A33)","v":""},{"$f":"IF(Database!$D33=\"\",\"\",Database!$D33)","v":""},null,null,null,null,null,{"$f":"IF($AA$7=\"ganjil\",IF(nipts!H39=\"\",\"\",nipts!H39),IF(nipts!AD39=\"\",\"\",nipts!AD39))","v":""},{"$f":"IF($AA$7=\"ganjil\",IF(nipts!I39=\"\",\"\",nipts!I39),IF(nipts!AE39=\"\",\"\",nipts!AE39))","v":""},{"$f":"IF($AA$7=\"ganjil\",IF(nipts!J39=\"\",\"\",nipts!J39),IF(nipts!AF39=\"\",\"\",nipts!AF39))","v":""},{"$f":"IF($AA$7=\"ganjil\",IF(nipts!L39=\"\",\"\",nipts!L39),IF(nipts!AH39=\"\",\"\",nipts!AH39))","v":""},{"$f":"IF($AA$7=\"ganjil\",IF(nipts!M39=\"\",\"\",nipts!M39),IF(nipts!AI39=\"\",\"\",nipts!AI39))","v":""},{"$f":"IF($AA$7=\"ganjil\",IF(nipts!N39=\"\",\"\",nipts!N39),IF(nipts!AJ39=\"\",\"\",nipts!AJ39))","v":""},{"$f":"IF($AA$7=\"ganjil\",IF(nipts!K39=\"\",\"\",nipts!K39),IF(nipts!AG39=\"\",\"\",nipts!AG39))","v":""},{"$f":"IF($AA$7=\"ganjil\",IF(nipts!O39=\"\",\"\",nipts!O39),IF(nipts!AK39=\"\",\"\",nipts!AK39))","v":""},{"$f":"IF($AA$7=\"ganjil\",IF(nipts!P39=\"\",\"\",nipts!P39),IF(nipts!AL39=\"\",\"\",nipts!AL39))","v":""},{"$f":"IF($AA$7=\"ganjil\",IF(nipts!Q39=\"\",\"\",nipts!Q39),IF(nipts!AM39=\"\",\"\",nipts!AM39))","v":""},{"$f":"IF($AA$7=\"ganjil\",IF(nipts!R39=\"\",\"\",nipts!R39),IF(nipts!AN39=\"\",\"\",nipts!AN39))","v":""},{"$f":"IF($AA$7=\"ganjil\",IF(nipts!S39=\"\",\"\",nipts!S39),IF(nipts!AO39=\"\",\"\",nipts!AO39))","v":""},{"$f":"IF($AA$7=\"ganjil\",IF(nipts!T39=\"\",\"\",nipts!T39),IF(nipts!AP39=\"\",\"\",nipts!AP39))","v":""},{"$f":"IF($AA$7=\"ganjil\",IF(nipts!U39=\"\",\"\",nipts!U39),IF(nipts!AQ39=\"\",\"\",nipts!AQ39))","v":""},{"$f":"IF($AA$7=\"ganjil\",IF(nipts!V39=\"\",\"\",nipts!V39),IF(nipts!AR39=\"\",\"\",nipts!AR39))","v":""},{"$f":"IF($AA$7=\"ganjil\",IF(nipts!W39=\"\",\"\",nipts!W39),IF(nipts!AS39=\"\",\"\",nipts!AS39))","v":""},"",null,"",null,"",null,null,0,"",{"$f":"IF(AH43=\"\",\"\",RANK(AH43,$AH$14:$AH$63,0)+COUNTIF($AH$13:AH42,AH43))","v":""}]
[null,null,{"$f":"IF(Database!$A34=\"\",\"\",Database!$A34)","v":""},{"$f":"IF(Database!$D34=\"\",\"\",Database!$D34)","v":""},null,null,null,null,null,{"$f":"IF($AA$7=\"ganjil\",IF(nipts!H40=\"\",\"\",nipts!H40),IF(nipts!AD40=\"\",\"\",nipts!AD40))","v":""},{"$f":"IF($AA$7=\"ganjil\",IF(nipts!I40=\"\",\"\",nipts!I40),IF(nipts!AE40=\"\",\"\",nipts!AE40))","v":""},{"$f":"IF($AA$7=\"ganjil\",IF(nipts!J40=\"\",\"\",nipts!J40),IF(nipts!AF40=\"\",\"\",nipts!AF40))","v":""},{"$f":"IF($AA$7=\"ganjil\",IF(nipts!L40=\"\",\"\",nipts!L40),IF(nipts!AH40=\"\",\"\",nipts!AH40))","v":""},{"$f":"IF($AA$7=\"ganjil\",IF(nipts!M40=\"\",\"\",nipts!M40),IF(nipts!AI40=\"\",\"\",nipts!AI40))","v":""},{"$f":"IF($AA$7=\"ganjil\",IF(nipts!N40=\"\",\"\",nipts!N40),IF(nipts!AJ40=\"\",\"\",nipts!AJ40))","v":""},{"$f":"IF($AA$7=\"ganjil\",IF(nipts!K40=\"\",\"\",nipts!K40),IF(nipts!AG40=\"\",\"\",nipts!AG40))","v":""},{"$f":"IF($AA$7=\"ganjil\",IF(nipts!O40=\"\",\"\",nipts!O40),IF(nipts!AK40=\"\",\"\",nipts!AK40))","v":""},{"$f":"IF($AA$7=\"ganjil\",IF(nipts!P40=\"\",\"\",nipts!P40),IF(nipts!AL40=\"\",\"\",nipts!AL40))","v":""},{"$f":"IF($AA$7=\"ganjil\",IF(nipts!Q40=\"\",\"\",nipts!Q40),IF(nipts!AM40=\"\",\"\",nipts!AM40))","v":""},{"$f":"IF($AA$7=\"ganjil\",IF(nipts!R40=\"\",\"\",nipts!R40),IF(nipts!AN40=\"\",\"\",nipts!AN40))","v":""},{"$f":"IF($AA$7=\"ganjil\",IF(nipts!S40=\"\",\"\",nipts!S40),IF(nipts!AO40=\"\",\"\",nipts!AO40))","v":""},{"$f":"IF($AA$7=\"ganjil\",IF(nipts!T40=\"\",\"\",nipts!T40),IF(nipts!AP40=\"\",\"\",nipts!AP40))","v":""},{"$f":"IF($AA$7=\"ganjil\",IF(nipts!U40=\"\",\"\",nipts!U40),IF(nipts!AQ40=\"\",\"\",nipts!AQ40))","v":""},{"$f":"IF($AA$7=\"ganjil\",IF(nipts!V40=\"\",\"\",nipts!V40),IF(nipts!AR40=\"\",\"\",nipts!AR40))","v":""},{"$f":"IF($AA$7=\"ganjil\",IF(nipts!W40=\"\",\"\",nipts!W40),IF(nipts!AS40=\"\",\"\",nipts!AS40))","v":""},"",null,"",null,"",null,null,0,"",{"$f":"IF(AH44=\"\",\"\",RANK(AH44,$AH$14:$AH$63,0)+COUNTIF($AH$13:AH43,AH44))","v":""}]
[null,null,{"$f":"IF(Database!$A35=\"\",\"\",Database!$A35)","v":""},{"$f":"IF(Database!$D35=\"\",\"\",Database!$D35)","v":""},null,null,null,null,null,{"$f":"IF($AA$7=\"ganjil\",IF(nipts!H41=\"\",\"\",nipts!H41),IF(nipts!AD41=\"\",\"\",nipts!AD41))","v":""},{"$f":"IF($AA$7=\"ganjil\",IF(nipts!I41=\"\",\"\",nipts!I41),IF(nipts!AE41=\"\",\"\",nipts!AE41))","v":""},{"$f":"IF($AA$7=\"ganjil\",IF(nipts!J41=\"\",\"\",nipts!J41),IF(nipts!AF41=\"\",\"\",nipts!AF41))","v":""},{"$f":"IF($AA$7=\"ganjil\",IF(nipts!L41=\"\",\"\",nipts!L41),IF(nipts!AH41=\"\",\"\",nipts!AH41))","v":""},{"$f":"IF($AA$7=\"ganjil\",IF(nipts!M41=\"\",\"\",nipts!M41),IF(nipts!AI41=\"\",\"\",nipts!AI41))","v":""},{"$f":"IF($AA$7=\"ganjil\",IF(nipts!N41=\"\",\"\",nipts!N41),IF(nipts!AJ41=\"\",\"\",nipts!AJ41))","v":""},{"$f":"IF($AA$7=\"ganjil\",IF(nipts!K41=\"\",\"\",nipts!K41),IF(nipts!AG41=\"\",\"\",nipts!AG41))","v":""},{"$f":"IF($AA$7=\"ganjil\",IF(nipts!O41=\"\",\"\",nipts!O41),IF(nipts!AK41=\"\",\"\",nipts!AK41))","v":""},{"$f":"IF($AA$7=\"ganjil\",IF(nipts!P41=\"\",\"\",nipts!P41),IF(nipts!AL41=\"\",\"\",nipts!AL41))","v":""},{"$f":"IF($AA$7=\"ganjil\",IF(nipts!Q41=\"\",\"\",nipts!Q41),IF(nipts!AM41=\"\",\"\",nipts!AM41))","v":""},{"$f":"IF($AA$7=\"ganjil\",IF(nipts!R41=\"\",\"\",nipts!R41),IF(nipts!AN41=\"\",\"\",nipts!AN41))","v":""},{"$f":"IF($AA$7=\"ganjil\",IF(nipts!S41=\"\",\"\",nipts!S41),IF(nipts!AO41=\"\",\"\",nipts!AO41))","v":""},{"$f":"IF($AA$7=\"ganjil\",IF(nipts!T41=\"\",\"\",nipts!T41),IF(nipts!AP41=\"\",\"\",nipts!AP41))","v":""},{"$f":"IF($AA$7=\"ganjil\",IF(nipts!U41=\"\",\"\",nipts!U41),IF(nipts!AQ41=\"\",\"\",nipts!AQ41))","v":""},{"$f":"IF($AA$7=\"ganjil\",IF(nipts!V41=\"\",\"\",nipts!V41),IF(nipts!AR41=\"\",\"\",nipts!AR41))","v":""},{"$f":"IF($AA$7=\"ganjil\",IF(nipts!W41=\"\",\"\",nipts!W41),IF(nipts!AS41=\"\",\"\",nipts!AS41))","v":""},"",null,"",null,"",null,null,0,"",{"$f":"IF(AH45=\"\",\"\",RANK(AH45,$AH$14:$AH$63,0)+COUNTIF($AH$13:AH44,AH45))","v":""}]
[null,null,{"$f":"IF(Database!$A36=\"\",\"\",Database!$A36)","v":""},{"$f":"IF(Database!$D36=\"\",\"\",Database!$D36)","v":""},null,null,null,null,null,{"$f":"IF($AA$7=\"ganjil\",IF(nipts!H42=\"\",\"\",nipts!H42),IF(nipts!AD42=\"\",\"\",nipts!AD42))","v":""},{"$f":"IF($AA$7=\"ganjil\",IF(nipts!I42=\"\",\"\",nipts!I42),IF(nipts!AE42=\"\",\"\",nipts!AE42))","v":""},{"$f":"IF($AA$7=\"ganjil\",IF(nipts!J42=\"\",\"\",nipts!J42),IF(nipts!AF42=\"\",\"\",nipts!AF42))","v":""},{"$f":"IF($AA$7=\"ganjil\",IF(nipts!L42=\"\",\"\",nipts!L42),IF(nipts!AH42=\"\",\"\",nipts!AH42))","v":""},{"$f":"IF($AA$7=\"ganjil\",IF(nipts!M42=\"\",\"\",nipts!M42),IF(nipts!AI42=\"\",\"\",nipts!AI42))","v":""},{"$f":"IF($AA$7=\"ganjil\",IF(nipts!N42=\"\",\"\",nipts!N42),IF(nipts!AJ42=\"\",\"\",nipts!AJ42))","v":""},{"$f":"IF($AA$7=\"ganjil\",IF(nipts!K42=\"\",\"\",nipts!K42),IF(nipts!AG42=\"\",\"\",nipts!AG42))","v":""},{"$f":"IF($AA$7=\"ganjil\",IF(nipts!O42=\"\",\"\",nipts!O42),IF(nipts!AK42=\"\",\"\",nipts!AK42))","v":""},{"$f":"IF($AA$7=\"ganjil\",IF(nipts!P42=\"\",\"\",nipts!P42),IF(nipts!AL42=\"\",\"\",nipts!AL42))","v":""},{"$f":"IF($AA$7=\"ganjil\",IF(nipts!Q42=\"\",\"\",nipts!Q42),IF(nipts!AM42=\"\",\"\",nipts!AM42))","v":""},{"$f":"IF($AA$7=\"ganjil\",IF(nipts!R42=\"\",\"\",nipts!R42),IF(nipts!AN42=\"\",\"\",nipts!AN42))","v":""},{"$f":"IF($AA$7=\"ganjil\",IF(nipts!S42=\"\",\"\",nipts!S42),IF(nipts!AO42=\"\",\"\",nipts!AO42))","v":""},{"$f":"IF($AA$7=\"ganjil\",IF(nipts!T42=\"\",\"\",nipts!T42),IF(nipts!AP42=\"\",\"\",nipts!AP42))","v":""},{"$f":"IF($AA$7=\"ganjil\",IF(nipts!U42=\"\",\"\",nipts!U42),IF(nipts!AQ42=\"\",\"\",nipts!AQ42))","v":""},{"$f":"IF($AA$7=\"ganjil\",IF(nipts!V42=\"\",\"\",nipts!V42),IF(nipts!AR42=\"\",\"\",nipts!AR42))","v":""},{"$f":"IF($AA$7=\"ganjil\",IF(nipts!W42=\"\",\"\",nipts!W42),IF(nipts!AS42=\"\",\"\",nipts!AS42))","v":""},"",null,"",null,"",null,null,0,"",{"$f":"IF(AH46=\"\",\"\",RANK(AH46,$AH$14:$AH$63,0)+COUNTIF($AH$13:AH45,AH46))","v":""}]
[null,null,{"$f":"IF(Database!$A37=\"\",\"\",Database!$A37)","v":""},{"$f":"IF(Database!$D37=\"\",\"\",Database!$D37)","v":""},null,null,null,null,null,{"$f":"IF($AA$7=\"ganjil\",IF(nipts!H43=\"\",\"\",nipts!H43),IF(nipts!AD43=\"\",\"\",nipts!AD43))","v":""},{"$f":"IF($AA$7=\"ganjil\",IF(nipts!I43=\"\",\"\",nipts!I43),IF(nipts!AE43=\"\",\"\",nipts!AE43))","v":""},{"$f":"IF($AA$7=\"ganjil\",IF(nipts!J43=\"\",\"\",nipts!J43),IF(nipts!AF43=\"\",\"\",nipts!AF43))","v":""},{"$f":"IF($AA$7=\"ganjil\",IF(nipts!L43=\"\",\"\",nipts!L43),IF(nipts!AH43=\"\",\"\",nipts!AH43))","v":""},{"$f":"IF($AA$7=\"ganjil\",IF(nipts!M43=\"\",\"\",nipts!M43),IF(nipts!AI43=\"\",\"\",nipts!AI43))","v":""},{"$f":"IF($AA$7=\"ganjil\",IF(nipts!N43=\"\",\"\",nipts!N43),IF(nipts!AJ43=\"\",\"\",nipts!AJ43))","v":""},{"$f":"IF($AA$7=\"ganjil\",IF(nipts!K43=\"\",\"\",nipts!K43),IF(nipts!AG43=\"\",\"\",nipts!AG43))","v":""},{"$f":"IF($AA$7=\"ganjil\",IF(nipts!O43=\"\",\"\",nipts!O43),IF(nipts!AK43=\"\",\"\",nipts!AK43))","v":""},{"$f":"IF($AA$7=\"ganjil\",IF(nipts!P43=\"\",\"\",nipts!P43),IF(nipts!AL43=\"\",\"\",nipts!AL43))","v":""},{"$f":"IF($AA$7=\"ganjil\",IF(nipts!Q43=\"\",\"\",nipts!Q43),IF(nipts!AM43=\"\",\"\",nipts!AM43))","v":""},{"$f":"IF($AA$7=\"ganjil\",IF(nipts!R43=\"\",\"\",nipts!R43),IF(nipts!AN43=\"\",\"\",nipts!AN43))","v":""},{"$f":"IF($AA$7=\"ganjil\",IF(nipts!S43=\"\",\"\",nipts!S43),IF(nipts!AO43=\"\",\"\",nipts!AO43))","v":""},{"$f":"IF($AA$7=\"ganjil\",IF(nipts!T43=\"\",\"\",nipts!T43),IF(nipts!AP43=\"\",\"\",nipts!AP43))","v":""},{"$f":"IF($AA$7=\"ganjil\",IF(nipts!U43=\"\",\"\",nipts!U43),IF(nipts!AQ43=\"\",\"\",nipts!AQ43))","v":""},{"$f":"IF($AA$7=\"ganjil\",IF(nipts!V43=\"\",\"\",nipts!V43),IF(nipts!AR43=\"\",\"\",nipts!AR43))","v":""},{"$f":"IF($AA$7=\"ganjil\",IF(nipts!W43=\"\",\"\",nipts!W43),IF(nipts!AS43=\"\",\"\",nipts!AS43))","v":""},"",null,"",null,"",null,null,0,"",{"$f":"IF(AH47=\"\",\"\",RANK(AH47,$AH$14:$AH$63,0)+COUNTIF($AH$13:AH46,AH47))","v":""}]
[null,null,{"$f":"IF(Database!$A38=\"\",\"\",Database!$A38)","v":""},{"$f":"IF(Database!$D38=\"\",\"\",Database!$D38)","v":""},null,null,null,null,null,{"$f":"IF($AA$7=\"ganjil\",IF(nipts!H44=\"\",\"\",nipts!H44),IF(nipts!AD44=\"\",\"\",nipts!AD44))","v":""},{"$f":"IF($AA$7=\"ganjil\",IF(nipts!I44=\"\",\"\",nipts!I44),IF(nipts!AE44=\"\",\"\",nipts!AE44))","v":""},{"$f":"IF($AA$7=\"ganjil\",IF(nipts!J44=\"\",\"\",nipts!J44),IF(nipts!AF44=\"\",\"\",nipts!AF44))","v":""},{"$f":"IF($AA$7=\"ganjil\",IF(nipts!L44=\"\",\"\",nipts!L44),IF(nipts!AH44=\"\",\"\",nipts!AH44))","v":""},{"$f":"IF($AA$7=\"ganjil\",IF(nipts!M44=\"\",\"\",nipts!M44),IF(nipts!AI44=\"\",\"\",nipts!AI44))","v":""},{"$f":"IF($AA$7=\"ganjil\",IF(nipts!N44=\"\",\"\",nipts!N44),IF(nipts!AJ44=\"\",\"\",nipts!AJ44))","v":""},{"$f":"IF($AA$7=\"ganjil\",IF(nipts!K44=\"\",\"\",nipts!K44),IF(nipts!AG44=\"\",\"\",nipts!AG44))","v":""},{"$f":"IF($AA$7=\"ganjil\",IF(nipts!O44=\"\",\"\",nipts!O44),IF(nipts!AK44=\"\",\"\",nipts!AK44))","v":""},{"$f":"IF($AA$7=\"ganjil\",IF(nipts!P44=\"\",\"\",nipts!P44),IF(nipts!AL44=\"\",\"\",nipts!AL44))","v":""},{"$f":"IF($AA$7=\"ganjil\",IF(nipts!Q44=\"\",\"\",nipts!Q44),IF(nipts!AM44=\"\",\"\",nipts!AM44))","v":""},{"$f":"IF($AA$7=\"ganjil\",IF(nipts!R44=\"\",\"\",nipts!R44),IF(nipts!AN44=\"\",\"\",nipts!AN44))","v":""},{"$f":"IF($AA$7=\"ganjil\",IF(nipts!S44=\"\",\"\",nipts!S44),IF(nipts!AO44=\"\",\"\",nipts!AO44))","v":""},{"$f":"IF($AA$7=\"ganjil\",IF(nipts!T44=\"\",\"\",nipts!T44),IF(nipts!AP44=\"\",\"\",nipts!AP44))","v":""},{"$f":"IF($AA$7=\"ganjil\",IF(nipts!U44=\"\",\"\",nipts!U44),IF(nipts!AQ44=\"\",\"\",nipts!AQ44))","v":""},{"$f":"IF($AA$7=\"ganjil\",IF(nipts!V44=\"\",\"\",nipts!V44),IF(nipts!AR44=\"\",\"\",nipts!AR44))","v":""},{"$f":"IF($AA$7=\"ganjil\",IF(nipts!W44=\"\",\"\",nipts!W44),IF(nipts!AS44=\"\",\"\",nipts!AS44))","v":""},"",null,"",null,"",null,null,0,"",{"$f":"IF(AH48=\"\",\"\",RANK(AH48,$AH$14:$AH$63,0)+COUNTIF($AH$13:AH47,AH48))","v":""}]
[null,null,{"$f":"IF(Database!$A39=\"\",\"\",Database!$A39)","v":""},{"$f":"IF(Database!$D39=\"\",\"\",Database!$D39)","v":""},null,null,null,null,null,{"$f":"IF($AA$7=\"ganjil\",IF(nipts!H45=\"\",\"\",nipts!H45),IF(nipts!AD45=\"\",\"\",nipts!AD45))","v":""},{"$f":"IF($AA$7=\"ganjil\",IF(nipts!I45=\"\",\"\",nipts!I45),IF(nipts!AE45=\"\",\"\",nipts!AE45))","v":""},{"$f":"IF($AA$7=\"ganjil\",IF(nipts!J45=\"\",\"\",nipts!J45),IF(nipts!AF45=\"\",\"\",nipts!AF45))","v":""},{"$f":"IF($AA$7=\"ganjil\",IF(nipts!L45=\"\",\"\",nipts!L45),IF(nipts!AH45=\"\",\"\",nipts!AH45))","v":""},{"$f":"IF($AA$7=\"ganjil\",IF(nipts!M45=\"\",\"\",nipts!M45),IF(nipts!AI45=\"\",\"\",nipts!AI45))","v":""},{"$f":"IF($AA$7=\"ganjil\",IF(nipts!N45=\"\",\"\",nipts!N45),IF(nipts!AJ45=\"\",\"\",nipts!AJ45))","v":""},{"$f":"IF($AA$7=\"ganjil\",IF(nipts!K45=\"\",\"\",nipts!K45),IF(nipts!AG45=\"\",\"\",nipts!AG45))","v":""},{"$f":"IF($AA$7=\"ganjil\",IF(nipts!O45=\"\",\"\",nipts!O45),IF(nipts!AK45=\"\",\"\",nipts!AK45))","v":""},{"$f":"IF($AA$7=\"ganjil\",IF(nipts!P45=\"\",\"\",nipts!P45),IF(nipts!AL45=\"\",\"\",nipts!AL45))","v":""},{"$f":"IF($AA$7=\"ganjil\",IF(nipts!Q45=\"\",\"\",nipts!Q45),IF(nipts!AM45=\"\",\"\",nipts!AM45))","v":""},{"$f":"IF($AA$7=\"ganjil\",IF(nipts!R45=\"\",\"\",nipts!R45),IF(nipts!AN45=\"\",\"\",nipts!AN45))","v":""},{"$f":"IF($AA$7=\"ganjil\",IF(nipts!S45=\"\",\"\",nipts!S45),IF(nipts!AO45=\"\",\"\",nipts!AO45))","v":""},{"$f":"IF($AA$7=\"ganjil\",IF(nipts!T45=\"\",\"\",nipts!T45),IF(nipts!AP45=\"\",\"\",nipts!AP45))","v":""},{"$f":"IF($AA$7=\"ganjil\",IF(nipts!U45=\"\",\"\",nipts!U45),IF(nipts!AQ45=\"\",\"\",nipts!AQ45))","v":""},{"$f":"IF($AA$7=\"ganjil\",IF(nipts!V45=\"\",\"\",nipts!V45),IF(nipts!AR45=\"\",\"\",nipts!AR45))","v":""},{"$f":"IF($AA$7=\"ganjil\",IF(nipts!W45=\"\",\"\",nipts!W45),IF(nipts!AS45=\"\",\"\",nipts!AS45))","v":""},"",null,"",null,"",null,null,0,"",{"$f":"IF(AH49=\"\",\"\",RANK(AH49,$AH$14:$AH$63,0)+COUNTIF($AH$13:AH48,AH49))","v":""}]
[null,null,{"$f":"IF(Database!$A40=\"\",\"\",Database!$A40)","v":""},{"$f":"IF(Database!$D40=\"\",\"\",Database!$D40)","v":""},null,null,null,null,null,{"$f":"IF($AA$7=\"ganjil\",IF(nipts!H46=\"\",\"\",nipts!H46),IF(nipts!AD46=\"\",\"\",nipts!AD46))","v":""},{"$f":"IF($AA$7=\"ganjil\",IF(nipts!I46=\"\",\"\",nipts!I46),IF(nipts!AE46=\"\",\"\",nipts!AE46))","v":""},{"$f":"IF($AA$7=\"ganjil\",IF(nipts!J46=\"\",\"\",nipts!J46),IF(nipts!AF46=\"\",\"\",nipts!AF46))","v":""},{"$f":"IF($AA$7=\"ganjil\",IF(nipts!L46=\"\",\"\",nipts!L46),IF(nipts!AH46=\"\",\"\",nipts!AH46))","v":""},{"$f":"IF($AA$7=\"ganjil\",IF(nipts!M46=\"\",\"\",nipts!M46),IF(nipts!AI46=\"\",\"\",nipts!AI46))","v":""},{"$f":"IF($AA$7=\"ganjil\",IF(nipts!N46=\"\",\"\",nipts!N46),IF(nipts!AJ46=\"\",\"\",nipts!AJ46))","v":""},{"$f":"IF($AA$7=\"ganjil\",IF(nipts!K46=\"\",\"\",nipts!K46),IF(nipts!AG46=\"\",\"\",nipts!AG46))","v":""},{"$f":"IF($AA$7=\"ganjil\",IF(nipts!O46=\"\",\"\",nipts!O46),IF(nipts!AK46=\"\",\"\",nipts!AK46))","v":""},{"$f":"IF($AA$7=\"ganjil\",IF(nipts!P46=\"\",\"\",nipts!P46),IF(nipts!AL46=\"\",\"\",nipts!AL46))","v":""},{"$f":"IF($AA$7=\"ganjil\",IF(nipts!Q46=\"\",\"\",nipts!Q46),IF(nipts!AM46=\"\",\"\",nipts!AM46))","v":""},{"$f":"IF($AA$7=\"ganjil\",IF(nipts!R46=\"\",\"\",nipts!R46),IF(nipts!AN46=\"\",\"\",nipts!AN46))","v":""},{"$f":"IF($AA$7=\"ganjil\",IF(nipts!S46=\"\",\"\",nipts!S46),IF(nipts!AO46=\"\",\"\",nipts!AO46))","v":""},{"$f":"IF($AA$7=\"ganjil\",IF(nipts!T46=\"\",\"\",nipts!T46),IF(nipts!AP46=\"\",\"\",nipts!AP46))","v":""},{"$f":"IF($AA$7=\"ganjil\",IF(nipts!U46=\"\",\"\",nipts!U46),IF(nipts!AQ46=\"\",\"\",nipts!AQ46))","v":""},{"$f":"IF($AA$7=\"ganjil\",IF(nipts!V46=\"\",\"\",nipts!V46),IF(nipts!AR46=\"\",\"\",nipts!AR46))","v":""},{"$f":"IF($AA$7=\"ganjil\",IF(nipts!W46=\"\",\"\",nipts!W46),IF(nipts!AS46=\"\",\"\",nipts!AS46))","v":""},"",null,"",null,"",null,null,0,"",{"$f":"IF(AH50=\"\",\"\",RANK(AH50,$AH$14:$AH$63,0)+COUNTIF($AH$13:AH49,AH50))","v":""}]
[null,null,{"$f":"IF(Database!$A41=\"\",\"\",Database!$A41)","v":""},{"$f":"IF(Database!$D41=\"\",\"\",Database!$D41)","v":""},null,null,null,null,null,{"$f":"IF($AA$7=\"ganjil\",IF(nipts!H47=\"\",\"\",nipts!H47),IF(nipts!AD47=\"\",\"\",nipts!AD47))","v":""},{"$f":"IF($AA$7=\"ganjil\",IF(nipts!I47=\"\",\"\",nipts!I47),IF(nipts!AE47=\"\",\"\",nipts!AE47))","v":""},{"$f":"IF($AA$7=\"ganjil\",IF(nipts!J47=\"\",\"\",nipts!J47),IF(nipts!AF47=\"\",\"\",nipts!AF47))","v":""},{"$f":"IF($AA$7=\"ganjil\",IF(nipts!L47=\"\",\"\",nipts!L47),IF(nipts!AH47=\"\",\"\",nipts!AH47))","v":""},{"$f":"IF($AA$7=\"ganjil\",IF(nipts!M47=\"\",\"\",nipts!M47),IF(nipts!AI47=\"\",\"\",nipts!AI47))","v":""},{"$f":"IF($AA$7=\"ganjil\",IF(nipts!N47=\"\",\"\",nipts!N47),IF(nipts!AJ47=\"\",\"\",nipts!AJ47))","v":""},{"$f":"IF($AA$7=\"ganjil\",IF(nipts!K47=\"\",\"\",nipts!K47),IF(nipts!AG47=\"\",\"\",nipts!AG47))","v":""},{"$f":"IF($AA$7=\"ganjil\",IF(nipts!O47=\"\",\"\",nipts!O47),IF(nipts!AK47=\"\",\"\",nipts!AK47))","v":""},{"$f":"IF($AA$7=\"ganjil\",IF(nipts!P47=\"\",\"\",nipts!P47),IF(nipts!AL47=\"\",\"\",nipts!AL47))","v":""},{"$f":"IF($AA$7=\"ganjil\",IF(nipts!Q47=\"\",\"\",nipts!Q47),IF(nipts!AM47=\"\",\"\",nipts!AM47))","v":""},{"$f":"IF($AA$7=\"ganjil\",IF(nipts!R47=\"\",\"\",nipts!R47),IF(nipts!AN47=\"\",\"\",nipts!AN47))","v":""},{"$f":"IF($AA$7=\"ganjil\",IF(nipts!S47=\"\",\"\",nipts!S47),IF(nipts!AO47=\"\",\"\",nipts!AO47))","v":""},{"$f":"IF($AA$7=\"ganjil\",IF(nipts!T47=\"\",\"\",nipts!T47),IF(nipts!AP47=\"\",\"\",nipts!AP47))","v":""},{"$f":"IF($AA$7=\"ganjil\",IF(nipts!U47=\"\",\"\",nipts!U47),IF(nipts!AQ47=\"\",\"\",nipts!AQ47))","v":""},{"$f":"IF($AA$7=\"ganjil\",IF(nipts!V47=\"\",\"\",nipts!V47),IF(nipts!AR47=\"\",\"\",nipts!AR47))","v":""},{"$f":"IF($AA$7=\"ganjil\",IF(nipts!W47=\"\",\"\",nipts!W47),IF(nipts!AS47=\"\",\"\",nipts!AS47))","v":""},"",null,"",null,"",null,null,0,"",{"$f":"IF(AH51=\"\",\"\",RANK(AH51,$AH$14:$AH$63,0)+COUNTIF($AH$13:AH50,AH51))","v":""}]
[null,null,{"$f":"IF(Database!$A42=\"\",\"\",Database!$A42)","v":""},{"$f":"IF(Database!$D42=\"\",\"\",Database!$D42)","v":""},null,null,null,null,null,{"$f":"IF($AA$7=\"ganjil\",IF(nipts!H48=\"\",\"\",nipts!H48),IF(nipts!AD48=\"\",\"\",nipts!AD48))","v":""},{"$f":"IF($AA$7=\"ganjil\",IF(nipts!I48=\"\",\"\",nipts!I48),IF(nipts!AE48=\"\",\"\",nipts!AE48))","v":""},{"$f":"IF($AA$7=\"ganjil\",IF(nipts!J48=\"\",\"\",nipts!J48),IF(nipts!AF48=\"\",\"\",nipts!AF48))","v":""},{"$f":"IF($AA$7=\"ganjil\",IF(nipts!L48=\"\",\"\",nipts!L48),IF(nipts!AH48=\"\",\"\",nipts!AH48))","v":""},{"$f":"IF($AA$7=\"ganjil\",IF(nipts!M48=\"\",\"\",nipts!M48),IF(nipts!AI48=\"\",\"\",nipts!AI48))","v":""},{"$f":"IF($AA$7=\"ganjil\",IF(nipts!N48=\"\",\"\",nipts!N48),IF(nipts!AJ48=\"\",\"\",nipts!AJ48))","v":""},{"$f":"IF($AA$7=\"ganjil\",IF(nipts!K48=\"\",\"\",nipts!K48),IF(nipts!AG48=\"\",\"\",nipts!AG48))","v":""},{"$f":"IF($AA$7=\"ganjil\",IF(nipts!O48=\"\",\"\",nipts!O48),IF(nipts!AK48=\"\",\"\",nipts!AK48))","v":""},{"$f":"IF($AA$7=\"ganjil\",IF(nipts!P48=\"\",\"\",nipts!P48),IF(nipts!AL48=\"\",\"\",nipts!AL48))","v":""},{"$f":"IF($AA$7=\"ganjil\",IF(nipts!Q48=\"\",\"\",nipts!Q48),IF(nipts!AM48=\"\",\"\",nipts!AM48))","v":""},{"$f":"IF($AA$7=\"ganjil\",IF(nipts!R48=\"\",\"\",nipts!R48),IF(nipts!AN48=\"\",\"\",nipts!AN48))","v":""},{"$f":"IF($AA$7=\"ganjil\",IF(nipts!S48=\"\",\"\",nipts!S48),IF(nipts!AO48=\"\",\"\",nipts!AO48))","v":""},{"$f":"IF($AA$7=\"ganjil\",IF(nipts!T48=\"\",\"\",nipts!T48),IF(nipts!AP48=\"\",\"\",nipts!AP48))","v":""},{"$f":"IF($AA$7=\"ganjil\",IF(nipts!U48=\"\",\"\",nipts!U48),IF(nipts!AQ48=\"\",\"\",nipts!AQ48))","v":""},{"$f":"IF($AA$7=\"ganjil\",IF(nipts!V48=\"\",\"\",nipts!V48),IF(nipts!AR48=\"\",\"\",nipts!AR48))","v":""},{"$f":"IF($AA$7=\"ganjil\",IF(nipts!W48=\"\",\"\",nipts!W48),IF(nipts!AS48=\"\",\"\",nipts!AS48))","v":""},"",null,"",null,"",null,null,0,"",{"$f":"IF(AH52=\"\",\"\",RANK(AH52,$AH$14:$AH$63,0)+COUNTIF($AH$13:AH51,AH52))","v":""}]
[null,null,{"$f":"IF(Database!$A43=\"\",\"\",Database!$A43)","v":""},{"$f":"IF(Database!$D43=\"\",\"\",Database!$D43)","v":""},null,null,null,null,null,{"$f":"IF($AA$7=\"ganjil\",IF(nipts!H49=\"\",\"\",nipts!H49),IF(nipts!AD49=\"\",\"\",nipts!AD49))","v":""},{"$f":"IF($AA$7=\"ganjil\",IF(nipts!I49=\"\",\"\",nipts!I49),IF(nipts!AE49=\"\",\"\",nipts!AE49))","v":""},{"$f":"IF($AA$7=\"ganjil\",IF(nipts!J49=\"\",\"\",nipts!J49),IF(nipts!AF49=\"\",\"\",nipts!AF49))","v":""},{"$f":"IF($AA$7=\"ganjil\",IF(nipts!L49=\"\",\"\",nipts!L49),IF(nipts!AH49=\"\",\"\",nipts!AH49))","v":""},{"$f":"IF($AA$7=\"ganjil\",IF(nipts!M49=\"\",\"\",nipts!M49),IF(nipts!AI49=\"\",\"\",nipts!AI49))","v":""},{"$f":"IF($AA$7=\"ganjil\",IF(nipts!N49=\"\",\"\",nipts!N49),IF(nipts!AJ49=\"\",\"\",nipts!AJ49))","v":""},{"$f":"IF($AA$7=\"ganjil\",IF(nipts!K49=\"\",\"\",nipts!K49),IF(nipts!AG49=\"\",\"\",nipts!AG49))","v":""},{"$f":"IF($AA$7=\"ganjil\",IF(nipts!O49=\"\",\"\",nipts!O49),IF(nipts!AK49=\"\",\"\",nipts!AK49))","v":""},{"$f":"IF($AA$7=\"ganjil\",IF(nipts!P49=\"\",\"\",nipts!P49),IF(nipts!AL49=\"\",\"\",nipts!AL49))","v":""},{"$f":"IF($AA$7=\"ganjil\",IF(nipts!Q49=\"\",\"\",nipts!Q49),IF(nipts!AM49=\"\",\"\",nipts!AM49))","v":""},{"$f":"IF($AA$7=\"ganjil\",IF(nipts!R49=\"\",\"\",nipts!R49),IF(nipts!AN49=\"\",\"\",nipts!AN49))","v":""},{"$f":"IF($AA$7=\"ganjil\",IF(nipts!S49=\"\",\"\",nipts!S49),IF(nipts!AO49=\"\",\"\",nipts!AO49))","v":""},{"$f":"IF($AA$7=\"ganjil\",IF(nipts!T49=\"\",\"\",nipts!T49),IF(nipts!AP49=\"\",\"\",nipts!AP49))","v":""},{"$f":"IF($AA$7=\"ganjil\",IF(nipts!U49=\"\",\"\",nipts!U49),IF(nipts!AQ49=\"\",\"\",nipts!AQ49))","v":""},{"$f":"IF($AA$7=\"ganjil\",IF(nipts!V49=\"\",\"\",nipts!V49),IF(nipts!AR49=\"\",\"\",nipts!AR49))","v":""},{"$f":"IF($AA$7=\"ganjil\",IF(nipts!W49=\"\",\"\",nipts!W49),IF(nipts!AS49=\"\",\"\",nipts!AS49))","v":""},"",null,"",null,"",null,null,0,"",{"$f":"IF(AH53=\"\",\"\",RANK(AH53,$AH$14:$AH$63,0)+COUNTIF($AH$13:AH52,AH53))","v":""}]
[null,null,{"$f":"IF(Database!$A44=\"\",\"\",Database!$A44)","v":""},{"$f":"IF(Database!$D44=\"\",\"\",Database!$D44)","v":""},null,null,null,null,null,{"$f":"IF($AA$7=\"ganjil\",IF(nipts!H50=\"\",\"\",nipts!H50),IF(nipts!AD50=\"\",\"\",nipts!AD50))","v":""},{"$f":"IF($AA$7=\"ganjil\",IF(nipts!I50=\"\",\"\",nipts!I50),IF(nipts!AE50=\"\",\"\",nipts!AE50))","v":""},{"$f":"IF($AA$7=\"ganjil\",IF(nipts!J50=\"\",\"\",nipts!J50),IF(nipts!AF50=\"\",\"\",nipts!AF50))","v":""},{"$f":"IF($AA$7=\"ganjil\",IF(nipts!L50=\"\",\"\",nipts!L50),IF(nipts!AH50=\"\",\"\",nipts!AH50))","v":""},{"$f":"IF($AA$7=\"ganjil\",IF(nipts!M50=\"\",\"\",nipts!M50),IF(nipts!AI50=\"\",\"\",nipts!AI50))","v":""},{"$f":"IF($AA$7=\"ganjil\",IF(nipts!N50=\"\",\"\",nipts!N50),IF(nipts!AJ50=\"\",\"\",nipts!AJ50))","v":""},{"$f":"IF($AA$7=\"ganjil\",IF(nipts!K50=\"\",\"\",nipts!K50),IF(nipts!AG50=\"\",\"\",nipts!AG50))","v":""},{"$f":"IF($AA$7=\"ganjil\",IF(nipts!O50=\"\",\"\",nipts!O50),IF(nipts!AK50=\"\",\"\",nipts!AK50))","v":""},{"$f":"IF($AA$7=\"ganjil\",IF(nipts!P50=\"\",\"\",nipts!P50),IF(nipts!AL50=\"\",\"\",nipts!AL50))","v":""},{"$f":"IF($AA$7=\"ganjil\",IF(nipts!Q50=\"\",\"\",nipts!Q50),IF(nipts!AM50=\"\",\"\",nipts!AM50))","v":""},{"$f":"IF($AA$7=\"ganjil\",IF(nipts!R50=\"\",\"\",nipts!R50),IF(nipts!AN50=\"\",\"\",nipts!AN50))","v":""},{"$f":"IF($AA$7=\"ganjil\",IF(nipts!S50=\"\",\"\",nipts!S50),IF(nipts!AO50=\"\",\"\",nipts!AO50))","v":""},{"$f":"IF($AA$7=\"ganjil\",IF(nipts!T50=\"\",\"\",nipts!T50),IF(nipts!AP50=\"\",\"\",nipts!AP50))","v":""},{"$f":"IF($AA$7=\"ganjil\",IF(nipts!U50=\"\",\"\",nipts!U50),IF(nipts!AQ50=\"\",\"\",nipts!AQ50))","v":""},{"$f":"IF($AA$7=\"ganjil\",IF(nipts!V50=\"\",\"\",nipts!V50),IF(nipts!AR50=\"\",\"\",nipts!AR50))","v":""},{"$f":"IF($AA$7=\"ganjil\",IF(nipts!W50=\"\",\"\",nipts!W50),IF(nipts!AS50=\"\",\"\",nipts!AS50))","v":""},"",null,"",null,"",null,null,0,"",{"$f":"IF(AH54=\"\",\"\",RANK(AH54,$AH$14:$AH$63,0)+COUNTIF($AH$13:AH53,AH54))","v":""}]
[null,null,{"$f":"IF(Database!$A45=\"\",\"\",Database!$A45)","v":""},{"$f":"IF(Database!$D45=\"\",\"\",Database!$D45)","v":""},null,null,null,null,null,{"$f":"IF($AA$7=\"ganjil\",IF(nipts!H51=\"\",\"\",nipts!H51),IF(nipts!AD51=\"\",\"\",nipts!AD51))","v":""},{"$f":"IF($AA$7=\"ganjil\",IF(nipts!I51=\"\",\"\",nipts!I51),IF(nipts!AE51=\"\",\"\",nipts!AE51))","v":""},{"$f":"IF($AA$7=\"ganjil\",IF(nipts!J51=\"\",\"\",nipts!J51),IF(nipts!AF51=\"\",\"\",nipts!AF51))","v":""},{"$f":"IF($AA$7=\"ganjil\",IF(nipts!L51=\"\",\"\",nipts!L51),IF(nipts!AH51=\"\",\"\",nipts!AH51))","v":""},{"$f":"IF($AA$7=\"ganjil\",IF(nipts!M51=\"\",\"\",nipts!M51),IF(nipts!AI51=\"\",\"\",nipts!AI51))","v":""},{"$f":"IF($AA$7=\"ganjil\",IF(nipts!N51=\"\",\"\",nipts!N51),IF(nipts!AJ51=\"\",\"\",nipts!AJ51))","v":""},{"$f":"IF($AA$7=\"ganjil\",IF(nipts!K51=\"\",\"\",nipts!K51),IF(nipts!AG51=\"\",\"\",nipts!AG51))","v":""},{"$f":"IF($AA$7=\"ganjil\",IF(nipts!O51=\"\",\"\",nipts!O51),IF(nipts!AK51=\"\",\"\",nipts!AK51))","v":""},{"$f":"IF($AA$7=\"ganjil\",IF(nipts!P51=\"\",\"\",nipts!P51),IF(nipts!AL51=\"\",\"\",nipts!AL51))","v":""},{"$f":"IF($AA$7=\"ganjil\",IF(nipts!Q51=\"\",\"\",nipts!Q51),IF(nipts!AM51=\"\",\"\",nipts!AM51))","v":""},{"$f":"IF($AA$7=\"ganjil\",IF(nipts!R51=\"\",\"\",nipts!R51),IF(nipts!AN51=\"\",\"\",nipts!AN51))","v":""},{"$f":"IF($AA$7=\"ganjil\",IF(nipts!S51=\"\",\"\",nipts!S51),IF(nipts!AO51=\"\",\"\",nipts!AO51))","v":""},{"$f":"IF($AA$7=\"ganjil\",IF(nipts!T51=\"\",\"\",nipts!T51),IF(nipts!AP51=\"\",\"\",nipts!AP51))","v":""},{"$f":"IF($AA$7=\"ganjil\",IF(nipts!U51=\"\",\"\",nipts!U51),IF(nipts!AQ51=\"\",\"\",nipts!AQ51))","v":""},{"$f":"IF($AA$7=\"ganjil\",IF(nipts!V51=\"\",\"\",nipts!V51),IF(nipts!AR51=\"\",\"\",nipts!AR51))","v":""},{"$f":"IF($AA$7=\"ganjil\",IF(nipts!W51=\"\",\"\",nipts!W51),IF(nipts!AS51=\"\",\"\",nipts!AS51))","v":""},"",null,"",null,"",null,null,0,"",{"$f":"IF(AH55=\"\",\"\",RANK(AH55,$AH$14:$AH$63,0)+COUNTIF($AH$13:AH54,AH55))","v":""}]
[null,null,{"$f":"IF(Database!$A46=\"\",\"\",Database!$A46)","v":""},{"$f":"IF(Database!$D46=\"\",\"\",Database!$D46)","v":""},null,null,null,null,null,{"$f":"IF($AA$7=\"ganjil\",IF(nipts!H52=\"\",\"\",nipts!H52),IF(nipts!AD52=\"\",\"\",nipts!AD52))","v":""},{"$f":"IF($AA$7=\"ganjil\",IF(nipts!I52=\"\",\"\",nipts!I52),IF(nipts!AE52=\"\",\"\",nipts!AE52))","v":""},{"$f":"IF($AA$7=\"ganjil\",IF(nipts!J52=\"\",\"\",nipts!J52),IF(nipts!AF52=\"\",\"\",nipts!AF52))","v":""},{"$f":"IF($AA$7=\"ganjil\",IF(nipts!L52=\"\",\"\",nipts!L52),IF(nipts!AH52=\"\",\"\",nipts!AH52))","v":""},{"$f":"IF($AA$7=\"ganjil\",IF(nipts!M52=\"\",\"\",nipts!M52),IF(nipts!AI52=\"\",\"\",nipts!AI52))","v":""},{"$f":"IF($AA$7=\"ganjil\",IF(nipts!N52=\"\",\"\",nipts!N52),IF(nipts!AJ52=\"\",\"\",nipts!AJ52))","v":""},{"$f":"IF($AA$7=\"ganjil\",IF(nipts!K52=\"\",\"\",nipts!K52),IF(nipts!AG52=\"\",\"\",nipts!AG52))","v":""},{"$f":"IF($AA$7=\"ganjil\",IF(nipts!O52=\"\",\"\",nipts!O52),IF(nipts!AK52=\"\",\"\",nipts!AK52))","v":""},{"$f":"IF($AA$7=\"ganjil\",IF(nipts!P52=\"\",\"\",nipts!P52),IF(nipts!AL52=\"\",\"\",nipts!AL52))","v":""},{"$f":"IF($AA$7=\"ganjil\",IF(nipts!Q52=\"\",\"\",nipts!Q52),IF(nipts!AM52=\"\",\"\",nipts!AM52))","v":""},{"$f":"IF($AA$7=\"ganjil\",IF(nipts!R52=\"\",\"\",nipts!R52),IF(nipts!AN52=\"\",\"\",nipts!AN52))","v":""},{"$f":"IF($AA$7=\"ganjil\",IF(nipts!S52=\"\",\"\",nipts!S52),IF(nipts!AO52=\"\",\"\",nipts!AO52))","v":""},{"$f":"IF($AA$7=\"ganjil\",IF(nipts!T52=\"\",\"\",nipts!T52),IF(nipts!AP52=\"\",\"\",nipts!AP52))","v":""},{"$f":"IF($AA$7=\"ganjil\",IF(nipts!U52=\"\",\"\",nipts!U52),IF(nipts!AQ52=\"\",\"\",nipts!AQ52))","v":""},{"$f":"IF($AA$7=\"ganjil\",IF(nipts!V52=\"\",\"\",nipts!V52),IF(nipts!AR52=\"\",\"\",nipts!AR52))","v":""},{"$f":"IF($AA$7=\"ganjil\",IF(nipts!W52=\"\",\"\",nipts!W52),IF(nipts!AS52=\"\",\"\",nipts!AS52))","v":""},"",null,"",null,"",null,null,0,"",{"$f":"IF(AH56=\"\",\"\",RANK(AH56,$AH$14:$AH$63,0)+COUNTIF($AH$13:AH55,AH56))","v":""}]
[null,null,{"$f":"IF(Database!$A47=\"\",\"\",Database!$A47)","v":""},{"$f":"IF(Database!$D47=\"\",\"\",Database!$D47)","v":""},null,null,null,null,null,{"$f":"IF($AA$7=\"ganjil\",IF(nipts!H53=\"\",\"\",nipts!H53),IF(nipts!AD53=\"\",\"\",nipts!AD53))","v":""},{"$f":"IF($AA$7=\"ganjil\",IF(nipts!I53=\"\",\"\",nipts!I53),IF(nipts!AE53=\"\",\"\",nipts!AE53))","v":""},{"$f":"IF($AA$7=\"ganjil\",IF(nipts!J53=\"\",\"\",nipts!J53),IF(nipts!AF53=\"\",\"\",nipts!AF53))","v":""},{"$f":"IF($AA$7=\"ganjil\",IF(nipts!L53=\"\",\"\",nipts!L53),IF(nipts!AH53=\"\",\"\",nipts!AH53))","v":""},{"$f":"IF($AA$7=\"ganjil\",IF(nipts!M53=\"\",\"\",nipts!M53),IF(nipts!AI53=\"\",\"\",nipts!AI53))","v":""},{"$f":"IF($AA$7=\"ganjil\",IF(nipts!N53=\"\",\"\",nipts!N53),IF(nipts!AJ53=\"\",\"\",nipts!AJ53))","v":""},{"$f":"IF($AA$7=\"ganjil\",IF(nipts!K53=\"\",\"\",nipts!K53),IF(nipts!AG53=\"\",\"\",nipts!AG53))","v":""},{"$f":"IF($AA$7=\"ganjil\",IF(nipts!O53=\"\",\"\",nipts!O53),IF(nipts!AK53=\"\",\"\",nipts!AK53))","v":""},{"$f":"IF($AA$7=\"ganjil\",IF(nipts!P53=\"\",\"\",nipts!P53),IF(nipts!AL53=\"\",\"\",nipts!AL53))","v":""},{"$f":"IF($AA$7=\"ganjil\",IF(nipts!Q53=\"\",\"\",nipts!Q53),IF(nipts!AM53=\"\",\"\",nipts!AM53))","v":""},{"$f":"IF($AA$7=\"ganjil\",IF(nipts!R53=\"\",\"\",nipts!R53),IF(nipts!AN53=\"\",\"\",nipts!AN53))","v":""},{"$f":"IF($AA$7=\"ganjil\",IF(nipts!S53=\"\",\"\",nipts!S53),IF(nipts!AO53=\"\",\"\",nipts!AO53))","v":""},{"$f":"IF($AA$7=\"ganjil\",IF(nipts!T53=\"\",\"\",nipts!T53),IF(nipts!AP53=\"\",\"\",nipts!AP53))","v":""},{"$f":"IF($AA$7=\"ganjil\",IF(nipts!U53=\"\",\"\",nipts!U53),IF(nipts!AQ53=\"\",\"\",nipts!AQ53))","v":""},{"$f":"IF($AA$7=\"ganjil\",IF(nipts!V53=\"\",\"\",nipts!V53),IF(nipts!AR53=\"\",\"\",nipts!AR53))","v":""},{"$f":"IF($AA$7=\"ganjil\",IF(nipts!W53=\"\",\"\",nipts!W53),IF(nipts!AS53=\"\",\"\",nipts!AS53))","v":""},"",null,"",null,"",null,null,0,"",{"$f":"IF(AH57=\"\",\"\",RANK(AH57,$AH$14:$AH$63,0)+COUNTIF($AH$13:AH56,AH57))","v":""}]
[null,null,{"$f":"IF(Database!$A48=\"\",\"\",Database!$A48)","v":""},{"$f":"IF(Database!$D48=\"\",\"\",Database!$D48)","v":""},null,null,null,null,null,{"$f":"IF($AA$7=\"ganjil\",IF(nipts!H54=\"\",\"\",nipts!H54),IF(nipts!AD54=\"\",\"\",nipts!AD54))","v":""},{"$f":"IF($AA$7=\"ganjil\",IF(nipts!I54=\"\",\"\",nipts!I54),IF(nipts!AE54=\"\",\"\",nipts!AE54))","v":""},{"$f":"IF($AA$7=\"ganjil\",IF(nipts!J54=\"\",\"\",nipts!J54),IF(nipts!AF54=\"\",\"\",nipts!AF54))","v":""},{"$f":"IF($AA$7=\"ganjil\",IF(nipts!L54=\"\",\"\",nipts!L54),IF(nipts!AH54=\"\",\"\",nipts!AH54))","v":""},{"$f":"IF($AA$7=\"ganjil\",IF(nipts!M54=\"\",\"\",nipts!M54),IF(nipts!AI54=\"\",\"\",nipts!AI54))","v":""},{"$f":"IF($AA$7=\"ganjil\",IF(nipts!N54=\"\",\"\",nipts!N54),IF(nipts!AJ54=\"\",\"\",nipts!AJ54))","v":""},{"$f":"IF($AA$7=\"ganjil\",IF(nipts!K54=\"\",\"\",nipts!K54),IF(nipts!AG54=\"\",\"\",nipts!AG54))","v":""},{"$f":"IF($AA$7=\"ganjil\",IF(nipts!O54=\"\",\"\",nipts!O54),IF(nipts!AK54=\"\",\"\",nipts!AK54))","v":""},{"$f":"IF($AA$7=\"ganjil\",IF(nipts!P54=\"\",\"\",nipts!P54),IF(nipts!AL54=\"\",\"\",nipts!AL54))","v":""},{"$f":"IF($AA$7=\"ganjil\",IF(nipts!Q54=\"\",\"\",nipts!Q54),IF(nipts!AM54=\"\",\"\",nipts!AM54))","v":""},{"$f":"IF($AA$7=\"ganjil\",IF(nipts!R54=\"\",\"\",nipts!R54),IF(nipts!AN54=\"\",\"\",nipts!AN54))","v":""},{"$f":"IF($AA$7=\"ganjil\",IF(nipts!S54=\"\",\"\",nipts!S54),IF(nipts!AO54=\"\",\"\",nipts!AO54))","v":""},{"$f":"IF($AA$7=\"ganjil\",IF(nipts!T54=\"\",\"\",nipts!T54),IF(nipts!AP54=\"\",\"\",nipts!AP54))","v":""},{"$f":"IF($AA$7=\"ganjil\",IF(nipts!U54=\"\",\"\",nipts!U54),IF(nipts!AQ54=\"\",\"\",nipts!AQ54))","v":""},{"$f":"IF($AA$7=\"ganjil\",IF(nipts!V54=\"\",\"\",nipts!V54),IF(nipts!AR54=\"\",\"\",nipts!AR54))","v":""},{"$f":"IF($AA$7=\"ganjil\",IF(nipts!W54=\"\",\"\",nipts!W54),IF(nipts!AS54=\"\",\"\",nipts!AS54))","v":""},"",null,"",null,"",null,null,0,"",{"$f":"IF(AH58=\"\",\"\",RANK(AH58,$AH$14:$AH$63,0)+COUNTIF($AH$13:AH57,AH58))","v":""}]
[null,null,{"$f":"IF(Database!$A49=\"\",\"\",Database!$A49)","v":""},{"$f":"IF(Database!$D49=\"\",\"\",Database!$D49)","v":""},null,null,null,null,null,{"$f":"IF($AA$7=\"ganjil\",IF(nipts!H55=\"\",\"\",nipts!H55),IF(nipts!AD55=\"\",\"\",nipts!AD55))","v":""},{"$f":"IF($AA$7=\"ganjil\",IF(nipts!I55=\"\",\"\",nipts!I55),IF(nipts!AE55=\"\",\"\",nipts!AE55))","v":""},{"$f":"IF($AA$7=\"ganjil\",IF(nipts!J55=\"\",\"\",nipts!J55),IF(nipts!AF55=\"\",\"\",nipts!AF55))","v":""},{"$f":"IF($AA$7=\"ganjil\",IF(nipts!L55=\"\",\"\",nipts!L55),IF(nipts!AH55=\"\",\"\",nipts!AH55))","v":""},{"$f":"IF($AA$7=\"ganjil\",IF(nipts!M55=\"\",\"\",nipts!M55),IF(nipts!AI55=\"\",\"\",nipts!AI55))","v":""},{"$f":"IF($AA$7=\"ganjil\",IF(nipts!N55=\"\",\"\",nipts!N55),IF(nipts!AJ55=\"\",\"\",nipts!AJ55))","v":""},{"$f":"IF($AA$7=\"ganjil\",IF(nipts!K55=\"\",\"\",nipts!K55),IF(nipts!AG55=\"\",\"\",nipts!AG55))","v":""},{"$f":"IF($AA$7=\"ganjil\",IF(nipts!O55=\"\",\"\",nipts!O55),IF(nipts!AK55=\"\",\"\",nipts!AK55))","v":""},{"$f":"IF($AA$7=\"ganjil\",IF(nipts!P55=\"\",\"\",nipts!P55),IF(nipts!AL55=\"\",\"\",nipts!AL55))","v":""},{"$f":"IF($AA$7=\"ganjil\",IF(nipts!Q55=\"\",\"\",nipts!Q55),IF(nipts!AM55=\"\",\"\",nipts!AM55))","v":""},{"$f":"IF($AA$7=\"ganjil\",IF(nipts!R55=\"\",\"\",nipts!R55),IF(nipts!AN55=\"\",\"\",nipts!AN55))","v":""},{"$f":"IF($AA$7=\"ganjil\",IF(nipts!S55=\"\",\"\",nipts!S55),IF(nipts!AO55=\"\",\"\",nipts!AO55))","v":""},{"$f":"IF($AA$7=\"ganjil\",IF(nipts!T55=\"\",\"\",nipts!T55),IF(nipts!AP55=\"\",\"\",nipts!AP55))","v":""},{"$f":"IF($AA$7=\"ganjil\",IF(nipts!U55=\"\",\"\",nipts!U55),IF(nipts!AQ55=\"\",\"\",nipts!AQ55))","v":""},{"$f":"IF($AA$7=\"ganjil\",IF(nipts!V55=\"\",\"\",nipts!V55),IF(nipts!AR55=\"\",\"\",nipts!AR55))","v":""},{"$f":"IF($AA$7=\"ganjil\",IF(nipts!W55=\"\",\"\",nipts!W55),IF(nipts!AS55=\"\",\"\",nipts!AS55))","v":""},"",null,"",null,"",null,null,0,"",{"$f":"IF(AH59=\"\",\"\",RANK(AH59,$AH$14:$AH$63,0)+COUNTIF($AH$13:AH58,AH59))","v":""}]
[null,null,{"$f":"IF(Database!$A50=\"\",\"\",Database!$A50)","v":""},{"$f":"IF(Database!$D50=\"\",\"\",Database!$D50)","v":""},null,null,null,null,null,{"$f":"IF($AA$7=\"ganjil\",IF(nipts!H56=\"\",\"\",nipts!H56),IF(nipts!AD56=\"\",\"\",nipts!AD56))","v":""},{"$f":"IF($AA$7=\"ganjil\",IF(nipts!I56=\"\",\"\",nipts!I56),IF(nipts!AE56=\"\",\"\",nipts!AE56))","v":""},{"$f":"IF($AA$7=\"ganjil\",IF(nipts!J56=\"\",\"\",nipts!J56),IF(nipts!AF56=\"\",\"\",nipts!AF56))","v":""},{"$f":"IF($AA$7=\"ganjil\",IF(nipts!L56=\"\",\"\",nipts!L56),IF(nipts!AH56=\"\",\"\",nipts!AH56))","v":""},{"$f":"IF($AA$7=\"ganjil\",IF(nipts!M56=\"\",\"\",nipts!M56),IF(nipts!AI56=\"\",\"\",nipts!AI56))","v":""},{"$f":"IF($AA$7=\"ganjil\",IF(nipts!N56=\"\",\"\",nipts!N56),IF(nipts!AJ56=\"\",\"\",nipts!AJ56))","v":""},{"$f":"IF($AA$7=\"ganjil\",IF(nipts!K56=\"\",\"\",nipts!K56),IF(nipts!AG56=\"\",\"\",nipts!AG56))","v":""},{"$f":"IF($AA$7=\"ganjil\",IF(nipts!O56=\"\",\"\",nipts!O56),IF(nipts!AK56=\"\",\"\",nipts!AK56))","v":""},{"$f":"IF($AA$7=\"ganjil\",IF(nipts!P56=\"\",\"\",nipts!P56),IF(nipts!AL56=\"\",\"\",nipts!AL56))","v":""},{"$f":"IF($AA$7=\"ganjil\",IF(nipts!Q56=\"\",\"\",nipts!Q56),IF(nipts!AM56=\"\",\"\",nipts!AM56))","v":""},{"$f":"IF($AA$7=\"ganjil\",IF(nipts!R56=\"\",\"\",nipts!R56),IF(nipts!AN56=\"\",\"\",nipts!AN56))","v":""},{"$f":"IF($AA$7=\"ganjil\",IF(nipts!S56=\"\",\"\",nipts!S56),IF(nipts!AO56=\"\",\"\",nipts!AO56))","v":""},{"$f":"IF($AA$7=\"ganjil\",IF(nipts!T56=\"\",\"\",nipts!T56),IF(nipts!AP56=\"\",\"\",nipts!AP56))","v":""},{"$f":"IF($AA$7=\"ganjil\",IF(nipts!U56=\"\",\"\",nipts!U56),IF(nipts!AQ56=\"\",\"\",nipts!AQ56))","v":""},{"$f":"IF($AA$7=\"ganjil\",IF(nipts!V56=\"\",\"\",nipts!V56),IF(nipts!AR56=\"\",\"\",nipts!AR56))","v":""},{"$f":"IF($AA$7=\"ganjil\",IF(nipts!W56=\"\",\"\",nipts!W56),IF(nipts!AS56=\"\",\"\",nipts!AS56))","v":""},"",null,"",null,"",null,null,0,"",{"$f":"IF(AH60=\"\",\"\",RANK(AH60,$AH$14:$AH$63,0)+COUNTIF($AH$13:AH59,AH60))","v":""}]
[null,null,{"$f":"IF(Database!$A51=\"\",\"\",Database!$A51)","v":""},{"$f":"IF(Database!$D51=\"\",\"\",Database!$D51)","v":""},null,null,null,null,null,{"$f":"IF($AA$7=\"ganjil\",IF(nipts!H57=\"\",\"\",nipts!H57),IF(nipts!AD57=\"\",\"\",nipts!AD57))","v":""},{"$f":"IF($AA$7=\"ganjil\",IF(nipts!I57=\"\",\"\",nipts!I57),IF(nipts!AE57=\"\",\"\",nipts!AE57))","v":""},{"$f":"IF($AA$7=\"ganjil\",IF(nipts!J57=\"\",\"\",nipts!J57),IF(nipts!AF57=\"\",\"\",nipts!AF57))","v":""},{"$f":"IF($AA$7=\"ganjil\",IF(nipts!L57=\"\",\"\",nipts!L57),IF(nipts!AH57=\"\",\"\",nipts!AH57))","v":""},{"$f":"IF($AA$7=\"ganjil\",IF(nipts!M57=\"\",\"\",nipts!M57),IF(nipts!AI57=\"\",\"\",nipts!AI57))","v":""},{"$f":"IF($AA$7=\"ganjil\",IF(nipts!N57=\"\",\"\",nipts!N57),IF(nipts!AJ57=\"\",\"\",nipts!AJ57))","v":""},{"$f":"IF($AA$7=\"ganjil\",IF(nipts!K57=\"\",\"\",nipts!K57),IF(nipts!AG57=\"\",\"\",nipts!AG57))","v":""},{"$f":"IF($AA$7=\"ganjil\",IF(nipts!O57=\"\",\"\",nipts!O57),IF(nipts!AK57=\"\",\"\",nipts!AK57))","v":""},{"$f":"IF($AA$7=\"ganjil\",IF(nipts!P57=\"\",\"\",nipts!P57),IF(nipts!AL57=\"\",\"\",nipts!AL57))","v":""},{"$f":"IF($AA$7=\"ganjil\",IF(nipts!Q57=\"\",\"\",nipts!Q57),IF(nipts!AM57=\"\",\"\",nipts!AM57))","v":""},{"$f":"IF($AA$7=\"ganjil\",IF(nipts!R57=\"\",\"\",nipts!R57),IF(nipts!AN57=\"\",\"\",nipts!AN57))","v":""},{"$f":"IF($AA$7=\"ganjil\",IF(nipts!S57=\"\",\"\",nipts!S57),IF(nipts!AO57=\"\",\"\",nipts!AO57))","v":""},{"$f":"IF($AA$7=\"ganjil\",IF(nipts!T57=\"\",\"\",nipts!T57),IF(nipts!AP57=\"\",\"\",nipts!AP57))","v":""},{"$f":"IF($AA$7=\"ganjil\",IF(nipts!U57=\"\",\"\",nipts!U57),IF(nipts!AQ57=\"\",\"\",nipts!AQ57))","v":""},{"$f":"IF($AA$7=\"ganjil\",IF(nipts!V57=\"\",\"\",nipts!V57),IF(nipts!AR57=\"\",\"\",nipts!AR57))","v":""},{"$f":"IF($AA$7=\"ganjil\",IF(nipts!W57=\"\",\"\",nipts!W57),IF(nipts!AS57=\"\",\"\",nipts!AS57))","v":""},"",null,"",null,"",null,null,0,"",{"$f":"IF(AH61=\"\",\"\",RANK(AH61,$AH$14:$AH$63,0)+COUNTIF($AH$13:AH60,AH61))","v":""}]
[null,null,{"$f":"IF(Database!$A52=\"\",\"\",Database!$A52)","v":""},{"$f":"IF(Database!$D52=\"\",\"\",Database!$D52)","v":""},null,null,null,null,null,{"$f":"IF($AA$7=\"ganjil\",IF(nipts!H58=\"\",\"\",nipts!H58),IF(nipts!AD58=\"\",\"\",nipts!AD58))","v":""},{"$f":"IF($AA$7=\"ganjil\",IF(nipts!I58=\"\",\"\",nipts!I58),IF(nipts!AE58=\"\",\"\",nipts!AE58))","v":""},{"$f":"IF($AA$7=\"ganjil\",IF(nipts!J58=\"\",\"\",nipts!J58),IF(nipts!AF58=\"\",\"\",nipts!AF58))","v":""},{"$f":"IF($AA$7=\"ganjil\",IF(nipts!L58=\"\",\"\",nipts!L58),IF(nipts!AH58=\"\",\"\",nipts!AH58))","v":""},{"$f":"IF($AA$7=\"ganjil\",IF(nipts!M58=\"\",\"\",nipts!M58),IF(nipts!AI58=\"\",\"\",nipts!AI58))","v":""},{"$f":"IF($AA$7=\"ganjil\",IF(nipts!N58=\"\",\"\",nipts!N58),IF(nipts!AJ58=\"\",\"\",nipts!AJ58))","v":""},{"$f":"IF($AA$7=\"ganjil\",IF(nipts!K58=\"\",\"\",nipts!K58),IF(nipts!AG58=\"\",\"\",nipts!AG58))","v":""},{"$f":"IF($AA$7=\"ganjil\",IF(nipts!O58=\"\",\"\",nipts!O58),IF(nipts!AK58=\"\",\"\",nipts!AK58))","v":""},{"$f":"IF($AA$7=\"ganjil\",IF(nipts!P58=\"\",\"\",nipts!P58),IF(nipts!AL58=\"\",\"\",nipts!AL58))","v":""},{"$f":"IF($AA$7=\"ganjil\",IF(nipts!Q58=\"\",\"\",nipts!Q58),IF(nipts!AM58=\"\",\"\",nipts!AM58))","v":""},{"$f":"IF($AA$7=\"ganjil\",IF(nipts!R58=\"\",\"\",nipts!R58),IF(nipts!AN58=\"\",\"\",nipts!AN58))","v":""},{"$f":"IF($AA$7=\"ganjil\",IF(nipts!S58=\"\",\"\",nipts!S58),IF(nipts!AO58=\"\",\"\",nipts!AO58))","v":""},{"$f":"IF($AA$7=\"ganjil\",IF(nipts!T58=\"\",\"\",nipts!T58),IF(nipts!AP58=\"\",\"\",nipts!AP58))","v":""},{"$f":"IF($AA$7=\"ganjil\",IF(nipts!U58=\"\",\"\",nipts!U58),IF(nipts!AQ58=\"\",\"\",nipts!AQ58))","v":""},{"$f":"IF($AA$7=\"ganjil\",IF(nipts!V58=\"\",\"\",nipts!V58),IF(nipts!AR58=\"\",\"\",nipts!AR58))","v":""},{"$f":"IF($AA$7=\"ganjil\",IF(nipts!W58=\"\",\"\",nipts!W58),IF(nipts!AS58=\"\",\"\",nipts!AS58))","v":""},"",null,"",null,"",null,null,0,"",{"$f":"IF(AH62=\"\",\"\",RANK(AH62,$AH$14:$AH$63,0)+COUNTIF($AH$13:AH61,AH62))","v":""}]
[null,null,{"$f":"IF(Database!$A53=\"\",\"\",Database!$A53)","v":""},{"$f":"IF(Database!$D53=\"\",\"\",Database!$D53)","v":""},null,null,null,null,null,{"$f":"IF($AA$7=\"ganjil\",IF(nipts!H59=\"\",\"\",nipts!H59),IF(nipts!AD59=\"\",\"\",nipts!AD59))","v":""},{"$f":"IF($AA$7=\"ganjil\",IF(nipts!I59=\"\",\"\",nipts!I59),IF(nipts!AE59=\"\",\"\",nipts!AE59))","v":""},{"$f":"IF($AA$7=\"ganjil\",IF(nipts!J59=\"\",\"\",nipts!J59),IF(nipts!AF59=\"\",\"\",nipts!AF59))","v":""},{"$f":"IF($AA$7=\"ganjil\",IF(nipts!L59=\"\",\"\",nipts!L59),IF(nipts!AH59=\"\",\"\",nipts!AH59))","v":""},{"$f":"IF($AA$7=\"ganjil\",IF(nipts!M59=\"\",\"\",nipts!M59),IF(nipts!AI59=\"\",\"\",nipts!AI59))","v":""},{"$f":"IF($AA$7=\"ganjil\",IF(nipts!N59=\"\",\"\",nipts!N59),IF(nipts!AJ59=\"\",\"\",nipts!AJ59))","v":""},{"$f":"IF($AA$7=\"ganjil\",IF(nipts!K59=\"\",\"\",nipts!K59),IF(nipts!AG59=\"\",\"\",nipts!AG59))","v":""},{"$f":"IF($AA$7=\"ganjil\",IF(nipts!O59=\"\",\"\",nipts!O59),IF(nipts!AK59=\"\",\"\",nipts!AK59))","v":""},{"$f":"IF($AA$7=\"ganjil\",IF(nipts!P59=\"\",\"\",nipts!P59),IF(nipts!AL59=\"\",\"\",nipts!AL59))","v":""},{"$f":"IF($AA$7=\"ganjil\",IF(nipts!Q59=\"\",\"\",nipts!Q59),IF(nipts!AM59=\"\",\"\",nipts!AM59))","v":""},{"$f":"IF($AA$7=\"ganjil\",IF(nipts!R59=\"\",\"\",nipts!R59),IF(nipts!AN59=\"\",\"\",nipts!AN59))","v":""},{"$f":"IF($AA$7=\"ganjil\",IF(nipts!S59=\"\",\"\",nipts!S59),IF(nipts!AO59=\"\",\"\",nipts!AO59))","v":""},{"$f":"IF($AA$7=\"ganjil\",IF(nipts!T59=\"\",\"\",nipts!T59),IF(nipts!AP59=\"\",\"\",nipts!AP59))","v":""},{"$f":"IF($AA$7=\"ganjil\",IF(nipts!U59=\"\",\"\",nipts!U59),IF(nipts!AQ59=\"\",\"\",nipts!AQ59))","v":""},{"$f":"IF($AA$7=\"ganjil\",IF(nipts!V59=\"\",\"\",nipts!V59),IF(nipts!AR59=\"\",\"\",nipts!AR59))","v":""},{"$f":"IF($AA$7=\"ganjil\",IF(nipts!W59=\"\",\"\",nipts!W59),IF(nipts!AS59=\"\",\"\",nipts!AS59))","v":""},"",null,"",null,"",null,null,0,"",{"$f":"IF(AH63=\"\",\"\",RANK(AH63,$AH$14:$AH$63,0)+COUNTIF($AH$13:AH62,AH63))","v":""}]
[null,null,"Nilai Terendah",null,null,null,null,null,null,{"$f":"MIN(J14:J63)","v":67},{"$f":"MIN(K14:K63)","v":65},74,45,45,67,67,45,45,45,45,68,45,45,{"$f":"IF(kur!$D$22=\"\",\"\",MIN(X14:X63))","v":""},{"$f":"IF(kur!$D$23=\"\",\"\",MIN(Y14:Y63))","v":""}]
[null,null,"Nilai Tertinggi",null,null,null,null,null,null,{"$f":"MAX(J14:J63)","v":90},{"$f":"MAX(K14:K63)","v":89},87,78,76,78,78,95,78,78,76,78,89,98,{"$f":"IF(kur!$D$22=\"\",\"\",MAX(X14:X63))","v":""},{"$f":"IF(kur!$D$23=\"\",\"\",MAX(Y14:Y63))","v":""}]
[null,null,"jumlah",null,null,null,null,null,null,{"$f":"SUM(J14:J63)","v":455},{"$f":"SUM(K14:K63)","v":449},463,387,403,449,442,435,396,409,401,450,400,412,{"$f":"IF(kur!$D$22=\"\",\"\",SUM(X14:X63))","v":""},{"$f":"IF(kur!$D$23=\"\",\"\",SUM(Y14:Y63))","v":""}]
[null,null,"Rata - rata",null,null,null,null,null,null,{"$f":"AVERAGE(J14:J63)","v":75.833333333333329},{"$f":"AVERAGE(K14:K63)","v":74.833333333333329},77.166666666666671,64.5,67.166666666666671,74.833333333333329,73.666666666666671,72.5,66,68.166666666666671,66.833333333333329,75,66.666666666666671,68.666666666666671,{"$f":"IF(kur!$D$22=\"\",\"\",AVERAGE(X14:X63))","v":""},{"$f":"IF(kur!$D$23=\"\",\"\",AVERAGE(Y14:Y63))","v":""}]
[]
[null,null,null,null,null,null,null,"Mengetahui",null,null,null,null,null,null,null,null,null,null,null,null,null,null,{"$f":"IF($AA$7=\"GANJIL\",sekolah!$E$28,sekolah!$E$29)","v":"Sampang, 17 maret 2019"}]
[null,null,null,null,null,null,null,{"$f":"\"Kepala \"&sekolah!$E$5","v":"Kepala MTs Nurul Hidayah"},null,null,null,null,null,null,null,null,null,null,null,null,null,null,{"$f":"IF($A$1<7,\"Guru Kelas \"&$A$5,\"Wali Kelas \"&$A$5)","v":"Wali Kelas 9  C"}]
[]
[]
[]
[null,null,null,null,null,null,null,{"$f":"sekolah!$E$18","v":"Syafaruddin,M.MPd"},null,null,null,null,null,null,null,null,null,null,null,null,null,null,{"$f":"sekolah!$E$23","v":"Rusli,MPd"}]
[null,null,null,null,null,null,null,{"$f":"\"NIP. \"&sekolah!$E$19","v":"NIP. 198112102005011004"},null,null,null,null,null,null,null,null,null,null,null,null,null,null,{"$f":"\"NIP. \"&sekolah!$E$24","v":"NIP. "}]

{"sheet":"legerpat","index":11,"n_rows":75,"n_cols":68,"rows_kept":75,"cut":false,"hidden":true,"merged":[[65,35,65,41],[65,58,65,59],[65,60,65,61],[66,35,66,41],[66,58,66,59],[66,60,66,61],[63,35,63,41],[63,58,63,59],[63,60,63,61],[64,35,64,41],[64,58,64,59],[64,60,64,61],[61,36,61,41],[61,58,61,59],[61,60,61,61],[62,36,62,41],[62,58,62,59],[62,60,62,61],[59,36,59,41],[59,58,59,59],[59,60,59,61],[60,36,60,41],[60,58,60,59],[60,60,60,61],[57,36,57,41],[57,58,57,59],[57,60,57,61],[58,36,58,41],[58,58,58,59],[58,60,58,61],[55,36,55,41],[55,58,55,59],[55,60,55,61],[56,36,56,41],[56,58,56,59],[56,60,56,61],[53,36,53,41],[53,58,53,59],[53,60,53,61],[54,36,54,41],[54,58,54,59],[54,60,54,61],[51,36,51,41],[51,58,51,59],[51,60,51,61],[52,36,52,41],[52,58,52,59],[52,60,52,61],[49,36,49,41],[49,58,49,59],[49,60,49,61],[50,36,50,41],[50,58,50,59],[50,60,50,61],[47,36,47,41],[47,58,47,59],[47,60,47,61],[48,36,48,41],[48,58,48,59],[48,60,48,61],[45,36,45,41],[45,58,45,59],[45,60,45,61],[46,36,46,41],[46,58,46,59],[46,60,46,61],[43,36,43,41],[43,58,43,59],[43,60,43,61],[44,36,44,41],[44,58,44,59],[44,60,44,61],[41,36,41,41],[41,58,41,59],[41,60,41,61],[42,36,42,41],[42,58,42,59],[42,60,42,61],[39,36,39,41],[39,58,39,59],[39,60,39,61],[40,36,40,41],[40,58,40,59],[40,60,40,61],[37,36,37,41],[37,58,37,59],[37,60,37,61],[38,36,38,41],[38,58,38,59],[38,60,38,61],[35,36,35,41],[35,58,35,59],[35,60,35,61],[36,36,36,41],[36,58,36,59],[36,60,36,61],[33,36,33,41],[33,58,33,59],[33,60,33,61],[34,36,34,41],[34,58,34,59],[34,60,34,61],[31,36,31,41],[31,58,31,59],[31,60,31,61],[32,36,32,41],[32,58,32,59],[32,60,32,61],[29,36,29,41],[29,58,29,59],[29,60,29,61],[30,36,30,41],[30,58,30,59],[30,60,30,61],[27,36,27,41],[27,58,27,59],[27,60,27,61],[28,36,28,41],[28,58,28,59],[28,60,28,61],[25,36,25,41],[25,58,25,59],[25,60,25,61],[26,36,26,41],[26,58,26,59],[26,60,26,61],[23,36,23,41],[23,58,23,59],[23,60,23,61],[24,36,24,41],[24,58,24,59],[24,60,24,61],[21,36,21,41],[21,58,21,59],[21,60,21,61],[22,36,22,41],[22,58,22,59],[22,60,22,61],[19,36,19,41],[19,58,19,59],[19,60,19,61],[20,36,20,41],[20,58,20,59],[20,60,20,61],[17,36,17,41],[17,58,17,59],[17,60,17,61],[18,36,18,41],[18,58,18,59],[18,60,18,61],[15,36,15,41],[15,58,15,59],[15,60,15,61],[16,36,16,41],[16,58,16,59],[16,60,16,61],[13,36,13,41],[13,58,13,59],[13,60,13,61],[14,36,14,41],[14,58,14,59],[14,60,14,61],[9,35,12,35],[9,36,12,41],[9,42,9,57],[9,58,12,59],[9,60,12,61],[9,62,12,62],[10,42,10,45],[10,46,10,54],[10,55,10,57],[1,35,1,62],[2,35,2,62],[3,35,3,62],[4,35,4,62],[6,59,6,62],[7,59,7,62],[1,2,1,29],[2,2,2,29],[3,2,3,29],[4,2,4,29],[6,26,6,29],[7,26,7,29],[9,2,12,2],[9,3,12,8],[9,9,9,24],[9,25,12,26],[9,27,12,28],[9,29,12,29],[10,9,10,12],[10,13,10,21],[10,22,10,24],[13,3,13,8],[13,25,13,26],[13,27,13,28],[14,3,14,8],[14,25,14,26],[14,27,14,28],[15,3,15,8],[15,25,15,26],[15,27,15,28],[16,3,16,8],[16,25,16,26],[16,27,16,28],[17,3,17,8],[17,25,17,26],[17,27,17,28],[18,3,18,8],[18,25,18,26],[18,27,18,28],[19,3,19,8],[19,25,19,26],[19,27,19,28],[20,3,20,8],[20,25,20,26],[20,27,20,28],[21,3,21,8],[21,25,21,26],[21,27,21,28],[22,3,22,8],[22,25,22,26],[22,27,22,28],[23,3,23,8],[23,25,23,26],[23,27,23,28],[24,3,24,8],[24,25,24,26],[24,27,24,28],[25,3,25,8],[25,25,25,26],[25,27,25,28],[26,3,26,8],[26,25,26,26],[26,27,26,28],[27,3,27,8],[27,25,27,26],[27,27,27,28],[28,3,28,8],[28,25,28,26],[28,27,28,28],[29,3,29,8],[29,25,29,26],[29,27,29,28],[30,3,30,8],[30,25,30,26],[30,27,30,28],[31,3,31,8],[31,25,31,26],[31,27,31,28],[32,3,32,8],[32,25,32,26],[32,27,32,28],[33,3,33,8],[33,25,33,26],[33,27,33,28],[34,3,34,8],[34,25,34,26],[34,27,34,28],[35,3,35,8],[35,25,35,26],[35,27,35,28],[36,3,36,8],[36,25,36,26],[36,27,36,28],[37,3,37,8],[37,25,37,26],[37,27,37,28],[38,3,38,8],[38,25,38,26],[38,27,38,28],[39,3,39,8],[39,25,39,26],[39,27,39,28],[40,3,40,8],[40,25,40,26],[40,27,40,28],[41,3,41,8],[41,25,41,26],[41,27,41,28],[42,3,42,8],[42,25,42,26],[42,27,42,28],[43,3,43,8],[43,25,43,26],[43,27,43,28],[44,3,44,8],[44,25,44,26],[44,27,44,28],[45,3,45,8],[45,25,45,26],[45,27,45,28],[46,3,46,8],[46,25,46,26],[46,27,46,28],[47,3,47,8],[47,25,47,26],[47,27,47,28],[48,3,48,8],[48,25,48,26],[48,27,48,28],[49,3,49,8],[49,25,49,26],[49,27,49,28],[50,3,50,8],[50,25,50,26],[50,27,50,28],[51,3,51,8],[51,25,51,26],[51,27,51,28],[52,3,52,8],[52,25,52,26],[52,27,52,28],[53,3,53,8],[53,25,53,26],[53,27,53,28],[54,3,54,8],[54,25,54,26],[54,27,54,28],[55,3,55,8],[55,25,55,26],[55,27,55,28],[56,3,56,8],[56,25,56,26],[56,27,56,28],[57,3,57,8],[57,25,57,26],[57,27,57,28],[58,3,58,8],[58,25,58,26],[58,27,58,28],[59,3,59,8],[59,25,59,26],[59,27,59,28],[60,3,60,8],[60,25,60,26],[60,27,60,28],[61,3,61,8],[61,25,61,26],[61,27,61,28],[62,3,62,8],[62,25,62,26],[62,27,62,28],[63,2,63,8],[63,25,63,26],[63,27,63,28],[64,2,64,8],[64,25,64,26],[64,27,64,28],[65,2,65,8],[65,25,65,26],[65,27,65,28],[66,2,66,8],[66,25,66,26],[66,27,66,28]]}
[{"$f":"sekolah!$E$20","v":9}]
[{"$f":"data!$J$5","v":" ( Sembilan ) "},null,"LEGER DAN DAFTAR RANGKING",null,null,null,null,null,null,null,null,null,null,null,null,null,null,null,null,null,null,null,null,null,null,null,null,null,null,null,null,null,null,null,null,"LEGER DAN DAFTAR RANGKING"]
[{"$f":"sekolah!$H$20","v":"C"},null,{"$f":"IF($AA$7=\"GANJIL\",\"PENILAIAN AKHIR SEMESTER ( PAS )\",\"PENILAIAN AKHIR TAHUN ( PAT )\")","v":"PENILAIAN AKHIR TAHUN ( PAT )"},null,null,null,null,null,null,null,null,null,null,null,null,null,null,null,null,null,null,null,null,null,null,null,null,null,null,null,null,null,null,null,null,{"$f":"IF($AA$7=\"GANJIL\",\"PENILAIAN AKHIR SEMESTER ( PAS )\",\"PENILAIAN AKHIR TAHUN ( PAT )\")","v":"PENILAIAN AKHIR TAHUN ( PAT )"}]
[{"$f":"IF($A$3=0,$A$2,$A$3)","v":"C"},null,{"$f":"UPPER(sekolah!$E$5)","v":"MTS NURUL HIDAYAH"},null,null,null,null,null,null,null,null,null,null,null,null,null,null,null,null,null,null,null,null,null,null,null,null,null,null,null,null,null,null,null,null,{"$f":"UPPER(sekolah!$E$5)","v":"MTS NURUL HIDAYAH"}]
[{"$f":"IF(A3=0,A1,A1&\"  \"&A3)","v":"9  C"},null,{"$f":"\"Alamat : \"&sekolah!$E$10","v":"Alamat : Dusun Rominah Desa Rohayu Kedungdung Sampang"},null,null,null,null,null,null,null,null,null,null,null,null,null,null,null,null,null,null,null,null,null,null,null,null,null,null,null,null,null,null,null,null,{"$f":"\"Alamat : \"&sekolah!$E$10","v":"Alamat : Dusun Rominah Desa Rohayu Kedungdung Sampang"}]
[]
[null,null,"Kelas",null,null,":",{"$f":"$A$1&\"  \"&$A$4","v":"9  C"},null,null,null,null,null,null,null,null,null,null,null,null,null,null,"Semester",null,null,null,":",{"$f":"sekolah!$E$21","v":"Genap"},null,null,null,null,null,null,null,null,"Kelas",null,null,":",{"$f":"$A$1&\"  \"&$A$4","v":"9  C"},null,null,null,null,null,null,null,null,null,null,null,null,null,null,"Semester",null,null,null,":",{"$f":"sekolah!$E$21","v":"Genap"}]
[null,null,"kompetensi",null,null,":","Pengetahuan",null,null,null,null,null,null,null,null,null,null,null,null,null,null,"Tahun pelajaran",null,null,null,":",{"$f":"sekolah!$E$22","v":"2017 / 2018"},null,null,null,null,null,null,null,null,"kompetensi",null,null,":","Ketrampilan",null,null,null,null,null,null,null,null,null,null,null,null,null,null,"Tahun pelajaran",null,null,null,":",{"$f":"sekolah!$E$22","v":"2017 / 2018"}]
[]
[null,null,"No","Nama",null,null,null,null,null,"Kode Muatan Pelajatan",null,null,null,null,null,null,null,null,null,null,null,null,null,null,null,"Jumlah",null,"Rerata",null,"Rangking",null,null,null,null,null,"No","Nama",null,null,null,null,null,"Kode Muatan Pelajatan",null,null,null,null,null,null,null,null,null,null,null,null,null,null,null,"Jumlah",null,"Rerata",null,"Rangking"]
[null,null,null,null,null,null,null,null,null,"PAI",null,null,null,"Umum / Tematik dan BA",null,null,null,null,null,null,null,null,"Muatan lokal",null,null,null,null,null,null,null,null,null,null,null,null,null,null,null,null,null,null,null,"PAI",null,null,null,"Umum / Tematik dan BA",null,null,null,null,null,null,null,null,"Muatan lokal"]
[null,null,null,null,null,null,null,null,null,{"$f":"kur!$E6","v":"AH"},{"$f":"kur!$E7","v":"AA"},{"$f":"kur!$E8","v":"FK"},{"$f":"kur!$E10","v":"SKI"},{"$f":"kur!$E12","v":"PKN"},{"$f":"kur!$E13","v":"BIN"},{"$f":"kur!$E9","v":"BA"},{"$f":"kur!$E14","v":"MTK"},{"$f":"kur!$E15","v":"IPA"},{"$f":"kur!$E16","v":"IPS"},{"$f":"kur!$E17","v":"SB"},{"$f":"kur!$E18","v":"PJ"},{"$f":"kur!$E19","v":"BIG"},{"$f":"IF(kur!$E21=\"\",\"\",kur!$E21)","v":"BM"},{"$f":"IF(kur!$E22=\"\",\"\",kur!$E22)","v":""},{"$f":"IF(kur!$E23=\"\",\"\",kur!$E23)","v":""},null,null,null,null,null,null,null,null,null,null,null,null,null,null,null,null,null,{"$f":"kur!$E6","v":"AH"},{"$f":"kur!$E7","v":"AA"},{"$f":"kur!$E8","v":"FK"},{"$f":"kur!$E10","v":"SKI"},{"$f":"kur!$E12","v":"PKN"},{"$f":"kur!$E13","v":"BIN"},{"$f":"kur!$E9","v":"BA"},{"$f":"kur!$E14","v":"MTK"},{"$f":"kur!$E15","v":"IPA"},{"$f":"kur!$E16","v":"IPS"},{"$f":"kur!$E17","v":"SB"},{"$f":"kur!$E18","v":"PJ"},{"$f":"kur!$E19","v":"BIG"},{"$f":"IF(kur!$E21=\"\",\"\",kur!$E21)","v":"BM"},{"$f":"IF(kur!$E22=\"\",\"\",kur!$E22)","v":""},{"$f":"IF(kur!$E23=\"\",\"\",kur!$E23)","v":""}]
[null,null,null,null,null,null,null,null,null,{"$f":"kur!$H6","v":45},{"$f":"kur!$H7","v":56},{"$f":"kur!$H8","v":76},{"$f":"kur!$H10","v":56},{"$f":"kur!$H12","v":74},{"$f":"kur!$H13","v":75},{"$f":"kur!$H9","v":72},{"$f":"kur!$H14","v":56},{"$f":"kur!$H15","v":77},{"$f":"kur!$H16","v":78},{"$f":"kur!$H17","v":79},{"$f":"kur!$H18","v":34},{"$f":"kur!$H19","v":81},{"$f":"IF(kur!$H21=\"\",\"\",kur!$H21)","v":76},{"$f":"IF(kur!$H22=\"\",\"\",kur!$H22)","v":""},{"$f":"IF(kur!$H23=\"\",\"\",kur!$H23)","v":""},null,null,null,null,null,null,null,null,null,null,null,null,null,null,null,null,null,{"$f":"kur!$H6","v":45},{"$f":"kur!$H7","v":56},{"$f":"kur!$H8","v":76},{"$f":"kur!$H10","v":56},{"$f":"kur!$H12","v":74},{"$f":"kur!$H13","v":75},{"$f":"kur!$H9","v":72},{"$f":"kur!$H14","v":56},{"$f":"kur!$H15","v":77},{"$f":"kur!$H16","v":78},{"$f":"kur!$H17","v":79},{"$f":"kur!$H18","v":34},{"$f":"kur!$H19","v":81},{"$f":"IF(kur!$H21=\"\",\"\",kur!$H21)","v":76},{"$f":"IF(kur!$H22=\"\",\"\",kur!$H22)","v":""},{"$f":"IF(kur!$H23=\"\",\"\",kur!$H23)","v":""}]
[null,null,{"$f":"IF(Database!$A4=\"\",\"\",Database!$A4)","v":1},{"$f":"IF(Database!$D4=\"\",\"\",Database!$D4)","v":"jaya"},null,null,null,null,null,{"$f":"IF($AA$7=\"ganjil\",IF(nilai!H10=\"\",\"\",nilai!H10),IF(nilai!AP10=\"\",\"\",nilai!AP10))","v":76},{"$f":"IF($AA$7=\"ganjil\",IF(nilai!I10=\"\",\"\",nilai!I10),IF(nilai!AQ10=\"\",\"\",nilai!AQ10))","v":65},{"$f":"IF($AA$7=\"ganjil\",IF(nilai!J10=\"\",\"\",nilai!J10),IF(nilai!AR10=\"\",\"\",nilai!AR10))","v":78},{"$f":"IF($AA$7=\"ganjil\",IF(nilai!L10=\"\",\"\",nilai!L10),IF(nilai!AT10=\"\",\"\",nilai!AT10))","v":76},{"$f":"IF($AA$7=\"ganjil\",IF(nilai!M10=\"\",\"\",nilai!M10),IF(nilai!AU10=\"\",\"\",nilai!AU10))","v":74},{"$f":"IF($AA$7=\"ganjil\",IF(nilai!N10=\"\",\"\",nilai!N10),IF(nilai!AV10=\"\",\"\",nilai!AV10))","v":78},{"$f":"IF($AA$7=\"ganjil\",IF(nilai!K10=\"\",\"\",nilai!K10),IF(nilai!AS10=\"\",\"\",nilai!AS10))","v":67},{"$f":"IF($AA$7=\"ganjil\",IF(nilai!O10=\"\",\"\",nilai!O10),IF(nilai!AW10=\"\",\"\",nilai!AW10))","v":45},{"$f":"IF($AA$7=\"ganjil\",IF(nilai!P10=\"\",\"\",nilai!P10),IF(nilai!AX10=\"\",\"\",nilai!AX10))","v":56},{"$f":"IF($AA$7=\"ganjil\",IF(nilai!Q10=\"\",\"\",nilai!Q10),IF(nilai!AY10=\"\",\"\",nilai!AY10))","v":78},{"$f":"IF($AA$7=\"ganjil\",IF(nilai!R10=\"\",\"\",nilai!R10),IF(nilai!AZ10=\"\",\"\",nilai!AZ10))","v":56},{"$f":"IF($AA$7=\"ganjil\",IF(nilai!S10=\"\",\"\",nilai!S10),IF(nilai!BA10=\"\",\"\",nilai!BA10))","v":78},{"$f":"IF($AA$7=\"ganjil\",IF(nilai!T10=\"\",\"\",nilai!T10),IF(nilai!BB10=\"\",\"\",nilai!BB10))","v":65},{"$f":"IF($AA$7=\"ganjil\",IF(nilai!U10=\"\",\"\",nilai!U10),IF(nilai!BC10=\"\",\"\",nilai!BC10))","v":76},{"$f":"IF($AA$7=\"ganjil\",IF(nilai!V10=\"\",\"\",nilai!V10),IF(nilai!BD10=\"\",\"\",nilai!BD10))","v":""},{"$f":"IF($AA$7=\"ganjil\",IF(nilai!W10=\"\",\"\",nilai!W10),IF(nilai!BE10=\"\",\"\",nilai!BE10))","v":""},{"$f":"IF(AG14=0,\"\",AG14)","v":968},null,{"$f":"IF(AH14=0,\"\",AH14)","v":69.142857142857139},null,{"$f":"AI14","v":5},null,null,{"$f":"SUM(J14:Y14)","v":968},{"$f":"IF(AG14=0,\"\",AVERAGE(J14:Y14))","v":69.142857142857139},{"$f":"IF(AH14=\"\",\"\",RANK(AH14,$AH$14:$AH$63,0)+COUNTIF($AH$13:AH13,AH14))","v":5},{"$f":"IF(Database!$A4=\"\",\"\",Database!$A4)","v":1},{"$f":"IF(Database!$D4=\"\",\"\",Database!$D4)","v":"jaya"},null,null,null,null,null,{"$f":"IF($AA$7=\"ganjil\",IF(nilai!X10=\"\",\"\",nilai!X10),IF(nilai!BF10=\"\",\"\",nilai!BF10))","v":79},{"$f":"IF($AA$7=\"ganjil\",IF(nilai!Y10=\"\",\"\",nilai!Y10),IF(nilai!BG10=\"\",\"\",nilai!BG10))","v":66},{"$f":"IF($AA$7=\"ganjil\",IF(nilai!Z10=\"\",\"\",nilai!Z10),IF(nilai!BH10=\"\",\"\",nilai!BH10))","v":79},{"$f":"IF($AA$7=\"ganjil\",IF(nilai!AB10=\"\",\"\",nilai!AB10),IF(nilai!BJ10=\"\",\"\",nilai!BJ10))","v":79},{"$f":"IF($AA$7=\"ganjil\",IF(nilai!AC10=\"\",\"\",nilai!AC10),IF(nilai!BK10=\"\",\"\",nilai!BK10))","v":75},{"$f":"IF($AA$7=\"ganjil\",IF(nilai!AD10=\"\",\"\",nilai!AD10),IF(nilai!BL10=\"\",\"\",nilai!BL10))","v":79},{"$f":"IF($AA$7=\"ganjil\",IF(nilai!AA10=\"\",\"\",nilai!AA10),IF(nilai!BI10=\"\",\"\",nilai!BI10))","v":72},{"$f":"IF($AA$7=\"ganjil\",IF(nilai!AE10=\"\",\"\",nilai!AE10),IF(nilai!BM10=\"\",\"\",nilai!BM10))","v":50},{"$f":"IF($AA$7=\"ganjil\",IF(nilai!AF10=\"\",\"\",nilai!AF10),IF(nilai!BN10=\"\",\"\",nilai!BN10))","v":59},{"$f":"IF($AA$7=\"ganjil\",IF(nilai!AG10=\"\",\"\",nilai!AG10),IF(nilai!BO10=\"\",\"\",nilai!BO10))","v":79},{"$f":"IF($AA$7=\"ganjil\",IF(nilai!AH10=\"\",\"\",nilai!AH10),IF(nilai!BP10=\"\",\"\",nilai!BP10))","v":57},{"$f":"IF($AA$7=\"ganjil\",IF(nilai!AI10=\"\",\"\",nilai!AI10),IF(nilai!BQ10=\"\",\"\",nilai!BQ10))","v":83},{"$f":"IF($AA$7=\"ganjil\",IF(nilai!AJ10=\"\",\"\",nilai!AJ10),IF(nilai!BR10=\"\",\"\",nilai!BR10))","v":68},{"$f":"IF($AA$7=\"ganjil\",IF(nilai!AK10=\"\",\"\",nilai!AK10),IF(nilai!BS10=\"\",\"\",nilai!BS10))","v":77},{"$f":"IF($AA$7=\"ganjil\",IF(nilai!AL10=\"\",\"\",nilai!AL10),IF(nilai!BT10=\"\",\"\",nilai!BT10))","v":""},{"$f":"IF($AA$7=\"ganjil\",IF(nilai!AM10=\"\",\"\",nilai!AM10),IF(nilai!BU10=\"\",\"\",nilai!BU10))","v":""},{"$f":"IF(BN14=0,\"\",BN14)","v":1002},null,{"$f":"IF(BO14=0,\"\",BO14)","v":71.571428571428569},null,{"$f":"BP14","v":5},null,null,{"$f":"SUM(AQ14:BF14)","v":1002},{"$f":"IF(BN14=0,\"\",AVERAGE(AQ14:BF14))","v":71.571428571428569},{"$f":"IF(BO14=\"\",\"\",RANK(BO14,$BO$14:$BO$63,0)+COUNTIF($BO$13:BO13,BO14))","v":5}]
[null,null,{"$f":"IF(Database!$A5=\"\",\"\",Database!$A5)","v":2},{"$f":"IF(Database!$D5=\"\",\"\",Database!$D5)","v":"IMG_CTV"},null,null,null,null,null,{"$f":"IF($AA$7=\"ganjil\",IF(nilai!H11=\"\",\"\",nilai!H11),IF(nilai!AP11=\"\",\"\",nilai!AP11))","v":67},{"$f":"IF($AA$7=\"ganjil\",IF(nilai!I11=\"\",\"\",nilai!I11),IF(nilai!AQ11=\"\",\"\",nilai!AQ11))","v":76},{"$f":"IF($AA$7=\"ganjil\",IF(nilai!J11=\"\",\"\",nilai!J11),IF(nilai!AR11=\"\",\"\",nilai!AR11))","v":74},{"$f":"IF($AA$7=\"ganjil\",IF(nilai!L11=\"\",\"\",nilai!L11),IF(nilai!AT11=\"\",\"\",nilai!AT11))","v":45},{"$f":"IF($AA$7=\"ganjil\",IF(nilai!M11=\"\",\"\",nilai!M11),IF(nilai!AU11=\"\",\"\",nilai!AU11))","v":67},{"$f":"IF($AA$7=\"ganjil\",IF(nilai!N11=\"\",\"\",nilai!N11),IF(nilai!AV11=\"\",\"\",nilai!AV11))","v":76},{"$f":"IF($AA$7=\"ganjil\",IF(nilai!K11=\"\",\"\",nilai!K11),IF(nilai!AS11=\"\",\"\",nilai!AS11))","v":78},{"$f":"IF($AA$7=\"ganjil\",IF(nilai!O11=\"\",\"\",nilai!O11),IF(nilai!AW11=\"\",\"\",nilai!AW11))","v":74},{"$f":"IF($AA$7=\"ganjil\",IF(nilai!P11=\"\",\"\",nilai!P11),IF(nilai!AX11=\"\",\"\",nilai!AX11))","v":78},{"$f":"IF($AA$7=\"ganjil\",IF(nilai!Q11=\"\",\"\",nilai!Q11),IF(nilai!AY11=\"\",\"\",nilai!AY11))","v":67},{"$f":"IF($AA$7=\"ganjil\",IF(nilai!R11=\"\",\"\",nilai!R11),IF(nilai!AZ11=\"\",\"\",nilai!AZ11))","v":76},{"$f":"IF($AA$7=\"ganjil\",IF(nilai!S11=\"\",\"\",nilai!S11),IF(nilai!BA11=\"\",\"\",nilai!BA11))","v":74},{"$f":"IF($AA$7=\"ganjil\",IF(nilai!T11=\"\",\"\",nilai!T11),IF(nilai!BB11=\"\",\"\",nilai!BB11))","v":78},{"$f":"IF($AA$7=\"ganjil\",IF(nilai!U11=\"\",\"\",nilai!U11),IF(nilai!BC11=\"\",\"\",nilai!BC11))","v":45},{"$f":"IF($AA$7=\"ganjil\",IF(nilai!V11=\"\",\"\",nilai!V11),IF(nilai!BD11=\"\",\"\",nilai!BD11))","v":""},{"$f":"IF($AA$7=\"ganjil\",IF(nilai!W11=\"\",\"\",nilai!W11),IF(nilai!BE11=\"\",\"\",nilai!BE11))","v":""},{"$f":"IF(AG15=0,\"\",AG15)","v":975},null,{"$f":"IF(AH15=0,\"\",AH15)","v":69.642857142857139},null,{"$f":"AI15","v":4},null,null,{"$f":"SUM(J15:Y15)","v":975},{"$f":"IF(AG15=0,\"\",AVERAGE(J15:Y15))","v":69.642857142857139},{"$f":"IF(AH15=\"\",\"\",RANK(AH15,$AH$14:$AH$63,0)+COUNTIF($AH$13:AH14,AH15))","v":4},{"$f":"IF(Database!$A5=\"\",\"\",Database!$A5)","v":2},{"$f":"IF(Database!$D5=\"\",\"\",Database!$D5)","v":"IMG_CTV"},null,null,null,null,null,{"$f":"IF($AA$7=\"ganjil\",IF(nilai!X11=\"\",\"\",nilai!X11),IF(nilai!BF11=\"\",\"\",nilai!BF11))","v":68},{"$f":"IF($AA$7=\"ganjil\",IF(nilai!Y11=\"\",\"\",nilai!Y11),IF(nilai!BG11=\"\",\"\",nilai!BG11))","v":79},{"$f":"IF($AA$7=\"ganjil\",IF(nilai!Z11=\"\",\"\",nilai!Z11),IF(nilai!BH11=\"\",\"\",nilai!BH11))","v":76},{"$f":"IF($AA$7=\"ganjil\",IF(nilai!AB11=\"\",\"\",nilai!AB11),IF(nilai!BJ11=\"\",\"\",nilai!BJ11))","v":46},{"$f":"IF($AA$7=\"ganjil\",IF(nilai!AC11=\"\",\"\",nilai!AC11),IF(nilai!BK11=\"\",\"\",nilai!BK11))","v":70},{"$f":"IF($AA$7=\"ganjil\",IF(nilai!AD11=\"\",\"\",nilai!AD11),IF(nilai!BL11=\"\",\"\",nilai!BL11))","v":78},{"$f":"IF($AA$7=\"ganjil\",IF(nilai!AA11=\"\",\"\",nilai!AA11),IF(nilai!BI11=\"\",\"\",nilai!BI11))","v":80},{"$f":"IF($AA$7=\"ganjil\",IF(nilai!AE11=\"\",\"\",nilai!AE11),IF(nilai!BM11=\"\",\"\",nilai!BM11))","v":76},{"$f":"IF($AA$7=\"ganjil\",IF(nilai!AF11=\"\",\"\",nilai!AF11),IF(nilai!BN11=\"\",\"\",nilai!BN11))","v":79},{"$f":"IF($AA$7=\"ganjil\",IF(nilai!AG11=\"\",\"\",nilai!AG11),IF(nilai!BO11=\"\",\"\",nilai!BO11))","v":70},{"$f":"IF($AA$7=\"ganjil\",IF(nilai!AH11=\"\",\"\",nilai!AH11),IF(nilai!BP11=\"\",\"\",nilai!BP11))","v":78},{"$f":"IF($AA$7=\"ganjil\",IF(nilai!AI11=\"\",\"\",nilai!AI11),IF(nilai!BQ11=\"\",\"\",nilai!BQ11))","v":76},{"$f":"IF($AA$7=\"ganjil\",IF(nilai!AJ11=\"\",\"\",nilai!AJ11),IF(nilai!BR11=\"\",\"\",nilai!BR11))","v":79},{"$f":"IF($AA$7=\"ganjil\",IF(nilai!AK11=\"\",\"\",nilai!AK11),IF(nilai!BS11=\"\",\"\",nilai!BS11))","v":48},{"$f":"IF($AA$7=\"ganjil\",IF(nilai!AL11=\"\",\"\",nilai!AL11),IF(nilai!BT11=\"\",\"\",nilai!BT11))","v":""},{"$f":"IF($AA$7=\"ganjil\",IF(nilai!AM11=\"\",\"\",nilai!AM11),IF(nilai!BU11=\"\",\"\",nilai!BU11))","v":""},{"$f":"IF(BN15=0,\"\",BN15)","v":1003},null,{"$f":"IF(BO15=0,\"\",BO15)","v":71.642857142857139},null,{"$f":"BP15","v":4},null,null,{"$f":"SUM(AQ15:BF15)","v":1003},{"$f":"IF(BN15=0,\"\",AVERAGE(AQ15:BF15))","v":71.642857142857139},{"$f":"IF(BO15=\"\",\"\",RANK(BO15,$BO$14:$BO$63,0)+COUNTIF($BO$13:BO14,BO15))","v":4}]
[null,null,{"$f":"IF(Database!$A6=\"\",\"\",Database!$A6)","v":3},{"$f":"IF(Database!$D6=\"\",\"\",Database!$D6)","v":"sadi"},null,null,null,null,null,{"$f":"IF($AA$7=\"ganjil\",IF(nilai!H12=\"\",\"\",nilai!H12),IF(nilai!AP12=\"\",\"\",nilai!AP12))","v":67},{"$f":"IF($AA$7=\"ganjil\",IF(nilai!I12=\"\",\"\",nilai!I12),IF(nilai!AQ12=\"\",\"\",nilai!AQ12))","v":76},{"$f":"IF($AA$7=\"ganjil\",IF(nilai!J12=\"\",\"\",nilai!J12),IF(nilai!AR12=\"\",\"\",nilai!AR12))","v":74},{"$f":"IF($AA$7=\"ganjil\",IF(nilai!L12=\"\",\"\",nilai!L12),IF(nilai!AT12=\"\",\"\",nilai!AT12))","v":45},{"$f":"IF($AA$7=\"ganjil\",IF(nilai!M12=\"\",\"\",nilai!M12),IF(nilai!AU12=\"\",\"\",nilai!AU12))","v":67},{"$f":"IF($AA$7=\"ganjil\",IF(nilai!N12=\"\",\"\",nilai!N12),IF(nilai!AV12=\"\",\"\",nilai!AV12))","v":76},{"$f":"IF($AA$7=\"ganjil\",IF(nilai!K12=\"\",\"\",nilai!K12),IF(nilai!AS12=\"\",\"\",nilai!AS12))","v":78},{"$f":"IF($AA$7=\"ganjil\",IF(nilai!O12=\"\",\"\",nilai!O12),IF(nilai!AW12=\"\",\"\",nilai!AW12))","v":74},{"$f":"IF($AA$7=\"ganjil\",IF(nilai!P12=\"\",\"\",nilai!P12),IF(nilai!AX12=\"\",\"\",nilai!AX12))","v":78},{"$f":"IF($AA$7=\"ganjil\",IF(nilai!Q12=\"\",\"\",nilai!Q12),IF(nilai!AY12=\"\",\"\",nilai!AY12))","v":45},{"$f":"IF($AA$7=\"ganjil\",IF(nilai!R12=\"\",\"\",nilai!R12),IF(nilai!AZ12=\"\",\"\",nilai!AZ12))","v":45},{"$f":"IF($AA$7=\"ganjil\",IF(nilai!S12=\"\",\"\",nilai!S12),IF(nilai!BA12=\"\",\"\",nilai!BA12))","v":68},{"$f":"IF($AA$7=\"ganjil\",IF(nilai!T12=\"\",\"\",nilai!T12),IF(nilai!BB12=\"\",\"\",nilai!BB12))","v":89},{"$f":"IF($AA$7=\"ganjil\",IF(nilai!U12=\"\",\"\",nilai!U12),IF(nilai!BC12=\"\",\"\",nilai!BC12))","v":64},{"$f":"IF($AA$7=\"ganjil\",IF(nilai!V12=\"\",\"\",nilai!V12),IF(nilai!BD12=\"\",\"\",nilai!BD12))","v":""},{"$f":"IF($AA$7=\"ganjil\",IF(nilai!W12=\"\",\"\",nilai!W12),IF(nilai!BE12=\"\",\"\",nilai!BE12))","v":""},946,null,67.571428571428569,null,6,null,null,946,67.571428571428569,{"$f":"IF(AH16=\"\",\"\",RANK(AH16,$AH$14:$AH$63,0)+COUNTIF($AH$13:AH15,AH16))","v":6},{"$f":"IF(Database!$A6=\"\",\"\",Database!$A6)","v":3},{"$f":"IF(Database!$D6=\"\",\"\",Database!$D6)","v":"sadi"},null,null,null,null,null,{"$f":"IF($AA$7=\"ganjil\",IF(nilai!X12=\"\",\"\",nilai!X12),IF(nilai!BF12=\"\",\"\",nilai!BF12))","v":69},{"$f":"IF($AA$7=\"ganjil\",IF(nilai!Y12=\"\",\"\",nilai!Y12),IF(nilai!BG12=\"\",\"\",nilai!BG12))","v":78},{"$f":"IF($AA$7=\"ganjil\",IF(nilai!Z12=\"\",\"\",nilai!Z12),IF(nilai!BH12=\"\",\"\",nilai!BH12))","v":75},{"$f":"IF($AA$7=\"ganjil\",IF(nilai!AB12=\"\",\"\",nilai!AB12),IF(nilai!BJ12=\"\",\"\",nilai!BJ12))","v":47},{"$f":"IF($AA$7=\"ganjil\",IF(nilai!AC12=\"\",\"\",nilai!AC12),IF(nilai!BK12=\"\",\"\",nilai!BK12))","v":69},{"$f":"IF($AA$7=\"ganjil\",IF(nilai!AD12=\"\",\"\",nilai!AD12),IF(nilai!BL12=\"\",\"\",nilai!BL12))","v":77},{"$f":"IF($AA$7=\"ganjil\",IF(nilai!AA12=\"\",\"\",nilai!AA12),IF(nilai!BI12=\"\",\"\",nilai!BI12))","v":79},{"$f":"IF($AA$7=\"ganjil\",IF(nilai!AE12=\"\",\"\",nilai!AE12),IF(nilai!BM12=\"\",\"\",nilai!BM12))","v":75},{"$f":"IF($AA$7=\"ganjil\",IF(nilai!AF12=\"\",\"\",nilai!AF12),IF(nilai!BN12=\"\",\"\",nilai!BN12))","v":80},{"$f":"IF($AA$7=\"ganjil\",IF(nilai!AG12=\"\",\"\",nilai!AG12),IF(nilai!BO12=\"\",\"\",nilai!BO12))","v":47},{"$f":"IF($AA$7=\"ganjil\",IF(nilai!AH12=\"\",\"\",nilai!AH12),IF(nilai!BP12=\"\",\"\",nilai!BP12))","v":46},{"$f":"IF($AA$7=\"ganjil\",IF(nilai!AI12=\"\",\"\",nilai!AI12),IF(nilai!BQ12=\"\",\"\",nilai!BQ12))","v":69},{"$f":"IF($AA$7=\"ganjil\",IF(nilai!AJ12=\"\",\"\",nilai!AJ12),IF(nilai!BR12=\"\",\"\",nilai!BR12))","v":91},{"$f":"IF($AA$7=\"ganjil\",IF(nilai!AK12=\"\",\"\",nilai!AK12),IF(nilai!BS12=\"\",\"\",nilai!BS12))","v":66},{"$f":"IF($AA$7=\"ganjil\",IF(nilai!AL12=\"\",\"\",nilai!AL12),IF(nilai!BT12=\"\",\"\",nilai!BT12))","v":""},{"$f":"IF($AA$7=\"ganjil\",IF(nilai!AM12=\"\",\"\",nilai!AM12),IF(nilai!BU12=\"\",\"\",nilai!BU12))","v":""},968,null,69.142857142857139,null,6,null,null,968,69.142857142857139,{"$f":"IF(BO16=\"\",\"\",RANK(BO16,$BO$14:$BO$63,0)+COUNTIF($BO$13:BO15,BO16))","v":6}]
[null,null,{"$f":"IF(Database!$A7=\"\",\"\",Database!$A7)","v":4},{"$f":"IF(Database!$D7=\"\",\"\",Database!$D7)","v":"INDAH"},null,null,null,null,null,{"$f":"IF($AA$7=\"ganjil\",IF(nilai!H13=\"\",\"\",nilai!H13),IF(nilai!AP13=\"\",\"\",nilai!AP13))","v":90},{"$f":"IF($AA$7=\"ganjil\",IF(nilai!I13=\"\",\"\",nilai!I13),IF(nilai!AQ13=\"\",\"\",nilai!AQ13))","v":67},{"$f":"IF($AA$7=\"ganjil\",IF(nilai!J13=\"\",\"\",nilai!J13),IF(nilai!AR13=\"\",\"\",nilai!AR13))","v":76},{"$f":"IF($AA$7=\"ganjil\",IF(nilai!L13=\"\",\"\",nilai!L13),IF(nilai!AT13=\"\",\"\",nilai!AT13))","v":78},{"$f":"IF($AA$7=\"ganjil\",IF(nilai!M13=\"\",\"\",nilai!M13),IF(nilai!AU13=\"\",\"\",nilai!AU13))","v":45},{"$f":"IF($AA$7=\"ganjil\",IF(nilai!N13=\"\",\"\",nilai!N13),IF(nilai!AV13=\"\",\"\",nilai!AV13))","v":67},{"$f":"IF($AA$7=\"ganjil\",IF(nilai!K13=\"\",\"\",nilai!K13),IF(nilai!AS13=\"\",\"\",nilai!AS13))","v":74},{"$f":"IF($AA$7=\"ganjil\",IF(nilai!O13=\"\",\"\",nilai!O13),IF(nilai!AW13=\"\",\"\",nilai!AW13))","v":95},{"$f":"IF($AA$7=\"ganjil\",IF(nilai!P13=\"\",\"\",nilai!P13),IF(nilai!AX13=\"\",\"\",nilai!AX13))","v":67},{"$f":"IF($AA$7=\"ganjil\",IF(nilai!Q13=\"\",\"\",nilai!Q13),IF(nilai!AY13=\"\",\"\",nilai!AY13))","v":76},{"$f":"IF($AA$7=\"ganjil\",IF(nilai!R13=\"\",\"\",nilai!R13),IF(nilai!AZ13=\"\",\"\",nilai!AZ13))","v":74},{"$f":"IF($AA$7=\"ganjil\",IF(nilai!S13=\"\",\"\",nilai!S13),IF(nilai!BA13=\"\",\"\",nilai!BA13))","v":78},{"$f":"IF($AA$7=\"ganjil\",IF(nilai!T13=\"\",\"\",nilai!T13),IF(nilai!BB13=\"\",\"\",nilai!BB13))","v":45},{"$f":"IF($AA$7=\"ganjil\",IF(nilai!U13=\"\",\"\",nilai!U13),IF(nilai!BC13=\"\",\"\",nilai!BC13))","v":98},{"$f":"IF($AA$7=\"ganjil\",IF(nilai!V13=\"\",\"\",nilai!V13),IF(nilai!BD13=\"\",\"\",nilai!BD13))","v":""},{"$f":"IF($AA$7=\"ganjil\",IF(nilai!W13=\"\",\"\",nilai!W13),IF(nilai!BE13=\"\",\"\",nilai!BE13))","v":""},1030,null,73.571428571428569,null,1,null,null,1030,73.571428571428569,{"$f":"IF(AH17=\"\",\"\",RANK(AH17,$AH$14:$AH$63,0)+COUNTIF($AH$13:AH16,AH17))","v":1},{"$f":"IF(Database!$A7=\"\",\"\",Database!$A7)","v":4},{"$f":"IF(Database!$D7=\"\",\"\",Database!$D7)","v":"INDAH"},null,null,null,null,null,{"$f":"IF($AA$7=\"ganjil\",IF(nilai!X13=\"\",\"\",nilai!X13),IF(nilai!BF13=\"\",\"\",nilai!BF13))","v":91},{"$f":"IF($AA$7=\"ganjil\",IF(nilai!Y13=\"\",\"\",nilai!Y13),IF(nilai!BG13=\"\",\"\",nilai!BG13))","v":72},{"$f":"IF($AA$7=\"ganjil\",IF(nilai!Z13=\"\",\"\",nilai!Z13),IF(nilai!BH13=\"\",\"\",nilai!BH13))","v":78},{"$f":"IF($AA$7=\"ganjil\",IF(nilai!AB13=\"\",\"\",nilai!AB13),IF(nilai!BJ13=\"\",\"\",nilai!BJ13))","v":79},{"$f":"IF($AA$7=\"ganjil\",IF(nilai!AC13=\"\",\"\",nilai!AC13),IF(nilai!BK13=\"\",\"\",nilai!BK13))","v":50},{"$f":"IF($AA$7=\"ganjil\",IF(nilai!AD13=\"\",\"\",nilai!AD13),IF(nilai!BL13=\"\",\"\",nilai!BL13))","v":69},{"$f":"IF($AA$7=\"ganjil\",IF(nilai!AA13=\"\",\"\",nilai!AA13),IF(nilai!BI13=\"\",\"\",nilai!BI13))","v":76},{"$f":"IF($AA$7=\"ganjil\",IF(nilai!AE13=\"\",\"\",nilai!AE13),IF(nilai!BM13=\"\",\"\",nilai!BM13))","v":97},{"$f":"IF($AA$7=\"ganjil\",IF(nilai!AF13=\"\",\"\",nilai!AF13),IF(nilai!BN13=\"\",\"\",nilai!BN13))","v":68},{"$f":"IF($AA$7=\"ganjil\",IF(nilai!AG13=\"\",\"\",nilai!AG13),IF(nilai!BO13=\"\",\"\",nilai!BO13))","v":81},{"$f":"IF($AA$7=\"ganjil\",IF(nilai!AH13=\"\",\"\",nilai!AH13),IF(nilai!BP13=\"\",\"\",nilai!BP13))","v":76},{"$f":"IF($AA$7=\"ganjil\",IF(nilai!AI13=\"\",\"\",nilai!AI13),IF(nilai!BQ13=\"\",\"\",nilai!BQ13))","v":80},{"$f":"IF($AA$7=\"ganjil\",IF(nilai!AJ13=\"\",\"\",nilai!AJ13),IF(nilai!BR13=\"\",\"\",nilai!BR13))","v":46},{"$f":"IF($AA$7=\"ganjil\",IF(nilai!AK13=\"\",\"\",nilai!AK13),IF(nilai!BS13=\"\",\"\",nilai!BS13))","v":103},{"$f":"IF($AA$7=\"ganjil\",IF(nilai!AL13=\"\",\"\",nilai!AL13),IF(nilai!BT13=\"\",\"\",nilai!BT13))","v":""},{"$f":"IF($AA$7=\"ganjil\",IF(nilai!AM13=\"\",\"\",nilai!AM13),IF(nilai!BU13=\"\",\"\",nilai!BU13))","v":""},1066,null,76.142857142857139,null,1,null,null,1066,76.142857142857139,{"$f":"IF(BO17=\"\",\"\",RANK(BO17,$BO$14:$BO$63,0)+COUNTIF($BO$13:BO16,BO17))","v":1}]
[null,null,{"$f":"IF(Database!$A8=\"\",\"\",Database!$A8)","v":5},{"$f":"IF(Database!$D8=\"\",\"\",Database!$D8)","v":"riski"},null,null,null,null,null,{"$f":"IF($AA$7=\"ganjil\",IF(nilai!H14=\"\",\"\",nilai!H14),IF(nilai!AP14=\"\",\"\",nilai!AP14))","v":76},{"$f":"IF($AA$7=\"ganjil\",IF(nilai!I14=\"\",\"\",nilai!I14),IF(nilai!AQ14=\"\",\"\",nilai!AQ14))","v":89},{"$f":"IF($AA$7=\"ganjil\",IF(nilai!J14=\"\",\"\",nilai!J14),IF(nilai!AR14=\"\",\"\",nilai!AR14))","v":87},{"$f":"IF($AA$7=\"ganjil\",IF(nilai!L14=\"\",\"\",nilai!L14),IF(nilai!AT14=\"\",\"\",nilai!AT14))","v":76},{"$f":"IF($AA$7=\"ganjil\",IF(nilai!M14=\"\",\"\",nilai!M14),IF(nilai!AU14=\"\",\"\",nilai!AU14))","v":74},{"$f":"IF($AA$7=\"ganjil\",IF(nilai!N14=\"\",\"\",nilai!N14),IF(nilai!AV14=\"\",\"\",nilai!AV14))","v":78},{"$f":"IF($AA$7=\"ganjil\",IF(nilai!K14=\"\",\"\",nilai!K14),IF(nilai!AS14=\"\",\"\",nilai!AS14))","v":67},{"$f":"IF($AA$7=\"ganjil\",IF(nilai!O14=\"\",\"\",nilai!O14),IF(nilai!AW14=\"\",\"\",nilai!AW14))","v":45},{"$f":"IF($AA$7=\"ganjil\",IF(nilai!P14=\"\",\"\",nilai!P14),IF(nilai!AX14=\"\",\"\",nilai!AX14))","v":""},{"$f":"IF($AA$7=\"ganjil\",IF(nilai!Q14=\"\",\"\",nilai!Q14),IF(nilai!AY14=\"\",\"\",nilai!AY14))","v":67},{"$f":"IF($AA$7=\"ganjil\",IF(nilai!R14=\"\",\"\",nilai!R14),IF(nilai!AZ14=\"\",\"\",nilai!AZ14))","v":76},{"$f":"IF($AA$7=\"ganjil\",IF(nilai!S14=\"\",\"\",nilai!S14),IF(nilai!BA14=\"\",\"\",nilai!BA14))","v":74},{"$f":"IF($AA$7=\"ganjil\",IF(nilai!T14=\"\",\"\",nilai!T14),IF(nilai!BB14=\"\",\"\",nilai!BB14))","v":78},{"$f":"IF($AA$7=\"ganjil\",IF(nilai!U14=\"\",\"\",nilai!U14),IF(nilai!BC14=\"\",\"\",nilai!BC14))","v":45},{"$f":"IF($AA$7=\"ganjil\",IF(nilai!V14=\"\",\"\",nilai!V14),IF(nilai!BD14=\"\",\"\",nilai!BD14))","v":""},{"$f":"IF($AA$7=\"ganjil\",IF(nilai!W14=\"\",\"\",nilai!W14),IF(nilai!BE14=\"\",\"\",nilai!BE14))","v":""},932,null,71.692307692307693,null,2,null,null,932,71.692307692307693,{"$f":"IF(AH18=\"\",\"\",RANK(AH18,$AH$14:$AH$63,0)+COUNTIF($AH$13:AH17,AH18))","v":2},{"$f":"IF(Database!$A8=\"\",\"\",Database!$A8)","v":5},{"$f":"IF(Database!$D8=\"\",\"\",Database!$D8)","v":"riski"},null,null,null,null,null,{"$f":"IF($AA$7=\"ganjil\",IF(nilai!X14=\"\",\"\",nilai!X14),IF(nilai!BF14=\"\",\"\",nilai!BF14))","v":76},{"$f":"IF($AA$7=\"ganjil\",IF(nilai!Y14=\"\",\"\",nilai!Y14),IF(nilai!BG14=\"\",\"\",nilai!BG14))","v":92},{"$f":"IF($AA$7=\"ganjil\",IF(nilai!Z14=\"\",\"\",nilai!Z14),IF(nilai!BH14=\"\",\"\",nilai!BH14))","v":90},{"$f":"IF($AA$7=\"ganjil\",IF(nilai!AB14=\"\",\"\",nilai!AB14),IF(nilai!BJ14=\"\",\"\",nilai!BJ14))","v":76},{"$f":"IF($AA$7=\"ganjil\",IF(nilai!AC14=\"\",\"\",nilai!AC14),IF(nilai!BK14=\"\",\"\",nilai!BK14))","v":77},{"$f":"IF($AA$7=\"ganjil\",IF(nilai!AD14=\"\",\"\",nilai!AD14),IF(nilai!BL14=\"\",\"\",nilai!BL14))","v":81},{"$f":"IF($AA$7=\"ganjil\",IF(nilai!AA14=\"\",\"\",nilai!AA14),IF(nilai!BI14=\"\",\"\",nilai!BI14))","v":72},{"$f":"IF($AA$7=\"ganjil\",IF(nilai!AE14=\"\",\"\",nilai!AE14),IF(nilai!BM14=\"\",\"\",nilai!BM14))","v":50},{"$f":"IF($AA$7=\"ganjil\",IF(nilai!AF14=\"\",\"\",nilai!AF14),IF(nilai!BN14=\"\",\"\",nilai!BN14))","v":""},{"$f":"IF($AA$7=\"ganjil\",IF(nilai!AG14=\"\",\"\",nilai!AG14),IF(nilai!BO14=\"\",\"\",nilai!BO14))","v":70},{"$f":"IF($AA$7=\"ganjil\",IF(nilai!AH14=\"\",\"\",nilai!AH14),IF(nilai!BP14=\"\",\"\",nilai!BP14))","v":79},{"$f":"IF($AA$7=\"ganjil\",IF(nilai!AI14=\"\",\"\",nilai!AI14),IF(nilai!BQ14=\"\",\"\",nilai!BQ14))","v":79},{"$f":"IF($AA$7=\"ganjil\",IF(nilai!AJ14=\"\",\"\",nilai!AJ14),IF(nilai!BR14=\"\",\"\",nilai!BR14))","v":78},{"$f":"IF($AA$7=\"ganjil\",IF(nilai!AK14=\"\",\"\",nilai!AK14),IF(nilai!BS14=\"\",\"\",nilai!BS14))","v":48},{"$f":"IF($AA$7=\"ganjil\",IF(nilai!AL14=\"\",\"\",nilai!AL14),IF(nilai!BT14=\"\",\"\",nilai!BT14))","v":""},{"$f":"IF($AA$7=\"ganjil\",IF(nilai!AM14=\"\",\"\",nilai!AM14),IF(nilai!BU14=\"\",\"\",nilai!BU14))","v":""},968,null,74.461538461538467,null,2,null,null,968,74.461538461538467,{"$f":"IF(BO18=\"\",\"\",RANK(BO18,$BO$14:$BO$63,0)+COUNTIF($BO$13:BO17,BO18))","v":2}]
[null,null,{"$f":"IF(Database!$A9=\"\",\"\",Database!$A9)","v":6},{"$f":"IF(Database!$D9=\"\",\"\",Database!$D9)","v":"risal"},null,null,null,null,null,{"$f":"IF($AA$7=\"ganjil\",IF(nilai!H15=\"\",\"\",nilai!H15),IF(nilai!AP15=\"\",\"\",nilai!AP15))","v":67},{"$f":"IF($AA$7=\"ganjil\",IF(nilai!I15=\"\",\"\",nilai!I15),IF(nilai!AQ15=\"\",\"\",nilai!AQ15))","v":76},{"$f":"IF($AA$7=\"ganjil\",IF(nilai!J15=\"\",\"\",nilai!J15),IF(nilai!AR15=\"\",\"\",nilai!AR15))","v":74},{"$f":"IF($AA$7=\"ganjil\",IF(nilai!L15=\"\",\"\",nilai!L15),IF(nilai!AT15=\"\",\"\",nilai!AT15))","v":67},{"$f":"IF($AA$7=\"ganjil\",IF(nilai!M15=\"\",\"\",nilai!M15),IF(nilai!AU15=\"\",\"\",nilai!AU15))","v":76},{"$f":"IF($AA$7=\"ganjil\",IF(nilai!N15=\"\",\"\",nilai!N15),IF(nilai!AV15=\"\",\"\",nilai!AV15))","v":74},{"$f":"IF($AA$7=\"ganjil\",IF(nilai!K15=\"\",\"\",nilai!K15),IF(nilai!AS15=\"\",\"\",nilai!AS15))","v":78},{"$f":"IF($AA$7=\"ganjil\",IF(nilai!O15=\"\",\"\",nilai!O15),IF(nilai!AW15=\"\",\"\",nilai!AW15))","v":78},{"$f":"IF($AA$7=\"ganjil\",IF(nilai!P15=\"\",\"\",nilai!P15),IF(nilai!AX15=\"\",\"\",nilai!AX15))","v":45},{"$f":"IF($AA$7=\"ganjil\",IF(nilai!Q15=\"\",\"\",nilai!Q15),IF(nilai!AY15=\"\",\"\",nilai!AY15))","v":76},{"$f":"IF($AA$7=\"ganjil\",IF(nilai!R15=\"\",\"\",nilai!R15),IF(nilai!AZ15=\"\",\"\",nilai!AZ15))","v":74},{"$f":"IF($AA$7=\"ganjil\",IF(nilai!S15=\"\",\"\",nilai!S15),IF(nilai!BA15=\"\",\"\",nilai!BA15))","v":78},{"$f":"IF($AA$7=\"ganjil\",IF(nilai!T15=\"\",\"\",nilai!T15),IF(nilai!BB15=\"\",\"\",nilai!BB15))","v":45},{"$f":"IF($AA$7=\"ganjil\",IF(nilai!U15=\"\",\"\",nilai!U15),IF(nilai!BC15=\"\",\"\",nilai!BC15))","v":84},{"$f":"IF($AA$7=\"ganjil\",IF(nilai!V15=\"\",\"\",nilai!V15),IF(nilai!BD15=\"\",\"\",nilai!BD15))","v":""},{"$f":"IF($AA$7=\"ganjil\",IF(nilai!W15=\"\",\"\",nilai!W15),IF(nilai!BE15=\"\",\"\",nilai!BE15))","v":""},992,null,70.857142857142861,null,3,null,null,992,70.857142857142861,{"$f":"IF(AH19=\"\",\"\",RANK(AH19,$AH$14:$AH$63,0)+COUNTIF($AH$13:AH18,AH19))","v":3},{"$f":"IF(Database!$A9=\"\",\"\",Database!$A9)","v":6},{"$f":"IF(Database!$D9=\"\",\"\",Database!$D9)","v":"risal"},null,null,null,null,null,{"$f":"IF($AA$7=\"ganjil\",IF(nilai!X15=\"\",\"\",nilai!X15),IF(nilai!BF15=\"\",\"\",nilai!BF15))","v":69},{"$f":"IF($AA$7=\"ganjil\",IF(nilai!Y15=\"\",\"\",nilai!Y15),IF(nilai!BG15=\"\",\"\",nilai!BG15))","v":78},{"$f":"IF($AA$7=\"ganjil\",IF(nilai!Z15=\"\",\"\",nilai!Z15),IF(nilai!BH15=\"\",\"\",nilai!BH15))","v":76},{"$f":"IF($AA$7=\"ganjil\",IF(nilai!AB15=\"\",\"\",nilai!AB15),IF(nilai!BJ15=\"\",\"\",nilai!BJ15))","v":69},{"$f":"IF($AA$7=\"ganjil\",IF(nilai!AC15=\"\",\"\",nilai!AC15),IF(nilai!BK15=\"\",\"\",nilai!BK15))","v":78},{"$f":"IF($AA$7=\"ganjil\",IF(nilai!AD15=\"\",\"\",nilai!AD15),IF(nilai!BL15=\"\",\"\",nilai!BL15))","v":76},{"$f":"IF($AA$7=\"ganjil\",IF(nilai!AA15=\"\",\"\",nilai!AA15),IF(nilai!BI15=\"\",\"\",nilai!BI15))","v":80},{"$f":"IF($AA$7=\"ganjil\",IF(nilai!AE15=\"\",\"\",nilai!AE15),IF(nilai!BM15=\"\",\"\",nilai!BM15))","v":80},{"$f":"IF($AA$7=\"ganjil\",IF(nilai!AF15=\"\",\"\",nilai!AF15),IF(nilai!BN15=\"\",\"\",nilai!BN15))","v":47},{"$f":"IF($AA$7=\"ganjil\",IF(nilai!AG15=\"\",\"\",nilai!AG15),IF(nilai!BO15=\"\",\"\",nilai!BO15))","v":78},{"$f":"IF($AA$7=\"ganjil\",IF(nilai!AH15=\"\",\"\",nilai!AH15),IF(nilai!BP15=\"\",\"\",nilai!BP15))","v":76},{"$f":"IF($AA$7=\"ganjil\",IF(nilai!AI15=\"\",\"\",nilai!AI15),IF(nilai!BQ15=\"\",\"\",nilai!BQ15))","v":80},{"$f":"IF($AA$7=\"ganjil\",IF(nilai!AJ15=\"\",\"\",nilai!AJ15),IF(nilai!BR15=\"\",\"\",nilai!BR15))","v":47},{"$f":"IF($AA$7=\"ganjil\",IF(nilai!AK15=\"\",\"\",nilai!AK15),IF(nilai!BS15=\"\",\"\",nilai!BS15))","v":86},{"$f":"IF($AA$7=\"ganjil\",IF(nilai!AL15=\"\",\"\",nilai!AL15),IF(nilai!BT15=\"\",\"\",nilai!BT15))","v":""},{"$f":"IF($AA$7=\"ganjil\",IF(nilai!AM15=\"\",\"\",nilai!AM15),IF(nilai!BU15=\"\",\"\",nilai!BU15))","v":""},1020,null,72.857142857142861,null,3,null,null,1020,72.857142857142861,{"$f":"IF(BO19=\"\",\"\",RANK(BO19,$BO$14:$BO$63,0)+COUNTIF($BO$13:BO18,BO19))","v":3}]
[null,null,{"$f":"IF(Database!$A10=\"\",\"\",Database!$A10)","v":7},{"$f":"IF(Database!$D10=\"\",\"\",Database!$D10)","v":"saya"},null,null,null,null,null,{"$f":"IF($AA$7=\"ganjil\",IF(nilai!H16=\"\",\"\",nilai!H16),IF(nilai!AP16=\"\",\"\",nilai!AP16))","v":""},{"$f":"IF($AA$7=\"ganjil\",IF(nilai!I16=\"\",\"\",nilai!I16),IF(nilai!AQ16=\"\",\"\",nilai!AQ16))","v":""},{"$f":"IF($AA$7=\"ganjil\",IF(nilai!J16=\"\",\"\",nilai!J16),IF(nilai!AR16=\"\",\"\",nilai!AR16))","v":""},{"$f":"IF($AA$7=\"ganjil\",IF(nilai!L16=\"\",\"\",nilai!L16),IF(nilai!AT16=\"\",\"\",nilai!AT16))","v":""},{"$f":"IF($AA$7=\"ganjil\",IF(nilai!M16=\"\",\"\",nilai!M16),IF(nilai!AU16=\"\",\"\",nilai!AU16))","v":""},{"$f":"IF($AA$7=\"ganjil\",IF(nilai!N16=\"\",\"\",nilai!N16),IF(nilai!AV16=\"\",\"\",nilai!AV16))","v":""},{"$f":"IF($AA$7=\"ganjil\",IF(nilai!K16=\"\",\"\",nilai!K16),IF(nilai!AS16=\"\",\"\",nilai!AS16))","v":""},{"$f":"IF($AA$7=\"ganjil\",IF(nilai!O16=\"\",\"\",nilai!O16),IF(nilai!AW16=\"\",\"\",nilai!AW16))","v":""},{"$f":"IF($AA$7=\"ganjil\",IF(nilai!P16=\"\",\"\",nilai!P16),IF(nilai!AX16=\"\",\"\",nilai!AX16))","v":""},{"$f":"IF($AA$7=\"ganjil\",IF(nilai!Q16=\"\",\"\",nilai!Q16),IF(nilai!AY16=\"\",\"\",nilai!AY16))","v":""},{"$f":"IF($AA$7=\"ganjil\",IF(nilai!R16=\"\",\"\",nilai!R16),IF(nilai!AZ16=\"\",\"\",nilai!AZ16))","v":""},{"$f":"IF($AA$7=\"ganjil\",IF(nilai!S16=\"\",\"\",nilai!S16),IF(nilai!BA16=\"\",\"\",nilai!BA16))","v":""},{"$f":"IF($AA$7=\"ganjil\",IF(nilai!T16=\"\",\"\",nilai!T16),IF(nilai!BB16=\"\",\"\",nilai!BB16))","v":""},{"$f":"IF($AA$7=\"ganjil\",IF(nilai!U16=\"\",\"\",nilai!U16),IF(nilai!BC16=\"\",\"\",nilai!BC16))","v":""},{"$f":"IF($AA$7=\"ganjil\",IF(nilai!V16=\"\",\"\",nilai!V16),IF(nilai!BD16=\"\",\"\",nilai!BD16))","v":""},{"$f":"IF($AA$7=\"ganjil\",IF(nilai!W16=\"\",\"\",nilai!W16),IF(nilai!BE16=\"\",\"\",nilai!BE16))","v":""},"",null,"",null,"",null,null,0,"",{"$f":"IF(AH20=\"\",\"\",RANK(AH20,$AH$14:$AH$63,0)+COUNTIF($AH$13:AH19,AH20))","v":""},{"$f":"IF(Database!$A10=\"\",\"\",Database!$A10)","v":7},{"$f":"IF(Database!$D10=\"\",\"\",Database!$D10)","v":"saya"},null,null,null,null,null,{"$f":"IF($AA$7=\"ganjil\",IF(nilai!X16=\"\",\"\",nilai!X16),IF(nilai!BF16=\"\",\"\",nilai!BF16))","v":""},{"$f":"IF($AA$7=\"ganjil\",IF(nilai!Y16=\"\",\"\",nilai!Y16),IF(nilai!BG16=\"\",\"\",nilai!BG16))","v":""},{"$f":"IF($AA$7=\"ganjil\",IF(nilai!Z16=\"\",\"\",nilai!Z16),IF(nilai!BH16=\"\",\"\",nilai!BH16))","v":""},{"$f":"IF($AA$7=\"ganjil\",IF(nilai!AB16=\"\",\"\",nilai!AB16),IF(nilai!BJ16=\"\",\"\",nilai!BJ16))","v":""},{"$f":"IF($AA$7=\"ganjil\",IF(nilai!AC16=\"\",\"\",nilai!AC16),IF(nilai!BK16=\"\",\"\",nilai!BK16))","v":""},{"$f":"IF($AA$7=\"ganjil\",IF(nilai!AD16=\"\",\"\",nilai!AD16),IF(nilai!BL16=\"\",\"\",nilai!BL16))","v":""},{"$f":"IF($AA$7=\"ganjil\",IF(nilai!AA16=\"\",\"\",nilai!AA16),IF(nilai!BI16=\"\",\"\",nilai!BI16))","v":""},{"$f":"IF($AA$7=\"ganjil\",IF(nilai!AE16=\"\",\"\",nilai!AE16),IF(nilai!BM16=\"\",\"\",nilai!BM16))","v":""},{"$f":"IF($AA$7=\"ganjil\",IF(nilai!AF16=\"\",\"\",nilai!AF16),IF(nilai!BN16=\"\",\"\",nilai!BN16))","v":""},{"$f":"IF($AA$7=\"ganjil\",IF(nilai!AG16=\"\",\"\",nilai!AG16),IF(nilai!BO16=\"\",\"\",nilai!BO16))","v":""},{"$f":"IF($AA$7=\"ganjil\",IF(nilai!AH16=\"\",\"\",nilai!AH16),IF(nilai!BP16=\"\",\"\",nilai!BP16))","v":""},{"$f":"IF($AA$7=\"ganjil\",IF(nilai!AI16=\"\",\"\",nilai!AI16),IF(nilai!BQ16=\"\",\"\",nilai!BQ16))","v":""},{"$f":"IF($AA$7=\"ganjil\",IF(nilai!AJ16=\"\",\"\",nilai!AJ16),IF(nilai!BR16=\"\",\"\",nilai!BR16))","v":""},{"$f":"IF($AA$7=\"ganjil\",IF(nilai!AK16=\"\",\"\",nilai!AK16),IF(nilai!BS16=\"\",\"\",nilai!BS16))","v":""},{"$f":"IF($AA$7=\"ganjil\",IF(nilai!AL16=\"\",\"\",nilai!AL16),IF(nilai!BT16=\"\",\"\",nilai!BT16))","v":""},{"$f":"IF($AA$7=\"ganjil\",IF(nilai!AM16=\"\",\"\",nilai!AM16),IF(nilai!BU16=\"\",\"\",nilai!BU16))","v":""},"",null,"",null,"",null,null,0,"",{"$f":"IF(BO20=\"\",\"\",RANK(BO20,$BO$14:$BO$63,0)+COUNTIF($BO$13:BO19,BO20))","v":""}]
[null,null,{"$f":"IF(Database!$A11=\"\",\"\",Database!$A11)","v":8},{"$f":"IF(Database!$D11=\"\",\"\",Database!$D11)","v":"dia"},null,null,null,null,null,{"$f":"IF($AA$7=\"ganjil\",IF(nilai!H17=\"\",\"\",nilai!H17),IF(nilai!AP17=\"\",\"\",nilai!AP17))","v":""},{"$f":"IF($AA$7=\"ganjil\",IF(nilai!I17=\"\",\"\",nilai!I17),IF(nilai!AQ17=\"\",\"\",nilai!AQ17))","v":""},{"$f":"IF($AA$7=\"ganjil\",IF(nilai!J17=\"\",\"\",nilai!J17),IF(nilai!AR17=\"\",\"\",nilai!AR17))","v":""},{"$f":"IF($AA$7=\"ganjil\",IF(nilai!L17=\"\",\"\",nilai!L17),IF(nilai!AT17=\"\",\"\",nilai!AT17))","v":""},{"$f":"IF($AA$7=\"ganjil\",IF(nilai!M17=\"\",\"\",nilai!M17),IF(nilai!AU17=\"\",\"\",nilai!AU17))","v":""},{"$f":"IF($AA$7=\"ganjil\",IF(nilai!N17=\"\",\"\",nilai!N17),IF(nilai!AV17=\"\",\"\",nilai!AV17))","v":""},{"$f":"IF($AA$7=\"ganjil\",IF(nilai!K17=\"\",\"\",nilai!K17),IF(nilai!AS17=\"\",\"\",nilai!AS17))","v":""},{"$f":"IF($AA$7=\"ganjil\",IF(nilai!O17=\"\",\"\",nilai!O17),IF(nilai!AW17=\"\",\"\",nilai!AW17))","v":""},{"$f":"IF($AA$7=\"ganjil\",IF(nilai!P17=\"\",\"\",nilai!P17),IF(nilai!AX17=\"\",\"\",nilai!AX17))","v":""},{"$f":"IF($AA$7=\"ganjil\",IF(nilai!Q17=\"\",\"\",nilai!Q17),IF(nilai!AY17=\"\",\"\",nilai!AY17))","v":""},{"$f":"IF($AA$7=\"ganjil\",IF(nilai!R17=\"\",\"\",nilai!R17),IF(nilai!AZ17=\"\",\"\",nilai!AZ17))","v":""},{"$f":"IF($AA$7=\"ganjil\",IF(nilai!S17=\"\",\"\",nilai!S17),IF(nilai!BA17=\"\",\"\",nilai!BA17))","v":""},{"$f":"IF($AA$7=\"ganjil\",IF(nilai!T17=\"\",\"\",nilai!T17),IF(nilai!BB17=\"\",\"\",nilai!BB17))","v":""},{"$f":"IF($AA$7=\"ganjil\",IF(nilai!U17=\"\",\"\",nilai!U17),IF(nilai!BC17=\"\",\"\",nilai!BC17))","v":""},{"$f":"IF($AA$7=\"ganjil\",IF(nilai!V17=\"\",\"\",nilai!V17),IF(nilai!BD17=\"\",\"\",nilai!BD17))","v":""},{"$f":"IF($AA$7=\"ganjil\",IF(nilai!W17=\"\",\"\",nilai!W17),IF(nilai!BE17=\"\",\"\",nilai!BE17))","v":""},"",null,"",null,"",null,null,0,"",{"$f":"IF(AH21=\"\",\"\",RANK(AH21,$AH$14:$AH$63,0)+COUNTIF($AH$13:AH20,AH21))","v":""},{"$f":"IF(Database!$A11=\"\",\"\",Database!$A11)","v":8},{"$f":"IF(Database!$D11=\"\",\"\",Database!$D11)","v":"dia"},null,null,null,null,null,{"$f":"IF($AA$7=\"ganjil\",IF(nilai!X17=\"\",\"\",nilai!X17),IF(nilai!BF17=\"\",\"\",nilai!BF17))","v":""},{"$f":"IF($AA$7=\"ganjil\",IF(nilai!Y17=\"\",\"\",nilai!Y17),IF(nilai!BG17=\"\",\"\",nilai!BG17))","v":""},{"$f":"IF($AA$7=\"ganjil\",IF(nilai!Z17=\"\",\"\",nilai!Z17),IF(nilai!BH17=\"\",\"\",nilai!BH17))","v":""},{"$f":"IF($AA$7=\"ganjil\",IF(nilai!AB17=\"\",\"\",nilai!AB17),IF(nilai!BJ17=\"\",\"\",nilai!BJ17))","v":""},{"$f":"IF($AA$7=\"ganjil\",IF(nilai!AC17=\"\",\"\",nilai!AC17),IF(nilai!BK17=\"\",\"\",nilai!BK17))","v":""},{"$f":"IF($AA$7=\"ganjil\",IF(nilai!AD17=\"\",\"\",nilai!AD17),IF(nilai!BL17=\"\",\"\",nilai!BL17))","v":""},{"$f":"IF($AA$7=\"ganjil\",IF(nilai!AA17=\"\",\"\",nilai!AA17),IF(nilai!BI17=\"\",\"\",nilai!BI17))","v":""},{"$f":"IF($AA$7=\"ganjil\",IF(nilai!AE17=\"\",\"\",nilai!AE17),IF(nilai!BM17=\"\",\"\",nilai!BM17))","v":""},{"$f":"IF($AA$7=\"ganjil\",IF(nilai!AF17=\"\",\"\",nilai!AF17),IF(nilai!BN17=\"\",\"\",nilai!BN17))","v":""},{"$f":"IF($AA$7=\"ganjil\",IF(nilai!AG17=\"\",\"\",nilai!AG17),IF(nilai!BO17=\"\",\"\",nilai!BO17))","v":""},{"$f":"IF($AA$7=\"ganjil\",IF(nilai!AH17=\"\",\"\",nilai!AH17),IF(nilai!BP17=\"\",\"\",nilai!BP17))","v":""},{"$f":"IF($AA$7=\"ganjil\",IF(nilai!AI17=\"\",\"\",nilai!AI17),IF(nilai!BQ17=\"\",\"\",nilai!BQ17))","v":""},{"$f":"IF($AA$7=\"ganjil\",IF(nilai!AJ17=\"\",\"\",nilai!AJ17),IF(nilai!BR17=\"\",\"\",nilai!BR17))","v":""},{"$f":"IF($AA$7=\"ganjil\",IF(nilai!AK17=\"\",\"\",nilai!AK17),IF(nilai!BS17=\"\",\"\",nilai!BS17))","v":""},{"$f":"IF($AA$7=\"ganjil\",IF(nilai!AL17=\"\",\"\",nilai!AL17),IF(nilai!BT17=\"\",\"\",nilai!BT17))","v":""},{"$f":"IF($AA$7=\"ganjil\",IF(nilai!AM17=\"\",\"\",nilai!AM17),IF(nilai!BU17=\"\",\"\",nilai!BU17))","v":""},"",null,"",null,"",null,null,0,"",{"$f":"IF(BO21=\"\",\"\",RANK(BO21,$BO$14:$BO$63,0)+COUNTIF($BO$13:BO20,BO21))","v":""}]
[null,null,{"$f":"IF(Database!$A12=\"\",\"\",Database!$A12)","v":""},{"$f":"IF(Database!$D12=\"\",\"\",Database!$D12)","v":""},null,null,null,null,null,{"$f":"IF($AA$7=\"ganjil\",IF(nilai!H18=\"\",\"\",nilai!H18),IF(nilai!AP18=\"\",\"\",nilai!AP18))","v":""},{"$f":"IF($AA$7=\"ganjil\",IF(nilai!I18=\"\",\"\",nilai!I18),IF(nilai!AQ18=\"\",\"\",nilai!AQ18))","v":""},{"$f":"IF($AA$7=\"ganjil\",IF(nilai!J18=\"\",\"\",nilai!J18),IF(nilai!AR18=\"\",\"\",nilai!AR18))","v":""},{"$f":"IF($AA$7=\"ganjil\",IF(nilai!L18=\"\",\"\",nilai!L18),IF(nilai!AT18=\"\",\"\",nilai!AT18))","v":""},{"$f":"IF($AA$7=\"ganjil\",IF(nilai!M18=\"\",\"\",nilai!M18),IF(nilai!AU18=\"\",\"\",nilai!AU18))","v":""},{"$f":"IF($AA$7=\"ganjil\",IF(nilai!N18=\"\",\"\",nilai!N18),IF(nilai!AV18=\"\",\"\",nilai!AV18))","v":""},{"$f":"IF($AA$7=\"ganjil\",IF(nilai!K18=\"\",\"\",nilai!K18),IF(nilai!AS18=\"\",\"\",nilai!AS18))","v":""},{"$f":"IF($AA$7=\"ganjil\",IF(nilai!O18=\"\",\"\",nilai!O18),IF(nilai!AW18=\"\",\"\",nilai!AW18))","v":""},{"$f":"IF($AA$7=\"ganjil\",IF(nilai!P18=\"\",\"\",nilai!P18),IF(nilai!AX18=\"\",\"\",nilai!AX18))","v":""},{"$f":"IF($AA$7=\"ganjil\",IF(nilai!Q18=\"\",\"\",nilai!Q18),IF(nilai!AY18=\"\",\"\",nilai!AY18))","v":""},{"$f":"IF($AA$7=\"ganjil\",IF(nilai!R18=\"\",\"\",nilai!R18),IF(nilai!AZ18=\"\",\"\",nilai!AZ18))","v":""},{"$f":"IF($AA$7=\"ganjil\",IF(nilai!S18=\"\",\"\",nilai!S18),IF(nilai!BA18=\"\",\"\",nilai!BA18))","v":""},{"$f":"IF($AA$7=\"ganjil\",IF(nilai!T18=\"\",\"\",nilai!T18),IF(nilai!BB18=\"\",\"\",nilai!BB18))","v":""},{"$f":"IF($AA$7=\"ganjil\",IF(nilai!U18=\"\",\"\",nilai!U18),IF(nilai!BC18=\"\",\"\",nilai!BC18))","v":""},{"$f":"IF($AA$7=\"ganjil\",IF(nilai!V18=\"\",\"\",nilai!V18),IF(nilai!BD18=\"\",\"\",nilai!BD18))","v":""},{"$f":"IF($AA$7=\"ganjil\",IF(nilai!W18=\"\",\"\",nilai!W18),IF(nilai!BE18=\"\",\"\",nilai!BE18))","v":""},"",null,"",null,"",null,null,0,"",{"$f":"IF(AH22=\"\",\"\",RANK(AH22,$AH$14:$AH$63,0)+COUNTIF($AH$13:AH21,AH22))","v":""},{"$f":"IF(Database!$A12=\"\",\"\",Database!$A12)","v":""},{"$f":"IF(Database!$D12=\"\",\"\",Database!$D12)","v":""},null,null,null,null,null,{"$f":"IF($AA$7=\"ganjil\",IF(nilai!X18=\"\",\"\",nilai!X18),IF(nilai!BF18=\"\",\"\",nilai!BF18))","v":""},{"$f":"IF($AA$7=\"ganjil\",IF(nilai!Y18=\"\",\"\",nilai!Y18),IF(nilai!BG18=\"\",\"\",nilai!BG18))","v":""},{"$f":"IF($AA$7=\"ganjil\",IF(nilai!Z18=\"\",\"\",nilai!Z18),IF(nilai!BH18=\"\",\"\",nilai!BH18))","v":""},{"$f":"IF($AA$7=\"ganjil\",IF(nilai!AB18=\"\",\"\",nilai!AB18),IF(nilai!BJ18=\"\",\"\",nilai!BJ18))","v":""},{"$f":"IF($AA$7=\"ganjil\",IF(nilai!AC18=\"\",\"\",nilai!AC18),IF(nilai!BK18=\"\",\"\",nilai!BK18))","v":""},{"$f":"IF($AA$7=\"ganjil\",IF(nilai!AD18=\"\",\"\",nilai!AD18),IF(nilai!BL18=\"\",\"\",nilai!BL18))","v":""},{"$f":"IF($AA$7=\"ganjil\",IF(nilai!AA18=\"\",\"\",nilai!AA18),IF(nilai!BI18=\"\",\"\",nilai!BI18))","v":""},{"$f":"IF($AA$7=\"ganjil\",IF(nilai!AE18=\"\",\"\",nilai!AE18),IF(nilai!BM18=\"\",\"\",nilai!BM18))","v":""},{"$f":"IF($AA$7=\"ganjil\",IF(nilai!AF18=\"\",\"\",nilai!AF18),IF(nilai!BN18=\"\",\"\",nilai!BN18))","v":""},{"$f":"IF($AA$7=\"ganjil\",IF(nilai!AG18=\"\",\"\",nilai!AG18),IF(nilai!BO18=\"\",\"\",nilai!BO18))","v":""},{"$f":"IF($AA$7=\"ganjil\",IF(nilai!AH18=\"\",\"\",nilai!AH18),IF(nilai!BP18=\"\",\"\",nilai!BP18))","v":""},{"$f":"IF($AA$7=\"ganjil\",IF(nilai!AI18=\"\",\"\",nilai!AI18),IF(nilai!BQ18=\"\",\"\",nilai!BQ18))","v":""},{"$f":"IF($AA$7=\"ganjil\",IF(nilai!AJ18=\"\",\"\",nilai!AJ18),IF(nilai!BR18=\"\",\"\",nilai!BR18))","v":""},{"$f":"IF($AA$7=\"ganjil\",IF(nilai!AK18=\"\",\"\",nilai!AK18),IF(nilai!BS18=\"\",\"\",nilai!BS18))","v":""},{"$f":"IF($AA$7=\"ganjil\",IF(nilai!AL18=\"\",\"\",nilai!AL18),IF(nilai!BT18=\"\",\"\",nilai!BT18))","v":""},{"$f":"IF($AA$7=\"ganjil\",IF(nilai!AM18=\"\",\"\",nilai!AM18),IF(nilai!BU18=\"\",\"\",nilai!BU18))","v":""},"",null,"",null,"",null,null,0,"",{"$f":"IF(BO22=\"\",\"\",RANK(BO22,$BO$14:$BO$63,0)+COUNTIF($BO$13:BO21,BO22))","v":""}]
[null,null,{"$f":"IF(Database!$A13=\"\",\"\",Database!$A13)","v":""},{"$f":"IF(Database!$D13=\"\",\"\",Database!$D13)","v":""},null,null,null,null,null,{"$f":"IF($AA$7=\"ganjil\",IF(nilai!H19=\"\",\"\",nilai!H19),IF(nilai!AP19=\"\",\"\",nilai!AP19))","v":""},{"$f":"IF($AA$7=\"ganjil\",IF(nilai!I19=\"\",\"\",nilai!I19),IF(nilai!AQ19=\"\",\"\",nilai!AQ19))","v":""},{"$f":"IF($AA$7=\"ganjil\",IF(nilai!J19=\"\",\"\",nilai!J19),IF(nilai!AR19=\"\",\"\",nilai!AR19))","v":""},{"$f":"IF($AA$7=\"ganjil\",IF(nilai!L19=\"\",\"\",nilai!L19),IF(nilai!AT19=\"\",\"\",nilai!AT19))","v":""},{"$f":"IF($AA$7=\"ganjil\",IF(nilai!M19=\"\",\"\",nilai!M19),IF(nilai!AU19=\"\",\"\",nilai!AU19))","v":""},{"$f":"IF($AA$7=\"ganjil\",IF(nilai!N19=\"\",\"\",nilai!N19),IF(nilai!AV19=\"\",\"\",nilai!AV19))","v":""},{"$f":"IF($AA$7=\"ganjil\",IF(nilai!K19=\"\",\"\",nilai!K19),IF(nilai!AS19=\"\",\"\",nilai!AS19))","v":""},{"$f":"IF($AA$7=\"ganjil\",IF(nilai!O19=\"\",\"\",nilai!O19),IF(nilai!AW19=\"\",\"\",nilai!AW19))","v":""},{"$f":"IF($AA$7=\"ganjil\",IF(nilai!P19=\"\",\"\",nilai!P19),IF(nilai!AX19=\"\",\"\",nilai!AX19))","v":""},{"$f":"IF($AA$7=\"ganjil\",IF(nilai!Q19=\"\",\"\",nilai!Q19),IF(nilai!AY19=\"\",\"\",nilai!AY19))","v":""},{"$f":"IF($AA$7=\"ganjil\",IF(nilai!R19=\"\",\"\",nilai!R19),IF(nilai!AZ19=\"\",\"\",nilai!AZ19))","v":""},{"$f":"IF($AA$7=\"ganjil\",IF(nilai!S19=\"\",\"\",nilai!S19),IF(nilai!BA19=\"\",\"\",nilai!BA19))","v":""},{"$f":"IF($AA$7=\"ganjil\",IF(nilai!T19=\"\",\"\",nilai!T19),IF(nilai!BB19=\"\",\"\",nilai!BB19))","v":""},{"$f":"IF($AA$7=\"ganjil\",IF(nilai!U19=\"\",\"\",nilai!U19),IF(nilai!BC19=\"\",\"\",nilai!BC19))","v":""},{"$f":"IF($AA$7=\"ganjil\",IF(nilai!V19=\"\",\"\",nilai!V19),IF(nilai!BD19=\"\",\"\",nilai!BD19))","v":""},{"$f":"IF($AA$7=\"ganjil\",IF(nilai!W19=\"\",\"\",nilai!W19),IF(nilai!BE19=\"\",\"\",nilai!BE19))","v":""},"",null,"",null,"",null,null,0,"",{"$f":"IF(AH23=\"\",\"\",RANK(AH23,$AH$14:$AH$63,0)+COUNTIF($AH$13:AH22,AH23))","v":""},{"$f":"IF(Database!$A13=\"\",\"\",Database!$A13)","v":""},{"$f":"IF(Database!$D13=\"\",\"\",Database!$D13)","v":""},null,null,null,null,null,{"$f":"IF($AA$7=\"ganjil\",IF(nilai!X19=\"\",\"\",nilai!X19),IF(nilai!BF19=\"\",\"\",nilai!BF19))","v":""},{"$f":"IF($AA$7=\"ganjil\",IF(nilai!Y19=\"\",\"\",nilai!Y19),IF(nilai!BG19=\"\",\"\",nilai!BG19))","v":""},{"$f":"IF($AA$7=\"ganjil\",IF(nilai!Z19=\"\",\"\",nilai!Z19),IF(nilai!BH19=\"\",\"\",nilai!BH19))","v":""},{"$f":"IF($AA$7=\"ganjil\",IF(nilai!AB19=\"\",\"\",nilai!AB19),IF(nilai!BJ19=\"\",\"\",nilai!BJ19))","v":""},{"$f":"IF($AA$7=\"ganjil\",IF(nilai!AC19=\"\",\"\",nilai!AC19),IF(nilai!BK19=\"\",\"\",nilai!BK19))","v":""},{"$f":"IF($AA$7=\"ganjil\",IF(nilai!AD19=\"\",\"\",nilai!AD19),IF(nilai!BL19=\"\",\"\",nilai!BL19))","v":""},{"$f":"IF($AA$7=\"ganjil\",IF(nilai!AA19=\"\",\"\",nilai!AA19),IF(nilai!BI19=\"\",\"\",nilai!BI19))","v":""},{"$f":"IF($AA$7=\"ganjil\",IF(nilai!AE19=\"\",\"\",nilai!AE19),IF(nilai!BM19=\"\",\"\",nilai!BM19))","v":""},{"$f":"IF($AA$7=\"ganjil\",IF(nilai!AF19=\"\",\"\",nilai!AF19),IF(nilai!BN19=\"\",\"\",nilai!BN19))","v":""},{"$f":"IF($AA$7=\"ganjil\",IF(nilai!AG19=\"\",\"\",nilai!AG19),IF(nilai!BO19=\"\",\"\",nilai!BO19))","v":""},{"$f":"IF($AA$7=\"ganjil\",IF(nilai!AH19=\"\",\"\",nilai!AH19),IF(nilai!BP19=\"\",\"\",nilai!BP19))","v":""},{"$f":"IF($AA$7=\"ganjil\",IF(nilai!AI19=\"\",\"\",nilai!AI19),IF(nilai!BQ19=\"\",\"\",nilai!BQ19))","v":""},{"$f":"IF($AA$7=\"ganjil\",IF(nilai!AJ19=\"\",\"\",nilai!AJ19),IF(nilai!BR19=\"\",\"\",nilai!BR19))","v":""},{"$f":"IF($AA$7=\"ganjil\",IF(nilai!AK19=\"\",\"\",nilai!AK19),IF(nilai!BS19=\"\",\"\",nilai!BS19))","v":""},{"$f":"IF($AA$7=\"ganjil\",IF(nilai!AL19=\"\",\"\",nilai!AL19),IF(nilai!BT19=\"\",\"\",nilai!BT19))","v":""},{"$f":"IF($AA$7=\"ganjil\",IF(nilai!AM19=\"\",\"\",nilai!AM19),IF(nilai!BU19=\"\",\"\",nilai!BU19))","v":""},"",null,"",null,"",null,null,0,"",{"$f":"IF(BO23=\"\",\"\",RANK(BO23,$BO$14:$BO$63,0)+COUNTIF($BO$13:BO22,BO23))","v":""}]
[null,null,{"$f":"IF(Database!$A14=\"\",\"\",Database!$A14)","v":""},{"$f":"IF(Database!$D14=\"\",\"\",Database!$D14)","v":""},null,null,null,null,null,{"$f":"IF($AA$7=\"ganjil\",IF(nilai!H20=\"\",\"\",nilai!H20),IF(nilai!AP20=\"\",\"\",nilai!AP20))","v":""},{"$f":"IF($AA$7=\"ganjil\",IF(nilai!I20=\"\",\"\",nilai!I20),IF(nilai!AQ20=\"\",\"\",nilai!AQ20))","v":""},{"$f":"IF($AA$7=\"ganjil\",IF(nilai!J20=\"\",\"\",nilai!J20),IF(nilai!AR20=\"\",\"\",nilai!AR20))","v":""},{"$f":"IF($AA$7=\"ganjil\",IF(nilai!L20=\"\",\"\",nilai!L20),IF(nilai!AT20=\"\",\"\",nilai!AT20))","v":""},{"$f":"IF($AA$7=\"ganjil\",IF(nilai!M20=\"\",\"\",nilai!M20),IF(nilai!AU20=\"\",\"\",nilai!AU20))","v":""},{"$f":"IF($AA$7=\"ganjil\",IF(nilai!N20=\"\",\"\",nilai!N20),IF(nilai!AV20=\"\",\"\",nilai!AV20))","v":""},{"$f":"IF($AA$7=\"ganjil\",IF(nilai!K20=\"\",\"\",nilai!K20),IF(nilai!AS20=\"\",\"\",nilai!AS20))","v":""},{"$f":"IF($AA$7=\"ganjil\",IF(nilai!O20=\"\",\"\",nilai!O20),IF(nilai!AW20=\"\",\"\",nilai!AW20))","v":""},{"$f":"IF($AA$7=\"ganjil\",IF(nilai!P20=\"\",\"\",nilai!P20),IF(nilai!AX20=\"\",\"\",nilai!AX20))","v":""},{"$f":"IF($AA$7=\"ganjil\",IF(nilai!Q20=\"\",\"\",nilai!Q20),IF(nilai!AY20=\"\",\"\",nilai!AY20))","v":""},{"$f":"IF($AA$7=\"ganjil\",IF(nilai!R20=\"\",\"\",nilai!R20),IF(nilai!AZ20=\"\",\"\",nilai!AZ20))","v":""},{"$f":"IF($AA$7=\"ganjil\",IF(nilai!S20=\"\",\"\",nilai!S20),IF(nilai!BA20=\"\",\"\",nilai!BA20))","v":""},{"$f":"IF($AA$7=\"ganjil\",IF(nilai!T20=\"\",\"\",nilai!T20),IF(nilai!BB20=\"\",\"\",nilai!BB20))","v":""},{"$f":"IF($AA$7=\"ganjil\",IF(nilai!U20=\"\",\"\",nilai!U20),IF(nilai!BC20=\"\",\"\",nilai!BC20))","v":""},{"$f":"IF($AA$7=\"ganjil\",IF(nilai!V20=\"\",\"\",nilai!V20),IF(nilai!BD20=\"\",\"\",nilai!BD20))","v":""},{"$f":"IF($AA$7=\"ganjil\",IF(nilai!W20=\"\",\"\",nilai!W20),IF(nilai!BE20=\"\",\"\",nilai!BE20))","v":""},"",null,"",null,"",null,null,0,"",{"$f":"IF(AH24=\"\",\"\",RANK(AH24,$AH$14:$AH$63,0)+COUNTIF($AH$13:AH23,AH24))","v":""},{"$f":"IF(Database!$A14=\"\",\"\",Database!$A14)","v":""},{"$f":"IF(Database!$D14=\"\",\"\",Database!$D14)","v":""},null,null,null,null,null,{"$f":"IF($AA$7=\"ganjil\",IF(nilai!X20=\"\",\"\",nilai!X20),IF(nilai!BF20=\"\",\"\",nilai!BF20))","v":""},{"$f":"IF($AA$7=\"ganjil\",IF(nilai!Y20=\"\",\"\",nilai!Y20),IF(nilai!BG20=\"\",\"\",nilai!BG20))","v":""},{"$f":"IF($AA$7=\"ganjil\",IF(nilai!Z20=\"\",\"\",nilai!Z20),IF(nilai!BH20=\"\",\"\",nilai!BH20))","v":""},{"$f":"IF($AA$7=\"ganjil\",IF(nilai!AB20=\"\",\"\",nilai!AB20),IF(nilai!BJ20=\"\",\"\",nilai!BJ20))","v":""},{"$f":"IF($AA$7=\"ganjil\",IF(nilai!AC20=\"\",\"\",nilai!AC20),IF(nilai!BK20=\"\",\"\",nilai!BK20))","v":""},{"$f":"IF($AA$7=\"ganjil\",IF(nilai!AD20=\"\",\"\",nilai!AD20),IF(nilai!BL20=\"\",\"\",nilai!BL20))","v":""},{"$f":"IF($AA$7=\"ganjil\",IF(nilai!AA20=\"\",\"\",nilai!AA20),IF(nilai!BI20=\"\",\"\",nilai!BI20))","v":""},{"$f":"IF($AA$7=\"ganjil\",IF(nilai!AE20=\"\",\"\",nilai!AE20),IF(nilai!BM20=\"\",\"\",nilai!BM20))","v":""},{"$f":"IF($AA$7=\"ganjil\",IF(nilai!AF20=\"\",\"\",nilai!AF20),IF(nilai!BN20=\"\",\"\",nilai!BN20))","v":""},{"$f":"IF($AA$7=\"ganjil\",IF(nilai!AG20=\"\",\"\",nilai!AG20),IF(nilai!BO20=\"\",\"\",nilai!BO20))","v":""},{"$f":"IF($AA$7=\"ganjil\",IF(nilai!AH20=\"\",\"\",nilai!AH20),IF(nilai!BP20=\"\",\"\",nilai!BP20))","v":""},{"$f":"IF($AA$7=\"ganjil\",IF(nilai!AI20=\"\",\"\",nilai!AI20),IF(nilai!BQ20=\"\",\"\",nilai!BQ20))","v":""},{"$f":"IF($AA$7=\"ganjil\",IF(nilai!AJ20=\"\",\"\",nilai!AJ20),IF(nilai!BR20=\"\",\"\",nilai!BR20))","v":""},{"$f":"IF($AA$7=\"ganjil\",IF(nilai!AK20=\"\",\"\",nilai!AK20),IF(nilai!BS20=\"\",\"\",nilai!BS20))","v":""},{"$f":"IF($AA$7=\"ganjil\",IF(nilai!AL20=\"\",\"\",nilai!AL20),IF(nilai!BT20=\"\",\"\",nilai!BT20))","v":""},{"$f":"IF($AA$7=\"ganjil\",IF(nilai!AM20=\"\",\"\",nilai!AM20),IF(nilai!BU20=\"\",\"\",nilai!BU20))","v":""},"",null,"",null,"",null,null,0,"",{"$f":"IF(BO24=\"\",\"\",RANK(BO24,$BO$14:$BO$63,0)+COUNTIF($BO$13:BO23,BO24))","v":""}]
[null,null,{"$f":"IF(Database!$A15=\"\",\"\",Database!$A15)","v":""},{"$f":"IF(Database!$D15=\"\",\"\",Database!$D15)","v":""},null,null,null,null,null,{"$f":"IF($AA$7=\"ganjil\",IF(nilai!H21=\"\",\"\",nilai!H21),IF(nilai!AP21=\"\",\"\",nilai!AP21))","v":""},{"$f":"IF($AA$7=\"ganjil\",IF(nilai!I21=\"\",\"\",nilai!I21),IF(nilai!AQ21=\"\",\"\",nilai!AQ21))","v":""},{"$f":"IF($AA$7=\"ganjil\",IF(nilai!J21=\"\",\"\",nilai!J21),IF(nilai!AR21=\"\",\"\",nilai!AR21))","v":""},{"$f":"IF($AA$7=\"ganjil\",IF(nilai!L21=\"\",\"\",nilai!L21),IF(nilai!AT21=\"\",\"\",nilai!AT21))","v":""},{"$f":"IF($AA$7=\"ganjil\",IF(nilai!M21=\"\",\"\",nilai!M21),IF(nilai!AU21=\"\",\"\",nilai!AU21))","v":""},{"$f":"IF($AA$7=\"ganjil\",IF(nilai!N21=\"\",\"\",nilai!N21),IF(nilai!AV21=\"\",\"\",nilai!AV21))","v":""},{"$f":"IF($AA$7=\"ganjil\",IF(nilai!K21=\"\",\"\",nilai!K21),IF(nilai!AS21=\"\",\"\",nilai!AS21))","v":""},{"$f":"IF($AA$7=\"ganjil\",IF(nilai!O21=\"\",\"\",nilai!O21),IF(nilai!AW21=\"\",\"\",nilai!AW21))","v":""},{"$f":"IF($AA$7=\"ganjil\",IF(nilai!P21=\"\",\"\",nilai!P21),IF(nilai!AX21=\"\",\"\",nilai!AX21))","v":""},{"$f":"IF($AA$7=\"ganjil\",IF(nilai!Q21=\"\",\"\",nilai!Q21),IF(nilai!AY21=\"\",\"\",nilai!AY21))","v":""},{"$f":"IF($AA$7=\"ganjil\",IF(nilai!R21=\"\",\"\",nilai!R21),IF(nilai!AZ21=\"\",\"\",nilai!AZ21))","v":""},{"$f":"IF($AA$7=\"ganjil\",IF(nilai!S21=\"\",\"\",nilai!S21),IF(nilai!BA21=\"\",\"\",nilai!BA21))","v":""},{"$f":"IF($AA$7=\"ganjil\",IF(nilai!T21=\"\",\"\",nilai!T21),IF(nilai!BB21=\"\",\"\",nilai!BB21))","v":""},{"$f":"IF($AA$7=\"ganjil\",IF(nilai!U21=\"\",\"\",nilai!U21),IF(nilai!BC21=\"\",\"\",nilai!BC21))","v":""},{"$f":"IF($AA$7=\"ganjil\",IF(nilai!V21=\"\",\"\",nilai!V21),IF(nilai!BD21=\"\",\"\",nilai!BD21))","v":""},{"$f":"IF($AA$7=\"ganjil\",IF(nilai!W21=\"\",\"\",nilai!W21),IF(nilai!BE21=\"\",\"\",nilai!BE21))","v":""},"",null,"",null,"",null,null,0,"",{"$f":"IF(AH25=\"\",\"\",RANK(AH25,$AH$14:$AH$63,0)+COUNTIF($AH$13:AH24,AH25))","v":""},{"$f":"IF(Database!$A15=\"\",\"\",Database!$A15)","v":""},{"$f":"IF(Database!$D15=\"\",\"\",Database!$D15)","v":""},null,null,null,null,null,{"$f":"IF($AA$7=\"ganjil\",IF(nilai!X21=\"\",\"\",nilai!X21),IF(nilai!BF21=\"\",\"\",nilai!BF21))","v":""},{"$f":"IF($AA$7=\"ganjil\",IF(nilai!Y21=\"\",\"\",nilai!Y21),IF(nilai!BG21=\"\",\"\",nilai!BG21))","v":""},{"$f":"IF($AA$7=\"ganjil\",IF(nilai!Z21=\"\",\"\",nilai!Z21),IF(nilai!BH21=\"\",\"\",nilai!BH21))","v":""},{"$f":"IF($AA$7=\"ganjil\",IF(nilai!AB21=\"\",\"\",nilai!AB21),IF(nilai!BJ21=\"\",\"\",nilai!BJ21))","v":""},{"$f":"IF($AA$7=\"ganjil\",IF(nilai!AC21=\"\",\"\",nilai!AC21),IF(nilai!BK21=\"\",\"\",nilai!BK21))","v":""},{"$f":"IF($AA$7=\"ganjil\",IF(nilai!AD21=\"\",\"\",nilai!AD21),IF(nilai!BL21=\"\",\"\",nilai!BL21))","v":""},{"$f":"IF($AA$7=\"ganjil\",IF(nilai!AA21=\"\",\"\",nilai!AA21),IF(nilai!BI21=\"\",\"\",nilai!BI21))","v":""},{"$f":"IF($AA$7=\"ganjil\",IF(nilai!AE21=\"\",\"\",nilai!AE21),IF(nilai!BM21=\"\",\"\",nilai!BM21))","v":""},{"$f":"IF($AA$7=\"ganjil\",IF(nilai!AF21=\"\",\"\",nilai!AF21),IF(nilai!BN21=\"\",\"\",nilai!BN21))","v":""},{"$f":"IF($AA$7=\"ganjil\",IF(nilai!AG21=\"\",\"\",nilai!AG21),IF(nilai!BO21=\"\",\"\",nilai!BO21))","v":""},{"$f":"IF($AA$7=\"ganjil\",IF(nilai!AH21=\"\",\"\",nilai!AH21),IF(nilai!BP21=\"\",\"\",nilai!BP21))","v":""},{"$f":"IF($AA$7=\"ganjil\",IF(nilai!AI21=\"\",\"\",nilai!AI21),IF(nilai!BQ21=\"\",\"\",nilai!BQ21))","v":""},{"$f":"IF($AA$7=\"ganjil\",IF(nilai!AJ21=\"\",\"\",nilai!AJ21),IF(nilai!BR21=\"\",\"\",nilai!BR21))","v":""},{"$f":"IF($AA$7=\"ganjil\",IF(nilai!AK21=\"\",\"\",nilai!AK21),IF(nilai!BS21=\"\",\"\",nilai!BS21))","v":""},{"$f":"IF($AA$7=\"ganjil\",IF(nilai!AL21=\"\",\"\",nilai!AL21),IF(nilai!BT21=\"\",\"\",nilai!BT21))","v":""},{"$f":"IF($AA$7=\"ganjil\",IF(nilai!AM21=\"\",\"\",nilai!AM21),IF(nilai!BU21=\"\",\"\",nilai!BU21))","v":""},"",null,"",null,"",null,null,0,"",{"$f":"IF(BO25=\"\",\"\",RANK(BO25,$BO$14:$BO$63,0)+COUNTIF($BO$13:BO24,BO25))","v":""}]
[null,null,{"$f":"IF(Database!$A16=\"\",\"\",Database!$A16)","v":""},{"$f":"IF(Database!$D16=\"\",\"\",Database!$D16)","v":""},null,null,null,null,null,{"$f":"IF($AA$7=\"ganjil\",IF(nilai!H22=\"\",\"\",nilai!H22),IF(nilai!AP22=\"\",\"\",nilai!AP22))","v":""},{"$f":"IF($AA$7=\"ganjil\",IF(nilai!I22=\"\",\"\",nilai!I22),IF(nilai!AQ22=\"\",\"\",nilai!AQ22))","v":""},{"$f":"IF($AA$7=\"ganjil\",IF(nilai!J22=\"\",\"\",nilai!J22),IF(nilai!AR22=\"\",\"\",nilai!AR22))","v":""},{"$f":"IF($AA$7=\"ganjil\",IF(nilai!L22=\"\",\"\",nilai!L22),IF(nilai!AT22=\"\",\"\",nilai!AT22))","v":""},{"$f":"IF($AA$7=\"ganjil\",IF(nilai!M22=\"\",\"\",nilai!M22),IF(nilai!AU22=\"\",\"\",nilai!AU22))","v":""},{"$f":"IF($AA$7=\"ganjil\",IF(nilai!N22=\"\",\"\",nilai!N22),IF(nilai!AV22=\"\",\"\",nilai!AV22))","v":""},{"$f":"IF($AA$7=\"ganjil\",IF(nilai!K22=\"\",\"\",nilai!K22),IF(nilai!AS22=\"\",\"\",nilai!AS22))","v":""},{"$f":"IF($AA$7=\"ganjil\",IF(nilai!O22=\"\",\"\",nilai!O22),IF(nilai!AW22=\"\",\"\",nilai!AW22))","v":""},{"$f":"IF($AA$7=\"ganjil\",IF(nilai!P22=\"\",\"\",nilai!P22),IF(nilai!AX22=\"\",\"\",nilai!AX22))","v":""},{"$f":"IF($AA$7=\"ganjil\",IF(nilai!Q22=\"\",\"\",nilai!Q22),IF(nilai!AY22=\"\",\"\",nilai!AY22))","v":""},{"$f":"IF($AA$7=\"ganjil\",IF(nilai!R22=\"\",\"\",nilai!R22),IF(nilai!AZ22=\"\",\"\",nilai!AZ22))","v":""},{"$f":"IF($AA$7=\"ganjil\",IF(nilai!S22=\"\",\"\",nilai!S22),IF(nilai!BA22=\"\",\"\",nilai!BA22))","v":""},{"$f":"IF($AA$7=\"ganjil\",IF(nilai!T22=\"\",\"\",nilai!T22),IF(nilai!BB22=\"\",\"\",nilai!BB22))","v":""},{"$f":"IF($AA$7=\"ganjil\",IF(nilai!U22=\"\",\"\",nilai!U22),IF(nilai!BC22=\"\",\"\",nilai!BC22))","v":""},{"$f":"IF($AA$7=\"ganjil\",IF(nilai!V22=\"\",\"\",nilai!V22),IF(nilai!BD22=\"\",\"\",nilai!BD22))","v":""},{"$f":"IF($AA$7=\"ganjil\",IF(nilai!W22=\"\",\"\",nilai!W22),IF(nilai!BE22=\"\",\"\",nilai!BE22))","v":""},"",null,"",null,"",null,null,0,"",{"$f":"IF(AH26=\"\",\"\",RANK(AH26,$AH$14:$AH$63,0)+COUNTIF($AH$13:AH25,AH26))","v":""},{"$f":"IF(Database!$A16=\"\",\"\",Database!$A16)","v":""},{"$f":"IF(Database!$D16=\"\",\"\",Database!$D16)","v":""},null,null,null,null,null,{"$f":"IF($AA$7=\"ganjil\",IF(nilai!X22=\"\",\"\",nilai!X22),IF(nilai!BF22=\"\",\"\",nilai!BF22))","v":""},{"$f":"IF($AA$7=\"ganjil\",IF(nilai!Y22=\"\",\"\",nilai!Y22),IF(nilai!BG22=\"\",\"\",nilai!BG22))","v":""},{"$f":"IF($AA$7=\"ganjil\",IF(nilai!Z22=\"\",\"\",nilai!Z22),IF(nilai!BH22=\"\",\"\",nilai!BH22))","v":""},{"$f":"IF($AA$7=\"ganjil\",IF(nilai!AB22=\"\",\"\",nilai!AB22),IF(nilai!BJ22=\"\",\"\",nilai!BJ22))","v":""},{"$f":"IF($AA$7=\"ganjil\",IF(nilai!AC22=\"\",\"\",nilai!AC22),IF(nilai!BK22=\"\",\"\",nilai!BK22))","v":""},{"$f":"IF($AA$7=\"ganjil\",IF(nilai!AD22=\"\",\"\",nilai!AD22),IF(nilai!BL22=\"\",\"\",nilai!BL22))","v":""},{"$f":"IF($AA$7=\"ganjil\",IF(nilai!AA22=\"\",\"\",nilai!AA22),IF(nilai!BI22=\"\",\"\",nilai!BI22))","v":""},{"$f":"IF($AA$7=\"ganjil\",IF(nilai!AE22=\"\",\"\",nilai!AE22),IF(nilai!BM22=\"\",\"\",nilai!BM22))","v":""},{"$f":"IF($AA$7=\"ganjil\",IF(nilai!AF22=\"\",\"\",nilai!AF22),IF(nilai!BN22=\"\",\"\",nilai!BN22))","v":""},{"$f":"IF($AA$7=\"ganjil\",IF(nilai!AG22=\"\",\"\",nilai!AG22),IF(nilai!BO22=\"\",\"\",nilai!BO22))","v":""},{"$f":"IF($AA$7=\"ganjil\",IF(nilai!AH22=\"\",\"\",nilai!AH22),IF(nilai!BP22=\"\",\"\",nilai!BP22))","v":""},{"$f":"IF($AA$7=\"ganjil\",IF(nilai!AI22=\"\",\"\",nilai!AI22),IF(nilai!BQ22=\"\",\"\",nilai!BQ22))","v":""},{"$f":"IF($AA$7=\"ganjil\",IF(nilai!AJ22=\"\",\"\",nilai!AJ22),IF(nilai!BR22=\"\",\"\",nilai!BR22))","v":""},{"$f":"IF($AA$7=\"ganjil\",IF(nilai!AK22=\"\",\"\",nilai!AK22),IF(nilai!BS22=\"\",\"\",nilai!BS22))","v":""},{"$f":"IF($AA$7=\"ganjil\",IF(nilai!AL22=\"\",\"\",nilai!AL22),IF(nilai!BT22=\"\",\"\",nilai!BT22))","v":""},{"$f":"IF($AA$7=\"ganjil\",IF(nilai!AM22=\"\",\"\",nilai!AM22),IF(nilai!BU22=\"\",\"\",nilai!BU22))","v":""},"",null,"",null,"",null,null,0,"",{"$f":"IF(BO26=\"\",\"\",RANK(BO26,$BO$14:$BO$63,0)+COUNTIF($BO$13:BO25,BO26))","v":""}]
[null,null,{"$f":"IF(Database!$A17=\"\",\"\",Database!$A17)","v":""},{"$f":"IF(Database!$D17=\"\",\"\",Database!$D17)","v":""},null,null,null,null,null,{"$f":"IF($AA$7=\"ganjil\",IF(nilai!H23=\"\",\"\",nilai!H23),IF(nilai!AP23=\"\",\"\",nilai!AP23))","v":""},{"$f":"IF($AA$7=\"ganjil\",IF(nilai!I23=\"\",\"\",nilai!I23),IF(nilai!AQ23=\"\",\"\",nilai!AQ23))","v":""},{"$f":"IF($AA$7=\"ganjil\",IF(nilai!J23=\"\",\"\",nilai!J23),IF(nilai!AR23=\"\",\"\",nilai!AR23))","v":""},{"$f":"IF($AA$7=\"ganjil\",IF(nilai!L23=\"\",\"\",nilai!L23),IF(nilai!AT23=\"\",\"\",nilai!AT23))","v":""},{"$f":"IF($AA$7=\"ganjil\",IF(nilai!M23=\"\",\"\",nilai!M23),IF(nilai!AU23=\"\",\"\",nilai!AU23))","v":""},{"$f":"IF($AA$7=\"ganjil\",IF(nilai!N23=\"\",\"\",nilai!N23),IF(nilai!AV23=\"\",\"\",nilai!AV23))","v":""},{"$f":"IF($AA$7=\"ganjil\",IF(nilai!K23=\"\",\"\",nilai!K23),IF(nilai!AS23=\"\",\"\",nilai!AS23))","v":""},{"$f":"IF($AA$7=\"ganjil\",IF(nilai!O23=\"\",\"\",nilai!O23),IF(nilai!AW23=\"\",\"\",nilai!AW23))","v":""},{"$f":"IF($AA$7=\"ganjil\",IF(nilai!P23=\"\",\"\",nilai!P23),IF(nilai!AX23=\"\",\"\",nilai!AX23))","v":""},{"$f":"IF($AA$7=\"ganjil\",IF(nilai!Q23=\"\",\"\",nilai!Q23),IF(nilai!AY23=\"\",\"\",nilai!AY23))","v":""},{"$f":"IF($AA$7=\"ganjil\",IF(nilai!R23=\"\",\"\",nilai!R23),IF(nilai!AZ23=\"\",\"\",nilai!AZ23))","v":""},{"$f":"IF($AA$7=\"ganjil\",IF(nilai!S23=\"\",\"\",nilai!S23),IF(nilai!BA23=\"\",\"\",nilai!BA23))","v":""},{"$f":"IF($AA$7=\"ganjil\",IF(nilai!T23=\"\",\"\",nilai!T23),IF(nilai!BB23=\"\",\"\",nilai!BB23))","v":""},{"$f":"IF($AA$7=\"ganjil\",IF(nilai!U23=\"\",\"\",nilai!U23),IF(nilai!BC23=\"\",\"\",nilai!BC23))","v":""},{"$f":"IF($AA$7=\"ganjil\",IF(nilai!V23=\"\",\"\",nilai!V23),IF(nilai!BD23=\"\",\"\",nilai!BD23))","v":""},{"$f":"IF($AA$7=\"ganjil\",IF(nilai!W23=\"\",\"\",nilai!W23),IF(nilai!BE23=\"\",\"\",nilai!BE23))","v":""},"",null,"",null,"",null,null,0,"",{"$f":"IF(AH27=\"\",\"\",RANK(AH27,$AH$14:$AH$63,0)+COUNTIF($AH$13:AH26,AH27))","v":""},{"$f":"IF(Database!$A17=\"\",\"\",Database!$A17)","v":""},{"$f":"IF(Database!$D17=\"\",\"\",Database!$D17)","v":""},null,null,null,null,null,{"$f":"IF($AA$7=\"ganjil\",IF(nilai!X23=\"\",\"\",nilai!X23),IF(nilai!BF23=\"\",\"\",nilai!BF23))","v":""},{"$f":"IF($AA$7=\"ganjil\",IF(nilai!Y23=\"\",\"\",nilai!Y23),IF(nilai!BG23=\"\",\"\",nilai!BG23))","v":""},{"$f":"IF($AA$7=\"ganjil\",IF(nilai!Z23=\"\",\"\",nilai!Z23),IF(nilai!BH23=\"\",\"\",nilai!BH23))","v":""},{"$f":"IF($AA$7=\"ganjil\",IF(nilai!AB23=\"\",\"\",nilai!AB23),IF(nilai!BJ23=\"\",\"\",nilai!BJ23))","v":""},{"$f":"IF($AA$7=\"ganjil\",IF(nilai!AC23=\"\",\"\",nilai!AC23),IF(nilai!BK23=\"\",\"\",nilai!BK23))","v":""},{"$f":"IF($AA$7=\"ganjil\",IF(nilai!AD23=\"\",\"\",nilai!AD23),IF(nilai!BL23=\"\",\"\",nilai!BL23))","v":""},{"$f":"IF($AA$7=\"ganjil\",IF(nilai!AA23=\"\",\"\",nilai!AA23),IF(nilai!BI23=\"\",\"\",nilai!BI23))","v":""},{"$f":"IF($AA$7=\"ganjil\",IF(nilai!AE23=\"\",\"\",nilai!AE23),IF(nilai!BM23=\"\",\"\",nilai!BM23))","v":""},{"$f":"IF($AA$7=\"ganjil\",IF(nilai!AF23=\"\",\"\",nilai!AF23),IF(nilai!BN23=\"\",\"\",nilai!BN23))","v":""},{"$f":"IF($AA$7=\"ganjil\",IF(nilai!AG23=\"\",\"\",nilai!AG23),IF(nilai!BO23=\"\",\"\",nilai!BO23))","v":""},{"$f":"IF($AA$7=\"ganjil\",IF(nilai!AH23=\"\",\"\",nilai!AH23),IF(nilai!BP23=\"\",\"\",nilai!BP23))","v":""},{"$f":"IF($AA$7=\"ganjil\",IF(nilai!AI23=\"\",\"\",nilai!AI23),IF(nilai!BQ23=\"\",\"\",nilai!BQ23))","v":""},{"$f":"IF($AA$7=\"ganjil\",IF(nilai!AJ23=\"\",\"\",nilai!AJ23),IF(nilai!BR23=\"\",\"\",nilai!BR23))","v":""},{"$f":"IF($AA$7=\"ganjil\",IF(nilai!AK23=\"\",\"\",nilai!AK23),IF(nilai!BS23=\"\",\"\",nilai!BS23))","v":""},{"$f":"IF($AA$7=\"ganjil\",IF(nilai!AL23=\"\",\"\",nilai!AL23),IF(nilai!BT23=\"\",\"\",nilai!BT23))","v":""},{"$f":"IF($AA$7=\"ganjil\",IF(nilai!AM23=\"\",\"\",nilai!AM23),IF(nilai!BU23=\"\",\"\",nilai!BU23))","v":""},"",null,"",null,"",null,null,0,"",{"$f":"IF(BO27=\"\",\"\",RANK(BO27,$BO$14:$BO$63,0)+COUNTIF($BO$13:BO26,BO27))","v":""}]
[null,null,{"$f":"IF(Database!$A18=\"\",\"\",Database!$A18)","v":""},{"$f":"IF(Database!$D18=\"\",\"\",Database!$D18)","v":""},null,null,null,null,null,{"$f":"IF($AA$7=\"ganjil\",IF(nilai!H24=\"\",\"\",nilai!H24),IF(nilai!AP24=\"\",\"\",nilai!AP24))","v":""},{"$f":"IF($AA$7=\"ganjil\",IF(nilai!I24=\"\",\"\",nilai!I24),IF(nilai!AQ24=\"\",\"\",nilai!AQ24))","v":""},{"$f":"IF($AA$7=\"ganjil\",IF(nilai!J24=\"\",\"\",nilai!J24),IF(nilai!AR24=\"\",\"\",nilai!AR24))","v":""},{"$f":"IF($AA$7=\"ganjil\",IF(nilai!L24=\"\",\"\",nilai!L24),IF(nilai!AT24=\"\",\"\",nilai!AT24))","v":""},{"$f":"IF($AA$7=\"ganjil\",IF(nilai!M24=\"\",\"\",nilai!M24),IF(nilai!AU24=\"\",\"\",nilai!AU24))","v":""},{"$f":"IF($AA$7=\"ganjil\",IF(nilai!N24=\"\",\"\",nilai!N24),IF(nilai!AV24=\"\",\"\",nilai!AV24))","v":""},{"$f":"IF($AA$7=\"ganjil\",IF(nilai!K24=\"\",\"\",nilai!K24),IF(nilai!AS24=\"\",\"\",nilai!AS24))","v":""},{"$f":"IF($AA$7=\"ganjil\",IF(nilai!O24=\"\",\"\",nilai!O24),IF(nilai!AW24=\"\",\"\",nilai!AW24))","v":""},{"$f":"IF($AA$7=\"ganjil\",IF(nilai!P24=\"\",\"\",nilai!P24),IF(nilai!AX24=\"\",\"\",nilai!AX24))","v":""},{"$f":"IF($AA$7=\"ganjil\",IF(nilai!Q24=\"\",\"\",nilai!Q24),IF(nilai!AY24=\"\",\"\",nilai!AY24))","v":""},{"$f":"IF($AA$7=\"ganjil\",IF(nilai!R24=\"\",\"\",nilai!R24),IF(nilai!AZ24=\"\",\"\",nilai!AZ24))","v":""},{"$f":"IF($AA$7=\"ganjil\",IF(nilai!S24=\"\",\"\",nilai!S24),IF(nilai!BA24=\"\",\"\",nilai!BA24))","v":""},{"$f":"IF($AA$7=\"ganjil\",IF(nilai!T24=\"\",\"\",nilai!T24),IF(nilai!BB24=\"\",\"\",nilai!BB24))","v":""},{"$f":"IF($AA$7=\"ganjil\",IF(nilai!U24=\"\",\"\",nilai!U24),IF(nilai!BC24=\"\",\"\",nilai!BC24))","v":""},{"$f":"IF($AA$7=\"ganjil\",IF(nilai!V24=\"\",\"\",nilai!V24),IF(nilai!BD24=\"\",\"\",nilai!BD24))","v":""},{"$f":"IF($AA$7=\"ganjil\",IF(nilai!W24=\"\",\"\",nilai!W24),IF(nilai!BE24=\"\",\"\",nilai!BE24))","v":""},"",null,"",null,"",null,null,0,"",{"$f":"IF(AH28=\"\",\"\",RANK(AH28,$AH$14:$AH$63,0)+COUNTIF($AH$13:AH27,AH28))","v":""},{"$f":"IF(Database!$A18=\"\",\"\",Database!$A18)","v":""},{"$f":"IF(Database!$D18=\"\",\"\",Database!$D18)","v":""},null,null,null,null,null,{"$f":"IF($AA$7=\"ganjil\",IF(nilai!X24=\"\",\"\",nilai!X24),IF(nilai!BF24=\"\",\"\",nilai!BF24))","v":""},{"$f":"IF($AA$7=\"ganjil\",IF(nilai!Y24=\"\",\"\",nilai!Y24),IF(nilai!BG24=\"\",\"\",nilai!BG24))","v":""},{"$f":"IF($AA$7=\"ganjil\",IF(nilai!Z24=\"\",\"\",nilai!Z24),IF(nilai!BH24=\"\",\"\",nilai!BH24))","v":""},{"$f":"IF($AA$7=\"ganjil\",IF(nilai!AB24=\"\",\"\",nilai!AB24),IF(nilai!BJ24=\"\",\"\",nilai!BJ24))","v":""},{"$f":"IF($AA$7=\"ganjil\",IF(nilai!AC24=\"\",\"\",nilai!AC24),IF(nilai!BK24=\"\",\"\",nilai!BK24))","v":""},{"$f":"IF($AA$7=\"ganjil\",IF(nilai!AD24=\"\",\"\",nilai!AD24),IF(nilai!BL24=\"\",\"\",nilai!BL24))","v":""},{"$f":"IF($AA$7=\"ganjil\",IF(nilai!AA24=\"\",\"\",nilai!AA24),IF(nilai!BI24=\"\",\"\",nilai!BI24))","v":""},{"$f":"IF($AA$7=\"ganjil\",IF(nilai!AE24=\"\",\"\",nilai!AE24),IF(nilai!BM24=\"\",\"\",nilai!BM24))","v":""},{"$f":"IF($AA$7=\"ganjil\",IF(nilai!AF24=\"\",\"\",nilai!AF24),IF(nilai!BN24=\"\",\"\",nilai!BN24))","v":""},{"$f":"IF($AA$7=\"ganjil\",IF(nilai!AG24=\"\",\"\",nilai!AG24),IF(nilai!BO24=\"\",\"\",nilai!BO24))","v":""},{"$f":"IF($AA$7=\"ganjil\",IF(nilai!AH24=\"\",\"\",nilai!AH24),IF(nilai!BP24=\"\",\"\",nilai!BP24))","v":""},{"$f":"IF($AA$7=\"ganjil\",IF(nilai!AI24=\"\",\"\",nilai!AI24),IF(nilai!BQ24=\"\",\"\",nilai!BQ24))","v":""},{"$f":"IF($AA$7=\"ganjil\",IF(nilai!AJ24=\"\",\"\",nilai!AJ24),IF(nilai!BR24=\"\",\"\",nilai!BR24))","v":""},{"$f":"IF($AA$7=\"ganjil\",IF(nilai!AK24=\"\",\"\",nilai!AK24),IF(nilai!BS24=\"\",\"\",nilai!BS24))","v":""},{"$f":"IF($AA$7=\"ganjil\",IF(nilai!AL24=\"\",\"\",nilai!AL24),IF(nilai!BT24=\"\",\"\",nilai!BT24))","v":""},{"$f":"IF($AA$7=\"ganjil\",IF(nilai!AM24=\"\",\"\",nilai!AM24),IF(nilai!BU24=\"\",\"\",nilai!BU24))","v":""},"",null,"",null,"",null,null,0,"",{"$f":"IF(BO28=\"\",\"\",RANK(BO28,$BO$14:$BO$63,0)+COUNTIF($BO$13:BO27,BO28))","v":""}]
[null,null,{"$f":"IF(Database!$A19=\"\",\"\",Database!$A19)","v":""},{"$f":"IF(Database!$D19=\"\",\"\",Database!$D19)","v":""},null,null,null,null,null,{"$f":"IF($AA$7=\"ganjil\",IF(nilai!H25=\"\",\"\",nilai!H25),IF(nilai!AP25=\"\",\"\",nilai!AP25))","v":""},{"$f":"IF($AA$7=\"ganjil\",IF(nilai!I25=\"\",\"\",nilai!I25),IF(nilai!AQ25=\"\",\"\",nilai!AQ25))","v":""},{"$f":"IF($AA$7=\"ganjil\",IF(nilai!J25=\"\",\"\",nilai!J25),IF(nilai!AR25=\"\",\"\",nilai!AR25))","v":""},{"$f":"IF($AA$7=\"ganjil\",IF(nilai!L25=\"\",\"\",nilai!L25),IF(nilai!AT25=\"\",\"\",nilai!AT25))","v":""},{"$f":"IF($AA$7=\"ganjil\",IF(nilai!M25=\"\",\"\",nilai!M25),IF(nilai!AU25=\"\",\"\",nilai!AU25))","v":""},{"$f":"IF($AA$7=\"ganjil\",IF(nilai!N25=\"\",\"\",nilai!N25),IF(nilai!AV25=\"\",\"\",nilai!AV25))","v":""},{"$f":"IF($AA$7=\"ganjil\",IF(nilai!K25=\"\",\"\",nilai!K25),IF(nilai!AS25=\"\",\"\",nilai!AS25))","v":""},{"$f":"IF($AA$7=\"ganjil\",IF(nilai!O25=\"\",\"\",nilai!O25),IF(nilai!AW25=\"\",\"\",nilai!AW25))","v":""},{"$f":"IF($AA$7=\"ganjil\",IF(nilai!P25=\"\",\"\",nilai!P25),IF(nilai!AX25=\"\",\"\",nilai!AX25))","v":""},{"$f":"IF($AA$7=\"ganjil\",IF(nilai!Q25=\"\",\"\",nilai!Q25),IF(nilai!AY25=\"\",\"\",nilai!AY25))","v":""},{"$f":"IF($AA$7=\"ganjil\",IF(nilai!R25=\"\",\"\",nilai!R25),IF(nilai!AZ25=\"\",\"\",nilai!AZ25))","v":""},{"$f":"IF($AA$7=\"ganjil\",IF(nilai!S25=\"\",\"\",nilai!S25),IF(nilai!BA25=\"\",\"\",nilai!BA25))","v":""},{"$f":"IF($AA$7=\"ganjil\",IF(nilai!T25=\"\",\"\",nilai!T25),IF(nilai!BB25=\"\",\"\",nilai!BB25))","v":""},{"$f":"IF($AA$7=\"ganjil\",IF(nilai!U25=\"\",\"\",nilai!U25),IF(nilai!BC25=\"\",\"\",nilai!BC25))","v":""},{"$f":"IF($AA$7=\"ganjil\",IF(nilai!V25=\"\",\"\",nilai!V25),IF(nilai!BD25=\"\",\"\",nilai!BD25))","v":""},{"$f":"IF($AA$7=\"ganjil\",IF(nilai!W25=\"\",\"\",nilai!W25),IF(nilai!BE25=\"\",\"\",nilai!BE25))","v":""},"",null,"",null,"",null,null,0,"",{"$f":"IF(AH29=\"\",\"\",RANK(AH29,$AH$14:$AH$63,0)+COUNTIF($AH$13:AH28,AH29))","v":""},{"$f":"IF(Database!$A19=\"\",\"\",Database!$A19)","v":""},{"$f":"IF(Database!$D19=\"\",\"\",Database!$D19)","v":""},null,null,null,null,null,{"$f":"IF($AA$7=\"ganjil\",IF(nilai!X25=\"\",\"\",nilai!X25),IF(nilai!BF25=\"\",\"\",nilai!BF25))","v":""},{"$f":"IF($AA$7=\"ganjil\",IF(nilai!Y25=\"\",\"\",nilai!Y25),IF(nilai!BG25=\"\",\"\",nilai!BG25))","v":""},{"$f":"IF($AA$7=\"ganjil\",IF(nilai!Z25=\"\",\"\",nilai!Z25),IF(nilai!BH25=\"\",\"\",nilai!BH25))","v":""},{"$f":"IF($AA$7=\"ganjil\",IF(nilai!AB25=\"\",\"\",nilai!AB25),IF(nilai!BJ25=\"\",\"\",nilai!BJ25))","v":""},{"$f":"IF($AA$7=\"ganjil\",IF(nilai!AC25=\"\",\"\",nilai!AC25),IF(nilai!BK25=\"\",\"\",nilai!BK25))","v":""},{"$f":"IF($AA$7=\"ganjil\",IF(nilai!AD25=\"\",\"\",nilai!AD25),IF(nilai!BL25=\"\",\"\",nilai!BL25))","v":""},{"$f":"IF($AA$7=\"ganjil\",IF(nilai!AA25=\"\",\"\",nilai!AA25),IF(nilai!BI25=\"\",\"\",nilai!BI25))","v":""},{"$f":"IF($AA$7=\"ganjil\",IF(nilai!AE25=\"\",\"\",nilai!AE25),IF(nilai!BM25=\"\",\"\",nilai!BM25))","v":""},{"$f":"IF($AA$7=\"ganjil\",IF(nilai!AF25=\"\",\"\",nilai!AF25),IF(nilai!BN25=\"\",\"\",nilai!BN25))","v":""},{"$f":"IF($AA$7=\"ganjil\",IF(nilai!AG25=\"\",\"\",nilai!AG25),IF(nilai!BO25=\"\",\"\",nilai!BO25))","v":""},{"$f":"IF($AA$7=\"ganjil\",IF(nilai!AH25=\"\",\"\",nilai!AH25),IF(nilai!BP25=\"\",\"\",nilai!BP25))","v":""},{"$f":"IF($AA$7=\"ganjil\",IF(nilai!AI25=\"\",\"\",nilai!AI25),IF(nilai!BQ25=\"\",\"\",nilai!BQ25))","v":""},{"$f":"IF($AA$7=\"ganjil\",IF(nilai!AJ25=\"\",\"\",nilai!AJ25),IF(nilai!BR25=\"\",\"\",nilai!BR25))","v":""},{"$f":"IF($AA$7=\"ganjil\",IF(nilai!AK25=\"\",\"\",nilai!AK25),IF(nilai!BS25=\"\",\"\",nilai!BS25))","v":""},{"$f":"IF($AA$7=\"ganjil\",IF(nilai!AL25=\"\",\"\",nilai!AL25),IF(nilai!BT25=\"\",\"\",nilai!BT25))","v":""},{"$f":"IF($AA$7=\"ganjil\",IF(nilai!AM25=\"\",\"\",nilai!AM25),IF(nilai!BU25=\"\",\"\",nilai!BU25))","v":""},"",null,"",null,"",null,null,0,"",{"$f":"IF(BO29=\"\",\"\",RANK(BO29,$BO$14:$BO$63,0)+COUNTIF($BO$13:BO28,BO29))","v":""}]
[null,null,{"$f":"IF(Database!$A20=\"\",\"\",Database!$A20)","v":""},{"$f":"IF(Database!$D20=\"\",\"\",Database!$D20)","v":""},null,null,null,null,null,{"$f":"IF($AA$7=\"ganjil\",IF(nilai!H26=\"\",\"\",nilai!H26),IF(nilai!AP26=\"\",\"\",nilai!AP26))","v":""},{"$f":"IF($AA$7=\"ganjil\",IF(nilai!I26=\"\",\"\",nilai!I26),IF(nilai!AQ26=\"\",\"\",nilai!AQ26))","v":""},{"$f":"IF($AA$7=\"ganjil\",IF(nilai!J26=\"\",\"\",nilai!J26),IF(nilai!AR26=\"\",\"\",nilai!AR26))","v":""},{"$f":"IF($AA$7=\"ganjil\",IF(nilai!L26=\"\",\"\",nilai!L26),IF(nilai!AT26=\"\",\"\",nilai!AT26))","v":""},{"$f":"IF($AA$7=\"ganjil\",IF(nilai!M26=\"\",\"\",nilai!M26),IF(nilai!AU26=\"\",\"\",nilai!AU26))","v":""},{"$f":"IF($AA$7=\"ganjil\",IF(nilai!N26=\"\",\"\",nilai!N26),IF(nilai!AV26=\"\",\"\",nilai!AV26))","v":""},{"$f":"IF($AA$7=\"ganjil\",IF(nilai!K26=\"\",\"\",nilai!K26),IF(nilai!AS26=\"\",\"\",nilai!AS26))","v":""},{"$f":"IF($AA$7=\"ganjil\",IF(nilai!O26=\"\",\"\",nilai!O26),IF(nilai!AW26=\"\",\"\",nilai!AW26))","v":""},{"$f":"IF($AA$7=\"ganjil\",IF(nilai!P26=\"\",\"\",nilai!P26),IF(nilai!AX26=\"\",\"\",nilai!AX26))","v":""},{"$f":"IF($AA$7=\"ganjil\",IF(nilai!Q26=\"\",\"\",nilai!Q26),IF(nilai!AY26=\"\",\"\",nilai!AY26))","v":""},{"$f":"IF($AA$7=\"ganjil\",IF(nilai!R26=\"\",\"\",nilai!R26),IF(nilai!AZ26=\"\",\"\",nilai!AZ26))","v":""},{"$f":"IF($AA$7=\"ganjil\",IF(nilai!S26=\"\",\"\",nilai!S26),IF(nilai!BA26=\"\",\"\",nilai!BA26))","v":""},{"$f":"IF($AA$7=\"ganjil\",IF(nilai!T26=\"\",\"\",nilai!T26),IF(nilai!BB26=\"\",\"\",nilai!BB26))","v":""},{"$f":"IF($AA$7=\"ganjil\",IF(nilai!U26=\"\",\"\",nilai!U26),IF(nilai!BC26=\"\",\"\",nilai!BC26))","v":""},{"$f":"IF($AA$7=\"ganjil\",IF(nilai!V26=\"\",\"\",nilai!V26),IF(nilai!BD26=\"\",\"\",nilai!BD26))","v":""},{"$f":"IF($AA$7=\"ganjil\",IF(nilai!W26=\"\",\"\",nilai!W26),IF(nilai!BE26=\"\",\"\",nilai!BE26))","v":""},"",null,"",null,"",null,null,0,"",{"$f":"IF(AH30=\"\",\"\",RANK(AH30,$AH$14:$AH$63,0)+COUNTIF($AH$13:AH29,AH30))","v":""},{"$f":"IF(Database!$A20=\"\",\"\",Database!$A20)","v":""},{"$f":"IF(Database!$D20=\"\",\"\",Database!$D20)","v":""},null,null,null,null,null,{"$f":"IF($AA$7=\"ganjil\",IF(nilai!X26=\"\",\"\",nilai!X26),IF(nilai!BF26=\"\",\"\",nilai!BF26))","v":""},{"$f":"IF($AA$7=\"ganjil\",IF(nilai!Y26=\"\",\"\",nilai!Y26),IF(nilai!BG26=\"\",\"\",nilai!BG26))","v":""},{"$f":"IF($AA$7=\"ganjil\",IF(nilai!Z26=\"\",\"\",nilai!Z26),IF(nilai!BH26=\"\",\"\",nilai!BH26))","v":""},{"$f":"IF($AA$7=\"ganjil\",IF(nilai!AB26=\"\",\"\",nilai!AB26),IF(nilai!BJ26=\"\",\"\",nilai!BJ26))","v":""},{"$f":"IF($AA$7=\"ganjil\",IF(nilai!AC26=\"\",\"\",nilai!AC26),IF(nilai!BK26=\"\",\"\",nilai!BK26))","v":""},{"$f":"IF($AA$7=\"ganjil\",IF(nilai!AD26=\"\",\"\",nilai!AD26),IF(nilai!BL26=\"\",\"\",nilai!BL26))","v":""},{"$f":"IF($AA$7=\"ganjil\",IF(nilai!AA26=\"\",\"\",nilai!AA26),IF(nilai!BI26=\"\",\"\",nilai!BI26))","v":""},{"$f":"IF($AA$7=\"ganjil\",IF(nilai!AE26=\"\",\"\",nilai!AE26),IF(nilai!BM26=\"\",\"\",nilai!BM26))","v":""},{"$f":"IF($AA$7=\"ganjil\",IF(nilai!AF26=\"\",\"\",nilai!AF26),IF(nilai!BN26=\"\",\"\",nilai!BN26))","v":""},{"$f":"IF($AA$7=\"ganjil\",IF(nilai!AG26=\"\",\"\",nilai!AG26),IF(nilai!BO26=\"\",\"\",nilai!BO26))","v":""},{"$f":"IF($AA$7=\"ganjil\",IF(nilai!AH26=\"\",\"\",nilai!AH26),IF(nilai!BP26=\"\",\"\",nilai!BP26))","v":""},{"$f":"IF($AA$7=\"ganjil\",IF(nilai!AI26=\"\",\"\",nilai!AI26),IF(nilai!BQ26=\"\",\"\",nilai!BQ26))","v":""},{"$f":"IF($AA$7=\"ganjil\",IF(nilai!AJ26=\"\",\"\",nilai!AJ26),IF(nilai!BR26=\"\",\"\",nilai!BR26))","v":""},{"$f":"IF($AA$7=\"ganjil\",IF(nilai!AK26=\"\",\"\",nilai!AK26),IF(nilai!BS26=\"\",\"\",nilai!BS26))","v":""},{"$f":"IF($AA$7=\"ganjil\",IF(nilai!AL26=\"\",\"\",nilai!AL26),IF(nilai!BT26=\"\",\"\",nilai!BT26))","v":""},{"$f":"IF($AA$7=\"ganjil\",IF(nilai!AM26=\"\",\"\",nilai!AM26),IF(nilai!BU26=\"\",\"\",nilai!BU26))","v":""},"",null,"",null,"",null,null,0,"",{"$f":"IF(BO30=\"\",\"\",RANK(BO30,$BO$14:$BO$63,0)+COUNTIF($BO$13:BO29,BO30))","v":""}]
[null,null,{"$f":"IF(Database!$A21=\"\",\"\",Database!$A21)","v":""},{"$f":"IF(Database!$D21=\"\",\"\",Database!$D21)","v":""},null,null,null,null,null,{"$f":"IF($AA$7=\"ganjil\",IF(nilai!H27=\"\",\"\",nilai!H27),IF(nilai!AP27=\"\",\"\",nilai!AP27))","v":""},{"$f":"IF($AA$7=\"ganjil\",IF(nilai!I27=\"\",\"\",nilai!I27),IF(nilai!AQ27=\"\",\"\",nilai!AQ27))","v":""},{"$f":"IF($AA$7=\"ganjil\",IF(nilai!J27=\"\",\"\",nilai!J27),IF(nilai!AR27=\"\",\"\",nilai!AR27))","v":""},{"$f":"IF($AA$7=\"ganjil\",IF(nilai!L27=\"\",\"\",nilai!L27),IF(nilai!AT27=\"\",\"\",nilai!AT27))","v":""},{"$f":"IF($AA$7=\"ganjil\",IF(nilai!M27=\"\",\"\",nilai!M27),IF(nilai!AU27=\"\",\"\",nilai!AU27))","v":""},{"$f":"IF($AA$7=\"ganjil\",IF(nilai!N27=\"\",\"\",nilai!N27),IF(nilai!AV27=\"\",\"\",nilai!AV27))","v":""},{"$f":"IF($AA$7=\"ganjil\",IF(nilai!K27=\"\",\"\",nilai!K27),IF(nilai!AS27=\"\",\"\",nilai!AS27))","v":""},{"$f":"IF($AA$7=\"ganjil\",IF(nilai!O27=\"\",\"\",nilai!O27),IF(nilai!AW27=\"\",\"\",nilai!AW27))","v":""},{"$f":"IF($AA$7=\"ganjil\",IF(nilai!P27=\"\",\"\",nilai!P27),IF(nilai!AX27=\"\",\"\",nilai!AX27))","v":""},{"$f":"IF($AA$7=\"ganjil\",IF(nilai!Q27=\"\",\"\",nilai!Q27),IF(nilai!AY27=\"\",\"\",nilai!AY27))","v":""},{"$f":"IF($AA$7=\"ganjil\",IF(nilai!R27=\"\",\"\",nilai!R27),IF(nilai!AZ27=\"\",\"\",nilai!AZ27))","v":""},{"$f":"IF($AA$7=\"ganjil\",IF(nilai!S27=\"\",\"\",nilai!S27),IF(nilai!BA27=\"\",\"\",nilai!BA27))","v":""},{"$f":"IF($AA$7=\"ganjil\",IF(nilai!T27=\"\",\"\",nilai!T27),IF(nilai!BB27=\"\",\"\",nilai!BB27))","v":""},{"$f":"IF($AA$7=\"ganjil\",IF(nilai!U27=\"\",\"\",nilai!U27),IF(nilai!BC27=\"\",\"\",nilai!BC27))","v":""},{"$f":"IF($AA$7=\"ganjil\",IF(nilai!V27=\"\",\"\",nilai!V27),IF(nilai!BD27=\"\",\"\",nilai!BD27))","v":""},{"$f":"IF($AA$7=\"ganjil\",IF(nilai!W27=\"\",\"\",nilai!W27),IF(nilai!BE27=\"\",\"\",nilai!BE27))","v":""},"",null,"",null,"",null,null,0,"",{"$f":"IF(AH31=\"\",\"\",RANK(AH31,$AH$14:$AH$63,0)+COUNTIF($AH$13:AH30,AH31))","v":""},{"$f":"IF(Database!$A21=\"\",\"\",Database!$A21)","v":""},{"$f":"IF(Database!$D21=\"\",\"\",Database!$D21)","v":""},null,null,null,null,null,{"$f":"IF($AA$7=\"ganjil\",IF(nilai!X27=\"\",\"\",nilai!X27),IF(nilai!BF27=\"\",\"\",nilai!BF27))","v":""},{"$f":"IF($AA$7=\"ganjil\",IF(nilai!Y27=\"\",\"\",nilai!Y27),IF(nilai!BG27=\"\",\"\",nilai!BG27))","v":""},{"$f":"IF($AA$7=\"ganjil\",IF(nilai!Z27=\"\",\"\",nilai!Z27),IF(nilai!BH27=\"\",\"\",nilai!BH27))","v":""},{"$f":"IF($AA$7=\"ganjil\",IF(nilai!AB27=\"\",\"\",nilai!AB27),IF(nilai!BJ27=\"\",\"\",nilai!BJ27))","v":""},{"$f":"IF($AA$7=\"ganjil\",IF(nilai!AC27=\"\",\"\",nilai!AC27),IF(nilai!BK27=\"\",\"\",nilai!BK27))","v":""},{"$f":"IF($AA$7=\"ganjil\",IF(nilai!AD27=\"\",\"\",nilai!AD27),IF(nilai!BL27=\"\",\"\",nilai!BL27))","v":""},{"$f":"IF($AA$7=\"ganjil\",IF(nilai!AA27=\"\",\"\",nilai!AA27),IF(nilai!BI27=\"\",\"\",nilai!BI27))","v":""},{"$f":"IF($AA$7=\"ganjil\",IF(nilai!AE27=\"\",\"\",nilai!AE27),IF(nilai!BM27=\"\",\"\",nilai!BM27))","v":""},{"$f":"IF($AA$7=\"ganjil\",IF(nilai!AF27=\"\",\"\",nilai!AF27),IF(nilai!BN27=\"\",\"\",nilai!BN27))","v":""},{"$f":"IF($AA$7=\"ganjil\",IF(nilai!AG27=\"\",\"\",nilai!AG27),IF(nilai!BO27=\"\",\"\",nilai!BO27))","v":""},{"$f":"IF($AA$7=\"ganjil\",IF(nilai!AH27=\"\",\"\",nilai!AH27),IF(nilai!BP27=\"\",\"\",nilai!BP27))","v":""},{"$f":"IF($AA$7=\"ganjil\",IF(nilai!AI27=\"\",\"\",nilai!AI27),IF(nilai!BQ27=\"\",\"\",nilai!BQ27))","v":""},{"$f":"IF($AA$7=\"ganjil\",IF(nilai!AJ27=\"\",\"\",nilai!AJ27),IF(nilai!BR27=\"\",\"\",nilai!BR27))","v":""},{"$f":"IF($AA$7=\"ganjil\",IF(nilai!AK27=\"\",\"\",nilai!AK27),IF(nilai!BS27=\"\",\"\",nilai!BS27))","v":""},{"$f":"IF($AA$7=\"ganjil\",IF(nilai!AL27=\"\",\"\",nilai!AL27),IF(nilai!BT27=\"\",\"\",nilai!BT27))","v":""},{"$f":"IF($AA$7=\"ganjil\",IF(nilai!AM27=\"\",\"\",nilai!AM27),IF(nilai!BU27=\"\",\"\",nilai!BU27))","v":""},"",null,"",null,"",null,null,0,"",{"$f":"IF(BO31=\"\",\"\",RANK(BO31,$BO$14:$BO$63,0)+COUNTIF($BO$13:BO30,BO31))","v":""}]
[null,null,{"$f":"IF(Database!$A22=\"\",\"\",Database!$A22)","v":""},{"$f":"IF(Database!$D22=\"\",\"\",Database!$D22)","v":""},null,null,null,null,null,{"$f":"IF($AA$7=\"ganjil\",IF(nilai!H28=\"\",\"\",nilai!H28),IF(nilai!AP28=\"\",\"\",nilai!AP28))","v":""},{"$f":"IF($AA$7=\"ganjil\",IF(nilai!I28=\"\",\"\",nilai!I28),IF(nilai!AQ28=\"\",\"\",nilai!AQ28))","v":""},{"$f":"IF($AA$7=\"ganjil\",IF(nilai!J28=\"\",\"\",nilai!J28),IF(nilai!AR28=\"\",\"\",nilai!AR28))","v":""},{"$f":"IF($AA$7=\"ganjil\",IF(nilai!L28=\"\",\"\",nilai!L28),IF(nilai!AT28=\"\",\"\",nilai!AT28))","v":""},{"$f":"IF($AA$7=\"ganjil\",IF(nilai!M28=\"\",\"\",nilai!M28),IF(nilai!AU28=\"\",\"\",nilai!AU28))","v":""},{"$f":"IF($AA$7=\"ganjil\",IF(nilai!N28=\"\",\"\",nilai!N28),IF(nilai!AV28=\"\",\"\",nilai!AV28))","v":""},{"$f":"IF($AA$7=\"ganjil\",IF(nilai!K28=\"\",\"\",nilai!K28),IF(nilai!AS28=\"\",\"\",nilai!AS28))","v":""},{"$f":"IF($AA$7=\"ganjil\",IF(nilai!O28=\"\",\"\",nilai!O28),IF(nilai!AW28=\"\",\"\",nilai!AW28))","v":""},{"$f":"IF($AA$7=\"ganjil\",IF(nilai!P28=\"\",\"\",nilai!P28),IF(nilai!AX28=\"\",\"\",nilai!AX28))","v":""},{"$f":"IF($AA$7=\"ganjil\",IF(nilai!Q28=\"\",\"\",nilai!Q28),IF(nilai!AY28=\"\",\"\",nilai!AY28))","v":""},{"$f":"IF($AA$7=\"ganjil\",IF(nilai!R28=\"\",\"\",nilai!R28),IF(nilai!AZ28=\"\",\"\",nilai!AZ28))","v":""},{"$f":"IF($AA$7=\"ganjil\",IF(nilai!S28=\"\",\"\",nilai!S28),IF(nilai!BA28=\"\",\"\",nilai!BA28))","v":""},{"$f":"IF($AA$7=\"ganjil\",IF(nilai!T28=\"\",\"\",nilai!T28),IF(nilai!BB28=\"\",\"\",nilai!BB28))","v":""},{"$f":"IF($AA$7=\"ganjil\",IF(nilai!U28=\"\",\"\",nilai!U28),IF(nilai!BC28=\"\",\"\",nilai!BC28))","v":""},{"$f":"IF($AA$7=\"ganjil\",IF(nilai!V28=\"\",\"\",nilai!V28),IF(nilai!BD28=\"\",\"\",nilai!BD28))","v":""},{"$f":"IF($AA$7=\"ganjil\",IF(nilai!W28=\"\",\"\",nilai!W28),IF(nilai!BE28=\"\",\"\",nilai!BE28))","v":""},"",null,"",null,"",null,null,0,"",{"$f":"IF(AH32=\"\",\"\",RANK(AH32,$AH$14:$AH$63,0)+COUNTIF($AH$13:AH31,AH32))","v":""},{"$f":"IF(Database!$A22=\"\",\"\",Database!$A22)","v":""},{"$f":"IF(Database!$D22=\"\",\"\",Database!$D22)","v":""},null,null,null,null,null,{"$f":"IF($AA$7=\"ganjil\",IF(nilai!X28=\"\",\"\",nilai!X28),IF(nilai!BF28=\"\",\"\",nilai!BF28))","v":""},{"$f":"IF($AA$7=\"ganjil\",IF(nilai!Y28=\"\",\"\",nilai!Y28),IF(nilai!BG28=\"\",\"\",nilai!BG28))","v":""},{"$f":"IF($AA$7=\"ganjil\",IF(nilai!Z28=\"\",\"\",nilai!Z28),IF(nilai!BH28=\"\",\"\",nilai!BH28))","v":""},{"$f":"IF($AA$7=\"ganjil\",IF(nilai!AB28=\"\",\"\",nilai!AB28),IF(nilai!BJ28=\"\",\"\",nilai!BJ28))","v":""},{"$f":"IF($AA$7=\"ganjil\",IF(nilai!AC28=\"\",\"\",nilai!AC28),IF(nilai!BK28=\"\",\"\",nilai!BK28))","v":""},{"$f":"IF($AA$7=\"ganjil\",IF(nilai!AD28=\"\",\"\",nilai!AD28),IF(nilai!BL28=\"\",\"\",nilai!BL28))","v":""},{"$f":"IF($AA$7=\"ganjil\",IF(nilai!AA28=\"\",\"\",nilai!AA28),IF(nilai!BI28=\"\",\"\",nilai!BI28))","v":""},{"$f":"IF($AA$7=\"ganjil\",IF(nilai!AE28=\"\",\"\",nilai!AE28),IF(nilai!BM28=\"\",\"\",nilai!BM28))","v":""},{"$f":"IF($AA$7=\"ganjil\",IF(nilai!AF28=\"\",\"\",nilai!AF28),IF(nilai!BN28=\"\",\"\",nilai!BN28))","v":""},{"$f":"IF($AA$7=\"ganjil\",IF(nilai!AG28=\"\",\"\",nilai!AG28),IF(nilai!BO28=\"\",\"\",nilai!BO28))","v":""},{"$f":"IF($AA$7=\"ganjil\",IF(nilai!AH28=\"\",\"\",nilai!AH28),IF(nilai!BP28=\"\",\"\",nilai!BP28))","v":""},{"$f":"IF($AA$7=\"ganjil\",IF(nilai!AI28=\"\",\"\",nilai!AI28),IF(nilai!BQ28=\"\",\"\",nilai!BQ28))","v":""},{"$f":"IF($AA$7=\"ganjil\",IF(nilai!AJ28=\"\",\"\",nilai!AJ28),IF(nilai!BR28=\"\",\"\",nilai!BR28))","v":""},{"$f":"IF($AA$7=\"ganjil\",IF(nilai!AK28=\"\",\"\",nilai!AK28),IF(nilai!BS28=\"\",\"\",nilai!BS28))","v":""},{"$f":"IF($AA$7=\"ganjil\",IF(nilai!AL28=\"\",\"\",nilai!AL28),IF(nilai!BT28=\"\",\"\",nilai!BT28))","v":""},{"$f":"IF($AA$7=\"ganjil\",IF(nilai!AM28=\"\",\"\",nilai!AM28),IF(nilai!BU28=\"\",\"\",nilai!BU28))","v":""},"",null,"",null,"",null,null,0,"",{"$f":"IF(BO32=\"\",\"\",RANK(BO32,$BO$14:$BO$63,0)+COUNTIF($BO$13:BO31,BO32))","v":""}]
[null,null,{"$f":"IF(Database!$A23=\"\",\"\",Database!$A23)","v":""},{"$f":"IF(Database!$D23=\"\",\"\",Database!$D23)","v":""},null,null,null,null,null,{"$f":"IF($AA$7=\"ganjil\",IF(nilai!H29=\"\",\"\",nilai!H29),IF(nilai!AP29=\"\",\"\",nilai!AP29))","v":""},{"$f":"IF($AA$7=\"ganjil\",IF(nilai!I29=\"\",\"\",nilai!I29),IF(nilai!AQ29=\"\",\"\",nilai!AQ29))","v":""},{"$f":"IF($AA$7=\"ganjil\",IF(nilai!J29=\"\",\"\",nilai!J29),IF(nilai!AR29=\"\",\"\",nilai!AR29))","v":""},{"$f":"IF($AA$7=\"ganjil\",IF(nilai!L29=\"\",\"\",nilai!L29),IF(nilai!AT29=\"\",\"\",nilai!AT29))","v":""},{"$f":"IF($AA$7=\"ganjil\",IF(nilai!M29=\"\",\"\",nilai!M29),IF(nilai!AU29=\"\",\"\",nilai!AU29))","v":""},{"$f":"IF($AA$7=\"ganjil\",IF(nilai!N29=\"\",\"\",nilai!N29),IF(nilai!AV29=\"\",\"\",nilai!AV29))","v":""},{"$f":"IF($AA$7=\"ganjil\",IF(nilai!K29=\"\",\"\",nilai!K29),IF(nilai!AS29=\"\",\"\",nilai!AS29))","v":""},{"$f":"IF($AA$7=\"ganjil\",IF(nilai!O29=\"\",\"\",nilai!O29),IF(nilai!AW29=\"\",\"\",nilai!AW29))","v":""},{"$f":"IF($AA$7=\"ganjil\",IF(nilai!P29=\"\",\"\",nilai!P29),IF(nilai!AX29=\"\",\"\",nilai!AX29))","v":""},{"$f":"IF($AA$7=\"ganjil\",IF(nilai!Q29=\"\",\"\",nilai!Q29),IF(nilai!AY29=\"\",\"\",nilai!AY29))","v":""},{"$f":"IF($AA$7=\"ganjil\",IF(nilai!R29=\"\",\"\",nilai!R29),IF(nilai!AZ29=\"\",\"\",nilai!AZ29))","v":""},{"$f":"IF($AA$7=\"ganjil\",IF(nilai!S29=\"\",\"\",nilai!S29),IF(nilai!BA29=\"\",\"\",nilai!BA29))","v":""},{"$f":"IF($AA$7=\"ganjil\",IF(nilai!T29=\"\",\"\",nilai!T29),IF(nilai!BB29=\"\",\"\",nilai!BB29))","v":""},{"$f":"IF($AA$7=\"ganjil\",IF(nilai!U29=\"\",\"\",nilai!U29),IF(nilai!BC29=\"\",\"\",nilai!BC29))","v":""},{"$f":"IF($AA$7=\"ganjil\",IF(nilai!V29=\"\",\"\",nilai!V29),IF(nilai!BD29=\"\",\"\",nilai!BD29))","v":""},{"$f":"IF($AA$7=\"ganjil\",IF(nilai!W29=\"\",\"\",nilai!W29),IF(nilai!BE29=\"\",\"\",nilai!BE29))","v":""},"",null,"",null,"",null,null,0,"",{"$f":"IF(AH33=\"\",\"\",RANK(AH33,$AH$14:$AH$63,0)+COUNTIF($AH$13:AH32,AH33))","v":""},{"$f":"IF(Database!$A23=\"\",\"\",Database!$A23)","v":""},{"$f":"IF(Database!$D23=\"\",\"\",Database!$D23)","v":""},null,null,null,null,null,{"$f":"IF($AA$7=\"ganjil\",IF(nilai!X29=\"\",\"\",nilai!X29),IF(nilai!BF29=\"\",\"\",nilai!BF29))","v":""},{"$f":"IF($AA$7=\"ganjil\",IF(nilai!Y29=\"\",\"\",nilai!Y29),IF(nilai!BG29=\"\",\"\",nilai!BG29))","v":""},{"$f":"IF($AA$7=\"ganjil\",IF(nilai!Z29=\"\",\"\",nilai!Z29),IF(nilai!BH29=\"\",\"\",nilai!BH29))","v":""},{"$f":"IF($AA$7=\"ganjil\",IF(nilai!AB29=\"\",\"\",nilai!AB29),IF(nilai!BJ29=\"\",\"\",nilai!BJ29))","v":""},{"$f":"IF($AA$7=\"ganjil\",IF(nilai!AC29=\"\",\"\",nilai!AC29),IF(nilai!BK29=\"\",\"\",nilai!BK29))","v":""},{"$f":"IF($AA$7=\"ganjil\",IF(nilai!AD29=\"\",\"\",nilai!AD29),IF(nilai!BL29=\"\",\"\",nilai!BL29))","v":""},{"$f":"IF($AA$7=\"ganjil\",IF(nilai!AA29=\"\",\"\",nilai!AA29),IF(nilai!BI29=\"\",\"\",nilai!BI29))","v":""},{"$f":"IF($AA$7=\"ganjil\",IF(nilai!AE29=\"\",\"\",nilai!AE29),IF(nilai!BM29=\"\",\"\",nilai!BM29))","v":""},{"$f":"IF($AA$7=\"ganjil\",IF(nilai!AF29=\"\",\"\",nilai!AF29),IF(nilai!BN29=\"\",\"\",nilai!BN29))","v":""},{"$f":"IF($AA$7=\"ganjil\",IF(nilai!AG29=\"\",\"\",nilai!AG29),IF(nilai!BO29=\"\",\"\",nilai!BO29))","v":""},{"$f":"IF($AA$7=\"ganjil\",IF(nilai!AH29=\"\",\"\",nilai!AH29),IF(nilai!BP29=\"\",\"\",nilai!BP29))","v":""},{"$f":"IF($AA$7=\"ganjil\",IF(nilai!AI29=\"\",\"\",nilai!AI29),IF(nilai!BQ29=\"\",\"\",nilai!BQ29))","v":""},{"$f":"IF($AA$7=\"ganjil\",IF(nilai!AJ29=\"\",\"\",nilai!AJ29),IF(nilai!BR29=\"\",\"\",nilai!BR29))","v":""},{"$f":"IF($AA$7=\"ganjil\",IF(nilai!AK29=\"\",\"\",nilai!AK29),IF(nilai!BS29=\"\",\"\",nilai!BS29))","v":""},{"$f":"IF($AA$7=\"ganjil\",IF(nilai!AL29=\"\",\"\",nilai!AL29),IF(nilai!BT29=\"\",\"\",nilai!BT29))","v":""},{"$f":"IF($AA$7=\"ganjil\",IF(nilai!AM29=\"\",\"\",nilai!AM29),IF(nilai!BU29=\"\",\"\",nilai!BU29))","v":""},"",null,"",null,"",null,null,0,"",{"$f":"IF(BO33=\"\",\"\",RANK(BO33,$BO$14:$BO$63,0)+COUNTIF($BO$13:BO32,BO33))","v":""}]
[null,null,{"$f":"IF(Database!$A24=\"\",\"\",Database!$A24)","v":""},{"$f":"IF(Database!$D24=\"\",\"\",Database!$D24)","v":""},null,null,null,null,null,{"$f":"IF($AA$7=\"ganjil\",IF(nilai!H30=\"\",\"\",nilai!H30),IF(nilai!AP30=\"\",\"\",nilai!AP30))","v":""},{"$f":"IF($AA$7=\"ganjil\",IF(nilai!I30=\"\",\"\",nilai!I30),IF(nilai!AQ30=\"\",\"\",nilai!AQ30))","v":""},{"$f":"IF($AA$7=\"ganjil\",IF(nilai!J30=\"\",\"\",nilai!J30),IF(nilai!AR30=\"\",\"\",nilai!AR30))","v":""},{"$f":"IF($AA$7=\"ganjil\",IF(nilai!L30=\"\",\"\",nilai!L30),IF(nilai!AT30=\"\",\"\",nilai!AT30))","v":""},{"$f":"IF($AA$7=\"ganjil\",IF(nilai!M30=\"\",\"\",nilai!M30),IF(nilai!AU30=\"\",\"\",nilai!AU30))","v":""},{"$f":"IF($AA$7=\"ganjil\",IF(nilai!N30=\"\",\"\",nilai!N30),IF(nilai!AV30=\"\",\"\",nilai!AV30))","v":""},{"$f":"IF($AA$7=\"ganjil\",IF(nilai!K30=\"\",\"\",nilai!K30),IF(nilai!AS30=\"\",\"\",nilai!AS30))","v":""},{"$f":"IF($AA$7=\"ganjil\",IF(nilai!O30=\"\",\"\",nilai!O30),IF(nilai!AW30=\"\",\"\",nilai!AW30))","v":""},{"$f":"IF($AA$7=\"ganjil\",IF(nilai!P30=\"\",\"\",nilai!P30),IF(nilai!AX30=\"\",\"\",nilai!AX30))","v":""},{"$f":"IF($AA$7=\"ganjil\",IF(nilai!Q30=\"\",\"\",nilai!Q30),IF(nilai!AY30=\"\",\"\",nilai!AY30))","v":""},{"$f":"IF($AA$7=\"ganjil\",IF(nilai!R30=\"\",\"\",nilai!R30),IF(nilai!AZ30=\"\",\"\",nilai!AZ30))","v":""},{"$f":"IF($AA$7=\"ganjil\",IF(nilai!S30=\"\",\"\",nilai!S30),IF(nilai!BA30=\"\",\"\",nilai!BA30))","v":""},{"$f":"IF($AA$7=\"ganjil\",IF(nilai!T30=\"\",\"\",nilai!T30),IF(nilai!BB30=\"\",\"\",nilai!BB30))","v":""},{"$f":"IF($AA$7=\"ganjil\",IF(nilai!U30=\"\",\"\",nilai!U30),IF(nilai!BC30=\"\",\"\",nilai!BC30))","v":""},{"$f":"IF($AA$7=\"ganjil\",IF(nilai!V30=\"\",\"\",nilai!V30),IF(nilai!BD30=\"\",\"\",nilai!BD30))","v":""},{"$f":"IF($AA$7=\"ganjil\",IF(nilai!W30=\"\",\"\",nilai!W30),IF(nilai!BE30=\"\",\"\",nilai!BE30))","v":""},"",null,"",null,"",null,null,0,"",{"$f":"IF(AH34=\"\",\"\",RANK(AH34,$AH$14:$AH$63,0)+COUNTIF($AH$13:AH33,AH34))","v":""},{"$f":"IF(Database!$A24=\"\",\"\",Database!$A24)","v":""},{"$f":"IF(Database!$D24=\"\",\"\",Database!$D24)","v":""},null,null,null,null,null,{"$f":"IF($AA$7=\"ganjil\",IF(nilai!X30=\"\",\"\",nilai!X30),IF(nilai!BF30=\"\",\"\",nilai!BF30))","v":""},{"$f":"IF($AA$7=\"ganjil\",IF(nilai!Y30=\"\",\"\",nilai!Y30),IF(nilai!BG30=\"\",\"\",nilai!BG30))","v":""},{"$f":"IF($AA$7=\"ganjil\",IF(nilai!Z30=\"\",\"\",nilai!Z30),IF(nilai!BH30=\"\",\"\",nilai!BH30))","v":""},{"$f":"IF($AA$7=\"ganjil\",IF(nilai!AB30=\"\",\"\",nilai!AB30),IF(nilai!BJ30=\"\",\"\",nilai!BJ30))","v":""},{"$f":"IF($AA$7=\"ganjil\",IF(nilai!AC30=\"\",\"\",nilai!AC30),IF(nilai!BK30=\"\",\"\",nilai!BK30))","v":""},{"$f":"IF($AA$7=\"ganjil\",IF(nilai!AD30=\"\",\"\",nilai!AD30),IF(nilai!BL30=\"\",\"\",nilai!BL30))","v":""},{"$f":"IF($AA$7=\"ganjil\",IF(nilai!AA30=\"\",\"\",nilai!AA30),IF(nilai!BI30=\"\",\"\",nilai!BI30))","v":""},{"$f":"IF($AA$7=\"ganjil\",IF(nilai!AE30=\"\",\"\",nilai!AE30),IF(nilai!BM30=\"\",\"\",nilai!BM30))","v":""},{"$f":"IF($AA$7=\"ganjil\",IF(nilai!AF30=\"\",\"\",nilai!AF30),IF(nilai!BN30=\"\",\"\",nilai!BN30))","v":""},{"$f":"IF($AA$7=\"ganjil\",IF(nilai!AG30=\"\",\"\",nilai!AG30),IF(nilai!BO30=\"\",\"\",nilai!BO30))","v":""},{"$f":"IF($AA$7=\"ganjil\",IF(nilai!AH30=\"\",\"\",nilai!AH30),IF(nilai!BP30=\"\",\"\",nilai!BP30))","v":""},{"$f":"IF($AA$7=\"ganjil\",IF(nilai!AI30=\"\",\"\",nilai!AI30),IF(nilai!BQ30=\"\",\"\",nilai!BQ30))","v":""},{"$f":"IF($AA$7=\"ganjil\",IF(nilai!AJ30=\"\",\"\",nilai!AJ30),IF(nilai!BR30=\"\",\"\",nilai!BR30))","v":""},{"$f":"IF($AA$7=\"ganjil\",IF(nilai!AK30=\"\",\"\",nilai!AK30),IF(nilai!BS30=\"\",\"\",nilai!BS30))","v":""},{"$f":"IF($AA$7=\"ganjil\",IF(nilai!AL30=\"\",\"\",nilai!AL30),IF(nilai!BT30=\"\",\"\",nilai!BT30))","v":""},{"$f":"IF($AA$7=\"ganjil\",IF(nilai!AM30=\"\",\"\",nilai!AM30),IF(nilai!BU30=\"\",\"\",nilai!BU30))","v":""},"",null,"",null,"",null,null,0,"",{"$f":"IF(BO34=\"\",\"\",RANK(BO34,$BO$14:$BO$63,0)+COUNTIF($BO$13:BO33,BO34))","v":""}]
[null,null,{"$f":"IF(Database!$A25=\"\",\"\",Database!$A25)","v":""},{"$f":"IF(Database!$D25=\"\",\"\",Database!$D25)","v":""},null,null,null,null,null,{"$f":"IF($AA$7=\"ganjil\",IF(nilai!H31=\"\",\"\",nilai!H31),IF(nilai!AP31=\"\",\"\",nilai!AP31))","v":""},{"$f":"IF($AA$7=\"ganjil\",IF(nilai!I31=\"\",\"\",nilai!I31),IF(nilai!AQ31=\"\",\"\",nilai!AQ31))","v":""},{"$f":"IF($AA$7=\"ganjil\",IF(nilai!J31=\"\",\"\",nilai!J31),IF(nilai!AR31=\"\",\"\",nilai!AR31))","v":""},{"$f":"IF($AA$7=\"ganjil\",IF(nilai!L31=\"\",\"\",nilai!L31),IF(nilai!AT31=\"\",\"\",nilai!AT31))","v":""},{"$f":"IF($AA$7=\"ganjil\",IF(nilai!M31=\"\",\"\",nilai!M31),IF(nilai!AU31=\"\",\"\",nilai!AU31))","v":""},{"$f":"IF($AA$7=\"ganjil\",IF(nilai!N31=\"\",\"\",nilai!N31),IF(nilai!AV31=\"\",\"\",nilai!AV31))","v":""},{"$f":"IF($AA$7=\"ganjil\",IF(nilai!K31=\"\",\"\",nilai!K31),IF(nilai!AS31=\"\",\"\",nilai!AS31))","v":""},{"$f":"IF($AA$7=\"ganjil\",IF(nilai!O31=\"\",\"\",nilai!O31),IF(nilai!AW31=\"\",\"\",nilai!AW31))","v":""},{"$f":"IF($AA$7=\"ganjil\",IF(nilai!P31=\"\",\"\",nilai!P31),IF(nilai!AX31=\"\",\"\",nilai!AX31))","v":""},{"$f":"IF($AA$7=\"ganjil\",IF(nilai!Q31=\"\",\"\",nilai!Q31),IF(nilai!AY31=\"\",\"\",nilai!AY31))","v":""},{"$f":"IF($AA$7=\"ganjil\",IF(nilai!R31=\"\",\"\",nilai!R31),IF(nilai!AZ31=\"\",\"\",nilai!AZ31))","v":""},{"$f":"IF($AA$7=\"ganjil\",IF(nilai!S31=\"\",\"\",nilai!S31),IF(nilai!BA31=\"\",\"\",nilai!BA31))","v":""},{"$f":"IF($AA$7=\"ganjil\",IF(nilai!T31=\"\",\"\",nilai!T31),IF(nilai!BB31=\"\",\"\",nilai!BB31))","v":""},{"$f":"IF($AA$7=\"ganjil\",IF(nilai!U31=\"\",\"\",nilai!U31),IF(nilai!BC31=\"\",\"\",nilai!BC31))","v":""},{"$f":"IF($AA$7=\"ganjil\",IF(nilai!V31=\"\",\"\",nilai!V31),IF(nilai!BD31=\"\",\"\",nilai!BD31))","v":""},{"$f":"IF($AA$7=\"ganjil\",IF(nilai!W31=\"\",\"\",nilai!W31),IF(nilai!BE31=\"\",\"\",nilai!BE31))","v":""},"",null,"",null,"",null,null,0,"",{"$f":"IF(AH35=\"\",\"\",RANK(AH35,$AH$14:$AH$63,0)+COUNTIF($AH$13:AH34,AH35))","v":""},{"$f":"IF(Database!$A25=\"\",\"\",Database!$A25)","v":""},{"$f":"IF(Database!$D25=\"\",\"\",Database!$D25)","v":""},null,null,null,null,null,{"$f":"IF($AA$7=\"ganjil\",IF(nilai!X31=\"\",\"\",nilai!X31),IF(nilai!BF31=\"\",\"\",nilai!BF31))","v":""},{"$f":"IF($AA$7=\"ganjil\",IF(nilai!Y31=\"\",\"\",nilai!Y31),IF(nilai!BG31=\"\",\"\",nilai!BG31))","v":""},{"$f":"IF($AA$7=\"ganjil\",IF(nilai!Z31=\"\",\"\",nilai!Z31),IF(nilai!BH31=\"\",\"\",nilai!BH31))","v":""},{"$f":"IF($AA$7=\"ganjil\",IF(nilai!AB31=\"\",\"\",nilai!AB31),IF(nilai!BJ31=\"\",\"\",nilai!BJ31))","v":""},{"$f":"IF($AA$7=\"ganjil\",IF(nilai!AC31=\"\",\"\",nilai!AC31),IF(nilai!BK31=\"\",\"\",nilai!BK31))","v":""},{"$f":"IF($AA$7=\"ganjil\",IF(nilai!AD31=\"\",\"\",nilai!AD31),IF(nilai!BL31=\"\",\"\",nilai!BL31))","v":""},{"$f":"IF($AA$7=\"ganjil\",IF(nilai!AA31=\"\",\"\",nilai!AA31),IF(nilai!BI31=\"\",\"\",nilai!BI31))","v":""},{"$f":"IF($AA$7=\"ganjil\",IF(nilai!AE31=\"\",\"\",nilai!AE31),IF(nilai!BM31=\"\",\"\",nilai!BM31))","v":""},{"$f":"IF($AA$7=\"ganjil\",IF(nilai!AF31=\"\",\"\",nilai!AF31),IF(nilai!BN31=\"\",\"\",nilai!BN31))","v":""},{"$f":"IF($AA$7=\"ganjil\",IF(nilai!AG31=\"\",\"\",nilai!AG31),IF(nilai!BO31=\"\",\"\",nilai!BO31))","v":""},{"$f":"IF($AA$7=\"ganjil\",IF(nilai!AH31=\"\",\"\",nilai!AH31),IF(nilai!BP31=\"\",\"\",nilai!BP31))","v":""},{"$f":"IF($AA$7=\"ganjil\",IF(nilai!AI31=\"\",\"\",nilai!AI31),IF(nilai!BQ31=\"\",\"\",nilai!BQ31))","v":""},{"$f":"IF($AA$7=\"ganjil\",IF(nilai!AJ31=\"\",\"\",nilai!AJ31),IF(nilai!BR31=\"\",\"\",nilai!BR31))","v":""},{"$f":"IF($AA$7=\"ganjil\",IF(nilai!AK31=\"\",\"\",nilai!AK31),IF(nilai!BS31=\"\",\"\",nilai!BS31))","v":""},{"$f":"IF($AA$7=\"ganjil\",IF(nilai!AL31=\"\",\"\",nilai!AL31),IF(nilai!BT31=\"\",\"\",nilai!BT31))","v":""},{"$f":"IF($AA$7=\"ganjil\",IF(nilai!AM31=\"\",\"\",nilai!AM31),IF(nilai!BU31=\"\",\"\",nilai!BU31))","v":""},"",null,"",null,"",null,null,0,"",{"$f":"IF(BO35=\"\",\"\",RANK(BO35,$BO$14:$BO$63,0)+COUNTIF($BO$13:BO34,BO35))","v":""}]
[null,null,{"$f":"IF(Database!$A26=\"\",\"\",Database!$A26)","v":""},{"$f":"IF(Database!$D26=\"\",\"\",Database!$D26)","v":""},null,null,null,null,null,{"$f":"IF($AA$7=\"ganjil\",IF(nilai!H32=\"\",\"\",nilai!H32),IF(nilai!AP32=\"\",\"\",nilai!AP32))","v":""},{"$f":"IF($AA$7=\"ganjil\",IF(nilai!I32=\"\",\"\",nilai!I32),IF(nilai!AQ32=\"\",\"\",nilai!AQ32))","v":""},{"$f":"IF($AA$7=\"ganjil\",IF(nilai!J32=\"\",\"\",nilai!J32),IF(nilai!AR32=\"\",\"\",nilai!AR32))","v":""},{"$f":"IF($AA$7=\"ganjil\",IF(nilai!L32=\"\",\"\",nilai!L32),IF(nilai!AT32=\"\",\"\",nilai!AT32))","v":""},{"$f":"IF($AA$7=\"ganjil\",IF(nilai!M32=\"\",\"\",nilai!M32),IF(nilai!AU32=\"\",\"\",nilai!AU32))","v":""},{"$f":"IF($AA$7=\"ganjil\",IF(nilai!N32=\"\",\"\",nilai!N32),IF(nilai!AV32=\"\",\"\",nilai!AV32))","v":""},{"$f":"IF($AA$7=\"ganjil\",IF(nilai!K32=\"\",\"\",nilai!K32),IF(nilai!AS32=\"\",\"\",nilai!AS32))","v":""},{"$f":"IF($AA$7=\"ganjil\",IF(nilai!O32=\"\",\"\",nilai!O32),IF(nilai!AW32=\"\",\"\",nilai!AW32))","v":""},{"$f":"IF($AA$7=\"ganjil\",IF(nilai!P32=\"\",\"\",nilai!P32),IF(nilai!AX32=\"\",\"\",nilai!AX32))","v":""},{"$f":"IF($AA$7=\"ganjil\",IF(nilai!Q32=\"\",\"\",nilai!Q32),IF(nilai!AY32=\"\",\"\",nilai!AY32))","v":""},{"$f":"IF($AA$7=\"ganjil\",IF(nilai!R32=\"\",\"\",nilai!R32),IF(nilai!AZ32=\"\",\"\",nilai!AZ32))","v":""},{"$f":"IF($AA$7=\"ganjil\",IF(nilai!S32=\"\",\"\",nilai!S32),IF(nilai!BA32=\"\",\"\",nilai!BA32))","v":""},{"$f":"IF($AA$7=\"ganjil\",IF(nilai!T32=\"\",\"\",nilai!T32),IF(nilai!BB32=\"\",\"\",nilai!BB32))","v":""},{"$f":"IF($AA$7=\"ganjil\",IF(nilai!U32=\"\",\"\",nilai!U32),IF(nilai!BC32=\"\",\"\",nilai!BC32))","v":""},{"$f":"IF($AA$7=\"ganjil\",IF(nilai!V32=\"\",\"\",nilai!V32),IF(nilai!BD32=\"\",\"\",nilai!BD32))","v":""},{"$f":"IF($AA$7=\"ganjil\",IF(nilai!W32=\"\",\"\",nilai!W32),IF(nilai!BE32=\"\",\"\",nilai!BE32))","v":""},"",null,"",null,"",null,null,0,"",{"$f":"IF(AH36=\"\",\"\",RANK(AH36,$AH$14:$AH$63,0)+COUNTIF($AH$13:AH35,AH36))","v":""},{"$f":"IF(Database!$A26=\"\",\"\",Database!$A26)","v":""},{"$f":"IF(Database!$D26=\"\",\"\",Database!$D26)","v":""},null,null,null,null,null,{"$f":"IF($AA$7=\"ganjil\",IF(nilai!X32=\"\",\"\",nilai!X32),IF(nilai!BF32=\"\",\"\",nilai!BF32))","v":""},{"$f":"IF($AA$7=\"ganjil\",IF(nilai!Y32=\"\",\"\",nilai!Y32),IF(nilai!BG32=\"\",\"\",nilai!BG32))","v":""},{"$f":"IF($AA$7=\"ganjil\",IF(nilai!Z32=\"\",\"\",nilai!Z32),IF(nilai!BH32=\"\",\"\",nilai!BH32))","v":""},{"$f":"IF($AA$7=\"ganjil\",IF(nilai!AB32=\"\",\"\",nilai!AB32),IF(nilai!BJ32=\"\",\"\",nilai!BJ32))","v":""},{"$f":"IF($AA$7=\"ganjil\",IF(nilai!AC32=\"\",\"\",nilai!AC32),IF(nilai!BK32=\"\",\"\",nilai!BK32))","v":""},{"$f":"IF($AA$7=\"ganjil\",IF(nilai!AD32=\"\",\"\",nilai!AD32),IF(nilai!BL32=\"\",\"\",nilai!BL32))","v":""},{"$f":"IF($AA$7=\"ganjil\",IF(nilai!AA32=\"\",\"\",nilai!AA32),IF(nilai!BI32=\"\",\"\",nilai!BI32))","v":""},{"$f":"IF($AA$7=\"ganjil\",IF(nilai!AE32=\"\",\"\",nilai!AE32),IF(nilai!BM32=\"\",\"\",nilai!BM32))","v":""},{"$f":"IF($AA$7=\"ganjil\",IF(nilai!AF32=\"\",\"\",nilai!AF32),IF(nilai!BN32=\"\",\"\",nilai!BN32))","v":""},{"$f":"IF($AA$7=\"ganjil\",IF(nilai!AG32=\"\",\"\",nilai!AG32),IF(nilai!BO32=\"\",\"\",nilai!BO32))","v":""},{"$f":"IF($AA$7=\"ganjil\",IF(nilai!AH32=\"\",\"\",nilai!AH32),IF(nilai!BP32=\"\",\"\",nilai!BP32))","v":""},{"$f":"IF($AA$7=\"ganjil\",IF(nilai!AI32=\"\",\"\",nilai!AI32),IF(nilai!BQ32=\"\",\"\",nilai!BQ32))","v":""},{"$f":"IF($AA$7=\"ganjil\",IF(nilai!AJ32=\"\",\"\",nilai!AJ32),IF(nilai!BR32=\"\",\"\",nilai!BR32))","v":""},{"$f":"IF($AA$7=\"ganjil\",IF(nilai!AK32=\"\",\"\",nilai!AK32),IF(nilai!BS32=\"\",\"\",nilai!BS32))","v":""},{"$f":"IF($AA$7=\"ganjil\",IF(nilai!AL32=\"\",\"\",nilai!AL32),IF(nilai!BT32=\"\",\"\",nilai!BT32))","v":""},{"$f":"IF($AA$7=\"ganjil\",IF(nilai!AM32=\"\",\"\",nilai!AM32),IF(nilai!BU32=\"\",\"\",nilai!BU32))","v":""},"",null,"",null,"",null,null,0,"",{"$f":"IF(BO36=\"\",\"\",RANK(BO36,$BO$14:$BO$63,0)+COUNTIF($BO$13:BO35,BO36))","v":""}]
[null,null,{"$f":"IF(Database!$A27=\"\",\"\",Database!$A27)","v":""},{"$f":"IF(Database!$D27=\"\",\"\",Database!$D27)","v":""},null,null,null,null,null,{"$f":"IF($AA$7=\"ganjil\",IF(nilai!H33=\"\",\"\",nilai!H33),IF(nilai!AP33=\"\",\"\",nilai!AP33))","v":""},{"$f":"IF($AA$7=\"ganjil\",IF(nilai!I33=\"\",\"\",nilai!I33),IF(nilai!AQ33=\"\",\"\",nilai!AQ33))","v":""},{"$f":"IF($AA$7=\"ganjil\",IF(nilai!J33=\"\",\"\",nilai!J33),IF(nilai!AR33=\"\",\"\",nilai!AR33))","v":""},{"$f":"IF($AA$7=\"ganjil\",IF(nilai!L33=\"\",\"\",nilai!L33),IF(nilai!AT33=\"\",\"\",nilai!AT33))","v":""},{"$f":"IF($AA$7=\"ganjil\",IF(nilai!M33=\"\",\"\",nilai!M33),IF(nilai!AU33=\"\",\"\",nilai!AU33))","v":""},{"$f":"IF($AA$7=\"ganjil\",IF(nilai!N33=\"\",\"\",nilai!N33),IF(nilai!AV33=\"\",\"\",nilai!AV33))","v":""},{"$f":"IF($AA$7=\"ganjil\",IF(nilai!K33=\"\",\"\",nilai!K33),IF(nilai!AS33=\"\",\"\",nilai!AS33))","v":""},{"$f":"IF($AA$7=\"ganjil\",IF(nilai!O33=\"\",\"\",nilai!O33),IF(nilai!AW33=\"\",\"\",nilai!AW33))","v":""},{"$f":"IF($AA$7=\"ganjil\",IF(nilai!P33=\"\",\"\",nilai!P33),IF(nilai!AX33=\"\",\"\",nilai!AX33))","v":""},{"$f":"IF($AA$7=\"ganjil\",IF(nilai!Q33=\"\",\"\",nilai!Q33),IF(nilai!AY33=\"\",\"\",nilai!AY33))","v":""},{"$f":"IF($AA$7=\"ganjil\",IF(nilai!R33=\"\",\"\",nilai!R33),IF(nilai!AZ33=\"\",\"\",nilai!AZ33))","v":""},{"$f":"IF($AA$7=\"ganjil\",IF(nilai!S33=\"\",\"\",nilai!S33),IF(nilai!BA33=\"\",\"\",nilai!BA33))","v":""},{"$f":"IF($AA$7=\"ganjil\",IF(nilai!T33=\"\",\"\",nilai!T33),IF(nilai!BB33=\"\",\"\",nilai!BB33))","v":""},{"$f":"IF($AA$7=\"ganjil\",IF(nilai!U33=\"\",\"\",nilai!U33),IF(nilai!BC33=\"\",\"\",nilai!BC33))","v":""},{"$f":"IF($AA$7=\"ganjil\",IF(nilai!V33=\"\",\"\",nilai!V33),IF(nilai!BD33=\"\",\"\",nilai!BD33))","v":""},{"$f":"IF($AA$7=\"ganjil\",IF(nilai!W33=\"\",\"\",nilai!W33),IF(nilai!BE33=\"\",\"\",nilai!BE33))","v":""},"",null,"",null,"",null,null,0,"",{"$f":"IF(AH37=\"\",\"\",RANK(AH37,$AH$14:$AH$63,0)+COUNTIF($AH$13:AH36,AH37))","v":""},{"$f":"IF(Database!$A27=\"\",\"\",Database!$A27)","v":""},{"$f":"IF(Database!$D27=\"\",\"\",Database!$D27)","v":""},null,null,null,null,null,{"$f":"IF($AA$7=\"ganjil\",IF(nilai!X33=\"\",\"\",nilai!X33),IF(nilai!BF33=\"\",\"\",nilai!BF33))","v":""},{"$f":"IF($AA$7=\"ganjil\",IF(nilai!Y33=\"\",\"\",nilai!Y33),IF(nilai!BG33=\"\",\"\",nilai!BG33))","v":""},{"$f":"IF($AA$7=\"ganjil\",IF(nilai!Z33=\"\",\"\",nilai!Z33),IF(nilai!BH33=\"\",\"\",nilai!BH33))","v":""},{"$f":"IF($AA$7=\"ganjil\",IF(nilai!AB33=\"\",\"\",nilai!AB33),IF(nilai!BJ33=\"\",\"\",nilai!BJ33))","v":""},{"$f":"IF($AA$7=\"ganjil\",IF(nilai!AC33=\"\",\"\",nilai!AC33),IF(nilai!BK33=\"\",\"\",nilai!BK33))","v":""},{"$f":"IF($AA$7=\"ganjil\",IF(nilai!AD33=\"\",\"\",nilai!AD33),IF(nilai!BL33=\"\",\"\",nilai!BL33))","v":""},{"$f":"IF($AA$7=\"ganjil\",IF(nilai!AA33=\"\",\"\",nilai!AA33),IF(nilai!BI33=\"\",\"\",nilai!BI33))","v":""},{"$f":"IF($AA$7=\"ganjil\",IF(nilai!AE33=\"\",\"\",nilai!AE33),IF(nilai!BM33=\"\",\"\",nilai!BM33))","v":""},{"$f":"IF($AA$7=\"ganjil\",IF(nilai!AF33=\"\",\"\",nilai!AF33),IF(nilai!BN33=\"\",\"\",nilai!BN33))","v":""},{"$f":"IF($AA$7=\"ganjil\",IF(nilai!AG33=\"\",\"\",nilai!AG33),IF(nilai!BO33=\"\",\"\",nilai!BO33))","v":""},{"$f":"IF($AA$7=\"ganjil\",IF(nilai!AH33=\"\",\"\",nilai!AH33),IF(nilai!BP33=\"\",\"\",nilai!BP33))","v":""},{"$f":"IF($AA$7=\"ganjil\",IF(nilai!AI33=\"\",\"\",nilai!AI33),IF(nilai!BQ33=\"\",\"\",nilai!BQ33))","v":""},{"$f":"IF($AA$7=\"ganjil\",IF(nilai!AJ33=\"\",\"\",nilai!AJ33),IF(nilai!BR33=\"\",\"\",nilai!BR33))","v":""},{"$f":"IF($AA$7=\"ganjil\",IF(nilai!AK33=\"\",\"\",nilai!AK33),IF(nilai!BS33=\"\",\"\",nilai!BS33))","v":""},{"$f":"IF($AA$7=\"ganjil\",IF(nilai!AL33=\"\",\"\",nilai!AL33),IF(nilai!BT33=\"\",\"\",nilai!BT33))","v":""},{"$f":"IF($AA$7=\"ganjil\",IF(nilai!AM33=\"\",\"\",nilai!AM33),IF(nilai!BU33=\"\",\"\",nilai!BU33))","v":""},"",null,"",null,"",null,null,0,"",{"$f":"IF(BO37=\"\",\"\",RANK(BO37,$BO$14:$BO$63,0)+COUNTIF($BO$13:BO36,BO37))","v":""}]
[null,null,{"$f":"IF(Database!$A28=\"\",\"\",Database!$A28)","v":""},{"$f":"IF(Database!$D28=\"\",\"\",Database!$D28)","v":""},null,null,null,null,null,{"$f":"IF($AA$7=\"ganjil\",IF(nilai!H34=\"\",\"\",nilai!H34),IF(nilai!AP34=\"\",\"\",nilai!AP34))","v":""},{"$f":"IF($AA$7=\"ganjil\",IF(nilai!I34=\"\",\"\",nilai!I34),IF(nilai!AQ34=\"\",\"\",nilai!AQ34))","v":""},{"$f":"IF($AA$7=\"ganjil\",IF(nilai!J34=\"\",\"\",nilai!J34),IF(nilai!AR34=\"\",\"\",nilai!AR34))","v":""},{"$f":"IF($AA$7=\"ganjil\",IF(nilai!L34=\"\",\"\",nilai!L34),IF(nilai!AT34=\"\",\"\",nilai!AT34))","v":""},{"$f":"IF($AA$7=\"ganjil\",IF(nilai!M34=\"\",\"\",nilai!M34),IF(nilai!AU34=\"\",\"\",nilai!AU34))","v":""},{"$f":"IF($AA$7=\"ganjil\",IF(nilai!N34=\"\",\"\",nilai!N34),IF(nilai!AV34=\"\",\"\",nilai!AV34))","v":""},{"$f":"IF($AA$7=\"ganjil\",IF(nilai!K34=\"\",\"\",nilai!K34),IF(nilai!AS34=\"\",\"\",nilai!AS34))","v":""},{"$f":"IF($AA$7=\"ganjil\",IF(nilai!O34=\"\",\"\",nilai!O34),IF(nilai!AW34=\"\",\"\",nilai!AW34))","v":""},{"$f":"IF($AA$7=\"ganjil\",IF(nilai!P34=\"\",\"\",nilai!P34),IF(nilai!AX34=\"\",\"\",nilai!AX34))","v":""},{"$f":"IF($AA$7=\"ganjil\",IF(nilai!Q34=\"\",\"\",nilai!Q34),IF(nilai!AY34=\"\",\"\",nilai!AY34))","v":""},{"$f":"IF($AA$7=\"ganjil\",IF(nilai!R34=\"\",\"\",nilai!R34),IF(nilai!AZ34=\"\",\"\",nilai!AZ34))","v":""},{"$f":"IF($AA$7=\"ganjil\",IF(nilai!S34=\"\",\"\",nilai!S34),IF(nilai!BA34=\"\",\"\",nilai!BA34))","v":""},{"$f":"IF($AA$7=\"ganjil\",IF(nilai!T34=\"\",\"\",nilai!T34),IF(nilai!BB34=\"\",\"\",nilai!BB34))","v":""},{"$f":"IF($AA$7=\"ganjil\",IF(nilai!U34=\"\",\"\",nilai!U34),IF(nilai!BC34=\"\",\"\",nilai!BC34))","v":""},{"$f":"IF($AA$7=\"ganjil\",IF(nilai!V34=\"\",\"\",nilai!V34),IF(nilai!BD34=\"\",\"\",nilai!BD34))","v":""},{"$f":"IF($AA$7=\"ganjil\",IF(nilai!W34=\"\",\"\",nilai!W34),IF(nilai!BE34=\"\",\"\",nilai!BE34))","v":""},"",null,"",null,"",null,null,0,"",{"$f":"IF(AH38=\"\",\"\",RANK(AH38,$AH$14:$AH$63,0)+COUNTIF($AH$13:AH37,AH38))","v":""},{"$f":"IF(Database!$A28=\"\",\"\",Database!$A28)","v":""},{"$f":"IF(Database!$D28=\"\",\"\",Database!$D28)","v":""},null,null,null,null,null,{"$f":"IF($AA$7=\"ganjil\",IF(nilai!X34=\"\",\"\",nilai!X34),IF(nilai!BF34=\"\",\"\",nilai!BF34))","v":""},{"$f":"IF($AA$7=\"ganjil\",IF(nilai!Y34=\"\",\"\",nilai!Y34),IF(nilai!BG34=\"\",\"\",nilai!BG34))","v":""},{"$f":"IF($AA$7=\"ganjil\",IF(nilai!Z34=\"\",\"\",nilai!Z34),IF(nilai!BH34=\"\",\"\",nilai!BH34))","v":""},{"$f":"IF($AA$7=\"ganjil\",IF(nilai!AB34=\"\",\"\",nilai!AB34),IF(nilai!BJ34=\"\",\"\",nilai!BJ34))","v":""},{"$f":"IF($AA$7=\"ganjil\",IF(nilai!AC34=\"\",\"\",nilai!AC34),IF(nilai!BK34=\"\",\"\",nilai!BK34))","v":""},{"$f":"IF($AA$7=\"ganjil\",IF(nilai!AD34=\"\",\"\",nilai!AD34),IF(nilai!BL34=\"\",\"\",nilai!BL34))","v":""},{"$f":"IF($AA$7=\"ganjil\",IF(nilai!AA34=\"\",\"\",nilai!AA34),IF(nilai!BI34=\"\",\"\",nilai!BI34))","v":""},{"$f":"IF($AA$7=\"ganjil\",IF(nilai!AE34=\"\",\"\",nilai!AE34),IF(nilai!BM34=\"\",\"\",nilai!BM34))","v":""},{"$f":"IF($AA$7=\"ganjil\",IF(nilai!AF34=\"\",\"\",nilai!AF34),IF(nilai!BN34=\"\",\"\",nilai!BN34))","v":""},{"$f":"IF($AA$7=\"ganjil\",IF(nilai!AG34=\"\",\"\",nilai!AG34),IF(nilai!BO34=\"\",\"\",nilai!BO34))","v":""},{"$f":"IF($AA$7=\"ganjil\",IF(nilai!AH34=\"\",\"\",nilai!AH34),IF(nilai!BP34=\"\",\"\",nilai!BP34))","v":""},{"$f":"IF($AA$7=\"ganjil\",IF(nilai!AI34=\"\",\"\",nilai!AI34),IF(nilai!BQ34=\"\",\"\",nilai!BQ34))","v":""},{"$f":"IF($AA$7=\"ganjil\",IF(nilai!AJ34=\"\",\"\",nilai!AJ34),IF(nilai!BR34=\"\",\"\",nilai!BR34))","v":""},{"$f":"IF($AA$7=\"ganjil\",IF(nilai!AK34=\"\",\"\",nilai!AK34),IF(nilai!BS34=\"\",\"\",nilai!BS34))","v":""},{"$f":"IF($AA$7=\"ganjil\",IF(nilai!AL34=\"\",\"\",nilai!AL34),IF(nilai!BT34=\"\",\"\",nilai!BT34))","v":""},{"$f":"IF($AA$7=\"ganjil\",IF(nilai!AM34=\"\",\"\",nilai!AM34),IF(nilai!BU34=\"\",\"\",nilai!BU34))","v":""},"",null,"",null,"",null,null,0,"",{"$f":"IF(BO38=\"\",\"\",RANK(BO38,$BO$14:$BO$63,0)+COUNTIF($BO$13:BO37,BO38))","v":""}]
[null,null,{"$f":"IF(Database!$A29=\"\",\"\",Database!$A29)","v":""},{"$f":"IF(Database!$D29=\"\",\"\",Database!$D29)","v":""},null,null,null,null,null,{"$f":"IF($AA$7=\"ganjil\",IF(nilai!H35=\"\",\"\",nilai!H35),IF(nilai!AP35=\"\",\"\",nilai!AP35))","v":""},{"$f":"IF($AA$7=\"ganjil\",IF(nilai!I35=\"\",\"\",nilai!I35),IF(nilai!AQ35=\"\",\"\",nilai!AQ35))","v":""},{"$f":"IF($AA$7=\"ganjil\",IF(nilai!J35=\"\",\"\",nilai!J35),IF(nilai!AR35=\"\",\"\",nilai!AR35))","v":""},{"$f":"IF($AA$7=\"ganjil\",IF(nilai!L35=\"\",\"\",nilai!L35),IF(nilai!AT35=\"\",\"\",nilai!AT35))","v":""},{"$f":"IF($AA$7=\"ganjil\",IF(nilai!M35=\"\",\"\",nilai!M35),IF(nilai!AU35=\"\",\"\",nilai!AU35))","v":""},{"$f":"IF($AA$7=\"ganjil\",IF(nilai!N35=\"\",\"\",nilai!N35),IF(nilai!AV35=\"\",\"\",nilai!AV35))","v":""},{"$f":"IF($AA$7=\"ganjil\",IF(nilai!K35=\"\",\"\",nilai!K35),IF(nilai!AS35=\"\",\"\",nilai!AS35))","v":""},{"$f":"IF($AA$7=\"ganjil\",IF(nilai!O35=\"\",\"\",nilai!O35),IF(nilai!AW35=\"\",\"\",nilai!AW35))","v":""},{"$f":"IF($AA$7=\"ganjil\",IF(nilai!P35=\"\",\"\",nilai!P35),IF(nilai!AX35=\"\",\"\",nilai!AX35))","v":""},{"$f":"IF($AA$7=\"ganjil\",IF(nilai!Q35=\"\",\"\",nilai!Q35),IF(nilai!AY35=\"\",\"\",nilai!AY35))","v":""},{"$f":"IF($AA$7=\"ganjil\",IF(nilai!R35=\"\",\"\",nilai!R35),IF(nilai!AZ35=\"\",\"\",nilai!AZ35))","v":""},{"$f":"IF($AA$7=\"ganjil\",IF(nilai!S35=\"\",\"\",nilai!S35),IF(nilai!BA35=\"\",\"\",nilai!BA35))","v":""},{"$f":"IF($AA$7=\"ganjil\",IF(nilai!T35=\"\",\"\",nilai!T35),IF(nilai!BB35=\"\",\"\",nilai!BB35))","v":""},{"$f":"IF($AA$7=\"ganjil\",IF(nilai!U35=\"\",\"\",nilai!U35),IF(nilai!BC35=\"\",\"\",nilai!BC35))","v":""},{"$f":"IF($AA$7=\"ganjil\",IF(nilai!V35=\"\",\"\",nilai!V35),IF(nilai!BD35=\"\",\"\",nilai!BD35))","v":""},{"$f":"IF($AA$7=\"ganjil\",IF(nilai!W35=\"\",\"\",nilai!W35),IF(nilai!BE35=\"\",\"\",nilai!BE35))","v":""},"",null,"",null,"",null,null,0,"",{"$f":"IF(AH39=\"\",\"\",RANK(AH39,$AH$14:$AH$63,0)+COUNTIF($AH$13:AH38,AH39))","v":""},{"$f":"IF(Database!$A29=\"\",\"\",Database!$A29)","v":""},{"$f":"IF(Database!$D29=\"\",\"\",Database!$D29)","v":""},null,null,null,null,null,{"$f":"IF($AA$7=\"ganjil\",IF(nilai!X35=\"\",\"\",nilai!X35),IF(nilai!BF35=\"\",\"\",nilai!BF35))","v":""},{"$f":"IF($AA$7=\"ganjil\",IF(nilai!Y35=\"\",\"\",nilai!Y35),IF(nilai!BG35=\"\",\"\",nilai!BG35))","v":""},{"$f":"IF($AA$7=\"ganjil\",IF(nilai!Z35=\"\",\"\",nilai!Z35),IF(nilai!BH35=\"\",\"\",nilai!BH35))","v":""},{"$f":"IF($AA$7=\"ganjil\",IF(nilai!AB35=\"\",\"\",nilai!AB35),IF(nilai!BJ35=\"\",\"\",nilai!BJ35))","v":""},{"$f":"IF($AA$7=\"ganjil\",IF(nilai!AC35=\"\",\"\",nilai!AC35),IF(nilai!BK35=\"\",\"\",nilai!BK35))","v":""},{"$f":"IF($AA$7=\"ganjil\",IF(nilai!AD35=\"\",\"\",nilai!AD35),IF(nilai!BL35=\"\",\"\",nilai!BL35))","v":""},{"$f":"IF($AA$7=\"ganjil\",IF(nilai!AA35=\"\",\"\",nilai!AA35),IF(nilai!BI35=\"\",\"\",nilai!BI35))","v":""},{"$f":"IF($AA$7=\"ganjil\",IF(nilai!AE35=\"\",\"\",nilai!AE35),IF(nilai!BM35=\"\",\"\",nilai!BM35))","v":""},{"$f":"IF($AA$7=\"ganjil\",IF(nilai!AF35=\"\",\"\",nilai!AF35),IF(nilai!BN35=\"\",\"\",nilai!BN35))","v":""},{"$f":"IF($AA$7=\"ganjil\",IF(nilai!AG35=\"\",\"\",nilai!AG35),IF(nilai!BO35=\"\",\"\",nilai!BO35))","v":""},{"$f":"IF($AA$7=\"ganjil\",IF(nilai!AH35=\"\",\"\",nilai!AH35),IF(nilai!BP35=\"\",\"\",nilai!BP35))","v":""},{"$f":"IF($AA$7=\"ganjil\",IF(nilai!AI35=\"\",\"\",nilai!AI35),IF(nilai!BQ35=\"\",\"\",nilai!BQ35))","v":""},{"$f":"IF($AA$7=\"ganjil\",IF(nilai!AJ35=\"\",\"\",nilai!AJ35),IF(nilai!BR35=\"\",\"\",nilai!BR35))","v":""},{"$f":"IF($AA$7=\"ganjil\",IF(nilai!AK35=\"\",\"\",nilai!AK35),IF(nilai!BS35=\"\",\"\",nilai!BS35))","v":""},{"$f":"IF($AA$7=\"ganjil\",IF(nilai!AL35=\"\",\"\",nilai!AL35),IF(nilai!BT35=\"\",\"\",nilai!BT35))","v":""},{"$f":"IF($AA$7=\"ganjil\",IF(nilai!AM35=\"\",\"\",nilai!AM35),IF(nilai!BU35=\"\",\"\",nilai!BU35))","v":""},"",null,"",null,"",null,null,0,"",{"$f":"IF(BO39=\"\",\"\",RANK(BO39,$BO$14:$BO$63,0)+COUNTIF($BO$13:BO38,BO39))","v":""}]
[null,null,{"$f":"IF(Database!$A30=\"\",\"\",Database!$A30)","v":""},{"$f":"IF(Database!$D30=\"\",\"\",Database!$D30)","v":""},null,null,null,null,null,{"$f":"IF($AA$7=\"ganjil\",IF(nilai!H36=\"\",\"\",nilai!H36),IF(nilai!AP36=\"\",\"\",nilai!AP36))","v":""},{"$f":"IF($AA$7=\"ganjil\",IF(nilai!I36=\"\",\"\",nilai!I36),IF(nilai!AQ36=\"\",\"\",nilai!AQ36))","v":""},{"$f":"IF($AA$7=\"ganjil\",IF(nilai!J36=\"\",\"\",nilai!J36),IF(nilai!AR36=\"\",\"\",nilai!AR36))","v":""},{"$f":"IF($AA$7=\"ganjil\",IF(nilai!L36=\"\",\"\",nilai!L36),IF(nilai!AT36=\"\",\"\",nilai!AT36))","v":""},{"$f":"IF($AA$7=\"ganjil\",IF(nilai!M36=\"\",\"\",nilai!M36),IF(nilai!AU36=\"\",\"\",nilai!AU36))","v":""},{"$f":"IF($AA$7=\"ganjil\",IF(nilai!N36=\"\",\"\",nilai!N36),IF(nilai!AV36=\"\",\"\",nilai!AV36))","v":""},{"$f":"IF($AA$7=\"ganjil\",IF(nilai!K36=\"\",\"\",nilai!K36),IF(nilai!AS36=\"\",\"\",nilai!AS36))","v":""},{"$f":"IF($AA$7=\"ganjil\",IF(nilai!O36=\"\",\"\",nilai!O36),IF(nilai!AW36=\"\",\"\",nilai!AW36))","v":""},{"$f":"IF($AA$7=\"ganjil\",IF(nilai!P36=\"\",\"\",nilai!P36),IF(nilai!AX36=\"\",\"\",nilai!AX36))","v":""},{"$f":"IF($AA$7=\"ganjil\",IF(nilai!Q36=\"\",\"\",nilai!Q36),IF(nilai!AY36=\"\",\"\",nilai!AY36))","v":""},{"$f":"IF($AA$7=\"ganjil\",IF(nilai!R36=\"\",\"\",nilai!R36),IF(nilai!AZ36=\"\",\"\",nilai!AZ36))","v":""},{"$f":"IF($AA$7=\"ganjil\",IF(nilai!S36=\"\",\"\",nilai!S36),IF(nilai!BA36=\"\",\"\",nilai!BA36))","v":""},{"$f":"IF($AA$7=\"ganjil\",IF(nilai!T36=\"\",\"\",nilai!T36),IF(nilai!BB36=\"\",\"\",nilai!BB36))","v":""},{"$f":"IF($AA$7=\"ganjil\",IF(nilai!U36=\"\",\"\",nilai!U36),IF(nilai!BC36=\"\",\"\",nilai!BC36))","v":""},{"$f":"IF($AA$7=\"ganjil\",IF(nilai!V36=\"\",\"\",nilai!V36),IF(nilai!BD36=\"\",\"\",nilai!BD36))","v":""},{"$f":"IF($AA$7=\"ganjil\",IF(nilai!W36=\"\",\"\",nilai!W36),IF(nilai!BE36=\"\",\"\",nilai!BE36))","v":""},"",null,"",null,"",null,null,0,"",{"$f":"IF(AH40=\"\",\"\",RANK(AH40,$AH$14:$AH$63,0)+COUNTIF($AH$13:AH39,AH40))","v":""},{"$f":"IF(Database!$A30=\"\",\"\",Database!$A30)","v":""},{"$f":"IF(Database!$D30=\"\",\"\",Database!$D30)","v":""},null,null,null,null,null,{"$f":"IF($AA$7=\"ganjil\",IF(nilai!X36=\"\",\"\",nilai!X36),IF(nilai!BF36=\"\",\"\",nilai!BF36))","v":""},{"$f":"IF($AA$7=\"ganjil\",IF(nilai!Y36=\"\",\"\",nilai!Y36),IF(nilai!BG36=\"\",\"\",nilai!BG36))","v":""},{"$f":"IF($AA$7=\"ganjil\",IF(nilai!Z36=\"\",\"\",nilai!Z36),IF(nilai!BH36=\"\",\"\",nilai!BH36))","v":""},{"$f":"IF($AA$7=\"ganjil\",IF(nilai!AB36=\"\",\"\",nilai!AB36),IF(nilai!BJ36=\"\",\"\",nilai!BJ36))","v":""},{"$f":"IF($AA$7=\"ganjil\",IF(nilai!AC36=\"\",\"\",nilai!AC36),IF(nilai!BK36=\"\",\"\",nilai!BK36))","v":""},{"$f":"IF($AA$7=\"ganjil\",IF(nilai!AD36=\"\",\"\",nilai!AD36),IF(nilai!BL36=\"\",\"\",nilai!BL36))","v":""},{"$f":"IF($AA$7=\"ganjil\",IF(nilai!AA36=\"\",\"\",nilai!AA36),IF(nilai!BI36=\"\",\"\",nilai!BI36))","v":""},{"$f":"IF($AA$7=\"ganjil\",IF(nilai!AE36=\"\",\"\",nilai!AE36),IF(nilai!BM36=\"\",\"\",nilai!BM36))","v":""},{"$f":"IF($AA$7=\"ganjil\",IF(nilai!AF36=\"\",\"\",nilai!AF36),IF(nilai!BN36=\"\",\"\",nilai!BN36))","v":""},{"$f":"IF($AA$7=\"ganjil\",IF(nilai!AG36=\"\",\"\",nilai!AG36),IF(nilai!BO36=\"\",\"\",nilai!BO36))","v":""},{"$f":"IF($AA$7=\"ganjil\",IF(nilai!AH36=\"\",\"\",nilai!AH36),IF(nilai!BP36=\"\",\"\",nilai!BP36))","v":""},{"$f":"IF($AA$7=\"ganjil\",IF(nilai!AI36=\"\",\"\",nilai!AI36),IF(nilai!BQ36=\"\",\"\",nilai!BQ36))","v":""},{"$f":"IF($AA$7=\"ganjil\",IF(nilai!AJ36=\"\",\"\",nilai!AJ36),IF(nilai!BR36=\"\",\"\",nilai!BR36))","v":""},{"$f":"IF($AA$7=\"ganjil\",IF(nilai!AK36=\"\",\"\",nilai!AK36),IF(nilai!BS36=\"\",\"\",nilai!BS36))","v":""},{"$f":"IF($AA$7=\"ganjil\",IF(nilai!AL36=\"\",\"\",nilai!AL36),IF(nilai!BT36=\"\",\"\",nilai!BT36))","v":""},{"$f":"IF($AA$7=\"ganjil\",IF(nilai!AM36=\"\",\"\",nilai!AM36),IF(nilai!BU36=\"\",\"\",nilai!BU36))","v":""},"",null,"",null,"",null,null,0,"",{"$f":"IF(BO40=\"\",\"\",RANK(BO40,$BO$14:$BO$63,0)+COUNTIF($BO$13:BO39,BO40))","v":""}]
[null,null,{"$f":"IF(Database!$A31=\"\",\"\",Database!$A31)","v":""},{"$f":"IF(Database!$D31=\"\",\"\",Database!$D31)","v":""},null,null,null,null,null,{"$f":"IF($AA$7=\"ganjil\",IF(nilai!H37=\"\",\"\",nilai!H37),IF(nilai!AP37=\"\",\"\",nilai!AP37))","v":""},{"$f":"IF($AA$7=\"ganjil\",IF(nilai!I37=\"\",\"\",nilai!I37),IF(nilai!AQ37=\"\",\"\",nilai!AQ37))","v":""},{"$f":"IF($AA$7=\"ganjil\",IF(nilai!J37=\"\",\"\",nilai!J37),IF(nilai!AR37=\"\",\"\",nilai!AR37))","v":""},{"$f":"IF($AA$7=\"ganjil\",IF(nilai!L37=\"\",\"\",nilai!L37),IF(nilai!AT37=\"\",\"\",nilai!AT37))","v":""},{"$f":"IF($AA$7=\"ganjil\",IF(nilai!M37=\"\",\"\",nilai!M37),IF(nilai!AU37=\"\",\"\",nilai!AU37))","v":""},{"$f":"IF($AA$7=\"ganjil\",IF(nilai!N37=\"\",\"\",nilai!N37),IF(nilai!AV37=\"\",\"\",nilai!AV37))","v":""},{"$f":"IF($AA$7=\"ganjil\",IF(nilai!K37=\"\",\"\",nilai!K37),IF(nilai!AS37=\"\",\"\",nilai!AS37))","v":""},{"$f":"IF($AA$7=\"ganjil\",IF(nilai!O37=\"\",\"\",nilai!O37),IF(nilai!AW37=\"\",\"\",nilai!AW37))","v":""},{"$f":"IF($AA$7=\"ganjil\",IF(nilai!P37=\"\",\"\",nilai!P37),IF(nilai!AX37=\"\",\"\",nilai!AX37))","v":""},{"$f":"IF($AA$7=\"ganjil\",IF(nilai!Q37=\"\",\"\",nilai!Q37),IF(nilai!AY37=\"\",\"\",nilai!AY37))","v":""},{"$f":"IF($AA$7=\"ganjil\",IF(nilai!R37=\"\",\"\",nilai!R37),IF(nilai!AZ37=\"\",\"\",nilai!AZ37))","v":""},{"$f":"IF($AA$7=\"ganjil\",IF(nilai!S37=\"\",\"\",nilai!S37),IF(nilai!BA37=\"\",\"\",nilai!BA37))","v":""},{"$f":"IF($AA$7=\"ganjil\",IF(nilai!T37=\"\",\"\",nilai!T37),IF(nilai!BB37=\"\",\"\",nilai!BB37))","v":""},{"$f":"IF($AA$7=\"ganjil\",IF(nilai!U37=\"\",\"\",nilai!U37),IF(nilai!BC37=\"\",\"\",nilai!BC37))","v":""},{"$f":"IF($AA$7=\"ganjil\",IF(nilai!V37=\"\",\"\",nilai!V37),IF(nilai!BD37=\"\",\"\",nilai!BD37))","v":""},{"$f":"IF($AA$7=\"ganjil\",IF(nilai!W37=\"\",\"\",nilai!W37),IF(nilai!BE37=\"\",\"\",nilai!BE37))","v":""},"",null,"",null,"",null,null,0,"",{"$f":"IF(AH41=\"\",\"\",RANK(AH41,$AH$14:$AH$63,0)+COUNTIF($AH$13:AH40,AH41))","v":""},{"$f":"IF(Database!$A31=\"\",\"\",Database!$A31)","v":""},{"$f":"IF(Database!$D31=\"\",\"\",Database!$D31)","v":""},null,null,null,null,null,{"$f":"IF($AA$7=\"ganjil\",IF(nilai!X37=\"\",\"\",nilai!X37),IF(nilai!BF37=\"\",\"\",nilai!BF37))","v":""},{"$f":"IF($AA$7=\"ganjil\",IF(nilai!Y37=\"\",\"\",nilai!Y37),IF(nilai!BG37=\"\",\"\",nilai!BG37))","v":""},{"$f":"IF($AA$7=\"ganjil\",IF(nilai!Z37=\"\",\"\",nilai!Z37),IF(nilai!BH37=\"\",\"\",nilai!BH37))","v":""},{"$f":"IF($AA$7=\"ganjil\",IF(nilai!AB37=\"\",\"\",nilai!AB37),IF(nilai!BJ37=\"\",\"\",nilai!BJ37))","v":""},{"$f":"IF($AA$7=\"ganjil\",IF(nilai!AC37=\"\",\"\",nilai!AC37),IF(nilai!BK37=\"\",\"\",nilai!BK37))","v":""},{"$f":"IF($AA$7=\"ganjil\",IF(nilai!AD37=\"\",\"\",nilai!AD37),IF(nilai!BL37=\"\",\"\",nilai!BL37))","v":""},{"$f":"IF($AA$7=\"ganjil\",IF(nilai!AA37=\"\",\"\",nilai!AA37),IF(nilai!BI37=\"\",\"\",nilai!BI37))","v":""},{"$f":"IF($AA$7=\"ganjil\",IF(nilai!AE37=\"\",\"\",nilai!AE37),IF(nilai!BM37=\"\",\"\",nilai!BM37))","v":""},{"$f":"IF($AA$7=\"ganjil\",IF(nilai!AF37=\"\",\"\",nilai!AF37),IF(nilai!BN37=\"\",\"\",nilai!BN37))","v":""},{"$f":"IF($AA$7=\"ganjil\",IF(nilai!AG37=\"\",\"\",nilai!AG37),IF(nilai!BO37=\"\",\"\",nilai!BO37))","v":""},{"$f":"IF($AA$7=\"ganjil\",IF(nilai!AH37=\"\",\"\",nilai!AH37),IF(nilai!BP37=\"\",\"\",nilai!BP37))","v":""},{"$f":"IF($AA$7=\"ganjil\",IF(nilai!AI37=\"\",\"\",nilai!AI37),IF(nilai!BQ37=\"\",\"\",nilai!BQ37))","v":""},{"$f":"IF($AA$7=\"ganjil\",IF(nilai!AJ37=\"\",\"\",nilai!AJ37),IF(nilai!BR37=\"\",\"\",nilai!BR37))","v":""},{"$f":"IF($AA$7=\"ganjil\",IF(nilai!AK37=\"\",\"\",nilai!AK37),IF(nilai!BS37=\"\",\"\",nilai!BS37))","v":""},{"$f":"IF($AA$7=\"ganjil\",IF(nilai!AL37=\"\",\"\",nilai!AL37),IF(nilai!BT37=\"\",\"\",nilai!BT37))","v":""},{"$f":"IF($AA$7=\"ganjil\",IF(nilai!AM37=\"\",\"\",nilai!AM37),IF(nilai!BU37=\"\",\"\",nilai!BU37))","v":""},"",null,"",null,"",null,null,0,"",{"$f":"IF(BO41=\"\",\"\",RANK(BO41,$BO$14:$BO$63,0)+COUNTIF($BO$13:BO40,BO41))","v":""}]
[null,null,{"$f":"IF(Database!$A32=\"\",\"\",Database!$A32)","v":""},{"$f":"IF(Database!$D32=\"\",\"\",Database!$D32)","v":""},null,null,null,null,null,{"$f":"IF($AA$7=\"ganjil\",IF(nilai!H38=\"\",\"\",nilai!H38),IF(nilai!AP38=\"\",\"\",nilai!AP38))","v":""},{"$f":"IF($AA$7=\"ganjil\",IF(nilai!I38=\"\",\"\",nilai!I38),IF(nilai!AQ38=\"\",\"\",nilai!AQ38))","v":""},{"$f":"IF($AA$7=\"ganjil\",IF(nilai!J38=\"\",\"\",nilai!J38),IF(nilai!AR38=\"\",\"\",nilai!AR38))","v":""},{"$f":"IF($AA$7=\"ganjil\",IF(nilai!L38=\"\",\"\",nilai!L38),IF(nilai!AT38=\"\",\"\",nilai!AT38))","v":""},{"$f":"IF($AA$7=\"ganjil\",IF(nilai!M38=\"\",\"\",nilai!M38),IF(nilai!AU38=\"\",\"\",nilai!AU38))","v":""},{"$f":"IF($AA$7=\"ganjil\",IF(nilai!N38=\"\",\"\",nilai!N38),IF(nilai!AV38=\"\",\"\",nilai!AV38))","v":""},{"$f":"IF($AA$7=\"ganjil\",IF(nilai!K38=\"\",\"\",nilai!K38),IF(nilai!AS38=\"\",\"\",nilai!AS38))","v":""},{"$f":"IF($AA$7=\"ganjil\",IF(nilai!O38=\"\",\"\",nilai!O38),IF(nilai!AW38=\"\",\"\",nilai!AW38))","v":""},{"$f":"IF($AA$7=\"ganjil\",IF(nilai!P38=\"\",\"\",nilai!P38),IF(nilai!AX38=\"\",\"\",nilai!AX38))","v":""},{"$f":"IF($AA$7=\"ganjil\",IF(nilai!Q38=\"\",\"\",nilai!Q38),IF(nilai!AY38=\"\",\"\",nilai!AY38))","v":""},{"$f":"IF($AA$7=\"ganjil\",IF(nilai!R38=\"\",\"\",nilai!R38),IF(nilai!AZ38=\"\",\"\",nilai!AZ38))","v":""},{"$f":"IF($AA$7=\"ganjil\",IF(nilai!S38=\"\",\"\",nilai!S38),IF(nilai!BA38=\"\",\"\",nilai!BA38))","v":""},{"$f":"IF($AA$7=\"ganjil\",IF(nilai!T38=\"\",\"\",nilai!T38),IF(nilai!BB38=\"\",\"\",nilai!BB38))","v":""},{"$f":"IF($AA$7=\"ganjil\",IF(nilai!U38=\"\",\"\",nilai!U38),IF(nilai!BC38=\"\",\"\",nilai!BC38))","v":""},{"$f":"IF($AA$7=\"ganjil\",IF(nilai!V38=\"\",\"\",nilai!V38),IF(nilai!BD38=\"\",\"\",nilai!BD38))","v":""},{"$f":"IF($AA$7=\"ganjil\",IF(nilai!W38=\"\",\"\",nilai!W38),IF(nilai!BE38=\"\",\"\",nilai!BE38))","v":""},"",null,"",null,"",null,null,0,"",{"$f":"IF(AH42=\"\",\"\",RANK(AH42,$AH$14:$AH$63,0)+COUNTIF($AH$13:AH41,AH42))","v":""},{"$f":"IF(Database!$A32=\"\",\"\",Database!$A32)","v":""},{"$f":"IF(Database!$D32=\"\",\"\",Database!$D32)","v":""},null,null,null,null,null,{"$f":"IF($AA$7=\"ganjil\",IF(nilai!X38=\"\",\"\",nilai!X38),IF(nilai!BF38=\"\",\"\",nilai!BF38))","v":""},{"$f":"IF($AA$7=\"ganjil\",IF(nilai!Y38=\"\",\"\",nilai!Y38),IF(nilai!BG38=\"\",\"\",nilai!BG38))","v":""},{"$f":"IF($AA$7=\"ganjil\",IF(nilai!Z38=\"\",\"\",nilai!Z38),IF(nilai!BH38=\"\",\"\",nilai!BH38))","v":""},{"$f":"IF($AA$7=\"ganjil\",IF(nilai!AB38=\"\",\"\",nilai!AB38),IF(nilai!BJ38=\"\",\"\",nilai!BJ38))","v":""},{"$f":"IF($AA$7=\"ganjil\",IF(nilai!AC38=\"\",\"\",nilai!AC38),IF(nilai!BK38=\"\",\"\",nilai!BK38))","v":""},{"$f":"IF($AA$7=\"ganjil\",IF(nilai!AD38=\"\",\"\",nilai!AD38),IF(nilai!BL38=\"\",\"\",nilai!BL38))","v":""},{"$f":"IF($AA$7=\"ganjil\",IF(nilai!AA38=\"\",\"\",nilai!AA38),IF(nilai!BI38=\"\",\"\",nilai!BI38))","v":""},{"$f":"IF($AA$7=\"ganjil\",IF(nilai!AE38=\"\",\"\",nilai!AE38),IF(nilai!BM38=\"\",\"\",nilai!BM38))","v":""},{"$f":"IF($AA$7=\"ganjil\",IF(nilai!AF38=\"\",\"\",nilai!AF38),IF(nilai!BN38=\"\",\"\",nilai!BN38))","v":""},{"$f":"IF($AA$7=\"ganjil\",IF(nilai!AG38=\"\",\"\",nilai!AG38),IF(nilai!BO38=\"\",\"\",nilai!BO38))","v":""},{"$f":"IF($AA$7=\"ganjil\",IF(nilai!AH38=\"\",\"\",nilai!AH38),IF(nilai!BP38=\"\",\"\",nilai!BP38))","v":""},{"$f":"IF($AA$7=\"ganjil\",IF(nilai!AI38=\"\",\"\",nilai!AI38),IF(nilai!BQ38=\"\",\"\",nilai!BQ38))","v":""},{"$f":"IF($AA$7=\"ganjil\",IF(nilai!AJ38=\"\",\"\",nilai!AJ38),IF(nilai!BR38=\"\",\"\",nilai!BR38))","v":""},{"$f":"IF($AA$7=\"ganjil\",IF(nilai!AK38=\"\",\"\",nilai!AK38),IF(nilai!BS38=\"\",\"\",nilai!BS38))","v":""},{"$f":"IF($AA$7=\"ganjil\",IF(nilai!AL38=\"\",\"\",nilai!AL38),IF(nilai!BT38=\"\",\"\",nilai!BT38))","v":""},{"$f":"IF($AA$7=\"ganjil\",IF(nilai!AM38=\"\",\"\",nilai!AM38),IF(nilai!BU38=\"\",\"\",nilai!BU38))","v":""},"",null,"",null,"",null,null,0,"",{"$f":"IF(BO42=\"\",\"\",RANK(BO42,$BO$14:$BO$63,0)+COUNTIF($BO$13:BO41,BO42))","v":""}]
[null,null,{"$f":"IF(Database!$A33=\"\",\"\",Database!$A33)","v":""},{"$f":"IF(Database!$D33=\"\",\"\",Database!$D33)","v":""},null,null,null,null,null,{"$f":"IF($AA$7=\"ganjil\",IF(nilai!H39=\"\",\"\",nilai!H39),IF(nilai!AP39=\"\",\"\",nilai!AP39))","v":""},{"$f":"IF($AA$7=\"ganjil\",IF(nilai!I39=\"\",\"\",nilai!I39),IF(nilai!AQ39=\"\",\"\",nilai!AQ39))","v":""},{"$f":"IF($AA$7=\"ganjil\",IF(nilai!J39=\"\",\"\",nilai!J39),IF(nilai!AR39=\"\",\"\",nilai!AR39))","v":""},{"$f":"IF($AA$7=\"ganjil\",IF(nilai!L39=\"\",\"\",nilai!L39),IF(nilai!AT39=\"\",\"\",nilai!AT39))","v":""},{"$f":"IF($AA$7=\"ganjil\",IF(nilai!M39=\"\",\"\",nilai!M39),IF(nilai!AU39=\"\",\"\",nilai!AU39))","v":""},{"$f":"IF($AA$7=\"ganjil\",IF(nilai!N39=\"\",\"\",nilai!N39),IF(nilai!AV39=\"\",\"\",nilai!AV39))","v":""},{"$f":"IF($AA$7=\"ganjil\",IF(nilai!K39=\"\",\"\",nilai!K39),IF(nilai!AS39=\"\",\"\",nilai!AS39))","v":""},{"$f":"IF($AA$7=\"ganjil\",IF(nilai!O39=\"\",\"\",nilai!O39),IF(nilai!AW39=\"\",\"\",nilai!AW39))","v":""},{"$f":"IF($AA$7=\"ganjil\",IF(nilai!P39=\"\",\"\",nilai!P39),IF(nilai!AX39=\"\",\"\",nilai!AX39))","v":""},{"$f":"IF($AA$7=\"ganjil\",IF(nilai!Q39=\"\",\"\",nilai!Q39),IF(nilai!AY39=\"\",\"\",nilai!AY39))","v":""},{"$f":"IF($AA$7=\"ganjil\",IF(nilai!R39=\"\",\"\",nilai!R39),IF(nilai!AZ39=\"\",\"\",nilai!AZ39))","v":""},{"$f":"IF($AA$7=\"ganjil\",IF(nilai!S39=\"\",\"\",nilai!S39),IF(nilai!BA39=\"\",\"\",nilai!BA39))","v":""},{"$f":"IF($AA$7=\"ganjil\",IF(nilai!T39=\"\",\"\",nilai!T39),IF(nilai!BB39=\"\",\"\",nilai!BB39))","v":""},{"$f":"IF($AA$7=\"ganjil\",IF(nilai!U39=\"\",\"\",nilai!U39),IF(nilai!BC39=\"\",\"\",nilai!BC39))","v":""},{"$f":"IF($AA$7=\"ganjil\",IF(nilai!V39=\"\",\"\",nilai!V39),IF(nilai!BD39=\"\",\"\",nilai!BD39))","v":""},{"$f":"IF($AA$7=\"ganjil\",IF(nilai!W39=\"\",\"\",nilai!W39),IF(nilai!BE39=\"\",\"\",nilai!BE39))","v":""},"",null,"",null,"",null,null,0,"",{"$f":"IF(AH43=\"\",\"\",RANK(AH43,$AH$14:$AH$63,0)+COUNTIF($AH$13:AH42,AH43))","v":""},{"$f":"IF(Database!$A33=\"\",\"\",Database!$A33)","v":""},{"$f":"IF(Database!$D33=\"\",\"\",Database!$D33)","v":""},null,null,null,null,null,{"$f":"IF($AA$7=\"ganjil\",IF(nilai!X39=\"\",\"\",nilai!X39),IF(nilai!BF39=\"\",\"\",nilai!BF39))","v":""},{"$f":"IF($AA$7=\"ganjil\",IF(nilai!Y39=\"\",\"\",nilai!Y39),IF(nilai!BG39=\"\",\"\",nilai!BG39))","v":""},{"$f":"IF($AA$7=\"ganjil\",IF(nilai!Z39=\"\",\"\",nilai!Z39),IF(nilai!BH39=\"\",\"\",nilai!BH39))","v":""},{"$f":"IF($AA$7=\"ganjil\",IF(nilai!AB39=\"\",\"\",nilai!AB39),IF(nilai!BJ39=\"\",\"\",nilai!BJ39))","v":""},{"$f":"IF($AA$7=\"ganjil\",IF(nilai!AC39=\"\",\"\",nilai!AC39),IF(nilai!BK39=\"\",\"\",nilai!BK39))","v":""},{"$f":"IF($AA$7=\"ganjil\",IF(nilai!AD39=\"\",\"\",nilai!AD39),IF(nilai!BL39=\"\",\"\",nilai!BL39))","v":""},{"$f":"IF($AA$7=\"ganjil\",IF(nilai!AA39=\"\",\"\",nilai!AA39),IF(nilai!BI39=\"\",\"\",nilai!BI39))","v":""},{"$f":"IF($AA$7=\"ganjil\",IF(nilai!AE39=\"\",\"\",nilai!AE39),IF(nilai!BM39=\"\",\"\",nilai!BM39))","v":""},{"$f":"IF($AA$7=\"ganjil\",IF(nilai!AF39=\"\",\"\",nilai!AF39),IF(nilai!BN39=\"\",\"\",nilai!BN39))","v":""},{"$f":"IF($AA$7=\"ganjil\",IF(nilai!AG39=\"\",\"\",nilai!AG39),IF(nilai!BO39=\"\",\"\",nilai!BO39))","v":""},{"$f":"IF($AA$7=\"ganjil\",IF(nilai!AH39=\"\",\"\",nilai!AH39),IF(nilai!BP39=\"\",\"\",nilai!BP39))","v":""},{"$f":"IF($AA$7=\"ganjil\",IF(nilai!AI39=\"\",\"\",nilai!AI39),IF(nilai!BQ39=\"\",\"\",nilai!BQ39))","v":""},{"$f":"IF($AA$7=\"ganjil\",IF(nilai!AJ39=\"\",\"\",nilai!AJ39),IF(nilai!BR39=\"\",\"\",nilai!BR39))","v":""},{"$f":"IF($AA$7=\"ganjil\",IF(nilai!AK39=\"\",\"\",nilai!AK39),IF(nilai!BS39=\"\",\"\",nilai!BS39))","v":""},{"$f":"IF($AA$7=\"ganjil\",IF(nilai!AL39=\"\",\"\",nilai!AL39),IF(nilai!BT39=\"\",\"\",nilai!BT39))","v":""},{"$f":"IF($AA$7=\"ganjil\",IF(nilai!AM39=\"\",\"\",nilai!AM39),IF(nilai!BU39=\"\",\"\",nilai!BU39))","v":""},"",null,"",null,"",null,null,0,"",{"$f":"IF(BO43=\"\",\"\",RANK(BO43,$BO$14:$BO$63,0)+COUNTIF($BO$13:BO42,BO43))","v":""}]
[null,null,{"$f":"IF(Database!$A34=\"\",\"\",Database!$A34)","v":""},{"$f":"IF(Database!$D34=\"\",\"\",Database!$D34)","v":""},null,null,null,null,null,{"$f":"IF($AA$7=\"ganjil\",IF(nilai!H40=\"\",\"\",nilai!H40),IF(nilai!AP40=\"\",\"\",nilai!AP40))","v":""},{"$f":"IF($AA$7=\"ganjil\",IF(nilai!I40=\"\",\"\",nilai!I40),IF(nilai!AQ40=\"\",\"\",nilai!AQ40))","v":""},{"$f":"IF($AA$7=\"ganjil\",IF(nilai!J40=\"\",\"\",nilai!J40),IF(nilai!AR40=\"\",\"\",nilai!AR40))","v":""},{"$f":"IF($AA$7=\"ganjil\",IF(nilai!L40=\"\",\"\",nilai!L40),IF(nilai!AT40=\"\",\"\",nilai!AT40))","v":""},{"$f":"IF($AA$7=\"ganjil\",IF(nilai!M40=\"\",\"\",nilai!M40),IF(nilai!AU40=\"\",\"\",nilai!AU40))","v":""},{"$f":"IF($AA$7=\"ganjil\",IF(nilai!N40=\"\",\"\",nilai!N40),IF(nilai!AV40=\"\",\"\",nilai!AV40))","v":""},{"$f":"IF($AA$7=\"ganjil\",IF(nilai!K40=\"\",\"\",nilai!K40),IF(nilai!AS40=\"\",\"\",nilai!AS40))","v":""},{"$f":"IF($AA$7=\"ganjil\",IF(nilai!O40=\"\",\"\",nilai!O40),IF(nilai!AW40=\"\",\"\",nilai!AW40))","v":""},{"$f":"IF($AA$7=\"ganjil\",IF(nilai!P40=\"\",\"\",nilai!P40),IF(nilai!AX40=\"\",\"\",nilai!AX40))","v":""},{"$f":"IF($AA$7=\"ganjil\",IF(nilai!Q40=\"\",\"\",nilai!Q40),IF(nilai!AY40=\"\",\"\",nilai!AY40))","v":""},{"$f":"IF($AA$7=\"ganjil\",IF(nilai!R40=\"\",\"\",nilai!R40),IF(nilai!AZ40=\"\",\"\",nilai!AZ40))","v":""},{"$f":"IF($AA$7=\"ganjil\",IF(nilai!S40=\"\",\"\",nilai!S40),IF(nilai!BA40=\"\",\"\",nilai!BA40))","v":""},{"$f":"IF($AA$7=\"ganjil\",IF(nilai!T40=\"\",\"\",nilai!T40),IF(nilai!BB40=\"\",\"\",nilai!BB40))","v":""},{"$f":"IF($AA$7=\"ganjil\",IF(nilai!U40=\"\",\"\",nilai!U40),IF(nilai!BC40=\"\",\"\",nilai!BC40))","v":""},{"$f":"IF($AA$7=\"ganjil\",IF(nilai!V40=\"\",\"\",nilai!V40),IF(nilai!BD40=\"\",\"\",nilai!BD40))","v":""},{"$f":"IF($AA$7=\"ganjil\",IF(nilai!W40=\"\",\"\",nilai!W40),IF(nilai!BE40=\"\",\"\",nilai!BE40))","v":""},"",null,"",null,"",null,null,0,"",{"$f":"IF(AH44=\"\",\"\",RANK(AH44,$AH$14:$AH$63,0)+COUNTIF($AH$13:AH43,AH44))","v":""},{"$f":"IF(Database!$A34=\"\",\"\",Database!$A34)","v":""},{"$f":"IF(Database!$D34=\"\",\"\",Database!$D34)","v":""},null,null,null,null,null,{"$f":"IF($AA$7=\"ganjil\",IF(nilai!X40=\"\",\"\",nilai!X40),IF(nilai!BF40=\"\",\"\",nilai!BF40))","v":""},{"$f":"IF($AA$7=\"ganjil\",IF(nilai!Y40=\"\",\"\",nilai!Y40),IF(nilai!BG40=\"\",\"\",nilai!BG40))","v":""},{"$f":"IF($AA$7=\"ganjil\",IF(nilai!Z40=\"\",\"\",nilai!Z40),IF(nilai!BH40=\"\",\"\",nilai!BH40))","v":""},{"$f":"IF($AA$7=\"ganjil\",IF(nilai!AB40=\"\",\"\",nilai!AB40),IF(nilai!BJ40=\"\",\"\",nilai!BJ40))","v":""},{"$f":"IF($AA$7=\"ganjil\",IF(nilai!AC40=\"\",\"\",nilai!AC40),IF(nilai!BK40=\"\",\"\",nilai!BK40))","v":""},{"$f":"IF($AA$7=\"ganjil\",IF(nilai!AD40=\"\",\"\",nilai!AD40),IF(nilai!BL40=\"\",\"\",nilai!BL40))","v":""},{"$f":"IF($AA$7=\"ganjil\",IF(nilai!AA40=\"\",\"\",nilai!AA40),IF(nilai!BI40=\"\",\"\",nilai!BI40))","v":""},{"$f":"IF($AA$7=\"ganjil\",IF(nilai!AE40=\"\",\"\",nilai!AE40),IF(nilai!BM40=\"\",\"\",nilai!BM40))","v":""},{"$f":"IF($AA$7=\"ganjil\",IF(nilai!AF40=\"\",\"\",nilai!AF40),IF(nilai!BN40=\"\",\"\",nilai!BN40))","v":""},{"$f":"IF($AA$7=\"ganjil\",IF(nilai!AG40=\"\",\"\",nilai!AG40),IF(nilai!BO40=\"\",\"\",nilai!BO40))","v":""},{"$f":"IF($AA$7=\"ganjil\",IF(nilai!AH40=\"\",\"\",nilai!AH40),IF(nilai!BP40=\"\",\"\",nilai!BP40))","v":""},{"$f":"IF($AA$7=\"ganjil\",IF(nilai!AI40=\"\",\"\",nilai!AI40),IF(nilai!BQ40=\"\",\"\",nilai!BQ40))","v":""},{"$f":"IF($AA$7=\"ganjil\",IF(nilai!AJ40=\"\",\"\",nilai!AJ40),IF(nilai!BR40=\"\",\"\",nilai!BR40))","v":""},{"$f":"IF($AA$7=\"ganjil\",IF(nilai!AK40=\"\",\"\",nilai!AK40),IF(nilai!BS40=\"\",\"\",nilai!BS40))","v":""},{"$f":"IF($AA$7=\"ganjil\",IF(nilai!AL40=\"\",\"\",nilai!AL40),IF(nilai!BT40=\"\",\"\",nilai!BT40))","v":""},{"$f":"IF($AA$7=\"ganjil\",IF(nilai!AM40=\"\",\"\",nilai!AM40),IF(nilai!BU40=\"\",\"\",nilai!BU40))","v":""},"",null,"",null,"",null,null,0,"",{"$f":"IF(BO44=\"\",\"\",RANK(BO44,$BO$14:$BO$63,0)+COUNTIF($BO$13:BO43,BO44))","v":""}]
[null,null,{"$f":"IF(Database!$A35=\"\",\"\",Database!$A35)","v":""},{"$f":"IF(Database!$D35=\"\",\"\",Database!$D35)","v":""},null,null,null,null,null,{"$f":"IF($AA$7=\"ganjil\",IF(nilai!H41=\"\",\"\",nilai!H41),IF(nilai!AP41=\"\",\"\",nilai!AP41))","v":""},{"$f":"IF($AA$7=\"ganjil\",IF(nilai!I41=\"\",\"\",nilai!I41),IF(nilai!AQ41=\"\",\"\",nilai!AQ41))","v":""},{"$f":"IF($AA$7=\"ganjil\",IF(nilai!J41=\"\",\"\",nilai!J41),IF(nilai!AR41=\"\",\"\",nilai!AR41))","v":""},{"$f":"IF($AA$7=\"ganjil\",IF(nilai!L41=\"\",\"\",nilai!L41),IF(nilai!AT41=\"\",\"\",nilai!AT41))","v":""},{"$f":"IF($AA$7=\"ganjil\",IF(nilai!M41=\"\",\"\",nilai!M41),IF(nilai!AU41=\"\",\"\",nilai!AU41))","v":""},{"$f":"IF($AA$7=\"ganjil\",IF(nilai!N41=\"\",\"\",nilai!N41),IF(nilai!AV41=\"\",\"\",nilai!AV41))","v":""},{"$f":"IF($AA$7=\"ganjil\",IF(nilai!K41=\"\",\"\",nilai!K41),IF(nilai!AS41=\"\",\"\",nilai!AS41))","v":""},{"$f":"IF($AA$7=\"ganjil\",IF(nilai!O41=\"\",\"\",nilai!O41),IF(nilai!AW41=\"\",\"\",nilai!AW41))","v":""},{"$f":"IF($AA$7=\"ganjil\",IF(nilai!P41=\"\",\"\",nilai!P41),IF(nilai!AX41=\"\",\"\",nilai!AX41))","v":""},{"$f":"IF($AA$7=\"ganjil\",IF(nilai!Q41=\"\",\"\",nilai!Q41),IF(nilai!AY41=\"\",\"\",nilai!AY41))","v":""},{"$f":"IF($AA$7=\"ganjil\",IF(nilai!R41=\"\",\"\",nilai!R41),IF(nilai!AZ41=\"\",\"\",nilai!AZ41))","v":""},{"$f":"IF($AA$7=\"ganjil\",IF(nilai!S41=\"\",\"\",nilai!S41),IF(nilai!BA41=\"\",\"\",nilai!BA41))","v":""},{"$f":"IF($AA$7=\"ganjil\",IF(nilai!T41=\"\",\"\",nilai!T41),IF(nilai!BB41=\"\",\"\",nilai!BB41))","v":""},{"$f":"IF($AA$7=\"ganjil\",IF(nilai!U41=\"\",\"\",nilai!U41),IF(nilai!BC41=\"\",\"\",nilai!BC41))","v":""},{"$f":"IF($AA$7=\"ganjil\",IF(nilai!V41=\"\",\"\",nilai!V41),IF(nilai!BD41=\"\",\"\",nilai!BD41))","v":""},{"$f":"IF($AA$7=\"ganjil\",IF(nilai!W41=\"\",\"\",nilai!W41),IF(nilai!BE41=\"\",\"\",nilai!BE41))","v":""},"",null,"",null,"",null,null,0,"",{"$f":"IF(AH45=\"\",\"\",RANK(AH45,$AH$14:$AH$63,0)+COUNTIF($AH$13:AH44,AH45))","v":""},{"$f":"IF(Database!$A35=\"\",\"\",Database!$A35)","v":""},{"$f":"IF(Database!$D35=\"\",\"\",Database!$D35)","v":""},null,null,null,null,null,{"$f":"IF($AA$7=\"ganjil\",IF(nilai!X41=\"\",\"\",nilai!X41),IF(nilai!BF41=\"\",\"\",nilai!BF41))","v":""},{"$f":"IF($AA$7=\"ganjil\",IF(nilai!Y41=\"\",\"\",nilai!Y41),IF(nilai!BG41=\"\",\"\",nilai!BG41))","v":""},{"$f":"IF($AA$7=\"ganjil\",IF(nilai!Z41=\"\",\"\",nilai!Z41),IF(nilai!BH41=\"\",\"\",nilai!BH41))","v":""},{"$f":"IF($AA$7=\"ganjil\",IF(nilai!AB41=\"\",\"\",nilai!AB41),IF(nilai!BJ41=\"\",\"\",nilai!BJ41))","v":""},{"$f":"IF($AA$7=\"ganjil\",IF(nilai!AC41=\"\",\"\",nilai!AC41),IF(nilai!BK41=\"\",\"\",nilai!BK41))","v":""},{"$f":"IF($AA$7=\"ganjil\",IF(nilai!AD41=\"\",\"\",nilai!AD41),IF(nilai!BL41=\"\",\"\",nilai!BL41))","v":""},{"$f":"IF($AA$7=\"ganjil\",IF(nilai!AA41=\"\",\"\",nilai!AA41),IF(nilai!BI41=\"\",\"\",nilai!BI41))","v":""},{"$f":"IF($AA$7=\"ganjil\",IF(nilai!AE41=\"\",\"\",nilai!AE41),IF(nilai!BM41=\"\",\"\",nilai!BM41))","v":""},{"$f":"IF($AA$7=\"ganjil\",IF(nilai!AF41=\"\",\"\",nilai!AF41),IF(nilai!BN41=\"\",\"\",nilai!BN41))","v":""},{"$f":"IF($AA$7=\"ganjil\",IF(nilai!AG41=\"\",\"\",nilai!AG41),IF(nilai!BO41=\"\",\"\",nilai!BO41))","v":""},{"$f":"IF($AA$7=\"ganjil\",IF(nilai!AH41=\"\",\"\",nilai!AH41),IF(nilai!BP41=\"\",\"\",nilai!BP41))","v":""},{"$f":"IF($AA$7=\"ganjil\",IF(nilai!AI41=\"\",\"\",nilai!AI41),IF(nilai!BQ41=\"\",\"\",nilai!BQ41))","v":""},{"$f":"IF($AA$7=\"ganjil\",IF(nilai!AJ41=\"\",\"\",nilai!AJ41),IF(nilai!BR41=\"\",\"\",nilai!BR41))","v":""},{"$f":"IF($AA$7=\"ganjil\",IF(nilai!AK41=\"\",\"\",nilai!AK41),IF(nilai!BS41=\"\",\"\",nilai!BS41))","v":""},{"$f":"IF($AA$7=\"ganjil\",IF(nilai!AL41=\"\",\"\",nilai!AL41),IF(nilai!BT41=\"\",\"\",nilai!BT41))","v":""},{"$f":"IF($AA$7=\"ganjil\",IF(nilai!AM41=\"\",\"\",nilai!AM41),IF(nilai!BU41=\"\",\"\",nilai!BU41))","v":""},"",null,"",null,"",null,null,0,"",{"$f":"IF(BO45=\"\",\"\",RANK(BO45,$BO$14:$BO$63,0)+COUNTIF($BO$13:BO44,BO45))","v":""}]
[null,null,{"$f":"IF(Database!$A36=\"\",\"\",Database!$A36)","v":""},{"$f":"IF(Database!$D36=\"\",\"\",Database!$D36)","v":""},null,null,null,null,null,{"$f":"IF($AA$7=\"ganjil\",IF(nilai!H42=\"\",\"\",nilai!H42),IF(nilai!AP42=\"\",\"\",nilai!AP42))","v":""},{"$f":"IF($AA$7=\"ganjil\",IF(nilai!I42=\"\",\"\",nilai!I42),IF(nilai!AQ42=\"\",\"\",nilai!AQ42))","v":""},{"$f":"IF($AA$7=\"ganjil\",IF(nilai!J42=\"\",\"\",nilai!J42),IF(nilai!AR42=\"\",\"\",nilai!AR42))","v":""},{"$f":"IF($AA$7=\"ganjil\",IF(nilai!L42=\"\",\"\",nilai!L42),IF(nilai!AT42=\"\",\"\",nilai!AT42))","v":""},{"$f":"IF($AA$7=\"ganjil\",IF(nilai!M42=\"\",\"\",nilai!M42),IF(nilai!AU42=\"\",\"\",nilai!AU42))","v":""},{"$f":"IF($AA$7=\"ganjil\",IF(nilai!N42=\"\",\"\",nilai!N42),IF(nilai!AV42=\"\",\"\",nilai!AV42))","v":""},{"$f":"IF($AA$7=\"ganjil\",IF(nilai!K42=\"\",\"\",nilai!K42),IF(nilai!AS42=\"\",\"\",nilai!AS42))","v":""},{"$f":"IF($AA$7=\"ganjil\",IF(nilai!O42=\"\",\"\",nilai!O42),IF(nilai!AW42=\"\",\"\",nilai!AW42))","v":""},{"$f":"IF($AA$7=\"ganjil\",IF(nilai!P42=\"\",\"\",nilai!P42),IF(nilai!AX42=\"\",\"\",nilai!AX42))","v":""},{"$f":"IF($AA$7=\"ganjil\",IF(nilai!Q42=\"\",\"\",nilai!Q42),IF(nilai!AY42=\"\",\"\",nilai!AY42))","v":""},{"$f":"IF($AA$7=\"ganjil\",IF(nilai!R42=\"\",\"\",nilai!R42),IF(nilai!AZ42=\"\",\"\",nilai!AZ42))","v":""},{"$f":"IF($AA$7=\"ganjil\",IF(nilai!S42=\"\",\"\",nilai!S42),IF(nilai!BA42=\"\",\"\",nilai!BA42))","v":""},{"$f":"IF($AA$7=\"ganjil\",IF(nilai!T42=\"\",\"\",nilai!T42),IF(nilai!BB42=\"\",\"\",nilai!BB42))","v":""},{"$f":"IF($AA$7=\"ganjil\",IF(nilai!U42=\"\",\"\",nilai!U42),IF(nilai!BC42=\"\",\"\",nilai!BC42))","v":""},{"$f":"IF($AA$7=\"ganjil\",IF(nilai!V42=\"\",\"\",nilai!V42),IF(nilai!BD42=\"\",\"\",nilai!BD42))","v":""},{"$f":"IF($AA$7=\"ganjil\",IF(nilai!W42=\"\",\"\",nilai!W42),IF(nilai!BE42=\"\",\"\",nilai!BE42))","v":""},"",null,"",null,"",null,null,0,"",{"$f":"IF(AH46=\"\",\"\",RANK(AH46,$AH$14:$AH$63,0)+COUNTIF($AH$13:AH45,AH46))","v":""},{"$f":"IF(Database!$A36=\"\",\"\",Database!$A36)","v":""},{"$f":"IF(Database!$D36=\"\",\"\",Database!$D36)","v":""},null,null,null,null,null,{"$f":"IF($AA$7=\"ganjil\",IF(nilai!X42=\"\",\"\",nilai!X42),IF(nilai!BF42=\"\",\"\",nilai!BF42))","v":""},{"$f":"IF($AA$7=\"ganjil\",IF(nilai!Y42=\"\",\"\",nilai!Y42),IF(nilai!BG42=\"\",\"\",nilai!BG42))","v":""},{"$f":"IF($AA$7=\"ganjil\",IF(nilai!Z42=\"\",\"\",nilai!Z42),IF(nilai!BH42=\"\",\"\",nilai!BH42))","v":""},{"$f":"IF($AA$7=\"ganjil\",IF(nilai!AB42=\"\",\"\",nilai!AB42),IF(nilai!BJ42=\"\",\"\",nilai!BJ42))","v":""},{"$f":"IF($AA$7=\"ganjil\",IF(nilai!AC42=\"\",\"\",nilai!AC42),IF(nilai!BK42=\"\",\"\",nilai!BK42))","v":""},{"$f":"IF($AA$7=\"ganjil\",IF(nilai!AD42=\"\",\"\",nilai!AD42),IF(nilai!BL42=\"\",\"\",nilai!BL42))","v":""},{"$f":"IF($AA$7=\"ganjil\",IF(nilai!AA42=\"\",\"\",nilai!AA42),IF(nilai!BI42=\"\",\"\",nilai!BI42))","v":""},{"$f":"IF($AA$7=\"ganjil\",IF(nilai!AE42=\"\",\"\",nilai!AE42),IF(nilai!BM42=\"\",\"\",nilai!BM42))","v":""},{"$f":"IF($AA$7=\"ganjil\",IF(nilai!AF42=\"\",\"\",nilai!AF42),IF(nilai!BN42=\"\",\"\",nilai!BN42))","v":""},{"$f":"IF($AA$7=\"ganjil\",IF(nilai!AG42=\"\",\"\",nilai!AG42),IF(nilai!BO42=\"\",\"\",nilai!BO42))","v":""},{"$f":"IF($AA$7=\"ganjil\",IF(nilai!AH42=\"\",\"\",nilai!AH42),IF(nilai!BP42=\"\",\"\",nilai!BP42))","v":""},{"$f":"IF($AA$7=\"ganjil\",IF(nilai!AI42=\"\",\"\",nilai!AI42),IF(nilai!BQ42=\"\",\"\",nilai!BQ42))","v":""},{"$f":"IF($AA$7=\"ganjil\",IF(nilai!AJ42=\"\",\"\",nilai!AJ42),IF(nilai!BR42=\"\",\"\",nilai!BR42))","v":""},{"$f":"IF($AA$7=\"ganjil\",IF(nilai!AK42=\"\",\"\",nilai!AK42),IF(nilai!BS42=\"\",\"\",nilai!BS42))","v":""},{"$f":"IF($AA$7=\"ganjil\",IF(nilai!AL42=\"\",\"\",nilai!AL42),IF(nilai!BT42=\"\",\"\",nilai!BT42))","v":""},{"$f":"IF($AA$7=\"ganjil\",IF(nilai!AM42=\"\",\"\",nilai!AM42),IF(nilai!BU42=\"\",\"\",nilai!BU42))","v":""},"",null,"",null,"",null,null,0,"",{"$f":"IF(BO46=\"\",\"\",RANK(BO46,$BO$14:$BO$63,0)+COUNTIF($BO$13:BO45,BO46))","v":""}]
[null,null,{"$f":"IF(Database!$A37=\"\",\"\",Database!$A37)","v":""},{"$f":"IF(Database!$D37=\"\",\"\",Database!$D37)","v":""},null,null,null,null,null,{"$f":"IF($AA$7=\"ganjil\",IF(nilai!H43=\"\",\"\",nilai!H43),IF(nilai!AP43=\"\",\"\",nilai!AP43))","v":""},{"$f":"IF($AA$7=\"ganjil\",IF(nilai!I43=\"\",\"\",nilai!I43),IF(nilai!AQ43=\"\",\"\",nilai!AQ43))","v":""},{"$f":"IF($AA$7=\"ganjil\",IF(nilai!J43=\"\",\"\",nilai!J43),IF(nilai!AR43=\"\",\"\",nilai!AR43))","v":""},{"$f":"IF($AA$7=\"ganjil\",IF(nilai!L43=\"\",\"\",nilai!L43),IF(nilai!AT43=\"\",\"\",nilai!AT43))","v":""},{"$f":"IF($AA$7=\"ganjil\",IF(nilai!M43=\"\",\"\",nilai!M43),IF(nilai!AU43=\"\",\"\",nilai!AU43))","v":""},{"$f":"IF($AA$7=\"ganjil\",IF(nilai!N43=\"\",\"\",nilai!N43),IF(nilai!AV43=\"\",\"\",nilai!AV43))","v":""},{"$f":"IF($AA$7=\"ganjil\",IF(nilai!K43=\"\",\"\",nilai!K43),IF(nilai!AS43=\"\",\"\",nilai!AS43))","v":""},{"$f":"IF($AA$7=\"ganjil\",IF(nilai!O43=\"\",\"\",nilai!O43),IF(nilai!AW43=\"\",\"\",nilai!AW43))","v":""},{"$f":"IF($AA$7=\"ganjil\",IF(nilai!P43=\"\",\"\",nilai!P43),IF(nilai!AX43=\"\",\"\",nilai!AX43))","v":""},{"$f":"IF($AA$7=\"ganjil\",IF(nilai!Q43=\"\",\"\",nilai!Q43),IF(nilai!AY43=\"\",\"\",nilai!AY43))","v":""},{"$f":"IF($AA$7=\"ganjil\",IF(nilai!R43=\"\",\"\",nilai!R43),IF(nilai!AZ43=\"\",\"\",nilai!AZ43))","v":""},{"$f":"IF($AA$7=\"ganjil\",IF(nilai!S43=\"\",\"\",nilai!S43),IF(nilai!BA43=\"\",\"\",nilai!BA43))","v":""},{"$f":"IF($AA$7=\"ganjil\",IF(nilai!T43=\"\",\"\",nilai!T43),IF(nilai!BB43=\"\",\"\",nilai!BB43))","v":""},{"$f":"IF($AA$7=\"ganjil\",IF(nilai!U43=\"\",\"\",nilai!U43),IF(nilai!BC43=\"\",\"\",nilai!BC43))","v":""},{"$f":"IF($AA$7=\"ganjil\",IF(nilai!V43=\"\",\"\",nilai!V43),IF(nilai!BD43=\"\",\"\",nilai!BD43))","v":""},{"$f":"IF($AA$7=\"ganjil\",IF(nilai!W43=\"\",\"\",nilai!W43),IF(nilai!BE43=\"\",\"\",nilai!BE43))","v":""},"",null,"",null,"",null,null,0,"",{"$f":"IF(AH47=\"\",\"\",RANK(AH47,$AH$14:$AH$63,0)+COUNTIF($AH$13:AH46,AH47))","v":""},{"$f":"IF(Database!$A37=\"\",\"\",Database!$A37)","v":""},{"$f":"IF(Database!$D37=\"\",\"\",Database!$D37)","v":""},null,null,null,null,null,{"$f":"IF($AA$7=\"ganjil\",IF(nilai!X43=\"\",\"\",nilai!X43),IF(nilai!BF43=\"\",\"\",nilai!BF43))","v":""},{"$f":"IF($AA$7=\"ganjil\",IF(nilai!Y43=\"\",\"\",nilai!Y43),IF(nilai!BG43=\"\",\"\",nilai!BG43))","v":""},{"$f":"IF($AA$7=\"ganjil\",IF(nilai!Z43=\"\",\"\",nilai!Z43),IF(nilai!BH43=\"\",\"\",nilai!BH43))","v":""},{"$f":"IF($AA$7=\"ganjil\",IF(nilai!AB43=\"\",\"\",nilai!AB43),IF(nilai!BJ43=\"\",\"\",nilai!BJ43))","v":""},{"$f":"IF($AA$7=\"ganjil\",IF(nilai!AC43=\"\",\"\",nilai!AC43),IF(nilai!BK43=\"\",\"\",nilai!BK43))","v":""},{"$f":"IF($AA$7=\"ganjil\",IF(nilai!AD43=\"\",\"\",nilai!AD43),IF(nilai!BL43=\"\",\"\",nilai!BL43))","v":""},{"$f":"IF($AA$7=\"ganjil\",IF(nilai!AA43=\"\",\"\",nilai!AA43),IF(nilai!BI43=\"\",\"\",nilai!BI43))","v":""},{"$f":"IF($AA$7=\"ganjil\",IF(nilai!AE43=\"\",\"\",nilai!AE43),IF(nilai!BM43=\"\",\"\",nilai!BM43))","v":""},{"$f":"IF($AA$7=\"ganjil\",IF(nilai!AF43=\"\",\"\",nilai!AF43),IF(nilai!BN43=\"\",\"\",nilai!BN43))","v":""},{"$f":"IF($AA$7=\"ganjil\",IF(nilai!AG43=\"\",\"\",nilai!AG43),IF(nilai!BO43=\"\",\"\",nilai!BO43))","v":""},{"$f":"IF($AA$7=\"ganjil\",IF(nilai!AH43=\"\",\"\",nilai!AH43),IF(nilai!BP43=\"\",\"\",nilai!BP43))","v":""},{"$f":"IF($AA$7=\"ganjil\",IF(nilai!AI43=\"\",\"\",nilai!AI43),IF(nilai!BQ43=\"\",\"\",nilai!BQ43))","v":""},{"$f":"IF($AA$7=\"ganjil\",IF(nilai!AJ43=\"\",\"\",nilai!AJ43),IF(nilai!BR43=\"\",\"\",nilai!BR43))","v":""},{"$f":"IF($AA$7=\"ganjil\",IF(nilai!AK43=\"\",\"\",nilai!AK43),IF(nilai!BS43=\"\",\"\",nilai!BS43))","v":""},{"$f":"IF($AA$7=\"ganjil\",IF(nilai!AL43=\"\",\"\",nilai!AL43),IF(nilai!BT43=\"\",\"\",nilai!BT43))","v":""},{"$f":"IF($AA$7=\"ganjil\",IF(nilai!AM43=\"\",\"\",nilai!AM43),IF(nilai!BU43=\"\",\"\",nilai!BU43))","v":""},"",null,"",null,"",null,null,0,"",{"$f":"IF(BO47=\"\",\"\",RANK(BO47,$BO$14:$BO$63,0)+COUNTIF($BO$13:BO46,BO47))","v":""}]
[null,null,{"$f":"IF(Database!$A38=\"\",\"\",Database!$A38)","v":""},{"$f":"IF(Database!$D38=\"\",\"\",Database!$D38)","v":""},null,null,null,null,null,{"$f":"IF($AA$7=\"ganjil\",IF(nilai!H44=\"\",\"\",nilai!H44),IF(nilai!AP44=\"\",\"\",nilai!AP44))","v":""},{"$f":"IF($AA$7=\"ganjil\",IF(nilai!I44=\"\",\"\",nilai!I44),IF(nilai!AQ44=\"\",\"\",nilai!AQ44))","v":""},{"$f":"IF($AA$7=\"ganjil\",IF(nilai!J44=\"\",\"\",nilai!J44),IF(nilai!AR44=\"\",\"\",nilai!AR44))","v":""},{"$f":"IF($AA$7=\"ganjil\",IF(nilai!L44=\"\",\"\",nilai!L44),IF(nilai!AT44=\"\",\"\",nilai!AT44))","v":""},{"$f":"IF($AA$7=\"ganjil\",IF(nilai!M44=\"\",\"\",nilai!M44),IF(nilai!AU44=\"\",\"\",nilai!AU44))","v":""},{"$f":"IF($AA$7=\"ganjil\",IF(nilai!N44=\"\",\"\",nilai!N44),IF(nilai!AV44=\"\",\"\",nilai!AV44))","v":""},{"$f":"IF($AA$7=\"ganjil\",IF(nilai!K44=\"\",\"\",nilai!K44),IF(nilai!AS44=\"\",\"\",nilai!AS44))","v":""},{"$f":"IF($AA$7=\"ganjil\",IF(nilai!O44=\"\",\"\",nilai!O44),IF(nilai!AW44=\"\",\"\",nilai!AW44))","v":""},{"$f":"IF($AA$7=\"ganjil\",IF(nilai!P44=\"\",\"\",nilai!P44),IF(nilai!AX44=\"\",\"\",nilai!AX44))","v":""},{"$f":"IF($AA$7=\"ganjil\",IF(nilai!Q44=\"\",\"\",nilai!Q44),IF(nilai!AY44=\"\",\"\",nilai!AY44))","v":""},{"$f":"IF($AA$7=\"ganjil\",IF(nilai!R44=\"\",\"\",nilai!R44),IF(nilai!AZ44=\"\",\"\",nilai!AZ44))","v":""},{"$f":"IF($AA$7=\"ganjil\",IF(nilai!S44=\"\",\"\",nilai!S44),IF(nilai!BA44=\"\",\"\",nilai!BA44))","v":""},{"$f":"IF($AA$7=\"ganjil\",IF(nilai!T44=\"\",\"\",nilai!T44),IF(nilai!BB44=\"\",\"\",nilai!BB44))","v":""},{"$f":"IF($AA$7=\"ganjil\",IF(nilai!U44=\"\",\"\",nilai!U44),IF(nilai!BC44=\"\",\"\",nilai!BC44))","v":""},{"$f":"IF($AA$7=\"ganjil\",IF(nilai!V44=\"\",\"\",nilai!V44),IF(nilai!BD44=\"\",\"\",nilai!BD44))","v":""},{"$f":"IF($AA$7=\"ganjil\",IF(nilai!W44=\"\",\"\",nilai!W44),IF(nilai!BE44=\"\",\"\",nilai!BE44))","v":""},"",null,"",null,"",null,null,0,"",{"$f":"IF(AH48=\"\",\"\",RANK(AH48,$AH$14:$AH$63,0)+COUNTIF($AH$13:AH47,AH48))","v":""},{"$f":"IF(Database!$A38=\"\",\"\",Database!$A38)","v":""},{"$f":"IF(Database!$D38=\"\",\"\",Database!$D38)","v":""},null,null,null,null,null,{"$f":"IF($AA$7=\"ganjil\",IF(nilai!X44=\"\",\"\",nilai!X44),IF(nilai!BF44=\"\",\"\",nilai!BF44))","v":""},{"$f":"IF($AA$7=\"ganjil\",IF(nilai!Y44=\"\",\"\",nilai!Y44),IF(nilai!BG44=\"\",\"\",nilai!BG44))","v":""},{"$f":"IF($AA$7=\"ganjil\",IF(nilai!Z44=\"\",\"\",nilai!Z44),IF(nilai!BH44=\"\",\"\",nilai!BH44))","v":""},{"$f":"IF($AA$7=\"ganjil\",IF(nilai!AB44=\"\",\"\",nilai!AB44),IF(nilai!BJ44=\"\",\"\",nilai!BJ44))","v":""},{"$f":"IF($AA$7=\"ganjil\",IF(nilai!AC44=\"\",\"\",nilai!AC44),IF(nilai!BK44=\"\",\"\",nilai!BK44))","v":""},{"$f":"IF($AA$7=\"ganjil\",IF(nilai!AD44=\"\",\"\",nilai!AD44),IF(nilai!BL44=\"\",\"\",nilai!BL44))","v":""},{"$f":"IF($AA$7=\"ganjil\",IF(nilai!AA44=\"\",\"\",nilai!AA44),IF(nilai!BI44=\"\",\"\",nilai!BI44))","v":""},{"$f":"IF($AA$7=\"ganjil\",IF(nilai!AE44=\"\",\"\",nilai!AE44),IF(nilai!BM44=\"\",\"\",nilai!BM44))","v":""},{"$f":"IF($AA$7=\"ganjil\",IF(nilai!AF44=\"\",\"\",nilai!AF44),IF(nilai!BN44=\"\",\"\",nilai!BN44))","v":""},{"$f":"IF($AA$7=\"ganjil\",IF(nilai!AG44=\"\",\"\",nilai!AG44),IF(nilai!BO44=\"\",\"\",nilai!BO44))","v":""},{"$f":"IF($AA$7=\"ganjil\",IF(nilai!AH44=\"\",\"\",nilai!AH44),IF(nilai!BP44=\"\",\"\",nilai!BP44))","v":""},{"$f":"IF($AA$7=\"ganjil\",IF(nilai!AI44=\"\",\"\",nilai!AI44),IF(nilai!BQ44=\"\",\"\",nilai!BQ44))","v":""},{"$f":"IF($AA$7=\"ganjil\",IF(nilai!AJ44=\"\",\"\",nilai!AJ44),IF(nilai!BR44=\"\",\"\",nilai!BR44))","v":""},{"$f":"IF($AA$7=\"ganjil\",IF(nilai!AK44=\"\",\"\",nilai!AK44),IF(nilai!BS44=\"\",\"\",nilai!BS44))","v":""},{"$f":"IF($AA$7=\"ganjil\",IF(nilai!AL44=\"\",\"\",nilai!AL44),IF(nilai!BT44=\"\",\"\",nilai!BT44))","v":""},{"$f":"IF($AA$7=\"ganjil\",IF(nilai!AM44=\"\",\"\",nilai!AM44),IF(nilai!BU44=\"\",\"\",nilai!BU44))","v":""},"",null,"",null,"",null,null,0,"",{"$f":"IF(BO48=\"\",\"\",RANK(BO48,$BO$14:$BO$63,0)+COUNTIF($BO$13:BO47,BO48))","v":""}]
[null,null,{"$f":"IF(Database!$A39=\"\",\"\",Database!$A39)","v":""},{"$f":"IF(Database!$D39=\"\",\"\",Database!$D39)","v":""},null,null,null,null,null,{"$f":"IF($AA$7=\"ganjil\",IF(nilai!H45=\"\",\"\",nilai!H45),IF(nilai!AP45=\"\",\"\",nilai!AP45))","v":""},{"$f":"IF($AA$7=\"ganjil\",IF(nilai!I45=\"\",\"\",nilai!I45),IF(nilai!AQ45=\"\",\"\",nilai!AQ45))","v":""},{"$f":"IF($AA$7=\"ganjil\",IF(nilai!J45=\"\",\"\",nilai!J45),IF(nilai!AR45=\"\",\"\",nilai!AR45))","v":""},{"$f":"IF($AA$7=\"ganjil\",IF(nilai!L45=\"\",\"\",nilai!L45),IF(nilai!AT45=\"\",\"\",nilai!AT45))","v":""},{"$f":"IF($AA$7=\"ganjil\",IF(nilai!M45=\"\",\"\",nilai!M45),IF(nilai!AU45=\"\",\"\",nilai!AU45))","v":""},{"$f":"IF($AA$7=\"ganjil\",IF(nilai!N45=\"\",\"\",nilai!N45),IF(nilai!AV45=\"\",\"\",nilai!AV45))","v":""},{"$f":"IF($AA$7=\"ganjil\",IF(nilai!K45=\"\",\"\",nilai!K45),IF(nilai!AS45=\"\",\"\",nilai!AS45))","v":""},{"$f":"IF($AA$7=\"ganjil\",IF(nilai!O45=\"\",\"\",nilai!O45),IF(nilai!AW45=\"\",\"\",nilai!AW45))","v":""},{"$f":"IF($AA$7=\"ganjil\",IF(nilai!P45=\"\",\"\",nilai!P45),IF(nilai!AX45=\"\",\"\",nilai!AX45))","v":""},{"$f":"IF($AA$7=\"ganjil\",IF(nilai!Q45=\"\",\"\",nilai!Q45),IF(nilai!AY45=\"\",\"\",nilai!AY45))","v":""},{"$f":"IF($AA$7=\"ganjil\",IF(nilai!R45=\"\",\"\",nilai!R45),IF(nilai!AZ45=\"\",\"\",nilai!AZ45))","v":""},{"$f":"IF($AA$7=\"ganjil\",IF(nilai!S45=\"\",\"\",nilai!S45),IF(nilai!BA45=\"\",\"\",nilai!BA45))","v":""},{"$f":"IF($AA$7=\"ganjil\",IF(nilai!T45=\"\",\"\",nilai!T45),IF(nilai!BB45=\"\",\"\",nilai!BB45))","v":""},{"$f":"IF($AA$7=\"ganjil\",IF(nilai!U45=\"\",\"\",nilai!U45),IF(nilai!BC45=\"\",\"\",nilai!BC45))","v":""},{"$f":"IF($AA$7=\"ganjil\",IF(nilai!V45=\"\",\"\",nilai!V45),IF(nilai!BD45=\"\",\"\",nilai!BD45))","v":""},{"$f":"IF($AA$7=\"ganjil\",IF(nilai!W45=\"\",\"\",nilai!W45),IF(nilai!BE45=\"\",\"\",nilai!BE45))","v":""},"",null,"",null,"",null,null,0,"",{"$f":"IF(AH49=\"\",\"\",RANK(AH49,$AH$14:$AH$63,0)+COUNTIF($AH$13:AH48,AH49))","v":""},{"$f":"IF(Database!$A39=\"\",\"\",Database!$A39)","v":""},{"$f":"IF(Database!$D39=\"\",\"\",Database!$D39)","v":""},null,null,null,null,null,{"$f":"IF($AA$7=\"ganjil\",IF(nilai!X45=\"\",\"\",nilai!X45),IF(nilai!BF45=\"\",\"\",nilai!BF45))","v":""},{"$f":"IF($AA$7=\"ganjil\",IF(nilai!Y45=\"\",\"\",nilai!Y45),IF(nilai!BG45=\"\",\"\",nilai!BG45))","v":""},{"$f":"IF($AA$7=\"ganjil\",IF(nilai!Z45=\"\",\"\",nilai!Z45),IF(nilai!BH45=\"\",\"\",nilai!BH45))","v":""},{"$f":"IF($AA$7=\"ganjil\",IF(nilai!AB45=\"\",\"\",nilai!AB45),IF(nilai!BJ45=\"\",\"\",nilai!BJ45))","v":""},{"$f":"IF($AA$7=\"ganjil\",IF(nilai!AC45=\"\",\"\",nilai!AC45),IF(nilai!BK45=\"\",\"\",nilai!BK45))","v":""},{"$f":"IF($AA$7=\"ganjil\",IF(nilai!AD45=\"\",\"\",nilai!AD45),IF(nilai!BL45=\"\",\"\",nilai!BL45))","v":""},{"$f":"IF($AA$7=\"ganjil\",IF(nilai!AA45=\"\",\"\",nilai!AA45),IF(nilai!BI45=\"\",\"\",nilai!BI45))","v":""},{"$f":"IF($AA$7=\"ganjil\",IF(nilai!AE45=\"\",\"\",nilai!AE45),IF(nilai!BM45=\"\",\"\",nilai!BM45))","v":""},{"$f":"IF($AA$7=\"ganjil\",IF(nilai!AF45=\"\",\"\",nilai!AF45),IF(nilai!BN45=\"\",\"\",nilai!BN45))","v":""},{"$f":"IF($AA$7=\"ganjil\",IF(nilai!AG45=\"\",\"\",nilai!AG45),IF(nilai!BO45=\"\",\"\",nilai!BO45))","v":""},{"$f":"IF($AA$7=\"ganjil\",IF(nilai!AH45=\"\",\"\",nilai!AH45),IF(nilai!BP45=\"\",\"\",nilai!BP45))","v":""},{"$f":"IF($AA$7=\"ganjil\",IF(nilai!AI45=\"\",\"\",nilai!AI45),IF(nilai!BQ45=\"\",\"\",nilai!BQ45))","v":""},{"$f":"IF($AA$7=\"ganjil\",IF(nilai!AJ45=\"\",\"\",nilai!AJ45),IF(nilai!BR45=\"\",\"\",nilai!BR45))","v":""},{"$f":"IF($AA$7=\"ganjil\",IF(nilai!AK45=\"\",\"\",nilai!AK45),IF(nilai!BS45=\"\",\"\",nilai!BS45))","v":""},{"$f":"IF($AA$7=\"ganjil\",IF(nilai!AL45=\"\",\"\",nilai!AL45),IF(nilai!BT45=\"\",\"\",nilai!BT45))","v":""},{"$f":"IF($AA$7=\"ganjil\",IF(nilai!AM45=\"\",\"\",nilai!AM45),IF(nilai!BU45=\"\",\"\",nilai!BU45))","v":""},"",null,"",null,"",null,null,0,"",{"$f":"IF(BO49=\"\",\"\",RANK(BO49,$BO$14:$BO$63,0)+COUNTIF($BO$13:BO48,BO49))","v":""}]
[null,null,{"$f":"IF(Database!$A40=\"\",\"\",Database!$A40)","v":""},{"$f":"IF(Database!$D40=\"\",\"\",Database!$D40)","v":""},null,null,null,null,null,{"$f":"IF($AA$7=\"ganjil\",IF(nilai!H46=\"\",\"\",nilai!H46),IF(nilai!AP46=\"\",\"\",nilai!AP46))","v":""},{"$f":"IF($AA$7=\"ganjil\",IF(nilai!I46=\"\",\"\",nilai!I46),IF(nilai!AQ46=\"\",\"\",nilai!AQ46))","v":""},{"$f":"IF($AA$7=\"ganjil\",IF(nilai!J46=\"\",\"\",nilai!J46),IF(nilai!AR46=\"\",\"\",nilai!AR46))","v":""},{"$f":"IF($AA$7=\"ganjil\",IF(nilai!L46=\"\",\"\",nilai!L46),IF(nilai!AT46=\"\",\"\",nilai!AT46))","v":""},{"$f":"IF($AA$7=\"ganjil\",IF(nilai!M46=\"\",\"\",nilai!M46),IF(nilai!AU46=\"\",\"\",nilai!AU46))","v":""},{"$f":"IF($AA$7=\"ganjil\",IF(nilai!N46=\"\",\"\",nilai!N46),IF(nilai!AV46=\"\",\"\",nilai!AV46))","v":""},{"$f":"IF($AA$7=\"ganjil\",IF(nilai!K46=\"\",\"\",nilai!K46),IF(nilai!AS46=\"\",\"\",nilai!AS46))","v":""},{"$f":"IF($AA$7=\"ganjil\",IF(nilai!O46=\"\",\"\",nilai!O46),IF(nilai!AW46=\"\",\"\",nilai!AW46))","v":""},{"$f":"IF($AA$7=\"ganjil\",IF(nilai!P46=\"\",\"\",nilai!P46),IF(nilai!AX46=\"\",\"\",nilai!AX46))","v":""},{"$f":"IF($AA$7=\"ganjil\",IF(nilai!Q46=\"\",\"\",nilai!Q46),IF(nilai!AY46=\"\",\"\",nilai!AY46))","v":""},{"$f":"IF($AA$7=\"ganjil\",IF(nilai!R46=\"\",\"\",nilai!R46),IF(nilai!AZ46=\"\",\"\",nilai!AZ46))","v":""},{"$f":"IF($AA$7=\"ganjil\",IF(nilai!S46=\"\",\"\",nilai!S46),IF(nilai!BA46=\"\",\"\",nilai!BA46))","v":""},{"$f":"IF($AA$7=\"ganjil\",IF(nilai!T46=\"\",\"\",nilai!T46),IF(nilai!BB46=\"\",\"\",nilai!BB46))","v":""},{"$f":"IF($AA$7=\"ganjil\",IF(nilai!U46=\"\",\"\",nilai!U46),IF(nilai!BC46=\"\",\"\",nilai!BC46))","v":""},{"$f":"IF($AA$7=\"ganjil\",IF(nilai!V46=\"\",\"\",nilai!V46),IF(nilai!BD46=\"\",\"\",nilai!BD46))","v":""},{"$f":"IF($AA$7=\"ganjil\",IF(nilai!W46=\"\",\"\",nilai!W46),IF(nilai!BE46=\"\",\"\",nilai!BE46))","v":""},"",null,"",null,"",null,null,0,"",{"$f":"IF(AH50=\"\",\"\",RANK(AH50,$AH$14:$AH$63,0)+COUNTIF($AH$13:AH49,AH50))","v":""},{"$f":"IF(Database!$A40=\"\",\"\",Database!$A40)","v":""},{"$f":"IF(Database!$D40=\"\",\"\",Database!$D40)","v":""},null,null,null,null,null,{"$f":"IF($AA$7=\"ganjil\",IF(nilai!X46=\"\",\"\",nilai!X46),IF(nilai!BF46=\"\",\"\",nilai!BF46))","v":""},{"$f":"IF($AA$7=\"ganjil\",IF(nilai!Y46=\"\",\"\",nilai!Y46),IF(nilai!BG46=\"\",\"\",nilai!BG46))","v":""},{"$f":"IF($AA$7=\"ganjil\",IF(nilai!Z46=\"\",\"\",nilai!Z46),IF(nilai!BH46=\"\",\"\",nilai!BH46))","v":""},{"$f":"IF($AA$7=\"ganjil\",IF(nilai!AB46=\"\",\"\",nilai!AB46),IF(nilai!BJ46=\"\",\"\",nilai!BJ46))","v":""},{"$f":"IF($AA$7=\"ganjil\",IF(nilai!AC46=\"\",\"\",nilai!AC46),IF(nilai!BK46=\"\",\"\",nilai!BK46))","v":""},{"$f":"IF($AA$7=\"ganjil\",IF(nilai!AD46=\"\",\"\",nilai!AD46),IF(nilai!BL46=\"\",\"\",nilai!BL46))","v":""},{"$f":"IF($AA$7=\"ganjil\",IF(nilai!AA46=\"\",\"\",nilai!AA46),IF(nilai!BI46=\"\",\"\",nilai!BI46))","v":""},{"$f":"IF($AA$7=\"ganjil\",IF(nilai!AE46=\"\",\"\",nilai!AE46),IF(nilai!BM46=\"\",\"\",nilai!BM46))","v":""},{"$f":"IF($AA$7=\"ganjil\",IF(nilai!AF46=\"\",\"\",nilai!AF46),IF(nilai!BN46=\"\",\"\",nilai!BN46))","v":""},{"$f":"IF($AA$7=\"ganjil\",IF(nilai!AG46=\"\",\"\",nilai!AG46),IF(nilai!BO46=\"\",\"\",nilai!BO46))","v":""},{"$f":"IF($AA$7=\"ganjil\",IF(nilai!AH46=\"\",\"\",nilai!AH46),IF(nilai!BP46=\"\",\"\",nilai!BP46))","v":""},{"$f":"IF($AA$7=\"ganjil\",IF(nilai!AI46=\"\",\"\",nilai!AI46),IF(nilai!BQ46=\"\",\"\",nilai!BQ46))","v":""},{"$f":"IF($AA$7=\"ganjil\",IF(nilai!AJ46=\"\",\"\",nilai!AJ46),IF(nilai!BR46=\"\",\"\",nilai!BR46))","v":""},{"$f":"IF($AA$7=\"ganjil\",IF(nilai!AK46=\"\",\"\",nilai!AK46),IF(nilai!BS46=\"\",\"\",nilai!BS46))","v":""},{"$f":"IF($AA$7=\"ganjil\",IF(nilai!AL46=\"\",\"\",nilai!AL46),IF(nilai!BT46=\"\",\"\",nilai!BT46))","v":""},{"$f":"IF($AA$7=\"ganjil\",IF(nilai!AM46=\"\",\"\",nilai!AM46),IF(nilai!BU46=\"\",\"\",nilai!BU46))","v":""},"",null,"",null,"",null,null,0,"",{"$f":"IF(BO50=\"\",\"\",RANK(BO50,$BO$14:$BO$63,0)+COUNTIF($BO$13:BO49,BO50))","v":""}]
[null,null,{"$f":"IF(Database!$A41=\"\",\"\",Database!$A41)","v":""},{"$f":"IF(Database!$D41=\"\",\"\",Database!$D41)","v":""},null,null,null,null,null,{"$f":"IF($AA$7=\"ganjil\",IF(nilai!H47=\"\",\"\",nilai!H47),IF(nilai!AP47=\"\",\"\",nilai!AP47))","v":""},{"$f":"IF($AA$7=\"ganjil\",IF(nilai!I47=\"\",\"\",nilai!I47),IF(nilai!AQ47=\"\",\"\",nilai!AQ47))","v":""},{"$f":"IF($AA$7=\"ganjil\",IF(nilai!J47=\"\",\"\",nilai!J47),IF(nilai!AR47=\"\",\"\",nilai!AR47))","v":""},{"$f":"IF($AA$7=\"ganjil\",IF(nilai!L47=\"\",\"\",nilai!L47),IF(nilai!AT47=\"\",\"\",nilai!AT47))","v":""},{"$f":"IF($AA$7=\"ganjil\",IF(nilai!M47=\"\",\"\",nilai!M47),IF(nilai!AU47=\"\",\"\",nilai!AU47))","v":""},{"$f":"IF($AA$7=\"ganjil\",IF(nilai!N47=\"\",\"\",nilai!N47),IF(nilai!AV47=\"\",\"\",nilai!AV47))","v":""},{"$f":"IF($AA$7=\"ganjil\",IF(nilai!K47=\"\",\"\",nilai!K47),IF(nilai!AS47=\"\",\"\",nilai!AS47))","v":""},{"$f":"IF($AA$7=\"ganjil\",IF(nilai!O47=\"\",\"\",nilai!O47),IF(nilai!AW47=\"\",\"\",nilai!AW47))","v":""},{"$f":"IF($AA$7=\"ganjil\",IF(nilai!P47=\"\",\"\",nilai!P47),IF(nilai!AX47=\"\",\"\",nilai!AX47))","v":""},{"$f":"IF($AA$7=\"ganjil\",IF(nilai!Q47=\"\",\"\",nilai!Q47),IF(nilai!AY47=\"\",\"\",nilai!AY47))","v":""},{"$f":"IF($AA$7=\"ganjil\",IF(nilai!R47=\"\",\"\",nilai!R47),IF(nilai!AZ47=\"\",\"\",nilai!AZ47))","v":""},{"$f":"IF($AA$7=\"ganjil\",IF(nilai!S47=\"\",\"\",nilai!S47),IF(nilai!BA47=\"\",\"\",nilai!BA47))","v":""},{"$f":"IF($AA$7=\"ganjil\",IF(nilai!T47=\"\",\"\",nilai!T47),IF(nilai!BB47=\"\",\"\",nilai!BB47))","v":""},{"$f":"IF($AA$7=\"ganjil\",IF(nilai!U47=\"\",\"\",nilai!U47),IF(nilai!BC47=\"\",\"\",nilai!BC47))","v":""},{"$f":"IF($AA$7=\"ganjil\",IF(nilai!V47=\"\",\"\",nilai!V47),IF(nilai!BD47=\"\",\"\",nilai!BD47))","v":""},{"$f":"IF($AA$7=\"ganjil\",IF(nilai!W47=\"\",\"\",nilai!W47),IF(nilai!BE47=\"\",\"\",nilai!BE47))","v":""},"",null,"",null,"",null,null,0,"",{"$f":"IF(AH51=\"\",\"\",RANK(AH51,$AH$14:$AH$63,0)+COUNTIF($AH$13:AH50,AH51))","v":""},{"$f":"IF(Database!$A41=\"\",\"\",Database!$A41)","v":""},{"$f":"IF(Database!$D41=\"\",\"\",Database!$D41)","v":""},null,null,null,null,null,{"$f":"IF($AA$7=\"ganjil\",IF(nilai!X47=\"\",\"\",nilai!X47),IF(nilai!BF47=\"\",\"\",nilai!BF47))","v":""},{"$f":"IF($AA$7=\"ganjil\",IF(nilai!Y47=\"\",\"\",nilai!Y47),IF(nilai!BG47=\"\",\"\",nilai!BG47))","v":""},{"$f":"IF($AA$7=\"ganjil\",IF(nilai!Z47=\"\",\"\",nilai!Z47),IF(nilai!BH47=\"\",\"\",nilai!BH47))","v":""},{"$f":"IF($AA$7=\"ganjil\",IF(nilai!AB47=\"\",\"\",nilai!AB47),IF(nilai!BJ47=\"\",\"\",nilai!BJ47))","v":""},{"$f":"IF($AA$7=\"ganjil\",IF(nilai!AC47=\"\",\"\",nilai!AC47),IF(nilai!BK47=\"\",\"\",nilai!BK47))","v":""},{"$f":"IF($AA$7=\"ganjil\",IF(nilai!AD47=\"\",\"\",nilai!AD47),IF(nilai!BL47=\"\",\"\",nilai!BL47))","v":""},{"$f":"IF($AA$7=\"ganjil\",IF(nilai!AA47=\"\",\"\",nilai!AA47),IF(nilai!BI47=\"\",\"\",nilai!BI47))","v":""},{"$f":"IF($AA$7=\"ganjil\",IF(nilai!AE47=\"\",\"\",nilai!AE47),IF(nilai!BM47=\"\",\"\",nilai!BM47))","v":""},{"$f":"IF($AA$7=\"ganjil\",IF(nilai!AF47=\"\",\"\",nilai!AF47),IF(nilai!BN47=\"\",\"\",nilai!BN47))","v":""},{"$f":"IF($AA$7=\"ganjil\",IF(nilai!AG47=\"\",\"\",nilai!AG47),IF(nilai!BO47=\"\",\"\",nilai!BO47))","v":""},{"$f":"IF($AA$7=\"ganjil\",IF(nilai!AH47=\"\",\"\",nilai!AH47),IF(nilai!BP47=\"\",\"\",nilai!BP47))","v":""},{"$f":"IF($AA$7=\"ganjil\",IF(nilai!AI47=\"\",\"\",nilai!AI47),IF(nilai!BQ47=\"\",\"\",nilai!BQ47))","v":""},{"$f":"IF($AA$7=\"ganjil\",IF(nilai!AJ47=\"\",\"\",nilai!AJ47),IF(nilai!BR47=\"\",\"\",nilai!BR47))","v":""},{"$f":"IF($AA$7=\"ganjil\",IF(nilai!AK47=\"\",\"\",nilai!AK47),IF(nilai!BS47=\"\",\"\",nilai!BS47))","v":""},{"$f":"IF($AA$7=\"ganjil\",IF(nilai!AL47=\"\",\"\",nilai!AL47),IF(nilai!BT47=\"\",\"\",nilai!BT47))","v":""},{"$f":"IF($AA$7=\"ganjil\",IF(nilai!AM47=\"\",\"\",nilai!AM47),IF(nilai!BU47=\"\",\"\",nilai!BU47))","v":""},"",null,"",null,"",null,null,0,"",{"$f":"IF(BO51=\"\",\"\",RANK(BO51,$BO$14:$BO$63,0)+COUNTIF($BO$13:BO50,BO51))","v":""}]
[null,null,{"$f":"IF(Database!$A42=\"\",\"\",Database!$A42)","v":""},{"$f":"IF(Database!$D42=\"\",\"\",Database!$D42)","v":""},null,null,null,null,null,{"$f":"IF($AA$7=\"ganjil\",IF(nilai!H48=\"\",\"\",nilai!H48),IF(nilai!AP48=\"\",\"\",nilai!AP48))","v":""},{"$f":"IF($AA$7=\"ganjil\",IF(nilai!I48=\"\",\"\",nilai!I48),IF(nilai!AQ48=\"\",\"\",nilai!AQ48))","v":""},{"$f":"IF($AA$7=\"ganjil\",IF(nilai!J48=\"\",\"\",nilai!J48),IF(nilai!AR48=\"\",\"\",nilai!AR48))","v":""},{"$f":"IF($AA$7=\"ganjil\",IF(nilai!L48=\"\",\"\",nilai!L48),IF(nilai!AT48=\"\",\"\",nilai!AT48))","v":""},{"$f":"IF($AA$7=\"ganjil\",IF(nilai!M48=\"\",\"\",nilai!M48),IF(nilai!AU48=\"\",\"\",nilai!AU48))","v":""},{"$f":"IF($AA$7=\"ganjil\",IF(nilai!N48=\"\",\"\",nilai!N48),IF(nilai!AV48=\"\",\"\",nilai!AV48))","v":""},{"$f":"IF($AA$7=\"ganjil\",IF(nilai!K48=\"\",\"\",nilai!K48),IF(nilai!AS48=\"\",\"\",nilai!AS48))","v":""},{"$f":"IF($AA$7=\"ganjil\",IF(nilai!O48=\"\",\"\",nilai!O48),IF(nilai!AW48=\"\",\"\",nilai!AW48))","v":""},{"$f":"IF($AA$7=\"ganjil\",IF(nilai!P48=\"\",\"\",nilai!P48),IF(nilai!AX48=\"\",\"\",nilai!AX48))","v":""},{"$f":"IF($AA$7=\"ganjil\",IF(nilai!Q48=\"\",\"\",nilai!Q48),IF(nilai!AY48=\"\",\"\",nilai!AY48))","v":""},{"$f":"IF($AA$7=\"ganjil\",IF(nilai!R48=\"\",\"\",nilai!R48),IF(nilai!AZ48=\"\",\"\",nilai!AZ48))","v":""},{"$f":"IF($AA$7=\"ganjil\",IF(nilai!S48=\"\",\"\",nilai!S48),IF(nilai!BA48=\"\",\"\",nilai!BA48))","v":""},{"$f":"IF($AA$7=\"ganjil\",IF(nilai!T48=\"\",\"\",nilai!T48),IF(nilai!BB48=\"\",\"\",nilai!BB48))","v":""},{"$f":"IF($AA$7=\"ganjil\",IF(nilai!U48=\"\",\"\",nilai!U48),IF(nilai!BC48=\"\",\"\",nilai!BC48))","v":""},{"$f":"IF($AA$7=\"ganjil\",IF(nilai!V48=\"\",\"\",nilai!V48),IF(nilai!BD48=\"\",\"\",nilai!BD48))","v":""},{"$f":"IF($AA$7=\"ganjil\",IF(nilai!W48=\"\",\"\",nilai!W48),IF(nilai!BE48=\"\",\"\",nilai!BE48))","v":""},"",null,"",null,"",null,null,0,"",{"$f":"IF(AH52=\"\",\"\",RANK(AH52,$AH$14:$AH$63,0)+COUNTIF($AH$13:AH51,AH52))","v":""},{"$f":"IF(Database!$A42=\"\",\"\",Database!$A42)","v":""},{"$f":"IF(Database!$D42=\"\",\"\",Database!$D42)","v":""},null,null,null,null,null,{"$f":"IF($AA$7=\"ganjil\",IF(nilai!X48=\"\",\"\",nilai!X48),IF(nilai!BF48=\"\",\"\",nilai!BF48))","v":""},{"$f":"IF($AA$7=\"ganjil\",IF(nilai!Y48=\"\",\"\",nilai!Y48),IF(nilai!BG48=\"\",\"\",nilai!BG48))","v":""},{"$f":"IF($AA$7=\"ganjil\",IF(nilai!Z48=\"\",\"\",nilai!Z48),IF(nilai!BH48=\"\",\"\",nilai!BH48))","v":""},{"$f":"IF($AA$7=\"ganjil\",IF(nilai!AB48=\"\",\"\",nilai!AB48),IF(nilai!BJ48=\"\",\"\",nilai!BJ48))","v":""},{"$f":"IF($AA$7=\"ganjil\",IF(nilai!AC48=\"\",\"\",nilai!AC48),IF(nilai!BK48=\"\",\"\",nilai!BK48))","v":""},{"$f":"IF($AA$7=\"ganjil\",IF(nilai!AD48=\"\",\"\",nilai!AD48),IF(nilai!BL48=\"\",\"\",nilai!BL48))","v":""},{"$f":"IF($AA$7=\"ganjil\",IF(nilai!AA48=\"\",\"\",nilai!AA48),IF(nilai!BI48=\"\",\"\",nilai!BI48))","v":""},{"$f":"IF($AA$7=\"ganjil\",IF(nilai!AE48=\"\",\"\",nilai!AE48),IF(nilai!BM48=\"\",\"\",nilai!BM48))","v":""},{"$f":"IF($AA$7=\"ganjil\",IF(nilai!AF48=\"\",\"\",nilai!AF48),IF(nilai!BN48=\"\",\"\",nilai!BN48))","v":""},{"$f":"IF($AA$7=\"ganjil\",IF(nilai!AG48=\"\",\"\",nilai!AG48),IF(nilai!BO48=\"\",\"\",nilai!BO48))","v":""},{"$f":"IF($AA$7=\"ganjil\",IF(nilai!AH48=\"\",\"\",nilai!AH48),IF(nilai!BP48=\"\",\"\",nilai!BP48))","v":""},{"$f":"IF($AA$7=\"ganjil\",IF(nilai!AI48=\"\",\"\",nilai!AI48),IF(nilai!BQ48=\"\",\"\",nilai!BQ48))","v":""},{"$f":"IF($AA$7=\"ganjil\",IF(nilai!AJ48=\"\",\"\",nilai!AJ48),IF(nilai!BR48=\"\",\"\",nilai!BR48))","v":""},{"$f":"IF($AA$7=\"ganjil\",IF(nilai!AK48=\"\",\"\",nilai!AK48),IF(nilai!BS48=\"\",\"\",nilai!BS48))","v":""},{"$f":"IF($AA$7=\"ganjil\",IF(nilai!AL48=\"\",\"\",nilai!AL48),IF(nilai!BT48=\"\",\"\",nilai!BT48))","v":""},{"$f":"IF($AA$7=\"ganjil\",IF(nilai!AM48=\"\",\"\",nilai!AM48),IF(nilai!BU48=\"\",\"\",nilai!BU48))","v":""},"",null,"",null,"",null,null,0,"",{"$f":"IF(BO52=\"\",\"\",RANK(BO52,$BO$14:$BO$63,0)+COUNTIF($BO$13:BO51,BO52))","v":""}]
[null,null,{"$f":"IF(Database!$A43=\"\",\"\",Database!$A43)","v":""},{"$f":"IF(Database!$D43=\"\",\"\",Database!$D43)","v":""},null,null,null,null,null,{"$f":"IF($AA$7=\"ganjil\",IF(nilai!H49=\"\",\"\",nilai!H49),IF(nilai!AP49=\"\",\"\",nilai!AP49))","v":""},{"$f":"IF($AA$7=\"ganjil\",IF(nilai!I49=\"\",\"\",nilai!I49),IF(nilai!AQ49=\"\",\"\",nilai!AQ49))","v":""},{"$f":"IF($AA$7=\"ganjil\",IF(nilai!J49=\"\",\"\",nilai!J49),IF(nilai!AR49=\"\",\"\",nilai!AR49))","v":""},{"$f":"IF($AA$7=\"ganjil\",IF(nilai!L49=\"\",\"\",nilai!L49),IF(nilai!AT49=\"\",\"\",nilai!AT49))","v":""},{"$f":"IF($AA$7=\"ganjil\",IF(nilai!M49=\"\",\"\",nilai!M49),IF(nilai!AU49=\"\",\"\",nilai!AU49))","v":""},{"$f":"IF($AA$7=\"ganjil\",IF(nilai!N49=\"\",\"\",nilai!N49),IF(nilai!AV49=\"\",\"\",nilai!AV49))","v":""},{"$f":"IF($AA$7=\"ganjil\",IF(nilai!K49=\"\",\"\",nilai!K49),IF(nilai!AS49=\"\",\"\",nilai!AS49))","v":""},{"$f":"IF($AA$7=\"ganjil\",IF(nilai!O49=\"\",\"\",nilai!O49),IF(nilai!AW49=\"\",\"\",nilai!AW49))","v":""},{"$f":"IF($AA$7=\"ganjil\",IF(nilai!P49=\"\",\"\",nilai!P49),IF(nilai!AX49=\"\",\"\",nilai!AX49))","v":""},{"$f":"IF($AA$7=\"ganjil\",IF(nilai!Q49=\"\",\"\",nilai!Q49),IF(nilai!AY49=\"\",\"\",nilai!AY49))","v":""},{"$f":"IF($AA$7=\"ganjil\",IF(nilai!R49=\"\",\"\",nilai!R49),IF(nilai!AZ49=\"\",\"\",nilai!AZ49))","v":""},{"$f":"IF($AA$7=\"ganjil\",IF(nilai!S49=\"\",\"\",nilai!S49),IF(nilai!BA49=\"\",\"\",nilai!BA49))","v":""},{"$f":"IF($AA$7=\"ganjil\",IF(nilai!T49=\"\",\"\",nilai!T49),IF(nilai!BB49=\"\",\"\",nilai!BB49))","v":""},{"$f":"IF($AA$7=\"ganjil\",IF(nilai!U49=\"\",\"\",nilai!U49),IF(nilai!BC49=\"\",\"\",nilai!BC49))","v":""},{"$f":"IF($AA$7=\"ganjil\",IF(nilai!V49=\"\",\"\",nilai!V49),IF(nilai!BD49=\"\",\"\",nilai!BD49))","v":""},{"$f":"IF($AA$7=\"ganjil\",IF(nilai!W49=\"\",\"\",nilai!W49),IF(nilai!BE49=\"\",\"\",nilai!BE49))","v":""},"",null,"",null,"",null,null,0,"",{"$f":"IF(AH53=\"\",\"\",RANK(AH53,$AH$14:$AH$63,0)+COUNTIF($AH$13:AH52,AH53))","v":""},{"$f":"IF(Database!$A43=\"\",\"\",Database!$A43)","v":""},{"$f":"IF(Database!$D43=\"\",\"\",Database!$D43)","v":""},null,null,null,null,null,{"$f":"IF($AA$7=\"ganjil\",IF(nilai!X49=\"\",\"\",nilai!X49),IF(nilai!BF49=\"\",\"\",nilai!BF49))","v":""},{"$f":"IF($AA$7=\"ganjil\",IF(nilai!Y49=\"\",\"\",nilai!Y49),IF(nilai!BG49=\"\",\"\",nilai!BG49))","v":""},{"$f":"IF($AA$7=\"ganjil\",IF(nilai!Z49=\"\",\"\",nilai!Z49),IF(nilai!BH49=\"\",\"\",nilai!BH49))","v":""},{"$f":"IF($AA$7=\"ganjil\",IF(nilai!AB49=\"\",\"\",nilai!AB49),IF(nilai!BJ49=\"\",\"\",nilai!BJ49))","v":""},{"$f":"IF($AA$7=\"ganjil\",IF(nilai!AC49=\"\",\"\",nilai!AC49),IF(nilai!BK49=\"\",\"\",nilai!BK49))","v":""},{"$f":"IF($AA$7=\"ganjil\",IF(nilai!AD49=\"\",\"\",nilai!AD49),IF(nilai!BL49=\"\",\"\",nilai!BL49))","v":""},{"$f":"IF($AA$7=\"ganjil\",IF(nilai!AA49=\"\",\"\",nilai!AA49),IF(nilai!BI49=\"\",\"\",nilai!BI49))","v":""},{"$f":"IF($AA$7=\"ganjil\",IF(nilai!AE49=\"\",\"\",nilai!AE49),IF(nilai!BM49=\"\",\"\",nilai!BM49))","v":""},{"$f":"IF($AA$7=\"ganjil\",IF(nilai!AF49=\"\",\"\",nilai!AF49),IF(nilai!BN49=\"\",\"\",nilai!BN49))","v":""},{"$f":"IF($AA$7=\"ganjil\",IF(nilai!AG49=\"\",\"\",nilai!AG49),IF(nilai!BO49=\"\",\"\",nilai!BO49))","v":""},{"$f":"IF($AA$7=\"ganjil\",IF(nilai!AH49=\"\",\"\",nilai!AH49),IF(nilai!BP49=\"\",\"\",nilai!BP49))","v":""},{"$f":"IF($AA$7=\"ganjil\",IF(nilai!AI49=\"\",\"\",nilai!AI49),IF(nilai!BQ49=\"\",\"\",nilai!BQ49))","v":""},{"$f":"IF($AA$7=\"ganjil\",IF(nilai!AJ49=\"\",\"\",nilai!AJ49),IF(nilai!BR49=\"\",\"\",nilai!BR49))","v":""},{"$f":"IF($AA$7=\"ganjil\",IF(nilai!AK49=\"\",\"\",nilai!AK49),IF(nilai!BS49=\"\",\"\",nilai!BS49))","v":""},{"$f":"IF($AA$7=\"ganjil\",IF(nilai!AL49=\"\",\"\",nilai!AL49),IF(nilai!BT49=\"\",\"\",nilai!BT49))","v":""},{"$f":"IF($AA$7=\"ganjil\",IF(nilai!AM49=\"\",\"\",nilai!AM49),IF(nilai!BU49=\"\",\"\",nilai!BU49))","v":""},"",null,"",null,"",null,null,0,"",{"$f":"IF(BO53=\"\",\"\",RANK(BO53,$BO$14:$BO$63,0)+COUNTIF($BO$13:BO52,BO53))","v":""}]
[null,null,{"$f":"IF(Database!$A44=\"\",\"\",Database!$A44)","v":""},{"$f":"IF(Database!$D44=\"\",\"\",Database!$D44)","v":""},null,null,null,null,null,{"$f":"IF($AA$7=\"ganjil\",IF(nilai!H50=\"\",\"\",nilai!H50),IF(nilai!AP50=\"\",\"\",nilai!AP50))","v":""},{"$f":"IF($AA$7=\"ganjil\",IF(nilai!I50=\"\",\"\",nilai!I50),IF(nilai!AQ50=\"\",\"\",nilai!AQ50))","v":""},{"$f":"IF($AA$7=\"ganjil\",IF(nilai!J50=\"\",\"\",nilai!J50),IF(nilai!AR50=\"\",\"\",nilai!AR50))","v":""},{"$f":"IF($AA$7=\"ganjil\",IF(nilai!L50=\"\",\"\",nilai!L50),IF(nilai!AT50=\"\",\"\",nilai!AT50))","v":""},{"$f":"IF($AA$7=\"ganjil\",IF(nilai!M50=\"\",\"\",nilai!M50),IF(nilai!AU50=\"\",\"\",nilai!AU50))","v":""},{"$f":"IF($AA$7=\"ganjil\",IF(nilai!N50=\"\",\"\",nilai!N50),IF(nilai!AV50=\"\",\"\",nilai!AV50))","v":""},{"$f":"IF($AA$7=\"ganjil\",IF(nilai!K50=\"\",\"\",nilai!K50),IF(nilai!AS50=\"\",\"\",nilai!AS50))","v":""},{"$f":"IF($AA$7=\"ganjil\",IF(nilai!O50=\"\",\"\",nilai!O50),IF(nilai!AW50=\"\",\"\",nilai!AW50))","v":""},{"$f":"IF($AA$7=\"ganjil\",IF(nilai!P50=\"\",\"\",nilai!P50),IF(nilai!AX50=\"\",\"\",nilai!AX50))","v":""},{"$f":"IF($AA$7=\"ganjil\",IF(nilai!Q50=\"\",\"\",nilai!Q50),IF(nilai!AY50=\"\",\"\",nilai!AY50))","v":""},{"$f":"IF($AA$7=\"ganjil\",IF(nilai!R50=\"\",\"\",nilai!R50),IF(nilai!AZ50=\"\",\"\",nilai!AZ50))","v":""},{"$f":"IF($AA$7=\"ganjil\",IF(nilai!S50=\"\",\"\",nilai!S50),IF(nilai!BA50=\"\",\"\",nilai!BA50))","v":""},{"$f":"IF($AA$7=\"ganjil\",IF(nilai!T50=\"\",\"\",nilai!T50),IF(nilai!BB50=\"\",\"\",nilai!BB50))","v":""},{"$f":"IF($AA$7=\"ganjil\",IF(nilai!U50=\"\",\"\",nilai!U50),IF(nilai!BC50=\"\",\"\",nilai!BC50))","v":""},{"$f":"IF($AA$7=\"ganjil\",IF(nilai!V50=\"\",\"\",nilai!V50),IF(nilai!BD50=\"\",\"\",nilai!BD50))","v":""},{"$f":"IF($AA$7=\"ganjil\",IF(nilai!W50=\"\",\"\",nilai!W50),IF(nilai!BE50=\"\",\"\",nilai!BE50))","v":""},"",null,"",null,"",null,null,0,"",{"$f":"IF(AH54=\"\",\"\",RANK(AH54,$AH$14:$AH$63,0)+COUNTIF($AH$13:AH53,AH54))","v":""},{"$f":"IF(Database!$A44=\"\",\"\",Database!$A44)","v":""},{"$f":"IF(Database!$D44=\"\",\"\",Database!$D44)","v":""},null,null,null,null,null,{"$f":"IF($AA$7=\"ganjil\",IF(nilai!X50=\"\",\"\",nilai!X50),IF(nilai!BF50=\"\",\"\",nilai!BF50))","v":""},{"$f":"IF($AA$7=\"ganjil\",IF(nilai!Y50=\"\",\"\",nilai!Y50),IF(nilai!BG50=\"\",\"\",nilai!BG50))","v":""},{"$f":"IF($AA$7=\"ganjil\",IF(nilai!Z50=\"\",\"\",nilai!Z50),IF(nilai!BH50=\"\",\"\",nilai!BH50))","v":""},{"$f":"IF($AA$7=\"ganjil\",IF(nilai!AB50=\"\",\"\",nilai!AB50),IF(nilai!BJ50=\"\",\"\",nilai!BJ50))","v":""},{"$f":"IF($AA$7=\"ganjil\",IF(nilai!AC50=\"\",\"\",nilai!AC50),IF(nilai!BK50=\"\",\"\",nilai!BK50))","v":""},{"$f":"IF($AA$7=\"ganjil\",IF(nilai!AD50=\"\",\"\",nilai!AD50),IF(nilai!BL50=\"\",\"\",nilai!BL50))","v":""},{"$f":"IF($AA$7=\"ganjil\",IF(nilai!AA50=\"\",\"\",nilai!AA50),IF(nilai!BI50=\"\",\"\",nilai!BI50))","v":""},{"$f":"IF($AA$7=\"ganjil\",IF(nilai!AE50=\"\",\"\",nilai!AE50),IF(nilai!BM50=\"\",\"\",nilai!BM50))","v":""},{"$f":"IF($AA$7=\"ganjil\",IF(nilai!AF50=\"\",\"\",nilai!AF50),IF(nilai!BN50=\"\",\"\",nilai!BN50))","v":""},{"$f":"IF($AA$7=\"ganjil\",IF(nilai!AG50=\"\",\"\",nilai!AG50),IF(nilai!BO50=\"\",\"\",nilai!BO50))","v":""},{"$f":"IF($AA$7=\"ganjil\",IF(nilai!AH50=\"\",\"\",nilai!AH50),IF(nilai!BP50=\"\",\"\",nilai!BP50))","v":""},{"$f":"IF($AA$7=\"ganjil\",IF(nilai!AI50=\"\",\"\",nilai!AI50),IF(nilai!BQ50=\"\",\"\",nilai!BQ50))","v":""},{"$f":"IF($AA$7=\"ganjil\",IF(nilai!AJ50=\"\",\"\",nilai!AJ50),IF(nilai!BR50=\"\",\"\",nilai!BR50))","v":""},{"$f":"IF($AA$7=\"ganjil\",IF(nilai!AK50=\"\",\"\",nilai!AK50),IF(nilai!BS50=\"\",\"\",nilai!BS50))","v":""},{"$f":"IF($AA$7=\"ganjil\",IF(nilai!AL50=\"\",\"\",nilai!AL50),IF(nilai!BT50=\"\",\"\",nilai!BT50))","v":""},{"$f":"IF($AA$7=\"ganjil\",IF(nilai!AM50=\"\",\"\",nilai!AM50),IF(nilai!BU50=\"\",\"\",nilai!BU50))","v":""},"",null,"",null,"",null,null,0,"",{"$f":"IF(BO54=\"\",\"\",RANK(BO54,$BO$14:$BO$63,0)+COUNTIF($BO$13:BO53,BO54))","v":""}]
[null,null,{"$f":"IF(Database!$A45=\"\",\"\",Database!$A45)","v":""},{"$f":"IF(Database!$D45=\"\",\"\",Database!$D45)","v":""},null,null,null,null,null,{"$f":"IF($AA$7=\"ganjil\",IF(nilai!H51=\"\",\"\",nilai!H51),IF(nilai!AP51=\"\",\"\",nilai!AP51))","v":""},{"$f":"IF($AA$7=\"ganjil\",IF(nilai!I51=\"\",\"\",nilai!I51),IF(nilai!AQ51=\"\",\"\",nilai!AQ51))","v":""},{"$f":"IF($AA$7=\"ganjil\",IF(nilai!J51=\"\",\"\",nilai!J51),IF(nilai!AR51=\"\",\"\",nilai!AR51))","v":""},{"$f":"IF($AA$7=\"ganjil\",IF(nilai!L51=\"\",\"\",nilai!L51),IF(nilai!AT51=\"\",\"\",nilai!AT51))","v":""},{"$f":"IF($AA$7=\"ganjil\",IF(nilai!M51=\"\",\"\",nilai!M51),IF(nilai!AU51=\"\",\"\",nilai!AU51))","v":""},{"$f":"IF($AA$7=\"ganjil\",IF(nilai!N51=\"\",\"\",nilai!N51),IF(nilai!AV51=\"\",\"\",nilai!AV51))","v":""},{"$f":"IF($AA$7=\"ganjil\",IF(nilai!K51=\"\",\"\",nilai!K51),IF(nilai!AS51=\"\",\"\",nilai!AS51))","v":""},{"$f":"IF($AA$7=\"ganjil\",IF(nilai!O51=\"\",\"\",nilai!O51),IF(nilai!AW51=\"\",\"\",nilai!AW51))","v":""},{"$f":"IF($AA$7=\"ganjil\",IF(nilai!P51=\"\",\"\",nilai!P51),IF(nilai!AX51=\"\",\"\",nilai!AX51))","v":""},{"$f":"IF($AA$7=\"ganjil\",IF(nilai!Q51=\"\",\"\",nilai!Q51),IF(nilai!AY51=\"\",\"\",nilai!AY51))","v":""},{"$f":"IF($AA$7=\"ganjil\",IF(nilai!R51=\"\",\"\",nilai!R51),IF(nilai!AZ51=\"\",\"\",nilai!AZ51))","v":""},{"$f":"IF($AA$7=\"ganjil\",IF(nilai!S51=\"\",\"\",nilai!S51),IF(nilai!BA51=\"\",\"\",nilai!BA51))","v":""},{"$f":"IF($AA$7=\"ganjil\",IF(nilai!T51=\"\",\"\",nilai!T51),IF(nilai!BB51=\"\",\"\",nilai!BB51))","v":""},{"$f":"IF($AA$7=\"ganjil\",IF(nilai!U51=\"\",\"\",nilai!U51),IF(nilai!BC51=\"\",\"\",nilai!BC51))","v":""},{"$f":"IF($AA$7=\"ganjil\",IF(nilai!V51=\"\",\"\",nilai!V51),IF(nilai!BD51=\"\",\"\",nilai!BD51))","v":""},{"$f":"IF($AA$7=\"ganjil\",IF(nilai!W51=\"\",\"\",nilai!W51),IF(nilai!BE51=\"\",\"\",nilai!BE51))","v":""},"",null,"",null,"",null,null,0,"",{"$f":"IF(AH55=\"\",\"\",RANK(AH55,$AH$14:$AH$63,0)+COUNTIF($AH$13:AH54,AH55))","v":""},{"$f":"IF(Database!$A45=\"\",\"\",Database!$A45)","v":""},{"$f":"IF(Database!$D45=\"\",\"\",Database!$D45)","v":""},null,null,null,null,null,{"$f":"IF($AA$7=\"ganjil\",IF(nilai!X51=\"\",\"\",nilai!X51),IF(nilai!BF51=\"\",\"\",nilai!BF51))","v":""},{"$f":"IF($AA$7=\"ganjil\",IF(nilai!Y51=\"\",\"\",nilai!Y51),IF(nilai!BG51=\"\",\"\",nilai!BG51))","v":""},{"$f":"IF($AA$7=\"ganjil\",IF(nilai!Z51=\"\",\"\",nilai!Z51),IF(nilai!BH51=\"\",\"\",nilai!BH51))","v":""},{"$f":"IF($AA$7=\"ganjil\",IF(nilai!AB51=\"\",\"\",nilai!AB51),IF(nilai!BJ51=\"\",\"\",nilai!BJ51))","v":""},{"$f":"IF($AA$7=\"ganjil\",IF(nilai!AC51=\"\",\"\",nilai!AC51),IF(nilai!BK51=\"\",\"\",nilai!BK51))","v":""},{"$f":"IF($AA$7=\"ganjil\",IF(nilai!AD51=\"\",\"\",nilai!AD51),IF(nilai!BL51=\"\",\"\",nilai!BL51))","v":""},{"$f":"IF($AA$7=\"ganjil\",IF(nilai!AA51=\"\",\"\",nilai!AA51),IF(nilai!BI51=\"\",\"\",nilai!BI51))","v":""},{"$f":"IF($AA$7=\"ganjil\",IF(nilai!AE51=\"\",\"\",nilai!AE51),IF(nilai!BM51=\"\",\"\",nilai!BM51))","v":""},{"$f":"IF($AA$7=\"ganjil\",IF(nilai!AF51=\"\",\"\",nilai!AF51),IF(nilai!BN51=\"\",\"\",nilai!BN51))","v":""},{"$f":"IF($AA$7=\"ganjil\",IF(nilai!AG51=\"\",\"\",nilai!AG51),IF(nilai!BO51=\"\",\"\",nilai!BO51))","v":""},{"$f":"IF($AA$7=\"ganjil\",IF(nilai!AH51=\"\",\"\",nilai!AH51),IF(nilai!BP51=\"\",\"\",nilai!BP51))","v":""},{"$f":"IF($AA$7=\"ganjil\",IF(nilai!AI51=\"\",\"\",nilai!AI51),IF(nilai!BQ51=\"\",\"\",nilai!BQ51))","v":""},{"$f":"IF($AA$7=\"ganjil\",IF(nilai!AJ51=\"\",\"\",nilai!AJ51),IF(nilai!BR51=\"\",\"\",nilai!BR51))","v":""},{"$f":"IF($AA$7=\"ganjil\",IF(nilai!AK51=\"\",\"\",nilai!AK51),IF(nilai!BS51=\"\",\"\",nilai!BS51))","v":""},{"$f":"IF($AA$7=\"ganjil\",IF(nilai!AL51=\"\",\"\",nilai!AL51),IF(nilai!BT51=\"\",\"\",nilai!BT51))","v":""},{"$f":"IF($AA$7=\"ganjil\",IF(nilai!AM51=\"\",\"\",nilai!AM51),IF(nilai!BU51=\"\",\"\",nilai!BU51))","v":""},"",null,"",null,"",null,null,0,"",{"$f":"IF(BO55=\"\",\"\",RANK(BO55,$BO$14:$BO$63,0)+COUNTIF($BO$13:BO54,BO55))","v":""}]
[null,null,{"$f":"IF(Database!$A46=\"\",\"\",Database!$A46)","v":""},{"$f":"IF(Database!$D46=\"\",\"\",Database!$D46)","v":""},null,null,null,null,null,{"$f":"IF($AA$7=\"ganjil\",IF(nilai!H52=\"\",\"\",nilai!H52),IF(nilai!AP52=\"\",\"\",nilai!AP52))","v":""},{"$f":"IF($AA$7=\"ganjil\",IF(nilai!I52=\"\",\"\",nilai!I52),IF(nilai!AQ52=\"\",\"\",nilai!AQ52))","v":""},{"$f":"IF($AA$7=\"ganjil\",IF(nilai!J52=\"\",\"\",nilai!J52),IF(nilai!AR52=\"\",\"\",nilai!AR52))","v":""},{"$f":"IF($AA$7=\"ganjil\",IF(nilai!L52=\"\",\"\",nilai!L52),IF(nilai!AT52=\"\",\"\",nilai!AT52))","v":""},{"$f":"IF($AA$7=\"ganjil\",IF(nilai!M52=\"\",\"\",nilai!M52),IF(nilai!AU52=\"\",\"\",nilai!AU52))","v":""},{"$f":"IF($AA$7=\"ganjil\",IF(nilai!N52=\"\",\"\",nilai!N52),IF(nilai!AV52=\"\",\"\",nilai!AV52))","v":""},{"$f":"IF($AA$7=\"ganjil\",IF(nilai!K52=\"\",\"\",nilai!K52),IF(nilai!AS52=\"\",\"\",nilai!AS52))","v":""},{"$f":"IF($AA$7=\"ganjil\",IF(nilai!O52=\"\",\"\",nilai!O52),IF(nilai!AW52=\"\",\"\",nilai!AW52))","v":""},{"$f":"IF($AA$7=\"ganjil\",IF(nilai!P52=\"\",\"\",nilai!P52),IF(nilai!AX52=\"\",\"\",nilai!AX52))","v":""},{"$f":"IF($AA$7=\"ganjil\",IF(nilai!Q52=\"\",\"\",nilai!Q52),IF(nilai!AY52=\"\",\"\",nilai!AY52))","v":""},{"$f":"IF($AA$7=\"ganjil\",IF(nilai!R52=\"\",\"\",nilai!R52),IF(nilai!AZ52=\"\",\"\",nilai!AZ52))","v":""},{"$f":"IF($AA$7=\"ganjil\",IF(nilai!S52=\"\",\"\",nilai!S52),IF(nilai!BA52=\"\",\"\",nilai!BA52))","v":""},{"$f":"IF($AA$7=\"ganjil\",IF(nilai!T52=\"\",\"\",nilai!T52),IF(nilai!BB52=\"\",\"\",nilai!BB52))","v":""},{"$f":"IF($AA$7=\"ganjil\",IF(nilai!U52=\"\",\"\",nilai!U52),IF(nilai!BC52=\"\",\"\",nilai!BC52))","v":""},{"$f":"IF($AA$7=\"ganjil\",IF(nilai!V52=\"\",\"\",nilai!V52),IF(nilai!BD52=\"\",\"\",nilai!BD52))","v":""},{"$f":"IF($AA$7=\"ganjil\",IF(nilai!W52=\"\",\"\",nilai!W52),IF(nilai!BE52=\"\",\"\",nilai!BE52))","v":""},"",null,"",null,"",null,null,0,"",{"$f":"IF(AH56=\"\",\"\",RANK(AH56,$AH$14:$AH$63,0)+COUNTIF($AH$13:AH55,AH56))","v":""},{"$f":"IF(Database!$A46=\"\",\"\",Database!$A46)","v":""},{"$f":"IF(Database!$D46=\"\",\"\",Database!$D46)","v":""},null,null,null,null,null,{"$f":"IF($AA$7=\"ganjil\",IF(nilai!X52=\"\",\"\",nilai!X52),IF(nilai!BF52=\"\",\"\",nilai!BF52))","v":""},{"$f":"IF($AA$7=\"ganjil\",IF(nilai!Y52=\"\",\"\",nilai!Y52),IF(nilai!BG52=\"\",\"\",nilai!BG52))","v":""},{"$f":"IF($AA$7=\"ganjil\",IF(nilai!Z52=\"\",\"\",nilai!Z52),IF(nilai!BH52=\"\",\"\",nilai!BH52))","v":""},{"$f":"IF($AA$7=\"ganjil\",IF(nilai!AB52=\"\",\"\",nilai!AB52),IF(nilai!BJ52=\"\",\"\",nilai!BJ52))","v":""},{"$f":"IF($AA$7=\"ganjil\",IF(nilai!AC52=\"\",\"\",nilai!AC52),IF(nilai!BK52=\"\",\"\",nilai!BK52))","v":""},{"$f":"IF($AA$7=\"ganjil\",IF(nilai!AD52=\"\",\"\",nilai!AD52),IF(nilai!BL52=\"\",\"\",nilai!BL52))","v":""},{"$f":"IF($AA$7=\"ganjil\",IF(nilai!AA52=\"\",\"\",nilai!AA52),IF(nilai!BI52=\"\",\"\",nilai!BI52))","v":""},{"$f":"IF($AA$7=\"ganjil\",IF(nilai!AE52=\"\",\"\",nilai!AE52),IF(nilai!BM52=\"\",\"\",nilai!BM52))","v":""},{"$f":"IF($AA$7=\"ganjil\",IF(nilai!AF52=\"\",\"\",nilai!AF52),IF(nilai!BN52=\"\",\"\",nilai!BN52))","v":""},{"$f":"IF($AA$7=\"ganjil\",IF(nilai!AG52=\"\",\"\",nilai!AG52),IF(nilai!BO52=\"\",\"\",nilai!BO52))","v":""},{"$f":"IF($AA$7=\"ganjil\",IF(nilai!AH52=\"\",\"\",nilai!AH52),IF(nilai!BP52=\"\",\"\",nilai!BP52))","v":""},{"$f":"IF($AA$7=\"ganjil\",IF(nilai!AI52=\"\",\"\",nilai!AI52),IF(nilai!BQ52=\"\",\"\",nilai!BQ52))","v":""},{"$f":"IF($AA$7=\"ganjil\",IF(nilai!AJ52=\"\",\"\",nilai!AJ52),IF(nilai!BR52=\"\",\"\",nilai!BR52))","v":""},{"$f":"IF($AA$7=\"ganjil\",IF(nilai!AK52=\"\",\"\",nilai!AK52),IF(nilai!BS52=\"\",\"\",nilai!BS52))","v":""},{"$f":"IF($AA$7=\"ganjil\",IF(nilai!AL52=\"\",\"\",nilai!AL52),IF(nilai!BT52=\"\",\"\",nilai!BT52))","v":""},{"$f":"IF($AA$7=\"ganjil\",IF(nilai!AM52=\"\",\"\",nilai!AM52),IF(nilai!BU52=\"\",\"\",nilai!BU52))","v":""},"",null,"",null,"",null,null,0,"",{"$f":"IF(BO56=\"\",\"\",RANK(BO56,$BO$14:$BO$63,0)+COUNTIF($BO$13:BO55,BO56))","v":""}]
[null,null,{"$f":"IF(Database!$A47=\"\",\"\",Database!$A47)","v":""},{"$f":"IF(Database!$D47=\"\",\"\",Database!$D47)","v":""},null,null,null,null,null,{"$f":"IF($AA$7=\"ganjil\",IF(nilai!H53=\"\",\"\",nilai!H53),IF(nilai!AP53=\"\",\"\",nilai!AP53))","v":""},{"$f":"IF($AA$7=\"ganjil\",IF(nilai!I53=\"\",\"\",nilai!I53),IF(nilai!AQ53=\"\",\"\",nilai!AQ53))","v":""},{"$f":"IF($AA$7=\"ganjil\",IF(nilai!J53=\"\",\"\",nilai!J53),IF(nilai!AR53=\"\",\"\",nilai!AR53))","v":""},{"$f":"IF($AA$7=\"ganjil\",IF(nilai!L53=\"\",\"\",nilai!L53),IF(nilai!AT53=\"\",\"\",nilai!AT53))","v":""},{"$f":"IF($AA$7=\"ganjil\",IF(nilai!M53=\"\",\"\",nilai!M53),IF(nilai!AU53=\"\",\"\",nilai!AU53))","v":""},{"$f":"IF($AA$7=\"ganjil\",IF(nilai!N53=\"\",\"\",nilai!N53),IF(nilai!AV53=\"\",\"\",nilai!AV53))","v":""},{"$f":"IF($AA$7=\"ganjil\",IF(nilai!K53=\"\",\"\",nilai!K53),IF(nilai!AS53=\"\",\"\",nilai!AS53))","v":""},{"$f":"IF($AA$7=\"ganjil\",IF(nilai!O53=\"\",\"\",nilai!O53),IF(nilai!AW53=\"\",\"\",nilai!AW53))","v":""},{"$f":"IF($AA$7=\"ganjil\",IF(nilai!P53=\"\",\"\",nilai!P53),IF(nilai!AX53=\"\",\"\",nilai!AX53))","v":""},{"$f":"IF($AA$7=\"ganjil\",IF(nilai!Q53=\"\",\"\",nilai!Q53),IF(nilai!AY53=\"\",\"\",nilai!AY53))","v":""},{"$f":"IF($AA$7=\"ganjil\",IF(nilai!R53=\"\",\"\",nilai!R53),IF(nilai!AZ53=\"\",\"\",nilai!AZ53))","v":""},{"$f":"IF($AA$7=\"ganjil\",IF(nilai!S53=\"\",\"\",nilai!S53),IF(nilai!BA53=\"\",\"\",nilai!BA53))","v":""},{"$f":"IF($AA$7=\"ganjil\",IF(nilai!T53=\"\",\"\",nilai!T53),IF(nilai!BB53=\"\",\"\",nilai!BB53))","v":""},{"$f":"IF($AA$7=\"ganjil\",IF(nilai!U53=\"\",\"\",nilai!U53),IF(nilai!BC53=\"\",\"\",nilai!BC53))","v":""},{"$f":"IF($AA$7=\"ganjil\",IF(nilai!V53=\"\",\"\",nilai!V53),IF(nilai!BD53=\"\",\"\",nilai!BD53))","v":""},{"$f":"IF($AA$7=\"ganjil\",IF(nilai!W53=\"\",\"\",nilai!W53),IF(nilai!BE53=\"\",\"\",nilai!BE53))","v":""},"",null,"",null,"",null,null,0,"",{"$f":"IF(AH57=\"\",\"\",RANK(AH57,$AH$14:$AH$63,0)+COUNTIF($AH$13:AH56,AH57))","v":""},{"$f":"IF(Database!$A47=\"\",\"\",Database!$A47)","v":""},{"$f":"IF(Database!$D47=\"\",\"\",Database!$D47)","v":""},null,null,null,null,null,{"$f":"IF($AA$7=\"ganjil\",IF(nilai!X53=\"\",\"\",nilai!X53),IF(nilai!BF53=\"\",\"\",nilai!BF53))","v":""},{"$f":"IF($AA$7=\"ganjil\",IF(nilai!Y53=\"\",\"\",nilai!Y53),IF(nilai!BG53=\"\",\"\",nilai!BG53))","v":""},{"$f":"IF($AA$7=\"ganjil\",IF(nilai!Z53=\"\",\"\",nilai!Z53),IF(nilai!BH53=\"\",\"\",nilai!BH53))","v":""},{"$f":"IF($AA$7=\"ganjil\",IF(nilai!AB53=\"\",\"\",nilai!AB53),IF(nilai!BJ53=\"\",\"\",nilai!BJ53))","v":""},{"$f":"IF($AA$7=\"ganjil\",IF(nilai!AC53=\"\",\"\",nilai!AC53),IF(nilai!BK53=\"\",\"\",nilai!BK53))","v":""},{"$f":"IF($AA$7=\"ganjil\",IF(nilai!AD53=\"\",\"\",nilai!AD53),IF(nilai!BL53=\"\",\"\",nilai!BL53))","v":""},{"$f":"IF($AA$7=\"ganjil\",IF(nilai!AA53=\"\",\"\",nilai!AA53),IF(nilai!BI53=\"\",\"\",nilai!BI53))","v":""},{"$f":"IF($AA$7=\"ganjil\",IF(nilai!AE53=\"\",\"\",nilai!AE53),IF(nilai!BM53=\"\",\"\",nilai!BM53))","v":""},{"$f":"IF($AA$7=\"ganjil\",IF(nilai!AF53=\"\",\"\",nilai!AF53),IF(nilai!BN53=\"\",\"\",nilai!BN53))","v":""},{"$f":"IF($AA$7=\"ganjil\",IF(nilai!AG53=\"\",\"\",nilai!AG53),IF(nilai!BO53=\"\",\"\",nilai!BO53))","v":""},{"$f":"IF($AA$7=\"ganjil\",IF(nilai!AH53=\"\",\"\",nilai!AH53),IF(nilai!BP53=\"\",\"\",nilai!BP53))","v":""},{"$f":"IF($AA$7=\"ganjil\",IF(nilai!AI53=\"\",\"\",nilai!AI53),IF(nilai!BQ53=\"\",\"\",nilai!BQ53))","v":""},{"$f":"IF($AA$7=\"ganjil\",IF(nilai!AJ53=\"\",\"\",nilai!AJ53),IF(nilai!BR53=\"\",\"\",nilai!BR53))","v":""},{"$f":"IF($AA$7=\"ganjil\",IF(nilai!AK53=\"\",\"\",nilai!AK53),IF(nilai!BS53=\"\",\"\",nilai!BS53))","v":""},{"$f":"IF($AA$7=\"ganjil\",IF(nilai!AL53=\"\",\"\",nilai!AL53),IF(nilai!BT53=\"\",\"\",nilai!BT53))","v":""},{"$f":"IF($AA$7=\"ganjil\",IF(nilai!AM53=\"\",\"\",nilai!AM53),IF(nilai!BU53=\"\",\"\",nilai!BU53))","v":""},"",null,"",null,"",null,null,0,"",{"$f":"IF(BO57=\"\",\"\",RANK(BO57,$BO$14:$BO$63,0)+COUNTIF($BO$13:BO56,BO57))","v":""}]
[null,null,{"$f":"IF(Database!$A48=\"\",\"\",Database!$A48)","v":""},{"$f":"IF(Database!$D48=\"\",\"\",Database!$D48)","v":""},null,null,null,null,null,{"$f":"IF($AA$7=\"ganjil\",IF(nilai!H54=\"\",\"\",nilai!H54),IF(nilai!AP54=\"\",\"\",nilai!AP54))","v":""},{"$f":"IF($AA$7=\"ganjil\",IF(nilai!I54=\"\",\"\",nilai!I54),IF(nilai!AQ54=\"\",\"\",nilai!AQ54))","v":""},{"$f":"IF($AA$7=\"ganjil\",IF(nilai!J54=\"\",\"\",nilai!J54),IF(nilai!AR54=\"\",\"\",nilai!AR54))","v":""},{"$f":"IF($AA$7=\"ganjil\",IF(nilai!L54=\"\",\"\",nilai!L54),IF(nilai!AT54=\"\",\"\",nilai!AT54))","v":""},{"$f":"IF($AA$7=\"ganjil\",IF(nilai!M54=\"\",\"\",nilai!M54),IF(nilai!AU54=\"\",\"\",nilai!AU54))","v":""},{"$f":"IF($AA$7=\"ganjil\",IF(nilai!N54=\"\",\"\",nilai!N54),IF(nilai!AV54=\"\",\"\",nilai!AV54))","v":""},{"$f":"IF($AA$7=\"ganjil\",IF(nilai!K54=\"\",\"\",nilai!K54),IF(nilai!AS54=\"\",\"\",nilai!AS54))","v":""},{"$f":"IF($AA$7=\"ganjil\",IF(nilai!O54=\"\",\"\",nilai!O54),IF(nilai!AW54=\"\",\"\",nilai!AW54))","v":""},{"$f":"IF($AA$7=\"ganjil\",IF(nilai!P54=\"\",\"\",nilai!P54),IF(nilai!AX54=\"\",\"\",nilai!AX54))","v":""},{"$f":"IF($AA$7=\"ganjil\",IF(nilai!Q54=\"\",\"\",nilai!Q54),IF(nilai!AY54=\"\",\"\",nilai!AY54))","v":""},{"$f":"IF($AA$7=\"ganjil\",IF(nilai!R54=\"\",\"\",nilai!R54),IF(nilai!AZ54=\"\",\"\",nilai!AZ54))","v":""},{"$f":"IF($AA$7=\"ganjil\",IF(nilai!S54=\"\",\"\",nilai!S54),IF(nilai!BA54=\"\",\"\",nilai!BA54))","v":""},{"$f":"IF($AA$7=\"ganjil\",IF(nilai!T54=\"\",\"\",nilai!T54),IF(nilai!BB54=\"\",\"\",nilai!BB54))","v":""},{"$f":"IF($AA$7=\"ganjil\",IF(nilai!U54=\"\",\"\",nilai!U54),IF(nilai!BC54=\"\",\"\",nilai!BC54))","v":""},{"$f":"IF($AA$7=\"ganjil\",IF(nilai!V54=\"\",\"\",nilai!V54),IF(nilai!BD54=\"\",\"\",nilai!BD54))","v":""},{"$f":"IF($AA$7=\"ganjil\",IF(nilai!W54=\"\",\"\",nilai!W54),IF(nilai!BE54=\"\",\"\",nilai!BE54))","v":""},"",null,"",null,"",null,null,0,"",{"$f":"IF(AH58=\"\",\"\",RANK(AH58,$AH$14:$AH$63,0)+COUNTIF($AH$13:AH57,AH58))","v":""},{"$f":"IF(Database!$A48=\"\",\"\",Database!$A48)","v":""},{"$f":"IF(Database!$D48=\"\",\"\",Database!$D48)","v":""},null,null,null,null,null,{"$f":"IF($AA$7=\"ganjil\",IF(nilai!X54=\"\",\"\",nilai!X54),IF(nilai!BF54=\"\",\"\",nilai!BF54))","v":""},{"$f":"IF($AA$7=\"ganjil\",IF(nilai!Y54=\"\",\"\",nilai!Y54),IF(nilai!BG54=\"\",\"\",nilai!BG54))","v":""},{"$f":"IF($AA$7=\"ganjil\",IF(nilai!Z54=\"\",\"\",nilai!Z54),IF(nilai!BH54=\"\",\"\",nilai!BH54))","v":""},{"$f":"IF($AA$7=\"ganjil\",IF(nilai!AB54=\"\",\"\",nilai!AB54),IF(nilai!BJ54=\"\",\"\",nilai!BJ54))","v":""},{"$f":"IF($AA$7=\"ganjil\",IF(nilai!AC54=\"\",\"\",nilai!AC54),IF(nilai!BK54=\"\",\"\",nilai!BK54))","v":""},{"$f":"IF($AA$7=\"ganjil\",IF(nilai!AD54=\"\",\"\",nilai!AD54),IF(nilai!BL54=\"\",\"\",nilai!BL54))","v":""},{"$f":"IF($AA$7=\"ganjil\",IF(nilai!AA54=\"\",\"\",nilai!AA54),IF(nilai!BI54=\"\",\"\",nilai!BI54))","v":""},{"$f":"IF($AA$7=\"ganjil\",IF(nilai!AE54=\"\",\"\",nilai!AE54),IF(nilai!BM54=\"\",\"\",nilai!BM54))","v":""},{"$f":"IF($AA$7=\"ganjil\",IF(nilai!AF54=\"\",\"\",nilai!AF54),IF(nilai!BN54=\"\",\"\",nilai!BN54))","v":""},{"$f":"IF($AA$7=\"ganjil\",IF(nilai!AG54=\"\",\"\",nilai!AG54),IF(nilai!BO54=\"\",\"\",nilai!BO54))","v":""},{"$f":"IF($AA$7=\"ganjil\",IF(nilai!AH54=\"\",\"\",nilai!AH54),IF(nilai!BP54=\"\",\"\",nilai!BP54))","v":""},{"$f":"IF($AA$7=\"ganjil\",IF(nilai!AI54=\"\",\"\",nilai!AI54),IF(nilai!BQ54=\"\",\"\",nilai!BQ54))","v":""},{"$f":"IF($AA$7=\"ganjil\",IF(nilai!AJ54=\"\",\"\",nilai!AJ54),IF(nilai!BR54=\"\",\"\",nilai!BR54))","v":""},{"$f":"IF($AA$7=\"ganjil\",IF(nilai!AK54=\"\",\"\",nilai!AK54),IF(nilai!BS54=\"\",\"\",nilai!BS54))","v":""},{"$f":"IF($AA$7=\"ganjil\",IF(nilai!AL54=\"\",\"\",nilai!AL54),IF(nilai!BT54=\"\",\"\",nilai!BT54))","v":""},{"$f":"IF($AA$7=\"ganjil\",IF(nilai!AM54=\"\",\"\",nilai!AM54),IF(nilai!BU54=\"\",\"\",nilai!BU54))","v":""},"",null,"",null,"",null,null,0,"",{"$f":"IF(BO58=\"\",\"\",RANK(BO58,$BO$14:$BO$63,0)+COUNTIF($BO$13:BO57,BO58))","v":""}]
[null,null,{"$f":"IF(Database!$A49=\"\",\"\",Database!$A49)","v":""},{"$f":"IF(Database!$D49=\"\",\"\",Database!$D49)","v":""},null,null,null,null,null,{"$f":"IF($AA$7=\"ganjil\",IF(nilai!H55=\"\",\"\",nilai!H55),IF(nilai!AP55=\"\",\"\",nilai!AP55))","v":""},{"$f":"IF($AA$7=\"ganjil\",IF(nilai!I55=\"\",\"\",nilai!I55),IF(nilai!AQ55=\"\",\"\",nilai!AQ55))","v":""},{"$f":"IF($AA$7=\"ganjil\",IF(nilai!J55=\"\",\"\",nilai!J55),IF(nilai!AR55=\"\",\"\",nilai!AR55))","v":""},{"$f":"IF($AA$7=\"ganjil\",IF(nilai!L55=\"\",\"\",nilai!L55),IF(nilai!AT55=\"\",\"\",nilai!AT55))","v":""},{"$f":"IF($AA$7=\"ganjil\",IF(nilai!M55=\"\",\"\",nilai!M55),IF(nilai!AU55=\"\",\"\",nilai!AU55))","v":""},{"$f":"IF($AA$7=\"ganjil\",IF(nilai!N55=\"\",\"\",nilai!N55),IF(nilai!AV55=\"\",\"\",nilai!AV55))","v":""},{"$f":"IF($AA$7=\"ganjil\",IF(nilai!K55=\"\",\"\",nilai!K55),IF(nilai!AS55=\"\",\"\",nilai!AS55))","v":""},{"$f":"IF($AA$7=\"ganjil\",IF(nilai!O55=\"\",\"\",nilai!O55),IF(nilai!AW55=\"\",\"\",nilai!AW55))","v":""},{"$f":"IF($AA$7=\"ganjil\",IF(nilai!P55=\"\",\"\",nilai!P55),IF(nilai!AX55=\"\",\"\",nilai!AX55))","v":""},{"$f":"IF($AA$7=\"ganjil\",IF(nilai!Q55=\"\",\"\",nilai!Q55),IF(nilai!AY55=\"\",\"\",nilai!AY55))","v":""},{"$f":"IF($AA$7=\"ganjil\",IF(nilai!R55=\"\",\"\",nilai!R55),IF(nilai!AZ55=\"\",\"\",nilai!AZ55))","v":""},{"$f":"IF($AA$7=\"ganjil\",IF(nilai!S55=\"\",\"\",nilai!S55),IF(nilai!BA55=\"\",\"\",nilai!BA55))","v":""},{"$f":"IF($AA$7=\"ganjil\",IF(nilai!T55=\"\",\"\",nilai!T55),IF(nilai!BB55=\"\",\"\",nilai!BB55))","v":""},{"$f":"IF($AA$7=\"ganjil\",IF(nilai!U55=\"\",\"\",nilai!U55),IF(nilai!BC55=\"\",\"\",nilai!BC55))","v":""},{"$f":"IF($AA$7=\"ganjil\",IF(nilai!V55=\"\",\"\",nilai!V55),IF(nilai!BD55=\"\",\"\",nilai!BD55))","v":""},{"$f":"IF($AA$7=\"ganjil\",IF(nilai!W55=\"\",\"\",nilai!W55),IF(nilai!BE55=\"\",\"\",nilai!BE55))","v":""},"",null,"",null,"",null,null,0,"",{"$f":"IF(AH59=\"\",\"\",RANK(AH59,$AH$14:$AH$63,0)+COUNTIF($AH$13:AH58,AH59))","v":""},{"$f":"IF(Database!$A49=\"\",\"\",Database!$A49)","v":""},{"$f":"IF(Database!$D49=\"\",\"\",Database!$D49)","v":""},null,null,null,null,null,{"$f":"IF($AA$7=\"ganjil\",IF(nilai!X55=\"\",\"\",nilai!X55),IF(nilai!BF55=\"\",\"\",nilai!BF55))","v":""},{"$f":"IF($AA$7=\"ganjil\",IF(nilai!Y55=\"\",\"\",nilai!Y55),IF(nilai!BG55=\"\",\"\",nilai!BG55))","v":""},{"$f":"IF($AA$7=\"ganjil\",IF(nilai!Z55=\"\",\"\",nilai!Z55),IF(nilai!BH55=\"\",\"\",nilai!BH55))","v":""},{"$f":"IF($AA$7=\"ganjil\",IF(nilai!AB55=\"\",\"\",nilai!AB55),IF(nilai!BJ55=\"\",\"\",nilai!BJ55))","v":""},{"$f":"IF($AA$7=\"ganjil\",IF(nilai!AC55=\"\",\"\",nilai!AC55),IF(nilai!BK55=\"\",\"\",nilai!BK55))","v":""},{"$f":"IF($AA$7=\"ganjil\",IF(nilai!AD55=\"\",\"\",nilai!AD55),IF(nilai!BL55=\"\",\"\",nilai!BL55))","v":""},{"$f":"IF($AA$7=\"ganjil\",IF(nilai!AA55=\"\",\"\",nilai!AA55),IF(nilai!BI55=\"\",\"\",nilai!BI55))","v":""},{"$f":"IF($AA$7=\"ganjil\",IF(nilai!AE55=\"\",\"\",nilai!AE55),IF(nilai!BM55=\"\",\"\",nilai!BM55))","v":""},{"$f":"IF($AA$7=\"ganjil\",IF(nilai!AF55=\"\",\"\",nilai!AF55),IF(nilai!BN55=\"\",\"\",nilai!BN55))","v":""},{"$f":"IF($AA$7=\"ganjil\",IF(nilai!AG55=\"\",\"\",nilai!AG55),IF(nilai!BO55=\"\",\"\",nilai!BO55))","v":""},{"$f":"IF($AA$7=\"ganjil\",IF(nilai!AH55=\"\",\"\",nilai!AH55),IF(nilai!BP55=\"\",\"\",nilai!BP55))","v":""},{"$f":"IF($AA$7=\"ganjil\",IF(nilai!AI55=\"\",\"\",nilai!AI55),IF(nilai!BQ55=\"\",\"\",nilai!BQ55))","v":""},{"$f":"IF($AA$7=\"ganjil\",IF(nilai!AJ55=\"\",\"\",nilai!AJ55),IF(nilai!BR55=\"\",\"\",nilai!BR55))","v":""},{"$f":"IF($AA$7=\"ganjil\",IF(nilai!AK55=\"\",\"\",nilai!AK55),IF(nilai!BS55=\"\",\"\",nilai!BS55))","v":""},{"$f":"IF($AA$7=\"ganjil\",IF(nilai!AL55=\"\",\"\",nilai!AL55),IF(nilai!BT55=\"\",\"\",nilai!BT55))","v":""},{"$f":"IF($AA$7=\"ganjil\",IF(nilai!AM55=\"\",\"\",nilai!AM55),IF(nilai!BU55=\"\",\"\",nilai!BU55))","v":""},"",null,"",null,"",null,null,0,"",{"$f":"IF(BO59=\"\",\"\",RANK(BO59,$BO$14:$BO$63,0)+COUNTIF($BO$13:BO58,BO59))","v":""}]
[null,null,{"$f":"IF(Database!$A50=\"\",\"\",Database!$A50)","v":""},{"$f":"IF(Database!$D50=\"\",\"\",Database!$D50)","v":""},null,null,null,null,null,{"$f":"IF($AA$7=\"ganjil\",IF(nilai!H56=\"\",\"\",nilai!H56),IF(nilai!AP56=\"\",\"\",nilai!AP56))","v":""},{"$f":"IF($AA$7=\"ganjil\",IF(nilai!I56=\"\",\"\",nilai!I56),IF(nilai!AQ56=\"\",\"\",nilai!AQ56))","v":""},{"$f":"IF($AA$7=\"ganjil\",IF(nilai!J56=\"\",\"\",nilai!J56),IF(nilai!AR56=\"\",\"\",nilai!AR56))","v":""},{"$f":"IF($AA$7=\"ganjil\",IF(nilai!L56=\"\",\"\",nilai!L56),IF(nilai!AT56=\"\",\"\",nilai!AT56))","v":""},{"$f":"IF($AA$7=\"ganjil\",IF(nilai!M56=\"\",\"\",nilai!M56),IF(nilai!AU56=\"\",\"\",nilai!AU56))","v":""},{"$f":"IF($AA$7=\"ganjil\",IF(nilai!N56=\"\",\"\",nilai!N56),IF(nilai!AV56=\"\",\"\",nilai!AV56))","v":""},{"$f":"IF($AA$7=\"ganjil\",IF(nilai!K56=\"\",\"\",nilai!K56),IF(nilai!AS56=\"\",\"\",nilai!AS56))","v":""},{"$f":"IF($AA$7=\"ganjil\",IF(nilai!O56=\"\",\"\",nilai!O56),IF(nilai!AW56=\"\",\"\",nilai!AW56))","v":""},{"$f":"IF($AA$7=\"ganjil\",IF(nilai!P56=\"\",\"\",nilai!P56),IF(nilai!AX56=\"\",\"\",nilai!AX56))","v":""},{"$f":"IF($AA$7=\"ganjil\",IF(nilai!Q56=\"\",\"\",nilai!Q56),IF(nilai!AY56=\"\",\"\",nilai!AY56))","v":""},{"$f":"IF($AA$7=\"ganjil\",IF(nilai!R56=\"\",\"\",nilai!R56),IF(nilai!AZ56=\"\",\"\",nilai!AZ56))","v":""},{"$f":"IF($AA$7=\"ganjil\",IF(nilai!S56=\"\",\"\",nilai!S56),IF(nilai!BA56=\"\",\"\",nilai!BA56))","v":""},{"$f":"IF($AA$7=\"ganjil\",IF(nilai!T56=\"\",\"\",nilai!T56),IF(nilai!BB56=\"\",\"\",nilai!BB56))","v":""},{"$f":"IF($AA$7=\"ganjil\",IF(nilai!U56=\"\",\"\",nilai!U56),IF(nilai!BC56=\"\",\"\",nilai!BC56))","v":""},{"$f":"IF($AA$7=\"ganjil\",IF(nilai!V56=\"\",\"\",nilai!V56),IF(nilai!BD56=\"\",\"\",nilai!BD56))","v":""},{"$f":"IF($AA$7=\"ganjil\",IF(nilai!W56=\"\",\"\",nilai!W56),IF(nilai!BE56=\"\",\"\",nilai!BE56))","v":""},"",null,"",null,"",null,null,0,"",{"$f":"IF(AH60=\"\",\"\",RANK(AH60,$AH$14:$AH$63,0)+COUNTIF($AH$13:AH59,AH60))","v":""},{"$f":"IF(Database!$A50=\"\",\"\",Database!$A50)","v":""},{"$f":"IF(Database!$D50=\"\",\"\",Database!$D50)","v":""},null,null,null,null,null,{"$f":"IF($AA$7=\"ganjil\",IF(nilai!X56=\"\",\"\",nilai!X56),IF(nilai!BF56=\"\",\"\",nilai!BF56))","v":""},{"$f":"IF($AA$7=\"ganjil\",IF(nilai!Y56=\"\",\"\",nilai!Y56),IF(nilai!BG56=\"\",\"\",nilai!BG56))","v":""},{"$f":"IF($AA$7=\"ganjil\",IF(nilai!Z56=\"\",\"\",nilai!Z56),IF(nilai!BH56=\"\",\"\",nilai!BH56))","v":""},{"$f":"IF($AA$7=\"ganjil\",IF(nilai!AB56=\"\",\"\",nilai!AB56),IF(nilai!BJ56=\"\",\"\",nilai!BJ56))","v":""},{"$f":"IF($AA$7=\"ganjil\",IF(nilai!AC56=\"\",\"\",nilai!AC56),IF(nilai!BK56=\"\",\"\",nilai!BK56))","v":""},{"$f":"IF($AA$7=\"ganjil\",IF(nilai!AD56=\"\",\"\",nilai!AD56),IF(nilai!BL56=\"\",\"\",nilai!BL56))","v":""},{"$f":"IF($AA$7=\"ganjil\",IF(nilai!AA56=\"\",\"\",nilai!AA56),IF(nilai!BI56=\"\",\"\",nilai!BI56))","v":""},{"$f":"IF($AA$7=\"ganjil\",IF(nilai!AE56=\"\",\"\",nilai!AE56),IF(nilai!BM56=\"\",\"\",nilai!BM56))","v":""},{"$f":"IF($AA$7=\"ganjil\",IF(nilai!AF56=\"\",\"\",nilai!AF56),IF(nilai!BN56=\"\",\"\",nilai!BN56))","v":""},{"$f":"IF($AA$7=\"ganjil\",IF(nilai!AG56=\"\",\"\",nilai!AG56),IF(nilai!BO56=\"\",\"\",nilai!BO56))","v":""},{"$f":"IF($AA$7=\"ganjil\",IF(nilai!AH56=\"\",\"\",nilai!AH56),IF(nilai!BP56=\"\",\"\",nilai!BP56))","v":""},{"$f":"IF($AA$7=\"ganjil\",IF(nilai!AI56=\"\",\"\",nilai!AI56),IF(nilai!BQ56=\"\",\"\",nilai!BQ56))","v":""},{"$f":"IF($AA$7=\"ganjil\",IF(nilai!AJ56=\"\",\"\",nilai!AJ56),IF(nilai!BR56=\"\",\"\",nilai!BR56))","v":""},{"$f":"IF($AA$7=\"ganjil\",IF(nilai!AK56=\"\",\"\",nilai!AK56),IF(nilai!BS56=\"\",\"\",nilai!BS56))","v":""},{"$f":"IF($AA$7=\"ganjil\",IF(nilai!AL56=\"\",\"\",nilai!AL56),IF(nilai!BT56=\"\",\"\",nilai!BT56))","v":""},{"$f":"IF($AA$7=\"ganjil\",IF(nilai!AM56=\"\",\"\",nilai!AM56),IF(nilai!BU56=\"\",\"\",nilai!BU56))","v":""},"",null,"",null,"",null,null,0,"",{"$f":"IF(BO60=\"\",\"\",RANK(BO60,$BO$14:$BO$63,0)+COUNTIF($BO$13:BO59,BO60))","v":""}]
[null,null,{"$f":"IF(Database!$A51=\"\",\"\",Database!$A51)","v":""},{"$f":"IF(Database!$D51=\"\",\"\",Database!$D51)","v":""},null,null,null,null,null,{"$f":"IF($AA$7=\"ganjil\",IF(nilai!H57=\"\",\"\",nilai!H57),IF(nilai!AP57=\"\",\"\",nilai!AP57))","v":""},{"$f":"IF($AA$7=\"ganjil\",IF(nilai!I57=\"\",\"\",nilai!I57),IF(nilai!AQ57=\"\",\"\",nilai!AQ57))","v":""},{"$f":"IF($AA$7=\"ganjil\",IF(nilai!J57=\"\",\"\",nilai!J57),IF(nilai!AR57=\"\",\"\",nilai!AR57))","v":""},{"$f":"IF($AA$7=\"ganjil\",IF(nilai!L57=\"\",\"\",nilai!L57),IF(nilai!AT57=\"\",\"\",nilai!AT57))","v":""},{"$f":"IF($AA$7=\"ganjil\",IF(nilai!M57=\"\",\"\",nilai!M57),IF(nilai!AU57=\"\",\"\",nilai!AU57))","v":""},{"$f":"IF($AA$7=\"ganjil\",IF(nilai!N57=\"\",\"\",nilai!N57),IF(nilai!AV57=\"\",\"\",nilai!AV57))","v":""},{"$f":"IF($AA$7=\"ganjil\",IF(nilai!K57=\"\",\"\",nilai!K57),IF(nilai!AS57=\"\",\"\",nilai!AS57))","v":""},{"$f":"IF($AA$7=\"ganjil\",IF(nilai!O57=\"\",\"\",nilai!O57),IF(nilai!AW57=\"\",\"\",nilai!AW57))","v":""},{"$f":"IF($AA$7=\"ganjil\",IF(nilai!P57=\"\",\"\",nilai!P57),IF(nilai!AX57=\"\",\"\",nilai!AX57))","v":""},{"$f":"IF($AA$7=\"ganjil\",IF(nilai!Q57=\"\",\"\",nilai!Q57),IF(nilai!AY57=\"\",\"\",nilai!AY57))","v":""},{"$f":"IF($AA$7=\"ganjil\",IF(nilai!R57=\"\",\"\",nilai!R57),IF(nilai!AZ57=\"\",\"\",nilai!AZ57))","v":""},{"$f":"IF($AA$7=\"ganjil\",IF(nilai!S57=\"\",\"\",nilai!S57),IF(nilai!BA57=\"\",\"\",nilai!BA57))","v":""},{"$f":"IF($AA$7=\"ganjil\",IF(nilai!T57=\"\",\"\",nilai!T57),IF(nilai!BB57=\"\",\"\",nilai!BB57))","v":""},{"$f":"IF($AA$7=\"ganjil\",IF(nilai!U57=\"\",\"\",nilai!U57),IF(nilai!BC57=\"\",\"\",nilai!BC57))","v":""},{"$f":"IF($AA$7=\"ganjil\",IF(nilai!V57=\"\",\"\",nilai!V57),IF(nilai!BD57=\"\",\"\",nilai!BD57))","v":""},{"$f":"IF($AA$7=\"ganjil\",IF(nilai!W57=\"\",\"\",nilai!W57),IF(nilai!BE57=\"\",\"\",nilai!BE57))","v":""},"",null,"",null,"",null,null,0,"",{"$f":"IF(AH61=\"\",\"\",RANK(AH61,$AH$14:$AH$63,0)+COUNTIF($AH$13:AH60,AH61))","v":""},{"$f":"IF(Database!$A51=\"\",\"\",Database!$A51)","v":""},{"$f":"IF(Database!$D51=\"\",\"\",Database!$D51)","v":""},null,null,null,null,null,{"$f":"IF($AA$7=\"ganjil\",IF(nilai!X57=\"\",\"\",nilai!X57),IF(nilai!BF57=\"\",\"\",nilai!BF57))","v":""},{"$f":"IF($AA$7=\"ganjil\",IF(nilai!Y57=\"\",\"\",nilai!Y57),IF(nilai!BG57=\"\",\"\",nilai!BG57))","v":""},{"$f":"IF($AA$7=\"ganjil\",IF(nilai!Z57=\"\",\"\",nilai!Z57),IF(nilai!BH57=\"\",\"\",nilai!BH57))","v":""},{"$f":"IF($AA$7=\"ganjil\",IF(nilai!AB57=\"\",\"\",nilai!AB57),IF(nilai!BJ57=\"\",\"\",nilai!BJ57))","v":""},{"$f":"IF($AA$7=\"ganjil\",IF(nilai!AC57=\"\",\"\",nilai!AC57),IF(nilai!BK57=\"\",\"\",nilai!BK57))","v":""},{"$f":"IF($AA$7=\"ganjil\",IF(nilai!AD57=\"\",\"\",nilai!AD57),IF(nilai!BL57=\"\",\"\",nilai!BL57))","v":""},{"$f":"IF($AA$7=\"ganjil\",IF(nilai!AA57=\"\",\"\",nilai!AA57),IF(nilai!BI57=\"\",\"\",nilai!BI57))","v":""},{"$f":"IF($AA$7=\"ganjil\",IF(nilai!AE57=\"\",\"\",nilai!AE57),IF(nilai!BM57=\"\",\"\",nilai!BM57))","v":""},{"$f":"IF($AA$7=\"ganjil\",IF(nilai!AF57=\"\",\"\",nilai!AF57),IF(nilai!BN57=\"\",\"\",nilai!BN57))","v":""},{"$f":"IF($AA$7=\"ganjil\",IF(nilai!AG57=\"\",\"\",nilai!AG57),IF(nilai!BO57=\"\",\"\",nilai!BO57))","v":""},{"$f":"IF($AA$7=\"ganjil\",IF(nilai!AH57=\"\",\"\",nilai!AH57),IF(nilai!BP57=\"\",\"\",nilai!BP57))","v":""},{"$f":"IF($AA$7=\"ganjil\",IF(nilai!AI57=\"\",\"\",nilai!AI57),IF(nilai!BQ57=\"\",\"\",nilai!BQ57))","v":""},{"$f":"IF($AA$7=\"ganjil\",IF(nilai!AJ57=\"\",\"\",nilai!AJ57),IF(nilai!BR57=\"\",\"\",nilai!BR57))","v":""},{"$f":"IF($AA$7=\"ganjil\",IF(nilai!AK57=\"\",\"\",nilai!AK57),IF(nilai!BS57=\"\",\"\",nilai!BS57))","v":""},{"$f":"IF($AA$7=\"ganjil\",IF(nilai!AL57=\"\",\"\",nilai!AL57),IF(nilai!BT57=\"\",\"\",nilai!BT57))","v":""},{"$f":"IF($AA$7=\"ganjil\",IF(nilai!AM57=\"\",\"\",nilai!AM57),IF(nilai!BU57=\"\",\"\",nilai!BU57))","v":""},"",null,"",null,"",null,null,0,"",{"$f":"IF(BO61=\"\",\"\",RANK(BO61,$BO$14:$BO$63,0)+COUNTIF($BO$13:BO60,BO61))","v":""}]
[null,null,{"$f":"IF(Database!$A52=\"\",\"\",Database!$A52)","v":""},{"$f":"IF(Database!$D52=\"\",\"\",Database!$D52)","v":""},null,null,null,null,null,{"$f":"IF($AA$7=\"ganjil\",IF(nilai!H58=\"\",\"\",nilai!H58),IF(nilai!AP58=\"\",\"\",nilai!AP58))","v":""},{"$f":"IF($AA$7=\"ganjil\",IF(nilai!I58=\"\",\"\",nilai!I58),IF(nilai!AQ58=\"\",\"\",nilai!AQ58))","v":""},{"$f":"IF($AA$7=\"ganjil\",IF(nilai!J58=\"\",\"\",nilai!J58),IF(nilai!AR58=\"\",\"\",nilai!AR58))","v":""},{"$f":"IF($AA$7=\"ganjil\",IF(nilai!L58=\"\",\"\",nilai!L58),IF(nilai!AT58=\"\",\"\",nilai!AT58))","v":""},{"$f":"IF($AA$7=\"ganjil\",IF(nilai!M58=\"\",\"\",nilai!M58),IF(nilai!AU58=\"\",\"\",nilai!AU58))","v":""},{"$f":"IF($AA$7=\"ganjil\",IF(nilai!N58=\"\",\"\",nilai!N58),IF(nilai!AV58=\"\",\"\",nilai!AV58))","v":""},{"$f":"IF($AA$7=\"ganjil\",IF(nilai!K58=\"\",\"\",nilai!K58),IF(nilai!AS58=\"\",\"\",nilai!AS58))","v":""},{"$f":"IF($AA$7=\"ganjil\",IF(nilai!O58=\"\",\"\",nilai!O58),IF(nilai!AW58=\"\",\"\",nilai!AW58))","v":""},{"$f":"IF($AA$7=\"ganjil\",IF(nilai!P58=\"\",\"\",nilai!P58),IF(nilai!AX58=\"\",\"\",nilai!AX58))","v":""},{"$f":"IF($AA$7=\"ganjil\",IF(nilai!Q58=\"\",\"\",nilai!Q58),IF(nilai!AY58=\"\",\"\",nilai!AY58))","v":""},{"$f":"IF($AA$7=\"ganjil\",IF(nilai!R58=\"\",\"\",nilai!R58),IF(nilai!AZ58=\"\",\"\",nilai!AZ58))","v":""},{"$f":"IF($AA$7=\"ganjil\",IF(nilai!S58=\"\",\"\",nilai!S58),IF(nilai!BA58=\"\",\"\",nilai!BA58))","v":""},{"$f":"IF($AA$7=\"ganjil\",IF(nilai!T58=\"\",\"\",nilai!T58),IF(nilai!BB58=\"\",\"\",nilai!BB58))","v":""},{"$f":"IF($AA$7=\"ganjil\",IF(nilai!U58=\"\",\"\",nilai!U58),IF(nilai!BC58=\"\",\"\",nilai!BC58))","v":""},{"$f":"IF($AA$7=\"ganjil\",IF(nilai!V58=\"\",\"\",nilai!V58),IF(nilai!BD58=\"\",\"\",nilai!BD58))","v":""},{"$f":"IF($AA$7=\"ganjil\",IF(nilai!W58=\"\",\"\",nilai!W58),IF(nilai!BE58=\"\",\"\",nilai!BE58))","v":""},"",null,"",null,"",null,null,0,"",{"$f":"IF(AH62=\"\",\"\",RANK(AH62,$AH$14:$AH$63,0)+COUNTIF($AH$13:AH61,AH62))","v":""},{"$f":"IF(Database!$A52=\"\",\"\",Database!$A52)","v":""},{"$f":"IF(Database!$D52=\"\",\"\",Database!$D52)","v":""},null,null,null,null,null,{"$f":"IF($AA$7=\"ganjil\",IF(nilai!X58=\"\",\"\",nilai!X58),IF(nilai!BF58=\"\",\"\",nilai!BF58))","v":""},{"$f":"IF($AA$7=\"ganjil\",IF(nilai!Y58=\"\",\"\",nilai!Y58),IF(nilai!BG58=\"\",\"\",nilai!BG58))","v":""},{"$f":"IF($AA$7=\"ganjil\",IF(nilai!Z58=\"\",\"\",nilai!Z58),IF(nilai!BH58=\"\",\"\",nilai!BH58))","v":""},{"$f":"IF($AA$7=\"ganjil\",IF(nilai!AB58=\"\",\"\",nilai!AB58),IF(nilai!BJ58=\"\",\"\",nilai!BJ58))","v":""},{"$f":"IF($AA$7=\"ganjil\",IF(nilai!AC58=\"\",\"\",nilai!AC58),IF(nilai!BK58=\"\",\"\",nilai!BK58))","v":""},{"$f":"IF($AA$7=\"ganjil\",IF(nilai!AD58=\"\",\"\",nilai!AD58),IF(nilai!BL58=\"\",\"\",nilai!BL58))","v":""},{"$f":"IF($AA$7=\"ganjil\",IF(nilai!AA58=\"\",\"\",nilai!AA58),IF(nilai!BI58=\"\",\"\",nilai!BI58))","v":""},{"$f":"IF($AA$7=\"ganjil\",IF(nilai!AE58=\"\",\"\",nilai!AE58),IF(nilai!BM58=\"\",\"\",nilai!BM58))","v":""},{"$f":"IF($AA$7=\"ganjil\",IF(nilai!AF58=\"\",\"\",nilai!AF58),IF(nilai!BN58=\"\",\"\",nilai!BN58))","v":""},{"$f":"IF($AA$7=\"ganjil\",IF(nilai!AG58=\"\",\"\",nilai!AG58),IF(nilai!BO58=\"\",\"\",nilai!BO58))","v":""},{"$f":"IF($AA$7=\"ganjil\",IF(nilai!AH58=\"\",\"\",nilai!AH58),IF(nilai!BP58=\"\",\"\",nilai!BP58))","v":""},{"$f":"IF($AA$7=\"ganjil\",IF(nilai!AI58=\"\",\"\",nilai!AI58),IF(nilai!BQ58=\"\",\"\",nilai!BQ58))","v":""},{"$f":"IF($AA$7=\"ganjil\",IF(nilai!AJ58=\"\",\"\",nilai!AJ58),IF(nilai!BR58=\"\",\"\",nilai!BR58))","v":""},{"$f":"IF($AA$7=\"ganjil\",IF(nilai!AK58=\"\",\"\",nilai!AK58),IF(nilai!BS58=\"\",\"\",nilai!BS58))","v":""},{"$f":"IF($AA$7=\"ganjil\",IF(nilai!AL58=\"\",\"\",nilai!AL58),IF(nilai!BT58=\"\",\"\",nilai!BT58))","v":""},{"$f":"IF($AA$7=\"ganjil\",IF(nilai!AM58=\"\",\"\",nilai!AM58),IF(nilai!BU58=\"\",\"\",nilai!BU58))","v":""},"",null,"",null,"",null,null,0,"",{"$f":"IF(BO62=\"\",\"\",RANK(BO62,$BO$14:$BO$63,0)+COUNTIF($BO$13:BO61,BO62))","v":""}]
[null,null,{"$f":"IF(Database!$A53=\"\",\"\",Database!$A53)","v":""},{"$f":"IF(Database!$D53=\"\",\"\",Database!$D53)","v":""},null,null,null,null,null,{"$f":"IF($AA$7=\"ganjil\",IF(nilai!H59=\"\",\"\",nilai!H59),IF(nilai!AP59=\"\",\"\",nilai!AP59))","v":""},{"$f":"IF($AA$7=\"ganjil\",IF(nilai!I59=\"\",\"\",nilai!I59),IF(nilai!AQ59=\"\",\"\",nilai!AQ59))","v":""},{"$f":"IF($AA$7=\"ganjil\",IF(nilai!J59=\"\",\"\",nilai!J59),IF(nilai!AR59=\"\",\"\",nilai!AR59))","v":""},{"$f":"IF($AA$7=\"ganjil\",IF(nilai!L59=\"\",\"\",nilai!L59),IF(nilai!AT59=\"\",\"\",nilai!AT59))","v":""},{"$f":"IF($AA$7=\"ganjil\",IF(nilai!M59=\"\",\"\",nilai!M59),IF(nilai!AU59=\"\",\"\",nilai!AU59))","v":""},{"$f":"IF($AA$7=\"ganjil\",IF(nilai!N59=\"\",\"\",nilai!N59),IF(nilai!AV59=\"\",\"\",nilai!AV59))","v":""},{"$f":"IF($AA$7=\"ganjil\",IF(nilai!K59=\"\",\"\",nilai!K59),IF(nilai!AS59=\"\",\"\",nilai!AS59))","v":""},{"$f":"IF($AA$7=\"ganjil\",IF(nilai!O59=\"\",\"\",nilai!O59),IF(nilai!AW59=\"\",\"\",nilai!AW59))","v":""},{"$f":"IF($AA$7=\"ganjil\",IF(nilai!P59=\"\",\"\",nilai!P59),IF(nilai!AX59=\"\",\"\",nilai!AX59))","v":""},{"$f":"IF($AA$7=\"ganjil\",IF(nilai!Q59=\"\",\"\",nilai!Q59),IF(nilai!AY59=\"\",\"\",nilai!AY59))","v":""},{"$f":"IF($AA$7=\"ganjil\",IF(nilai!R59=\"\",\"\",nilai!R59),IF(nilai!AZ59=\"\",\"\",nilai!AZ59))","v":""},{"$f":"IF($AA$7=\"ganjil\",IF(nilai!S59=\"\",\"\",nilai!S59),IF(nilai!BA59=\"\",\"\",nilai!BA59))","v":""},{"$f":"IF($AA$7=\"ganjil\",IF(nilai!T59=\"\",\"\",nilai!T59),IF(nilai!BB59=\"\",\"\",nilai!BB59))","v":""},{"$f":"IF($AA$7=\"ganjil\",IF(nilai!U59=\"\",\"\",nilai!U59),IF(nilai!BC59=\"\",\"\",nilai!BC59))","v":""},{"$f":"IF($AA$7=\"ganjil\",IF(nilai!V59=\"\",\"\",nilai!V59),IF(nilai!BD59=\"\",\"\",nilai!BD59))","v":""},{"$f":"IF($AA$7=\"ganjil\",IF(nilai!W59=\"\",\"\",nilai!W59),IF(nilai!BE59=\"\",\"\",nilai!BE59))","v":""},"",null,"",null,"",null,null,0,"",{"$f":"IF(AH63=\"\",\"\",RANK(AH63,$AH$14:$AH$63,0)+COUNTIF($AH$13:AH62,AH63))","v":""},{"$f":"IF(Database!$A53=\"\",\"\",Database!$A53)","v":""},{"$f":"IF(Database!$D53=\"\",\"\",Database!$D53)","v":""},null,null,null,null,null,{"$f":"IF($AA$7=\"ganjil\",IF(nilai!X59=\"\",\"\",nilai!X59),IF(nilai!BF59=\"\",\"\",nilai!BF59))","v":""},{"$f":"IF($AA$7=\"ganjil\",IF(nilai!Y59=\"\",\"\",nilai!Y59),IF(nilai!BG59=\"\",\"\",nilai!BG59))","v":""},{"$f":"IF($AA$7=\"ganjil\",IF(nilai!Z59=\"\",\"\",nilai!Z59),IF(nilai!BH59=\"\",\"\",nilai!BH59))","v":""},{"$f":"IF($AA$7=\"ganjil\",IF(nilai!AB59=\"\",\"\",nilai!AB59),IF(nilai!BJ59=\"\",\"\",nilai!BJ59))","v":""},{"$f":"IF($AA$7=\"ganjil\",IF(nilai!AC59=\"\",\"\",nilai!AC59),IF(nilai!BK59=\"\",\"\",nilai!BK59))","v":""},{"$f":"IF($AA$7=\"ganjil\",IF(nilai!AD59=\"\",\"\",nilai!AD59),IF(nilai!BL59=\"\",\"\",nilai!BL59))","v":""},{"$f":"IF($AA$7=\"ganjil\",IF(nilai!AA59=\"\",\"\",nilai!AA59),IF(nilai!BI59=\"\",\"\",nilai!BI59))","v":""},{"$f":"IF($AA$7=\"ganjil\",IF(nilai!AE59=\"\",\"\",nilai!AE59),IF(nilai!BM59=\"\",\"\",nilai!BM59))","v":""},{"$f":"IF($AA$7=\"ganjil\",IF(nilai!AF59=\"\",\"\",nilai!AF59),IF(nilai!BN59=\"\",\"\",nilai!BN59))","v":""},{"$f":"IF($AA$7=\"ganjil\",IF(nilai!AG59=\"\",\"\",nilai!AG59),IF(nilai!BO59=\"\",\"\",nilai!BO59))","v":""},{"$f":"IF($AA$7=\"ganjil\",IF(nilai!AH59=\"\",\"\",nilai!AH59),IF(nilai!BP59=\"\",\"\",nilai!BP59))","v":""},{"$f":"IF($AA$7=\"ganjil\",IF(nilai!AI59=\"\",\"\",nilai!AI59),IF(nilai!BQ59=\"\",\"\",nilai!BQ59))","v":""},{"$f":"IF($AA$7=\"ganjil\",IF(nilai!AJ59=\"\",\"\",nilai!AJ59),IF(nilai!BR59=\"\",\"\",nilai!BR59))","v":""},{"$f":"IF($AA$7=\"ganjil\",IF(nilai!AK59=\"\",\"\",nilai!AK59),IF(nilai!BS59=\"\",\"\",nilai!BS59))","v":""},{"$f":"IF($AA$7=\"ganjil\",IF(nilai!AL59=\"\",\"\",nilai!AL59),IF(nilai!BT59=\"\",\"\",nilai!BT59))","v":""},{"$f":"IF($AA$7=\"ganjil\",IF(nilai!AM59=\"\",\"\",nilai!AM59),IF(nilai!BU59=\"\",\"\",nilai!BU59))","v":""},"",null,"",null,"",null,null,0,"",{"$f":"IF(BO63=\"\",\"\",RANK(BO63,$BO$14:$BO$63,0)+COUNTIF($BO$13:BO62,BO63))","v":""}]
[null,null,"Nilai Terendah",null,null,null,null,null,null,{"$f":"MIN(J14:J63)","v":67},{"$f":"MIN(K14:K63)","v":65},74,45,45,67,67,45,45,45,45,68,45,45,{"$f":"IF(kur!$D$22=\"\",\"\",MIN(X14:X63))","v":""},{"$f":"IF(kur!$D$23=\"\",\"\",MIN(Y14:Y63))","v":""},null,null,null,null,null,null,null,null,null,null,"Nilai Terendah",null,null,null,null,null,null,{"$f":"MIN(AQ14:AQ63)","v":68},{"$f":"MIN(AR14:AR63)","v":66},75,{"$f":"MIN(AT14:AT63)","v":46},50,69,72,50,47,47,46,69,46,48,{"$f":"IF(kur!$D$22=\"\",\"\",MIN(BE14:BE63))","v":""},{"$f":"IF(kur!$D$23=\"\",\"\",MIN(BF14:BF63))","v":""}]
[null,null,"Nilai Tertinggi",null,null,null,null,null,null,{"$f":"MAX(J14:J63)","v":90},{"$f":"MAX(K14:K63)","v":89},87,78,76,78,78,95,78,78,76,78,89,98,{"$f":"IF(kur!$D$22=\"\",\"\",MAX(X14:X63))","v":""},{"$f":"IF(kur!$D$23=\"\",\"\",MAX(Y14:Y63))","v":""},null,null,null,null,null,null,null,null,null,null,"Nilai Tertinggi",null,null,null,null,null,null,{"$f":"MAX(AQ14:AQ63)","v":91},{"$f":"MAX(AR14:AR63)","v":92},90,{"$f":"MAX(AT14:AT63)","v":79},78,81,80,97,80,81,79,83,91,103,{"$f":"IF(kur!$D$22=\"\",\"\",MAX(BE14:BE63))","v":""},{"$f":"IF(kur!$D$23=\"\",\"\",MAX(BF14:BF63))","v":""}]
[null,null,"jumlah",null,null,null,null,null,null,{"$f":"SUM(J14:J63)","v":443},{"$f":"SUM(K14:K63)","v":449},463,387,403,449,442,411,324,409,401,450,400,412,{"$f":"IF(kur!$D$22=\"\",\"\",SUM(X14:X63))","v":""},{"$f":"IF(kur!$D$23=\"\",\"\",SUM(Y14:Y63))","v":""},null,null,null,null,null,null,null,null,null,null,"jumlah",null,null,null,null,null,null,{"$f":"SUM(AQ14:AQ63)","v":452},{"$f":"SUM(AR14:AR63)","v":465},474,{"$f":"SUM(AT14:AT63)","v":396},419,460,459,428,333,425,412,467,409,428,{"$f":"IF(kur!$D$22=\"\",\"\",SUM(BE14:BE63))","v":""},{"$f":"IF(kur!$D$23=\"\",\"\",SUM(BF14:BF63))","v":""}]
[null,null,"Rata - rata",null,null,null,null,null,null,{"$f":"IFERROR(AVERAGE(J14:J63),\"\")","v":73.833333333333329},74.833333333333329,77.166666666666671,64.5,67.166666666666671,74.833333333333329,73.666666666666671,68.5,64.8,68.166666666666671,66.833333333333329,75,66.666666666666671,68.666666666666671,{"$f":"IF(kur!$D$22=\"\",\"\",AVERAGE(X14:X63))","v":""},{"$f":"IF(kur!$D$23=\"\",\"\",AVERAGE(Y14:Y63))","v":""},null,null,null,null,null,null,null,null,null,null,"Rata - rata",null,null,null,null,null,null,{"$f":"IFERROR(AVERAGE(AQ14:AQ63),\"\")","v":75.333333333333329},77.5,79,66,69.833333333333329,76.666666666666671,76.5,71.333333333333329,66.599999999999994,70.833333333333329,68.666666666666671,77.833333333333329,68.166666666666671,71.333333333333329,{"$f":"IF(kur!$D$22=\"\",\"\",AVERAGE(BE14:BE63))","v":""},{"$f":"IF(kur!$D$23=\"\",\"\",AVERAGE(BF14:BF63))","v":""}]
[]
[null,null,null,null,null,null,null,"Mengetahui",null,null,null,null,null,null,null,null,null,null,null,null,null,null,{"$f":"IF($AA$7=\"GANJIL\",sekolah!$E$28,sekolah!$E$29)","v":"Sampang, 17 maret 2019"},null,null,null,null,null,null,null,null,null,null,null,null,null,null,null,null,null,"Mengetahui",null,null,null,null,null,null,null,null,null,null,null,null,null,null,{"$f":"IF($AA$7=\"GANJIL\",sekolah!$E$28,sekolah!$E$29)","v":"Sampang, 17 maret 2019"}]
[null,null,null,null,null,null,null,{"$f":"\"Kepala \"&sekolah!$E$5","v":"Kepala MTs Nurul Hidayah"},null,null,null,null,null,null,null,null,null,null,null,null,null,null,{"$f":"IF($A$1<7,\"Guru Kelas \"&$A$5,\"Wali Kelas \"&$A$5)","v":"Wali Kelas 9  C"},null,null,null,null,null,null,null,null,null,null,null,null,null,null,null,null,null,{"$f":"\"Kepala \"&sekolah!$E$5","v":"Kepala MTs Nurul Hidayah"},null,null,null,null,null,null,null,null,null,null,null,null,null,null,{"$f":"IF($A$1<7,\"Guru Kelas \"&$A$5,\"Wali Kelas \"&$A$5)","v":"Wali Kelas 9  C"}]
[]
[]
[]
[null,null,null,null,null,null,null,{"$f":"sekolah!$E$18","v":"Syafaruddin,M.MPd"},null,null,null,null,null,null,null,null,null,null,null,null,null,null,{"$f":"sekolah!$E$23","v":"Rusli,MPd"},null,null,null,null,null,null,null,null,null,null,null,null,null,null,null,null,null,{"$f":"sekolah!$E$18","v":"Syafaruddin,M.MPd"},null,null,null,null,null,null,null,null,null,null,null,null,null,null,{"$f":"sekolah!$E$23","v":"Rusli,MPd"}]
[null,null,null,null,null,null,null,{"$f":"\"NIP. \"&sekolah!$E$19","v":"NIP. 198112102005011004"},null,null,null,null,null,null,null,null,null,null,null,null,null,null,{"$f":"\"NIP. \"&sekolah!$E$24","v":"NIP. "},null,null,null,null,null,null,null,null,null,null,null,null,null,null,null,null,null,{"$f":"\"NIP. \"&sekolah!$E$19","v":"NIP. 198112102005011004"},null,null,null,null,null,null,null,null,null,null,null,null,null,null,{"$f":"\"NIP. \"&sekolah!$E$24","v":"NIP. "}]

{"sheet":"nilai","index":12,"n_rows":121,"n_cols":73,"rows_kept":121,"cut":false,"hidden":true,"merged":[[6,39,8,39],[6,40,7,40],[6,41,6,56],[6,57,6,72],[2,39,2,56],[2,57,2,72],[6,7,6,22],[6,6,7,6],[6,5,8,5],[2,5,2,22],[2,23,2,38],[6,23,6,38]]}
[]
[{"$f":"kur!$I$1","v":"MULTI KKM"}]
[null,null,null,null,null,"DAFTAR  NILAI  PENGETAHUAN / KI - 3",null,null,null,null,null,null,null,null,null,null,null,null,null,null,null,null,null,"DAFTAR NILAI KETRAMPILAN / KI - 4",null,null,null,null,null,null,null,null,null,null,null,null,null,null,null,"DAFTAR  NILAI  PENGETAHUAN / KI - 3",null,null,null,null,null,null,null,null,null,null,null,null,null,null,null,null,null,"DAFTAR NILAI KETRAMPILAN / KI - 4"]
[null,null,null,null,null,null,"Nama Madrasah",{"$f":"\": \"&sekolah!$E$5","v":": MTs Nurul Hidayah"},null,null,null,null,null,null,null,null,null,null,"Semester",null,null,": Ganjil",null,"Nama Madrasah",null,{"$f":"\": \"&sekolah!$E$5","v":": MTs Nurul Hidayah"},null,null,null,null,null,null,null,null,null,"Semester",null,": Ganjil",null,null,"Nama Madrasah",{"$f":"\": \"&sekolah!$E$5","v":": MTs Nurul Hidayah"},null,null,null,null,null,null,null,null,null,null,"Semester",null,null,": Genap",null,"Nama Madrasah",null,{"$f":"\": \"&sekolah!$E$5","v":": MTs Nurul Hidayah"},null,null,null,null,null,null,null,null,"Semester",null,null,": Genap"]
[null,null,null,null,null,null,"Kelas",{"$f":"\": \"&sekolah!$E$20&\" ( \"&data!$J$4&\" )\"","v":": 9 ( Sembilan )"},null,null,null,null,null,null,null,null,null,null,"Tahun Pelajaran",null,null,{"$f":"\": \"&sekolah!$E$22","v":": 2017 / 2018"},null,"Kelas",null,{"$f":"\": \"&sekolah!$E$20&\" ( \"&data!$J$4&\" )\"","v":": 9 ( Sembilan )"},null,null,null,null,null,null,null,null,null,"Tahun Pelajaran",null,{"$f":"\": \"&sekolah!$E$22","v":": 2017 / 2018"},null,null,"Kelas",{"$f":"\": \"&sekolah!$E$20&\" ( \"&data!$J$4&\" )\"","v":": 9 ( Sembilan )"},null,null,null,null,null,null,null,null,null,null,"Tahun Pelajaran",null,null,{"$f":"\": \"&sekolah!$E$22","v":": 2017 / 2018"},null,"Kelas",null,{"$f":"\": \"&sekolah!$E$20&\" ( \"&data!$J$4&\" )\"","v":": 9 ( Sembilan )"},null,null,null,null,null,null,null,null,"Tahun Pelajaran",null,null,{"$f":"\": \"&sekolah!$E$22","v":": 2017 / 2018"}]
[null,null,null,null,null,"1","2","3","4","5","6","7","8","9","10","11","12","13","14","15","16","17","18","19","20","21","22","23","24","25","26","27","28","29","30","31","32","33","34"]
[null,null,null,null,null,"NO","NAMA SISWA","MATA PELAJARAN",null,null,null,null,null,null,null,null,null,null,null,null,null,null,null,"MATA PELAJARAN",null,null,null,null,null,null,null,null,null,null,null,null,null,null,null,"NO","NAMA SISWA","MATA PELAJARAN",null,null,null,null,null,null,null,null,null,null,null,null,null,null,null,"MATA PELAJARAN"]
[{"$f":"IF($A$2=\"MULTI KKM\",\"\",kur!$N$5)","v":""},{"$f":"kur!L5","v":92},{"$f":"kur!M5","v":84},{"$f":"sekolah!$E$20","v":9},null,null,null,"Al-Qur'an Hadits","Akidah Akhlak","Fikih","Bhs. Arab","SKI","PKN","Bhs. Indonesia","Matematika","IPA","IPS","Seni Budaya","PJOK","Bhs. Inggris",{"$f":"IF(kur!$D$21=\"\",\"\",kur!$D$21)","v":"Bahasa Madura"},{"$f":"IF(kur!$D$22=\"\",\"\",kur!$D$22)","v":""},{"$f":"IF(kur!$D$23=\"\",\"\",kur!$D$23)","v":""},"Al-Qur'an Hadits","Akidah Akhlak","Fikih","Bhs. Arab","SKI","PKN","Bhs. Indonesia","Matematika","IPA","IPS","Seni Budaya","PJOK","Bhs. Inggris",{"$f":"IF(kur!$D$21=\"\",\"\",kur!$D$21)","v":"Bahasa Madura"},{"$f":"IF(kur!$D$22=\"\",\"\",kur!$D$22)","v":""},{"$f":"IF(kur!$D$23=\"\",\"\",kur!$D$23)","v":""},null,null,"Al-Qur'an Hadits","Akidah Akhlak","Fikih","Bhs. Arab","SKI","PKN","Bhs. Indonesia","Matematika","IPA","IPS","Seni Budaya","PJOK","Bhs. Inggris",{"$f":"IF(kur!$D$21=\"\",\"\",kur!$D$21)","v":"Bahasa Madura"},{"$f":"IF(kur!$D$22=\"\",\"\",kur!$D$22)","v":""},{"$f":"IF(kur!$D$23=\"\",\"\",kur!$D$23)","v":""},"Al-Qur'an Hadits","Akidah Akhlak","Fikih","Bhs. Arab","SKI","PKN","Bhs. Indonesia","Matematika","IPA","IPS","Seni Budaya","PJOK","Bhs. Inggris",{"$f":"IF(kur!$D$21=\"\",\"\",kur!$D$21)","v":"Bahasa Madura"},{"$f":"IF(kur!$D$22=\"\",\"\",kur!$D$22)","v":""},{"$f":"IF(kur!$D$23=\"\",\"\",kur!$D$23)","v":""}]
[null,"A","B",null,null,null,"KKM  === >>",{"$f":"IF($A$2=\"MULTI KKM\",kur!$H6,kur!$N$5)","v":45},{"$f":"IF($A$2=\"MULTI KKM\",kur!$H7,kur!$N$5)","v":56},{"$f":"IF($A$2=\"MULTI KKM\",kur!$H8,kur!$N$5)","v":76},{"$f":"IF($A$2=\"MULTI KKM\",kur!$H9,kur!$N$5)","v":72},{"$f":"IF($A$2=\"MULTI KKM\",kur!$H10,kur!$N$5)","v":56},{"$f":"IF($A$2=\"MULTI KKM\",kur!$H12,kur!$N$5)","v":74},{"$f":"IF($A$2=\"MULTI KKM\",kur!$H13,kur!$N$5)","v":75},{"$f":"IF($A$2=\"MULTI KKM\",kur!$H14,kur!$N$5)","v":56},{"$f":"IF($A$2=\"MULTI KKM\",kur!$H15,kur!$N$5)","v":77},{"$f":"IF($A$2=\"MULTI KKM\",kur!$H16,kur!$N$5)","v":78},{"$f":"IF($A$2=\"MULTI KKM\",kur!$H17,kur!$N$5)","v":79},{"$f":"IF($A$2=\"MULTI KKM\",kur!$H18,kur!$N$5)","v":34},{"$f":"IF($A$2=\"MULTI KKM\",kur!$H19,kur!$N$5)","v":81},{"$f":"IF($A$2=\"MULTI KKM\",kur!$H21,kur!$N$5)","v":76},{"$f":"IF($V$8=\"\",\"\",IF($A$2=\"MULTI KKM\",kur!$H22,kur!$N$5))","v":""},{"$f":"IF($W$8=\"\",\"\",IF($A$2=\"MULTI KKM\",kur!$H23,kur!$N$5))","v":""},{"$f":"IF($A$2=\"MULTI KKM\",kur!$H6,kur!$N$5)","v":45},{"$f":"IF($A$2=\"MULTI KKM\",kur!$H7,kur!$N$5)","v":56},{"$f":"IF($A$2=\"MULTI KKM\",kur!$H8,kur!$N$5)","v":76},{"$f":"IF($A$2=\"MULTI KKM\",kur!$H9,kur!$N$5)","v":72},{"$f":"IF($A$2=\"MULTI KKM\",kur!$H10,kur!$N$5)","v":56},{"$f":"IF($A$2=\"MULTI KKM\",kur!$H12,kur!$N$5)","v":74},{"$f":"IF($A$2=\"MULTI KKM\",kur!$H13,kur!$N$5)","v":75},{"$f":"IF($A$2=\"MULTI KKM\",kur!$H14,kur!$N$5)","v":56},{"$f":"IF($A$2=\"MULTI KKM\",kur!$H15,kur!$N$5)","v":77},{"$f":"IF($A$2=\"MULTI KKM\",kur!$H16,kur!$N$5)","v":78},{"$f":"IF($A$2=\"MULTI KKM\",kur!$H17,kur!$N$5)","v":79},{"$f":"IF($A$2=\"MULTI KKM\",kur!$H18,kur!$N$5)","v":34},{"$f":"IF($A$2=\"MULTI KKM\",kur!$H19,kur!$N$5)","v":81},{"$f":"IF($A$2=\"MULTI KKM\",kur!$H21,kur!$N$5)","v":76},{"$f":"IF($V$8=\"\",\"\",IF($A$2=\"MULTI KKM\",kur!$H22,kur!$N$5))","v":""},{"$f":"IF($W$8=\"\",\"\",IF($A$2=\"MULTI KKM\",kur!$H23,kur!$N$5))","v":""},null,"KKM  === >>",{"$f":"IF($A$2=\"MULTI KKM\",kur!$H6,kur!$N$5)","v":45},{"$f":"IF($A$2=\"MULTI KKM\",kur!$H7,kur!$N$5)","v":56},{"$f":"IF($A$2=\"MULTI KKM\",kur!$H8,kur!$N$5)","v":76},{"$f":"IF($A$2=\"MULTI KKM\",kur!$H9,kur!$N$5)","v":72},{"$f":"IF($A$2=\"MULTI KKM\",kur!$H10,kur!$N$5)","v":56},{"$f":"IF($A$2=\"MULTI KKM\",kur!$H12,kur!$N$5)","v":74},{"$f":"IF($A$2=\"MULTI KKM\",kur!$H13,kur!$N$5)","v":75},{"$f":"IF($A$2=\"MULTI KKM\",kur!$H14,kur!$N$5)","v":56},{"$f":"IF($A$2=\"MULTI KKM\",kur!$H15,kur!$N$5)","v":77},{"$f":"IF($A$2=\"MULTI KKM\",kur!$H16,kur!$N$5)","v":78},{"$f":"IF($A$2=\"MULTI KKM\",kur!$H17,kur!$N$5)","v":79},{"$f":"IF($A$2=\"MULTI KKM\",kur!$H18,kur!$N$5)","v":34},{"$f":"IF($A$2=\"MULTI KKM\",kur!$H19,kur!$N$5)","v":81},{"$f":"IF($A$2=\"MULTI KKM\",kur!$H21,kur!$N$5)","v":76},{"$f":"IF($V$8=\"\",\"\",IF($A$2=\"MULTI KKM\",kur!$H22,kur!$N$5))","v":""},{"$f":"IF($W$8=\"\",\"\",IF($A$2=\"MULTI KKM\",kur!$H23,kur!$N$5))","v":""},{"$f":"IF($A$2=\"MULTI KKM\",kur!$H6,kur!$N$5)","v":45},{"$f":"IF($A$2=\"MULTI KKM\",kur!$H7,kur!$N$5)","v":56},{"$f":"IF($A$2=\"MULTI KKM\",kur!$H8,kur!$N$5)","v":76},{"$f":"IF($A$2=\"MULTI KKM\",kur!$H9,kur!$N$5)","v":72},{"$f":"IF($A$2=\"MULTI KKM\",kur!$H10,kur!$N$5)","v":56},{"$f":"IF($A$2=\"MULTI KKM\",kur!$H12,kur!$N$5)","v":74},{"$f":"IF($A$2=\"MULTI KKM\",kur!$H13,kur!$N$5)","v":75},{"$f":"IF($A$2=\"MULTI KKM\",kur!$H14,kur!$N$5)","v":56},{"$f":"IF($A$2=\"MULTI KKM\",kur!$H15,kur!$N$5)","v":77},{"$f":"IF($A$2=\"MULTI KKM\",kur!$H16,kur!$N$5)","v":78},{"$f":"IF($A$2=\"MULTI KKM\",kur!$H17,kur!$N$5)","v":79},{"$f":"IF($A$2=\"MULTI KKM\",kur!$H18,kur!$N$5)","v":34},{"$f":"IF($A$2=\"MULTI KKM\",kur!$H19,kur!$N$5)","v":81},{"$f":"IF($A$2=\"MULTI KKM\",kur!$H21,kur!$N$5)","v":76},{"$f":"IF($V$8=\"\",\"\",IF($A$2=\"MULTI KKM\",kur!$H22,kur!$N$5))","v":""},{"$f":"IF($W$8=\"\",\"\",IF($A$2=\"MULTI KKM\",kur!$H23,kur!$N$5))","v":""}]
["QH",{"$f":"IF($A$2=\"SATU KKM\",$B$8,kur!$F6)","v":82},{"$f":"IF($A$2=\"SATU KKM\",$C$8,kur!$G6)","v":64},null,null,{"$f":"IF(Database!$A4=\"\",\"\",Database!$A4)","v":1},{"$f":"IF(Database!$D4=\"\",\"\",Database!$D4)","v":"jaya"},88,65,78,67,76,74,78,45,56,78,56,78,65,76,null,null,{"$f":"IF($G10=\"\",\"\",IF(H10=\"\",\"\",IF(X8=\"\",\"\",H10+X62)))","v":89},{"$f":"IF($G10=\"\",\"\",IF(I10=\"\",\"\",IF(Y8=\"\",\"\",I10+Y62)))","v":70},{"$f":"IF($G10=\"\",\"\",IF(J10=\"\",\"\",IF(Z8=\"\",\"\",J10+Z62)))","v":81},{"$f":"IF($G10=\"\",\"\",IF(K10=\"\",\"\",IF(AA8=\"\",\"\",K10+AA62)))","v":68},{"$f":"IF($G10=\"\",\"\",IF(L10=\"\",\"\",IF(AB8=\"\",\"\",L10+AB62)))","v":77},{"$f":"IF($G10=\"\",\"\",IF(M10=\"\",\"\",IF(AC8=\"\",\"\",M10+AC62)))","v":79},{"$f":"IF($G10=\"\",\"\",IF(N10=\"\",\"\",IF(AD8=\"\",\"\",N10+AD62)))","v":81},{"$f":"IF($G10=\"\",\"\",IF(O10=\"\",\"\",IF(AE8=\"\",\"\",O10+AE62)))","v":46},{"$f":"IF($G10=\"\",\"\",IF(P10=\"\",\"\",IF(AF8=\"\",\"\",P10+AF62)))","v":57},{"$f":"IF($G10=\"\",\"\",IF(Q10=\"\",\"\",IF(AG8=\"\",\"\",Q10+AG62)))","v":83},{"$f":"IF($G10=\"\",\"\",IF(R10=\"\",\"\",IF(AH8=\"\",\"\",R10+AH62)))","v":59},{"$f":"IF($G10=\"\",\"\",IF(S10=\"\",\"\",IF(AI8=\"\",\"\",S10+AI62)))","v":79},{"$f":"IF($G10=\"\",\"\",IF(T10=\"\",\"\",IF(AJ8=\"\",\"\",T10+AJ62)))","v":66},{"$f":"IF($G10=\"\",\"\",IF(U10=\"\",\"\",IF(AK8=\"\",\"\",U10+AK62)))","v":81},{"$f":"IF($G10=\"\",\"\",IF(V10=\"\",\"\",IF(AL8=\"\",\"\",V10+AL62)))","v":""},{"$f":"IF($G10=\"\",\"\",IF(W10=\"\",\"\",IF(AM8=\"\",\"\",W10+AM62)))","v":""},{"$f":"IF(Database!$A4=\"\",\"\",Database!$A4)","v":1},{"$f":"IF(Database!$D4=\"\",\"\",Database!$D4)","v":"jaya"},76,65,78,67,76,74,78,45,56,78,56,78,65,76,null,null,{"$f":"IF($AO10=\"\",\"\",IF(AP10=\"\",\"\",IF(BF8=\"\",\"\",AP10+BF62)))","v":79},66,79,72,79,75,79,50,59,79,57,83,68,77,"",""]
["AA",{"$f":"IF($A$2=\"SATU KKM\",$B$8,kur!$F7)","v":85},{"$f":"IF($A$2=\"SATU KKM\",$C$8,kur!$G7)","v":70},null,null,{"$f":"IF(Database!$A5=\"\",\"\",Database!$A5)","v":2},{"$f":"IF(Database!$D5=\"\",\"\",Database!$D5)","v":"IMG_CTV"},67,76,74,78,45,67,76,74,78,67,76,74,78,45,null,null,69,78,75,81,47,69,77,77,80,69,77,77,80,47,"","",{"$f":"IF(Database!$A5=\"\",\"\",Database!$A5)","v":2},{"$f":"IF(Database!$D5=\"\",\"\",Database!$D5)","v":"IMG_CTV"},67,76,74,78,45,67,76,74,78,67,76,74,78,45,null,null,{"$f":"IF($G11=\"\",\"\",IF(AP11=\"\",\"\",IF(BF9=\"\",\"\",AP11+BF63)))","v":68},{"$f":"IF($G11=\"\",\"\",IF(AQ11=\"\",\"\",IF(BG9=\"\",\"\",AQ11+BG63)))","v":79},{"$f":"IF($G11=\"\",\"\",IF(AR11=\"\",\"\",IF(BH9=\"\",\"\",AR11+BH63)))","v":76},{"$f":"IF($G11=\"\",\"\",IF(AS11=\"\",\"\",IF(BI9=\"\",\"\",AS11+BI63)))","v":80},{"$f":"IF($G11=\"\",\"\",IF(AT11=\"\",\"\",IF(BJ9=\"\",\"\",AT11+BJ63)))","v":46},{"$f":"IF($G11=\"\",\"\",IF(AU11=\"\",\"\",IF(BK9=\"\",\"\",AU11+BK63)))","v":70},{"$f":"IF($G11=\"\",\"\",IF(AV11=\"\",\"\",IF(BL9=\"\",\"\",AV11+BL63)))","v":78},{"$f":"IF($G11=\"\",\"\",IF(AW11=\"\",\"\",IF(BM9=\"\",\"\",AW11+BM63)))","v":76},{"$f":"IF($G11=\"\",\"\",IF(AX11=\"\",\"\",IF(BN9=\"\",\"\",AX11+BN63)))","v":79},{"$f":"IF($G11=\"\",\"\",IF(AY11=\"\",\"\",IF(BO9=\"\",\"\",AY11+BO63)))","v":70},{"$f":"IF($G11=\"\",\"\",IF(AZ11=\"\",\"\",IF(BP9=\"\",\"\",AZ11+BP63)))","v":78},{"$f":"IF($G11=\"\",\"\",IF(BA11=\"\",\"\",IF(BQ9=\"\",\"\",BA11+BQ63)))","v":76},{"$f":"IF($G11=\"\",\"\",IF(BB11=\"\",\"\",IF(BR9=\"\",\"\",BB11+BR63)))","v":79},{"$f":"IF($G11=\"\",\"\",IF(BC11=\"\",\"\",IF(BS9=\"\",\"\",BC11+BS63)))","v":48},{"$f":"IF($G11=\"\",\"\",IF(BD11=\"\",\"\",IF(BT9=\"\",\"\",BD11+BT63)))","v":""},{"$f":"IF($G11=\"\",\"\",IF(BE11=\"\",\"\",IF(BU9=\"\",\"\",BE11+BU63)))","v":""}]
["FK",{"$f":"IF($A$2=\"SATU KKM\",$B$8,kur!$F8)","v":92},{"$f":"IF($A$2=\"SATU KKM\",$C$8,kur!$G8)","v":84},null,null,{"$f":"IF(Database!$A6=\"\",\"\",Database!$A6)","v":3},{"$f":"IF(Database!$D6=\"\",\"\",Database!$D6)","v":"sadi"},65,76,74,78,45,67,76,74,78,45,45,68,89,64,null,null,66,77,76,80,46,68,78,76,79,46,47,70,90,65,"","",{"$f":"IF(Database!$A6=\"\",\"\",Database!$A6)","v":3},{"$f":"IF(Database!$D6=\"\",\"\",Database!$D6)","v":"sadi"},67,76,74,78,45,67,76,74,78,45,45,68,89,64,null,null,69,78,75,79,47,69,77,75,80,47,46,69,91,66,"",""]
["BA",{"$f":"IF($A$2=\"SATU KKM\",$B$8,kur!$F9)","v":91},{"$f":"IF($A$2=\"SATU KKM\",$C$8,kur!$G9)","v":82},null,null,{"$f":"IF(Database!$A7=\"\",\"\",Database!$A7)","v":4},{"$f":"IF(Database!$D7=\"\",\"\",Database!$D7)","v":"INDAH"},90,67,76,74,78,45,67,95,67,76,74,78,45,98,null,null,92,69,77,79,80,47,68,100,69,78,75,83,47,100,"","",{"$f":"IF(Database!$A7=\"\",\"\",Database!$A7)","v":4},{"$f":"IF(Database!$D7=\"\",\"\",Database!$D7)","v":"INDAH"},90,67,76,74,78,45,67,95,67,76,74,78,45,98,null,null,91,72,78,76,79,50,69,97,68,81,76,80,46,103,"",""]
["SKI",{"$f":"IF($A$2=\"SATU KKM\",$B$8,kur!$F10)","v":85},{"$f":"IF($A$2=\"SATU KKM\",$C$8,kur!$G10)","v":70},null,null,{"$f":"IF(Database!$A8=\"\",\"\",Database!$A8)","v":5},{"$f":"IF(Database!$D8=\"\",\"\",Database!$D8)","v":"riski"},76,89,87,67,76,74,78,45,null,67,76,74,78,45,null,null,79,94,87,70,79,79,78,48,"",72,76,77,81,50,"","",{"$f":"IF(Database!$A8=\"\",\"\",Database!$A8)","v":5},{"$f":"IF(Database!$D8=\"\",\"\",Database!$D8)","v":"riski"},76,89,87,67,76,74,78,45,null,67,76,74,78,45,null,null,76,92,90,72,76,77,81,50,"",70,79,79,78,48,"",""]
["PKN",{"$f":"IF($A$2=\"SATU KKM\",$B$8,kur!$F12)","v":91},{"$f":"IF($A$2=\"SATU KKM\",$C$8,kur!$G12)","v":82},null,null,{"$f":"IF(Database!$A9=\"\",\"\",Database!$A9)","v":6},{"$f":"IF(Database!$D9=\"\",\"\",Database!$D9)","v":"risal"},77,76,74,78,67,76,74,78,45,76,74,78,45,84,null,null,79,78,76,80,69,78,76,80,47,78,76,80,47,86,"","",{"$f":"IF(Database!$A9=\"\",\"\",Database!$A9)","v":6},{"$f":"IF(Database!$D9=\"\",\"\",Database!$D9)","v":"risal"},67,76,74,78,67,76,74,78,45,76,74,78,45,84,null,null,69,78,76,80,69,78,76,80,47,78,76,80,47,86,"",""]
["BI",{"$f":"IF($A$2=\"SATU KKM\",$B$8,kur!$F13)","v":92},{"$f":"IF($A$2=\"SATU KKM\",$C$8,kur!$G13)","v":84},null,null,{"$f":"IF(Database!$A10=\"\",\"\",Database!$A10)","v":7},{"$f":"IF(Database!$D10=\"\",\"\",Database!$D10)","v":"saya"},null,null,null,null,null,null,null,null,null,null,null,null,null,null,null,null,"","","","","","","","","","","","","","","","",{"$f":"IF(Database!$A10=\"\",\"\",Database!$A10)","v":7},{"$f":"IF(Database!$D10=\"\",\"\",Database!$D10)","v":"saya"},null,null,null,null,null,null,null,null,null,null,null,null,null,null,null,null,"","","","","","","","","","","","","","","",""]
["MTK",{"$f":"IF($A$2=\"SATU KKM\",$B$8,kur!$F14)","v":85},{"$f":"IF($A$2=\"SATU KKM\",$C$8,kur!$G14)","v":70},null,null,{"$f":"IF(Database!$A11=\"\",\"\",Database!$A11)","v":8},{"$f":"IF(Database!$D11=\"\",\"\",Database!$D11)","v":"dia"},null,null,null,null,null,null,null,null,null,null,null,null,null,null,null,null,"","","","","","","","","","","","","","","","",{"$f":"IF(Database!$A11=\"\",\"\",Database!$A11)","v":8},{"$f":"IF(Database!$D11=\"\",\"\",Database!$D11)","v":"dia"},null,null,null,null,null,null,null,null,null,null,null,null,null,null,null,null,"","","","","","","","","","","","","","","",""]
["IPA",{"$f":"IF($A$2=\"SATU KKM\",$B$8,kur!$F15)","v":92},{"$f":"IF($A$2=\"SATU KKM\",$C$8,kur!$G15)","v":84},null,null,{"$f":"IF(Database!$A12=\"\",\"\",Database!$A12)","v":""},{"$f":"IF(Database!$D12=\"\",\"\",Database!$D12)","v":""},null,null,null,null,null,null,null,null,null,null,null,null,null,null,null,null,"","","","","","","","","","","","","","","","",{"$f":"IF(Database!$A12=\"\",\"\",Database!$A12)","v":""},{"$f":"IF(Database!$D12=\"\",\"\",Database!$D12)","v":""},null,null,null,null,null,null,null,null,null,null,null,null,null,null,null,null,"","","","","","","","","","","","","","","",""]
["IPS",{"$f":"IF($A$2=\"SATU KKM\",$B$8,kur!$F16)","v":93},{"$f":"IF($A$2=\"SATU KKM\",$C$8,kur!$G16)","v":86},null,null,{"$f":"IF(Database!$A13=\"\",\"\",Database!$A13)","v":""},{"$f":"IF(Database!$D13=\"\",\"\",Database!$D13)","v":""},null,null,null,null,null,null,null,null,null,null,null,null,null,null,null,null,"","","","","","","","","","","","","","","","",{"$f":"IF(Database!$A13=\"\",\"\",Database!$A13)","v":""},{"$f":"IF(Database!$D13=\"\",\"\",Database!$D13)","v":""},null,null,null,null,null,null,null,null,null,null,null,null,null,null,null,null,"","","","","","","","","","","","","","","",""]
["SB",{"$f":"IF($A$2=\"SATU KKM\",$B$8,kur!$F17)","v":93},{"$f":"IF($A$2=\"SATU KKM\",$C$8,kur!$G17)","v":86},null,null,{"$f":"IF(Database!$A14=\"\",\"\",Database!$A14)","v":""},{"$f":"IF(Database!$D14=\"\",\"\",Database!$D14)","v":""},null,null,null,null,null,null,null,null,null,null,null,null,null,null,null,null,"","","","","","","","","","","","","","","","",{"$f":"IF(Database!$A14=\"\",\"\",Database!$A14)","v":""},{"$f":"IF(Database!$D14=\"\",\"\",Database!$D14)","v":""},null,null,null,null,null,null,null,null,null,null,null,null,null,null,null,null,"","","","","","","","","","","","","","","",""]
["PJOK",{"$f":"IF($A$2=\"SATU KKM\",$B$8,kur!$F18)","v":78},{"$f":"IF($A$2=\"SATU KKM\",$C$8,kur!$G18)","v":56},null,null,{"$f":"IF(Database!$A15=\"\",\"\",Database!$A15)","v":""},{"$f":"IF(Database!$D15=\"\",\"\",Database!$D15)","v":""},null,null,null,null,null,null,null,null,null,null,null,null,null,null,null,null,"","","","","","","","","","","","","","","","",{"$f":"IF(Database!$A15=\"\",\"\",Database!$A15)","v":""},{"$f":"IF(Database!$D15=\"\",\"\",Database!$D15)","v":""},null,null,null,null,null,null,null,null,null,null,null,null,null,null,null,null,"","","","","","","","","","","","","","","",""]
["BIG",{"$f":"IF($A$2=\"SATU KKM\",$B$8,kur!$F19)","v":94},{"$f":"IF($A$2=\"SATU KKM\",$C$8,kur!$G19)","v":88},null,null,{"$f":"IF(Database!$A16=\"\",\"\",Database!$A16)","v":""},{"$f":"IF(Database!$D16=\"\",\"\",Database!$D16)","v":""},null,null,null,null,null,null,null,null,null,null,null,null,null,null,null,null,"","","","","","","","","","","","","","","","",{"$f":"IF(Database!$A16=\"\",\"\",Database!$A16)","v":""},{"$f":"IF(Database!$D16=\"\",\"\",Database!$D16)","v":""},null,null,null,null,null,null,null,null,null,null,null,null,null,null,null,null,"","","","","","","","","","","","","","","",""]
["BM",{"$f":"IF($A$2=\"SATU KKM\",$B$8,kur!$F21)","v":92},{"$f":"IF($A$2=\"SATU KKM\",$C$8,kur!$G21)","v":84},null,null,{"$f":"IF(Database!$A17=\"\",\"\",Database!$A17)","v":""},{"$f":"IF(Database!$D17=\"\",\"\",Database!$D17)","v":""},null,null,null,null,null,null,null,null,null,null,null,null,null,null,null,null,"","","","","","","","","","","","","","","","",{"$f":"IF(Database!$A17=\"\",\"\",Database!$A17)","v":""},{"$f":"IF(Database!$D17=\"\",\"\",Database!$D17)","v":""},null,null,null,null,null,null,null,null,null,null,null,null,null,null,null,null,"","","","","","","","","","","","","","","",""]
[null,{"$f":"IF($A$2=\"SATU KKM\",$B$8,kur!$F22)","v":""},{"$f":"IF($A$2=\"SATU KKM\",$C$8,kur!$G22)","v":""},null,null,{"$f":"IF(Database!$A18=\"\",\"\",Database!$A18)","v":""},{"$f":"IF(Database!$D18=\"\",\"\",Database!$D18)","v":""},null,null,null,null,null,null,null,null,null,null,null,null,null,null,null,null,"","","","","","","","","","","","","","","","",{"$f":"IF(Database!$A18=\"\",\"\",Database!$A18)","v":""},{"$f":"IF(Database!$D18=\"\",\"\",Database!$D18)","v":""},null,null,null,null,null,null,null,null,null,null,null,null,null,null,null,null,"","","","","","","","","","","","","","","",""]
[null,{"$f":"IF($A$2=\"SATU KKM\",$B$8,kur!$F23)","v":""},{"$f":"IF($A$2=\"SATU KKM\",$C$8,kur!$G23)","v":""},null,null,{"$f":"IF(Database!$A19=\"\",\"\",Database!$A19)","v":""},{"$f":"IF(Database!$D19=\"\",\"\",Database!$D19)","v":""},null,null,null,null,null,null,null,null,null,null,null,null,null,null,null,null,"","","","","","","","","","","","","","","","",{"$f":"IF(Database!$A19=\"\",\"\",Database!$A19)","v":""},{"$f":"IF(Database!$D19=\"\",\"\",Database!$D19)","v":""},null,null,null,null,null,null,null,null,null,null,null,null,null,null,null,null,"","","","","","","","","","","","","","","",""]
[null,null,null,null,null,{"$f":"IF(Database!$A20=\"\",\"\",Database!$A20)","v":""},{"$f":"IF(Database!$D20=\"\",\"\",Database!$D20)","v":""},null,null,null,null,null,null,null,null,null,null,null,null,null,null,null,null,"","","","","","","","","","","","","","","","",{"$f":"IF(Database!$A20=\"\",\"\",Database!$A20)","v":""},{"$f":"IF(Database!$D20=\"\",\"\",Database!$D20)","v":""},null,null,null,null,null,null,null,null,null,null,null,null,null,null,null,null,"","","","","","","","","","","","","","","",""]
[null,null,null,null,null,{"$f":"IF(Database!$A21=\"\",\"\",Database!$A21)","v":""},{"$f":"IF(Database!$D21=\"\",\"\",Database!$D21)","v":""},null,null,null,null,null,null,null,null,null,null,null,null,null,null,null,null,"","","","","","","","","","","","","","","","",{"$f":"IF(Database!$A21=\"\",\"\",Database!$A21)","v":""},{"$f":"IF(Database!$D21=\"\",\"\",Database!$D21)","v":""},null,null,null,null,null,null,null,null,null,null,null,null,null,null,null,null,"","","","","","","","","","","","","","","",""]
[null,null,null,null,null,{"$f":"IF(Database!$A22=\"\",\"\",Database!$A22)","v":""},{"$f":"IF(Database!$D22=\"\",\"\",Database!$D22)","v":""},null,null,null,null,null,null,null,null,null,null,null,null,null,null,null,null,"","","","","","","","","","","","","","","","",{"$f":"IF(Database!$A22=\"\",\"\",Database!$A22)","v":""},{"$f":"IF(Database!$D22=\"\",\"\",Database!$D22)","v":""},null,null,null,null,null,null,null,null,null,null,null,null,null,null,null,null,"","","","","","","","","","","","","","","",""]
[null,null,null,null,null,{"$f":"IF(Database!$A23=\"\",\"\",Database!$A23)","v":""},{"$f":"IF(Database!$D23=\"\",\"\",Database!$D23)","v":""},null,null,null,null,null,null,null,null,null,null,null,null,null,null,null,null,"","","","","","","","","","","","","","","","",{"$f":"IF(Database!$A23=\"\",\"\",Database!$A23)","v":""},{"$f":"IF(Database!$D23=\"\",\"\",Database!$D23)","v":""},null,null,null,null,null,null,null,null,null,null,null,null,null,null,null,null,"","","","","","","","","","","","","","","",""]
[null,null,null,null,null,{"$f":"IF(Database!$A24=\"\",\"\",Database!$A24)","v":""},{"$f":"IF(Database!$D24=\"\",\"\",Database!$D24)","v":""},null,null,null,null,null,null,null,null,null,null,null,null,null,null,null,null,"","","","","","","","","","","","","","","","",{"$f":"IF(Database!$A24=\"\",\"\",Database!$A24)","v":""},{"$f":"IF(Database!$D24=\"\",\"\",Database!$D24)","v":""},null,null,null,null,null,null,null,null,null,null,null,null,null,null,null,null,"","","","","","","","","","","","","","","",""]
[null,null,null,null,null,{"$f":"IF(Database!$A25=\"\",\"\",Database!$A25)","v":""},{"$f":"IF(Database!$D25=\"\",\"\",Database!$D25)","v":""},null,null,null,null,null,null,null,null,null,null,null,null,null,null,null,null,"","","","","","","","","","","","","","","","",{"$f":"IF(Database!$A25=\"\",\"\",Database!$A25)","v":""},{"$f":"IF(Database!$D25=\"\",\"\",Database!$D25)","v":""},null,null,null,null,null,null,null,null,null,null,null,null,null,null,null,null,"","","","","","","","","","","","","","","",""]
[null,null,null,null,null,{"$f":"IF(Database!$A26=\"\",\"\",Database!$A26)","v":""},{"$f":"IF(Database!$D26=\"\",\"\",Database!$D26)","v":""},null,null,null,null,null,null,null,null,null,null,null,null,null,null,null,null,"","","","","","","","","","","","","","","","",{"$f":"IF(Database!$A26=\"\",\"\",Database!$A26)","v":""},{"$f":"IF(Database!$D26=\"\",\"\",Database!$D26)","v":""},null,null,null,null,null,null,null,null,null,null,null,null,null,null,null,null,"","","","","","","","","","","","","","","",""]
[null,null,null,null,null,{"$f":"IF(Database!$A27=\"\",\"\",Database!$A27)","v":""},{"$f":"IF(Database!$D27=\"\",\"\",Database!$D27)","v":""},null,null,null,null,null,null,null,null,null,null,null,null,null,null,null,null,"","","","","","","","","","","","","","","","",{"$f":"IF(Database!$A27=\"\",\"\",Database!$A27)","v":""},{"$f":"IF(Database!$D27=\"\",\"\",Database!$D27)","v":""},null,null,null,null,null,null,null,null,null,null,null,null,null,null,null,null,"","","","","","","","","","","","","","","",""]
[null,null,null,null,null,{"$f":"IF(Database!$A28=\"\",\"\",Database!$A28)","v":""},{"$f":"IF(Database!$D28=\"\",\"\",Database!$D28)","v":""},null,null,null,null,null,null,null,null,null,null,null,null,null,null,null,null,"","","","","","","","","","","","","","","","",{"$f":"IF(Database!$A28=\"\",\"\",Database!$A28)","v":""},{"$f":"IF(Database!$D28=\"\",\"\",Database!$D28)","v":""},null,null,null,null,null,null,null,null,null,null,null,null,null,null,null,null,"","","","","","","","","","","","","","","",""]
[null,null,null,null,null,{"$f":"IF(Database!$A29=\"\",\"\",Database!$A29)","v":""},{"$f":"IF(Database!$D29=\"\",\"\",Database!$D29)","v":""},null,null,null,null,null,null,null,null,null,null,null,null,null,null,null,null,"","","","","","","","","","","","","","","","",{"$f":"IF(Database!$A29=\"\",\"\",Database!$A29)","v":""},{"$f":"IF(Database!$D29=\"\",\"\",Database!$D29)","v":""},null,null,null,null,null,null,null,null,null,null,null,null,null,null,null,null,"","","","","","","","","","","","","","","",""]
[null,null,null,null,null,{"$f":"IF(Database!$A30=\"\",\"\",Database!$A30)","v":""},{"$f":"IF(Database!$D30=\"\",\"\",Database!$D30)","v":""},null,null,null,null,null,null,null,null,null,null,null,null,null,null,null,null,"","","","","","","","","","","","","","","","",{"$f":"IF(Database!$A30=\"\",\"\",Database!$A30)","v":""},{"$f":"IF(Database!$D30=\"\",\"\",Database!$D30)","v":""},null,null,null,null,null,null,null,null,null,null,null,null,null,null,null,null,"","","","","","","","","","","","","","","",""]
[null,null,null,null,null,{"$f":"IF(Database!$A31=\"\",\"\",Database!$A31)","v":""},{"$f":"IF(Database!$D31=\"\",\"\",Database!$D31)","v":""},null,null,null,null,null,null,null,null,null,null,null,null,null,null,null,null,"","","","","","","","","","","","","","","","",{"$f":"IF(Database!$A31=\"\",\"\",Database!$A31)","v":""},{"$f":"IF(Database!$D31=\"\",\"\",Database!$D31)","v":""},null,null,null,null,null,null,null,null,null,null,null,null,null,null,null,null,"","","","","","","","","","","","","","","",""]
[null,null,null,null,null,{"$f":"IF(Database!$A32=\"\",\"\",Database!$A32)","v":""},{"$f":"IF(Database!$D32=\"\",\"\",Database!$D32)","v":""},null,null,null,null,null,null,null,null,null,null,null,null,null,null,null,null,"","","","","","","","","","","","","","","","",{"$f":"IF(Database!$A32=\"\",\"\",Database!$A32)","v":""},{"$f":"IF(Database!$D32=\"\",\"\",Database!$D32)","v":""},null,null,null,null,null,null,null,null,null,null,null,null,null,null,null,null,"","","","","","","","","","","","","","","",""]
[null,null,null,null,null,{"$f":"IF(Database!$A33=\"\",\"\",Database!$A33)","v":""},{"$f":"IF(Database!$D33=\"\",\"\",Database!$D33)","v":""},null,null,null,null,null,null,null,null,null,null,null,null,null,null,null,null,"","","","","","","","","","","","","","","","",{"$f":"IF(Database!$A33=\"\",\"\",Database!$A33)","v":""},{"$f":"IF(Database!$D33=\"\",\"\",Database!$D33)","v":""},null,null,null,null,null,null,null,null,null,null,null,null,null,null,null,null,"","","","","","","","","","","","","","","",""]
[null,null,null,null,null,{"$f":"IF(Database!$A34=\"\",\"\",Database!$A34)","v":""},{"$f":"IF(Database!$D34=\"\",\"\",Database!$D34)","v":""},null,null,null,null,null,null,null,null,null,null,null,null,null,null,null,null,"","","","","","","","","","","","","","","","",{"$f":"IF(Database!$A34=\"\",\"\",Database!$A34)","v":""},{"$f":"IF(Database!$D34=\"\",\"\",Database!$D34)","v":""},null,null,null,null,null,null,null,null,null,null,null,null,null,null,null,null,"","","","","","","","","","","","","","","",""]
[null,null,null,null,null,{"$f":"IF(Database!$A35=\"\",\"\",Database!$A35)","v":""},{"$f":"IF(Database!$D35=\"\",\"\",Database!$D35)","v":""},null,null,null,null,null,null,null,null,null,null,null,null,null,null,null,null,"","","","","","","","","","","","","","","","",{"$f":"IF(Database!$A35=\"\",\"\",Database!$A35)","v":""},{"$f":"IF(Database!$D35=\"\",\"\",Database!$D35)","v":""},null,null,null,null,null,null,null,null,null,null,null,null,null,null,null,null,"","","","","","","","","","","","","","","",""]
[null,null,null,null,null,{"$f":"IF(Database!$A36=\"\",\"\",Database!$A36)","v":""},{"$f":"IF(Database!$D36=\"\",\"\",Database!$D36)","v":""},null,null,null,null,null,null,null,null,null,null,null,null,null,null,null,null,"","","","","","","","","","","","","","","","",{"$f":"IF(Database!$A36=\"\",\"\",Database!$A36)","v":""},{"$f":"IF(Database!$D36=\"\",\"\",Database!$D36)","v":""},null,null,null,null,null,null,null,null,null,null,null,null,null,null,null,null,"","","","","","","","","","","","","","","",""]
[null,null,null,null,null,{"$f":"IF(Database!$A37=\"\",\"\",Database!$A37)","v":""},{"$f":"IF(Database!$D37=\"\",\"\",Database!$D37)","v":""},null,null,null,null,null,null,null,null,null,null,null,null,null,null,null,null,"","","","","","","","","","","","","","","","",{"$f":"IF(Database!$A37=\"\",\"\",Database!$A37)","v":""},{"$f":"IF(Database!$D37=\"\",\"\",Database!$D37)","v":""},null,null,null,null,null,null,null,null,null,null,null,null,null,null,null,null,"","","","","","","","","","","","","","","",""]
[null,null,null,null,null,{"$f":"IF(Database!$A38=\"\",\"\",Database!$A38)","v":""},{"$f":"IF(Database!$D38=\"\",\"\",Database!$D38)","v":""},null,null,null,null,null,null,null,null,null,null,null,null,null,null,null,null,"","","","","","","","","","","","","","","","",{"$f":"IF(Database!$A38=\"\",\"\",Database!$A38)","v":""},{"$f":"IF(Database!$D38=\"\",\"\",Database!$D38)","v":""},null,null,null,null,null,null,null,null,null,null,null,null,null,null,null,null,"","","","","","","","","","","","","","","",""]
[null,null,null,null,null,{"$f":"IF(Database!$A39=\"\",\"\",Database!$A39)","v":""},{"$f":"IF(Database!$D39=\"\",\"\",Database!$D39)","v":""},null,null,null,null,null,null,null,null,null,null,null,null,null,null,null,null,"","","","","","","","","","","","","","","","",{"$f":"IF(Database!$A39=\"\",\"\",Database!$A39)","v":""},{"$f":"IF(Database!$D39=\"\",\"\",Database!$D39)","v":""},null,null,null,null,null,null,null,null,null,null,null,null,null,null,null,null,"","","","","","","","","","","","","","","",""]
[null,null,null,null,null,{"$f":"IF(Database!$A40=\"\",\"\",Database!$A40)","v":""},{"$f":"IF(Database!$D40=\"\",\"\",Database!$D40)","v":""},null,null,null,null,null,null,null,null,null,null,null,null,null,null,null,null,"","","","","","","","","","","","","","","","",{"$f":"IF(Database!$A40=\"\",\"\",Database!$A40)","v":""},{"$f":"IF(Database!$D40=\"\",\"\",Database!$D40)","v":""},null,null,null,null,null,null,null,null,null,null,null,null,null,null,null,null,"","","","","","","","","","","","","","","",""]
[null,null,null,null,null,{"$f":"IF(Database!$A41=\"\",\"\",Database!$A41)","v":""},{"$f":"IF(Database!$D41=\"\",\"\",Database!$D41)","v":""},null,null,null,null,null,null,null,null,null,null,null,null,null,null,null,null,"","","","","","","","","","","","","","","","",{"$f":"IF(Database!$A41=\"\",\"\",Database!$A41)","v":""},{"$f":"IF(Database!$D41=\"\",\"\",Database!$D41)","v":""},null,null,null,null,null,null,null,null,null,null,null,null,null,null,null,null,"","","","","","","","","","","","","","","",""]
[null,null,null,null,null,{"$f":"IF(Database!$A42=\"\",\"\",Database!$A42)","v":""},{"$f":"IF(Database!$D42=\"\",\"\",Database!$D42)","v":""},null,null,null,null,null,null,null,null,null,null,null,null,null,null,null,null,"","","","","","","","","","","","","","","","",{"$f":"IF(Database!$A42=\"\",\"\",Database!$A42)","v":""},{"$f":"IF(Database!$D42=\"\",\"\",Database!$D42)","v":""},null,null,null,null,null,null,null,null,null,null,null,null,null,null,null,null,"","","","","","","","","","","","","","","",""]
[null,null,null,null,null,{"$f":"IF(Database!$A43=\"\",\"\",Database!$A43)","v":""},{"$f":"IF(Database!$D43=\"\",\"\",Database!$D43)","v":""},null,null,null,null,null,null,null,null,null,null,null,null,null,null,null,null,"","","","","","","","","","","","","","","","",{"$f":"IF(Database!$A43=\"\",\"\",Database!$A43)","v":""},{"$f":"IF(Database!$D43=\"\",\"\",Database!$D43)","v":""},null,null,null,null,null,null,null,null,null,null,null,null,null,null,null,null,"","","","","","","","","","","","","","","",""]
[null,null,null,null,null,{"$f":"IF(Database!$A44=\"\",\"\",Database!$A44)","v":""},{"$f":"IF(Database!$D44=\"\",\"\",Database!$D44)","v":""},null,null,null,null,null,null,null,null,null,null,null,null,null,null,null,null,"","","","","","","","","","","","","","","","",{"$f":"IF(Database!$A44=\"\",\"\",Database!$A44)","v":""},{"$f":"IF(Database!$D44=\"\",\"\",Database!$D44)","v":""},null,null,null,null,null,null,null,null,null,null,null,null,null,null,null,null,"","","","","","","","","","","","","","","",""]
[null,null,null,null,null,{"$f":"IF(Database!$A45=\"\",\"\",Database!$A45)","v":""},{"$f":"IF(Database!$D45=\"\",\"\",Database!$D45)","v":""},null,null,null,null,null,null,null,null,null,null,null,null,null,null,null,null,"","","","","","","","","","","","","","","","",{"$f":"IF(Database!$A45=\"\",\"\",Database!$A45)","v":""},{"$f":"IF(Database!$D45=\"\",\"\",Database!$D45)","v":""},null,null,null,null,null,null,null,null,null,null,null,null,null,null,null,null,"","","","","","","","","","","","","","","",""]
[null,null,null,null,null,{"$f":"IF(Database!$A46=\"\",\"\",Database!$A46)","v":""},{"$f":"IF(Database!$D46=\"\",\"\",Database!$D46)","v":""},null,null,null,null,null,null,null,null,null,null,null,null,null,null,null,null,"","","","","","","","","","","","","","","","",{"$f":"IF(Database!$A46=\"\",\"\",Database!$A46)","v":""},{"$f":"IF(Database!$D46=\"\",\"\",Database!$D46)","v":""},null,null,null,null,null,null,null,null,null,null,null,null,null,null,null,null,"","","","","","","","","","","","","","","",""]
[null,null,null,null,null,{"$f":"IF(Database!$A47=\"\",\"\",Database!$A47)","v":""},{"$f":"IF(Database!$D47=\"\",\"\",Database!$D47)","v":""},null,null,null,null,null,null,null,null,null,null,null,null,null,null,null,null,"","","","","","","","","","","","","","","","",{"$f":"IF(Database!$A47=\"\",\"\",Database!$A47)","v":""},{"$f":"IF(Database!$D47=\"\",\"\",Database!$D47)","v":""},null,null,null,null,null,null,null,null,null,null,null,null,null,null,null,null,"","","","","","","","","","","","","","","",""]
[null,null,null,null,null,{"$f":"IF(Database!$A48=\"\",\"\",Database!$A48)","v":""},{"$f":"IF(Database!$D48=\"\",\"\",Database!$D48)","v":""},null,null,null,null,null,null,null,null,null,null,null,null,null,null,null,null,"","","","","","","","","","","","","","","","",{"$f":"IF(Database!$A48=\"\",\"\",Database!$A48)","v":""},{"$f":"IF(Database!$D48=\"\",\"\",Database!$D48)","v":""},null,null,null,null,null,null,null,null,null,null,null,null,null,null,null,null,"","","","","","","","","","","","","","","",""]
[null,null,null,null,null,{"$f":"IF(Database!$A49=\"\",\"\",Database!$A49)","v":""},{"$f":"IF(Database!$D49=\"\",\"\",Database!$D49)","v":""},null,null,null,null,null,null,null,null,null,null,null,null,null,null,null,null,null,null,null,null,null,null,null,null,null,null,null,null,null,null,null,null,{"$f":"IF(Database!$A49=\"\",\"\",Database!$A49)","v":""},{"$f":"IF(Database!$D49=\"\",\"\",Database!$D49)","v":""}]
[null,null,null,null,null,{"$f":"IF(Database!$A50=\"\",\"\",Database!$A50)","v":""},{"$f":"IF(Database!$D50=\"\",\"\",Database!$D50)","v":""},null,null,null,null,null,null,null,null,null,null,null,null,null,null,null,null,null,null,null,null,null,null,null,null,null,null,null,null,null,null,null,null,{"$f":"IF(Database!$A50=\"\",\"\",Database!$A50)","v":""},{"$f":"IF(Database!$D50=\"\",\"\",Database!$D50)","v":""}]
[null,null,null,null,null,{"$f":"IF(Database!$A51=\"\",\"\",Database!$A51)","v":""},{"$f":"IF(Database!$D51=\"\",\"\",Database!$D51)","v":""},null,null,null,null,null,null,null,null,null,null,null,null,null,null,null,null,null,null,null,null,null,null,null,null,null,null,null,null,null,null,null,null,{"$f":"IF(Database!$A51=\"\",\"\",Database!$A51)","v":""},{"$f":"IF(Database!$D51=\"\",\"\",Database!$D51)","v":""}]
[null,null,null,null,null,{"$f":"IF(Database!$A52=\"\",\"\",Database!$A52)","v":""},{"$f":"IF(Database!$D52=\"\",\"\",Database!$D52)","v":""},null,null,null,null,null,null,null,null,null,null,null,null,null,null,null,null,null,null,null,null,null,null,null,null,null,null,null,null,null,null,null,null,{"$f":"IF(Database!$A52=\"\",\"\",Database!$A52)","v":""},{"$f":"IF(Database!$D52=\"\",\"\",Database!$D52)","v":""}]
[null,null,null,null,null,{"$f":"IF(Database!$A53=\"\",\"\",Database!$A53)","v":""},{"$f":"IF(Database!$D53=\"\",\"\",Database!$D53)","v":""},null,null,null,null,null,null,null,null,null,null,null,null,null,null,null,null,null,null,null,null,null,null,null,null,null,null,null,null,null,null,null,null,{"$f":"IF(Database!$A53=\"\",\"\",Database!$A53)","v":""},{"$f":"IF(Database!$D53=\"\",\"\",Database!$D53)","v":""}]
[]
[]
[null,null,null,null,null,null,null,null,null,null,null,null,null,null,null,null,null,null,null,null,null,null,null,1,5,3,1,1,5,3,1,1,5,3,1,1,5,3,1,null,null,null,null,null,null,null,null,null,null,null,null,null,null,null,null,null,null,3,1,1,5,3,1,1,5,3,1,1,5,3,1,1,5]
[null,null,null,null,null,null,null,null,null,null,null,null,null,null,null,null,null,null,null,null,null,null,null,2,2,1,3,2,2,1,3,2,2,1,3,2,2,1,3,null,null,null,null,null,null,null,null,null,null,null,null,null,null,null,null,null,null,1,3,2,2,1,3,2,2,1,3,2,2,1,3,2,2]
[null,null,null,null,null,null,null,null,null,null,null,null,null,null,null,null,null,null,null,null,null,null,null,1,1,2,2,1,1,2,2,1,1,2,2,1,1,2,2,null,null,null,null,null,null,null,null,null,null,null,null,null,null,null,null,null,null,2,2,1,1,2,2,1,1,2,2,1,1,2,2,1,1]
[null,null,null,null,null,null,null,null,null,null,null,null,null,null,null,null,null,null,null,null,null,null,null,2,2,1,5,2,2,1,5,2,2,1,5,2,2,1,5,null,null,null,null,null,null,null,null,null,null,null,null,null,null,null,null,null,null,1,5,2,2,1,5,2,2,1,5,2,2,1,5,2,2]
[null,null,null,null,null,null,null,null,null,null,null,null,null,null,null,null,null,null,null,null,null,null,null,3,5,0,3,3,5,0,3,3,5,0,3,3,5,0,3,null,null,null,null,null,null,null,null,null,null,null,null,null,null,null,null,null,null,0,3,3,5,0,3,3,5,0,3,3,5,0,3,3,5]
[null,null,null,null,null,null,null,null,null,null,null,null,null,null,null,null,null,null,null,null,null,null,null,2,2,2,2,2,2,2,2,2,2,2,2,2,2,2,2,null,null,null,null,null,null,null,null,null,null,null,null,null,null,null,null,null,null,2,2,2,2,2,2,2,2,2,2,2,2,2,2,2,2]
[null,null,null,null,null,null,null,null,null,null,null,null,null,null,null,null,null,null,null,null,null,null,null,3,1,1,5,3,1,1,5,3,1,1,5,3,1,1,5,null,null,null,null,null,null,null,null,null,null,null,null,null,null,null,null,null,null,1,5,3,1,1,5,3,1,1,5,3,1,1,5,3,1]
[null,null,null,null,null,null,null,null,null,null,null,null,null,null,null,null,null,null,null,null,null,null,null,1,3,2,4,1,3,2,4,1,3,2,4,1,3,2,4,null,null,null,null,null,null,null,null,null,null,null,null,null,null,null,null,null,null,2,4,1,3,2,4,1,3,2,4,1,3,2,4,1,3]
[null,null,null,null,null,null,null,null,null,null,null,null,null,null,null,null,null,null,null,null,null,null,null,2,2,3,1,2,2,3,1,2,2,3,1,2,2,3,1,null,null,null,null,null,null,null,null,null,null,null,null,null,null,null,null,null,null,3,1,2,2,3,1,2,2,3,1,2,2,3,1,2,2]
[null,null,null,null,null,null,null,null,null,null,null,null,null,null,null,null,null,null,null,null,null,null,null,1,5,1,2,1,5,1,2,1,5,1,2,1,5,1,2,null,null,null,null,null,null,null,null,null,null,null,null,null,null,null,null,null,null,1,2,1,5,1,2,1,5,1,2,1,5,1,2,1,5]
[null,null,null,null,null,null,null,null,null,null,null,null,null,null,null,null,null,null,null,null,null,null,null,0,3,2,3,0,3,2,3,0,3,2,3,0,3,2,3,null,null,null,null,null,null,null,null,null,null,null,null,null,null,null,null,null,null,2,3,0,3,2,3,0,3,2,3,0,3,2,3,0,3]
[null,null,null,null,null,null,null,null,null,null,null,null,null,null,null,null,null,null,null,null,null,null,null,2,2,3,1,2,2,3,1,2,2,3,1,2,2,3,1,null,null,null,null,null,null,null,null,null,null,null,null,null,null,null,null,null,null,3,1,2,2,3,1,2,2,3,1,2,2,3,1,2,2]
[null,null,null,null,null,null,null,null,null,null,null,null,null,null,null,null,null,null,null,null,null,null,null,1,5,2,2,1,5,2,2,1,5,2,2,1,5,2,2,null,null,null,null,null,null,null,null,null,null,null,null,null,null,null,null,null,null,2,2,1,5,2,2,1,5,2,2,1,5,2,2,1,5]
[null,null,null,null,null,null,null,null,null,null,null,null,null,null,null,null,null,null,null,null,null,null,null,2,4,1,1,2,4,1,1,2,4,1,1,2,4,1,1,null,null,null,null,null,null,null,null,null,null,null,null,null,null,null,null,null,null,1,1,2,4,1,1,2,4,1,1,2,4,1,1,2,4]
[null,null,null,null,null,null,null,null,null,null,null,null,null,null,null,null,null,null,null,null,null,null,null,3,1,2,2,3,1,2,2,3,1,2,2,3,1,2,2,null,null,null,null,null,null,null,null,null,null,null,null,null,null,null,null,null,null,2,2,3,1,2,2,3,1,2,2,3,1,2,2,3,1]
[null,null,null,null,null,null,null,null,null,null,null,null,null,null,null,null,null,null,null,null,null,null,null,1,2,4,3,1,2,4,3,1,2,4,3,1,2,4,3,null,null,null,null,null,null,null,null,null,null,null,null,null,null,null,null,null,null,4,3,1,2,4,3,1,2,4,3,1,2,4,3,1,2]
[null,null,null,null,null,null,null,null,null,null,null,null,null,null,null,null,null,null,null,null,null,null,null,2,3,2,1,2,3,2,1,2,3,2,1,2,3,2,1,null,null,null,null,null,null,null,null,null,null,null,null,null,null,null,null,null,null,2,1,2,3,2,1,2,3,2,1,2,3,2,1,2,3]
[null,null,null,null,null,null,null,null,null,null,null,null,null,null,null,null,null,null,null,null,null,null,null,3,1,1,5,3,1,1,5,3,1,1,5,3,1,1,5,null,null,null,null,null,null,null,null,null,null,null,null,null,null,null,null,null,null,1,5,3,1,1,5,3,1,1,5,3,1,1,5,3,1]
[null,null,null,null,null,null,null,null,null,null,null,null,null,null,null,null,null,null,null,null,null,null,null,2,2,2,2,2,2,2,2,2,2,2,2,2,2,2,2,null,null,null,null,null,null,null,null,null,null,null,null,null,null,null,null,null,null,2,2,2,2,2,2,2,2,2,2,2,2,2,2,2,2]
[null,null,null,null,null,null,null,null,null,null,null,null,null,null,null,null,null,null,null,null,null,null,null,1,1,5,3,1,1,5,3,1,1,5,3,1,1,5,3,null,null,null,null,null,null,null,null,null,null,null,null,null,null,null,null,null,null,5,3,1,1,5,3,1,1,5,3,1,1,5,3,1,1]
[null,null,null,null,null,null,null,null,null,null,null,null,null,null,null,null,null,null,null,null,null,null,null,2,2,0,1,2,2,0,1,2,2,0,1,2,2,0,1,null,null,null,null,null,null,null,null,null,null,null,null,null,null,null,null,null,null,0,1,2,2,0,1,2,2,0,1,2,2,0,1,2,2]
[null,null,null,null,null,null,null,null,null,null,null,null,null,null,null,null,null,null,null,null,null,null,null,4,3,1,4,4,3,1,4,4,3,1,4,4,3,1,4,null,null,null,null,null,null,null,null,null,null,null,null,null,null,null,null,null,null,1,4,4,3,1,4,4,3,1,4,4,3,1,4,4,3]
[null,null,null,null,null,null,null,null,null,null,null,null,null,null,null,null,null,null,null,null,null,null,null,2,1,3,1,2,1,3,1,2,1,3,1,2,1,3,1,null,null,null,null,null,null,null,null,null,null,null,null,null,null,null,null,null,null,3,1,2,1,3,1,2,1,3,1,2,1,3,1,2,1]
[null,null,null,null,null,null,null,null,null,null,null,null,null,null,null,null,null,null,null,null,null,null,null,1,5,1,3,1,5,1,3,1,5,1,3,1,5,1,3,null,null,null,null,null,null,null,null,null,null,null,null,null,null,null,null,null,null,1,3,1,5,1,3,1,5,1,3,1,5,1,3,1,5]
[null,null,null,null,null,null,null,null,null,null,null,null,null,null,null,null,null,null,null,null,null,null,null,2,2,2,2,2,2,2,2,2,2,2,2,2,2,2,2,null,null,null,null,null,null,null,null,null,null,null,null,null,null,null,null,null,null,2,2,2,2,2,2,2,2,2,2,2,2,2,2,2,2]
[null,null,null,null,null,null,null,null,null,null,null,null,null,null,null,null,null,null,null,null,null,null,null,5,3,1,5,5,3,1,5,5,3,1,5,5,3,1,5,null,null,null,null,null,null,null,null,null,null,null,null,null,null,null,null,null,null,1,5,5,3,1,5,5,3,1,5,5,3,1,5,5,3]
[null,null,null,null,null,null,null,null,null,null,null,null,null,null,null,null,null,null,null,null,null,null,null,0,1,0,3,0,1,0,3,0,1,0,3,0,1,0,3,null,null,null,null,null,null,null,null,null,null,null,null,null,null,null,null,null,null,0,3,0,1,0,3,0,1,0,3,0,1,0,3,0,1]
[null,null,null,null,null,null,null,null,null,null,null,null,null,null,null,null,null,null,null,null,null,null,null,1,4,2,2,1,4,2,2,1,4,2,2,1,4,2,2,null,null,null,null,null,null,null,null,null,null,null,null,null,null,null,null,null,null,2,2,1,4,2,2,1,4,2,2,1,4,2,2,1,4]
[null,null,null,null,null,null,null,null,null,null,null,null,null,null,null,null,null,null,null,null,null,null,null,2,2,1,5,2,2,1,5,2,2,1,5,2,2,1,5,null,null,null,null,null,null,null,null,null,null,null,null,null,null,null,null,null,null,1,5,2,2,1,5,2,2,1,5,2,2,1,5,2,2]
[null,null,null,null,null,null,null,null,null,null,null,null,null,null,null,null,null,null,null,null,null,null,null,5,1,2,4,5,1,2,4,5,1,2,4,5,1,2,4,null,null,null,null,null,null,null,null,null,null,null,null,null,null,null,null,null,null,2,4,5,1,2,4,5,1,2,4,5,1,2,4,5,1]
[null,null,null,null,null,null,null,null,null,null,null,null,null,null,null,null,null,null,null,null,null,null,null,2,3,3,1,2,3,3,1,2,3,3,1,2,3,3,1,null,null,null,null,null,null,null,null,null,null,null,null,null,null,null,null,null,null,3,1,2,3,3,1,2,3,3,1,2,3,3,1,2,3]
[null,null,null,null,null,null,null,null,null,null,null,null,null,null,null,null,null,null,null,null,null,null,null,1,5,1,2,1,5,1,2,1,5,1,2,1,5,1,2,null,null,null,null,null,null,null,null,null,null,null,null,null,null,null,null,null,null,1,2,1,5,1,2,1,5,1,2,1,5,1,2,1,5]
[null,null,null,null,null,null,null,null,null,null,null,null,null,null,null,null,null,null,null,null,null,null,null,3,2,2,3,3,2,2,3,3,2,2,3,3,2,2,3,null,null,null,null,null,null,null,null,null,null,null,null,null,null,null,null,null,null,2,3,3,2,2,3,3,2,2,3,3,2,2,3,3,2]
[null,null,null,null,null,null,null,null,null,null,null,null,null,null,null,null,null,null,null,null,null,null,null,2,3,3,1,2,3,3,1,2,3,3,1,2,3,3,1,null,null,null,null,null,null,null,null,null,null,null,null,null,null,null,null,null,null,3,1,2,3,3,1,2,3,3,1,2,3,3,1,2,3]
[null,null,null,null,null,null,null,null,null,null,null,null,null,null,null,null,null,null,null,null,null,null,null,5,1,2,2,5,1,2,2,5,1,2,2,5,1,2,2,null,null,null,null,null,null,null,null,null,null,null,null,null,null,null,null,null,null,2,2,5,1,2,2,5,1,2,2,5,1,2,2,5,1]
[null,null,null,null,null,null,null,null,null,null,null,null,null,null,null,null,null,null,null,null,null,null,null,3,1,1,1,3,1,1,1,3,1,1,1,3,1,1,1,null,null,null,null,null,null,null,null,null,null,null,null,null,null,null,null,null,null,1,1,3,1,1,1,3,1,1,1,3,1,1,1,3,1]
[null,null,null,null,null,null,null,null,null,null,null,null,null,null,null,null,null,null,null,null,null,null,null,2,2,2,2,2,2,2,2,2,2,2,2,2,2,2,2,null,null,null,null,null,null,null,null,null,null,null,null,null,null,null,null,null,null,2,2,2,2,2,2,2,2,2,2,2,2,2,2,2,2]
[null,null,null,null,null,null,null,null,null,null,null,null,null,null,null,null,null,null,null,null,null,null,null,5,1,4,3,5,1,4,3,5,1,4,3,5,1,4,3,null,null,null,null,null,null,null,null,null,null,null,null,null,null,null,null,null,null,4,3,5,1,4,3,5,1,4,3,5,1,4,3,5,1]
[null,null,null,null,null,null,null,null,null,null,null,null,null,null,null,null,null,null,null,null,null,null,null,4,2,2,1,4,2,2,1,4,2,2,1,4,2,2,1,null,null,null,null,null,null,null,null,null,null,null,null,null,null,null,null,null,null,2,1,4,2,2,1,4,2,2,1,4,2,2,1,4,2]
[null,null,null,null,null,null,null,null,null,null,null,null,null,null,null,null,null,null,null,null,null,null,null,0,3,1,5,0,3,1,5,0,3,1,5,0,3,1,5,null,null,null,null,null,null,null,null,null,null,null,null,null,null,null,null,null,null,1,5,0,3,1,5,0,3,1,5,0,3,1,5,0,3]
[null,null,null,null,null,null,null,null,null,null,null,null,null,null,null,null,null,null,null,null,null,null,null,2,2,2,2,2,2,2,2,2,2,2,2,2,2,2,2,null,null,null,null,null,null,null,null,null,null,null,null,null,null,null,null,null,null,2,2,2,2,2,2,2,2,2,2,2,2,2,2,2,2]
[null,null,null,null,null,null,null,null,null,null,null,null,null,null,null,null,null,null,null,null,null,null,null,3,3,5,3,3,3,5,3,3,3,5,3,3,3,5,3,null,null,null,null,null,null,null,null,null,null,null,null,null,null,null,null,null,null,5,3,3,3,5,3,3,3,5,3,3,3,5,3,3,3]
[null,null,null,null,null,null,null,null,null,null,null,null,null,null,null,null,null,null,null,null,null,null,null,1,1,0,1,1,1,0,1,1,1,0,1,1,1,0,1,null,null,null,null,null,null,null,null,null,null,null,null,null,null,null,null,null,null,0,1,1,1,0,1,1,1,0,1,1,1,0,1,1,1]
[null,null,null,null,null,null,null,null,null,null,null,null,null,null,null,null,null,null,null,null,null,null,null,2,2,1,4,2,2,1,4,2,2,1,4,2,2,1,4,null,null,null,null,null,null,null,null,null,null,null,null,null,null,null,null,null,null,1,4,2,2,1,4,2,2,1,4,2,2,1,4,2,2]
[null,null,null,null,null,null,null,null,null,null,null,null,null,null,null,null,null,null,null,null,null,null,null,1,1,3,1,1,1,3,1,1,1,3,1,1,1,3,1,null,null,null,null,null,null,null,null,null,null,null,null,null,null,null,null,null,null,3,1,1,1,3,1,1,1,3,1,1,1,3,1,1,1]
[null,null,null,null,null,null,null,null,null,null,null,null,null,null,null,null,null,null,null,null,null,null,null,2,0,1,3,2,0,1,3,2,0,1,3,2,0,1,3,null,null,null,null,null,null,null,null,null,null,null,null,null,null,null,null,null,null,1,3,2,0,1,3,2,0,1,3,2,0,1,3,2,0]
[null,null,null,null,null,null,null,null,null,null,null,null,null,null,null,null,null,null,null,null,null,null,null,0,2,2,2,0,2,2,2,0,2,2,2,0,2,2,2,null,null,null,null,null,null,null,null,null,null,null,null,null,null,null,null,null,null,2,2,0,2,2,2,0,2,2,2,0,2,2,2,0,2]
[null,null,null,null,null,null,null,null,null,null,null,null,null,null,null,null,null,null,null,null,null,null,null,1,1,1,5,1,1,1,5,1,1,1,5,1,1,1,5,null,null,null,null,null,null,null,null,null,null,null,null,null,null,null,null,null,null,1,5,1,1,1,5,1,1,1,5,1,1,1,5,1,1]
[null,null,null,null,null,null,null,null,null,null,null,null,null,null,null,null,null,null,null,null,null,null,null,5,2,0,3,5,2,0,3,5,2,0,3,5,2,0,3,null,null,null,null,null,null,null,null,null,null,null,null,null,null,null,null,null,null,0,3,5,2,0,3,5,2,0,3,5,2,0,3,5,2]
[null,null,null,null,null,null,null,null,null,null,null,null,null,null,null,null,null,null,null,null,null,null,null,2,3,2,2,2,3,2,2,2,3,2,2,2,3,2,2,null,null,null,null,null,null,null,null,null,null,null,null,null,null,null,null,null,null,2,2,2,3,2,2,2,3,2,2,2,3,2,2,2,3]
[null,null,null,null,null,null,null,null,null,null,null,null,null,null,null,null,null,null,null,null,null,null,null,3,1,1,5,3,1,1,5,3,1,1,5,3,1,1,5,null,null,null,null,null,null,null,null,null,null,null,null,null,null,null,null,null,null,1,5,3,1,1,5,3,1,1,5,3,1,1,5,3,1]
[null,null,null,null,null,null,null,null,null,null,null,null,null,null,null,null,null,null,null,null,null,null,null,1,2,2,4,1,2,2,4,1,2,2,4,1,2,2,4,null,null,null,null,null,null,null,null,null,null,null,null,null,null,null,null,null,null,2,4,1,2,2,4,1,2,2,4,1,2,2,4,1,2]
[null,null,null,null,null,null,null,null,null,null,null,null,null,null,null,null,null,null,null,null,null,null,null,4,3,3,1,4,3,3,1,4,3,3,1,4,3,3,1,null,null,null,null,null,null,null,null,null,null,null,null,null,null,null,null,null,null,3,1,4,3,3,1,4,3,3,1,4,3,3,1,4,3]
[null,null,null,null,null,null,null,null,null,null,null,null,null,null,null,null,null,null,null,null,null,null,null,2,2,1,2,2,2,1,2,2,2,1,2,2,2,1,2,null,null,null,null,null,null,null,null,null,null,null,null,null,null,null,null,null,null,1,2,2,2,1,2,2,2,1,2,2,2,1,2,2,2]
[null,null,null,null,null,null,null,null,null,null,null,null,null,null,null,null,null,null,null,null,null,null,null,1,1,2,3,1,1,2,3,1,1,2,3,1,1,2,3,null,null,null,null,null,null,null,null,null,null,null,null,null,null,null,null,null,null,2,3,1,1,2,3,1,1,2,3,1,1,2,3,1,1]
[null,null,null,null,null,null,null,null,null,null,null,null,null,null,null,null,null,null,null,null,null,null,null,3,2,3,1,3,2,3,1,3,2,3,1,3,2,3,1,null,null,null,null,null,null,null,null,null,null,null,null,null,null,null,null,null,null,3,1,3,2,3,1,3,2,3,1,3,2,3,1,3,2]
[null,null,null,null,null,null,null,null,null,null,null,null,null,null,null,null,null,null,null,null,null,null,null,5,4,2,2,5,4,2,2,5,4,2,2,5,4,2,2,null,null,null,null,null,null,null,null,null,null,null,null,null,null,null,null,null,null,2,2,5,4,2,2,5,4,2,2,5,4,2,2,5,4]
[null,null,null,null,null,null,null,null,null,null,null,null,null,null,null,null,null,null,null,null,null,null,null,2,2,1,1,2,2,1,1,2,2,1,1,2,2,1,1,null,null,null,null,null,null,null,null,null,null,null,null,null,null,null,null,null,null,1,1,2,2,1,1,2,2,1,1,2,2,1,1,2,2]
[null,null,null,null,null,null,null,null,null,null,null,null,null,null,null,null,null,null,null,null,null,null,null,3,1,2,2,3,1,2,2,3,1,2,2,3,1,2,2,null,null,null,null,null,null,null,null,null,null,null,null,null,null,null,null,null,null,2,2,3,1,2,2,3,1,2,2,3,1,2,2,3,1]
[null,null,null,null,null,null,null,null,null,null,null,null,null,null,null,null,null,null,null,null,null,null,null,1,2,4,3,1,2,4,3,1,2,4,3,1,2,4,3,null,null,null,null,null,null,null,null,null,null,null,null,null,null,null,null,null,null,4,3,1,2,4,3,1,2,4,3,1,2,4,3,1,2]

{"sheet":"sekolah","index":13,"n_rows":31,"n_cols":8,"rows_kept":31,"cut":false,"hidden":true,"merged":[[27,4,27,7],[19,5,19,6],[23,4,23,7],[24,4,24,7],[25,4,25,7],[26,4,26,7],[4,4,4,7],[5,4,5,7],[6,4,6,7],[7,4,7,7],[10,4,10,7],[9,4,9,7],[8,3,8,7],[11,4,11,7],[29,4,29,7],[30,4,30,7],[31,4,31,7],[32,4,32,7],[12,4,12,7],[13,4,13,7],[14,4,14,7],[15,4,15,7],[28,4,28,7],[16,4,16,7],[17,4,17,7],[18,4,18,7],[20,4,20,7],[21,4,21,7],[22,4,22,7]]}
[121235270083]
[null,null,null,"DATA MADRASAH"]
[]
[]
[null,null,null,"Nama Madrasah","MTs Nurul Hidayah"]
[null,null,null,"NSM",{"$f":"A1","v":121235270083}]
[null,null,null,"NPSN"]
[null,null,null,"Jenjang",{"$f":"data!$H$4","v":"MTS"}]
[]
[null,null,null,"Alamat Madrasah","Dusun Rominah Desa Rohayu Kedungdung Sampang"]
[null,null,null,"Desa "]
[null,null,null,"Kecamatan"]
[null,null,null,"Kabupaten"]
[null,null,null,"Kode Pos"]
[null,null,null,"Email"]
[null,null,null,"Website"]
[null,null,null,"Telp."]
[null,null,null,"Nama Kepala Madrasah","Syafaruddin,M.MPd"]
[null,null,null,"NIP","198112102005011004"]
[null,null,null,"Kelas",9,null,null,"C"]
[null,null,null,"Semester","Genap"]
[null,null,null,"Tahun Pelajaran","2017 / 2018"]
[null,null,null,"Nama Wali Kelas","Rusli,MPd"]
[null,null,null,"NIP"]
[null,null,null,"Tempat tanggal cover Raport"]
[null,null,null,"Tempat tanggal Raport PAS","Sampang, 6 Desember 2018"]
[null,null,null,"Tempat tanggal Raport PAT","Sampang, 17 Juni 2019"]
[null,null,null,"Tempat tanggal PTS ganjil","Sampang, 12 Oktober 2018"]
[null,null,null,"Tempat tanggal PTS genap","Sampang, 17 maret 2019"]
[null,null,null,"Tempat tanggal induk ganjil","Sampang, 4 Desember 2018"]
[null,null,null,"Tempat tanggal induk genap","Sampang, 8 Juni 2019"]

{"sheet":"raport","index":14,"n_rows":106,"n_cols":62,"rows_kept":106,"cut":false,"hidden":true,"merged":[[45,11,45,25],[52,4,52,9],[53,4,53,9],[54,4,54,9],[52,11,52,25],[51,11,51,25],[75,10,75,25],[53,11,53,25],[62,4,62,9],[62,10,62,17],[62,18,62,25],[63,4,63,9],[64,4,64,9],[64,10,64,17],[63,10,63,17],[63,18,63,25],[64,18,64,25],[57,3,59,25],[67,4,67,9],[68,4,68,9],[69,4,69,9],[48,4,48,9],[46,11,46,25],[70,4,70,9],[47,11,47,25],[48,11,48,25],[54,11,54,25],[46,4,46,9],[47,4,47,9],[62,34,62,41],[63,34,63,41],[63,42,63,48],[64,34,64,41],[64,42,64,48],[46,28,46,33],[62,28,62,33],[63,28,63,33],[51,28,51,33],[52,28,52,33],[53,28,53,33],[57,27,59,48],[67,34,67,48],[68,34,68,48],[77,28,77,33],[77,34,77,48],[69,34,69,48],[70,34,70,48],[71,34,71,48],[77,4,77,9],[80,3,80,9],[74,10,74,25],[68,28,68,33],[69,28,69,33],[76,4,76,9],[71,4,71,9],[67,10,67,25],[68,10,68,25],[69,10,69,25],[70,10,70,25],[71,10,71,25],[74,4,74,9],[75,4,75,9],[81,3,81,9],[80,10,80,12],[81,10,81,12],[76,10,76,25],[79,18,79,25],[80,18,81,25],[81,27,81,33],[80,27,80,33],[82,40,83,40],[82,18,82,22],[77,10,77,25],[79,17,81,17],[82,23,83,25],[82,3,82,9],[82,10,82,12],[82,17,83,17],[76,28,76,33],[82,27,82,33],[83,18,83,22],[82,41,82,45],[45,35,45,48],[46,35,46,48],[47,35,47,48],[74,28,74,33],[48,35,48,48],[51,35,51,48],[52,35,52,48],[53,35,53,48],[54,35,54,48],[62,42,62,48],[70,28,70,33],[71,28,71,33],[75,28,75,33],[64,28,64,33],[79,41,79,48],[82,46,83,48],[79,40,81,40],[80,34,80,36],[80,41,81,48],[74,34,74,48],[75,34,75,48],[76,34,76,48],[67,28,67,33],[41,28,41,32],[41,35,41,40],[41,43,41,48],[42,28,42,32],[42,35,42,40],[42,43,42,48],[38,28,38,32],[38,35,38,40],[38,43,38,48],[39,28,39,48],[40,28,40,32],[40,35,40,40],[40,43,40,48],[36,28,36,32],[36,35,36,40],[36,43,36,48],[37,28,37,32],[37,35,37,40],[37,43,37,48],[34,28,34,32],[34,35,34,40],[34,43,34,48],[35,28,35,32],[35,35,35,40],[35,43,35,48],[33,28,33,32],[33,35,33,40],[33,43,33,48],[30,28,30,32],[30,35,30,40],[30,43,30,48],[31,28,31,32],[31,35,31,40],[31,43,31,48],[28,27,29,27],[28,28,29,32],[28,33,28,40],[28,41,28,48],[29,35,29,40],[29,43,29,48],[32,28,32,32],[32,35,32,40],[32,43,32,48],[24,28,24,32],[24,35,24,40],[24,43,24,48],[25,28,25,32],[25,35,25,40],[25,43,25,48],[23,35,23,40],[23,28,23,32],[26,28,26,32],[26,35,26,40],[26,43,26,48],[23,43,23,48],[23,4,23,8],[23,12,23,17],[23,20,23,25],[20,18,20,25],[32,20,32,25],[31,12,31,17],[34,20,34,25],[30,4,30,8],[31,4,31,8],[33,12,33,17],[28,9,29,9],[26,12,26,17],[4,27,4,48],[6,32,6,40],[6,45,6,48],[7,32,7,40],[7,45,7,48],[8,32,8,40],[8,45,8,48],[4,3,4,25],[20,27,21,27],[20,28,21,32],[20,33,20,40],[20,41,20,48],[21,35,21,40],[21,43,21,48],[13,27,13,48],[9,32,9,44],[15,33,15,48],[14,33,14,48],[14,27,14,32],[15,27,15,32],[7,22,7,25],[7,8,7,17],[20,10,20,17],[8,8,8,17],[38,20,38,25],[42,4,42,8],[30,12,30,17],[38,4,38,8],[36,12,36,17],[42,20,42,25],[35,4,35,8],[36,20,36,25],[35,12,35,17],[37,12,37,17],[41,12,41,17],[39,4,39,25],[40,4,40,8],[31,20,31,25],[41,4,41,8],[40,12,40,17],[41,20,41,25],[34,4,34,8],[34,12,34,17],[42,12,42,17],[37,20,37,25],[40,20,40,25],[38,12,38,17],[6,8,6,17],[20,9,21,9],[14,9,14,25],[15,9,15,25],[20,4,21,8],[29,20,29,25],[13,3,13,25],[28,18,28,25],[29,12,29,17],[21,20,21,25],[21,12,21,17],[25,12,25,17],[25,20,25,25],[28,10,28,17],[24,12,24,17],[8,22,8,25],[6,22,6,25],[28,3,29,3],[28,4,29,8],[9,8,9,20],[14,3,14,8],[15,3,15,8],[20,3,21,3],[22,4,22,25],[83,41,83,45],[81,34,81,36],[82,34,82,36],[22,55,22,57],[22,59,22,61],[24,20,24,25],[24,4,24,8],[25,4,25,8],[26,4,26,8],[26,20,26,25],[22,28,22,48],[54,28,54,33],[32,4,32,8],[33,4,33,8],[32,12,32,17],[33,20,33,25],[35,20,35,25],[36,4,36,8],[47,28,47,33],[48,28,48,33],[45,28,45,33],[45,4,45,9],[30,20,30,25],[37,4,37,8]]}
[{"$f":"kur!$I$1","v":"MULTI KKM"},null,null,null,null,null,null,null,null,null,null,null,null,null,null,null,null,null,null,null,null,null,null,null,null,null,null,null,null,null,null,null,null,null,null,6,{"$f":"IF($W$8=\"ganjil\",\"A\",\"B\")","v":"B"},null,null,null,null,null,null,null,null,2,{"$f":"IF($W$8=\"ganjil\",1,2)","v":2}]
[{"$f":"VLOOKUP($AJ$1,siswa,3,0)","v":0},null,null,null,null,null,null,null,null,null,null,null,null,null,null,null,null,null,null,null,null,null,null,null,null,null,null,null,null,null,null,null,null,null,null,null,null,null,null,null,null,null,null,null,null,{"$f":"IF(AT1=1,\"Naik\",\"Tidak Naik\")","v":"Tidak Naik"},{"$f":"Database!$D$54","v":8}]
[{"$f":"IF($A$2=0,\"\",\" / \")","v":""}]
[{"$f":"sekolah!$E$20","v":9}]
[{"$f":"sekolah!$H$20","v":"C"},null,null,"RAPORT DAN PROFIL PESERTA DIDIK",null,null,null,null,null,null,null,null,null,null,null,null,null,null,null,null,null,null,null,null,null,null,null,"RAPORT DAN PROFIL PESERTA DIDIK"]
[{"$f":"IF($A$5=0,data!$J$5,\" \"&$A$5)","v":" C"}]
[{"$f":"IF($A$5=0,$A$4,$A$4&\" \"&$A$5)","v":"9 C"},null,null,"Nama Peserta Didik",null,null,null,":",{"$f":"VLOOKUP($AJ$1,siswa,4,0)","v":"risal"},null,null,null,null,null,null,null,null,null,null,"Kelas",null,":",{"$f":"$A$4&\" \"&$A$6","v":"9  C"},null,null,null,null,"Nama Peserta Didik",null,null,null,":",{"$f":"VLOOKUP($AJ$1,siswa,4,0)","v":"risal"},null,null,null,null,null,null,null,null,null,"Kelas",null,":",{"$f":"$A$4&\" \"&$A$6","v":"9  C"}]
[null,null,null,"NIS / NISN",null,null,null,":",{"$f":"VLOOKUP($AJ$1,siswa,2,0)&$A$3&VLOOKUP($AJ$1,siswa,3,0)","v":""},null,null,null,null,null,null,null,null,null,null,"Semester",null,":",{"$f":"sekolah!$E$21","v":"Genap"},null,null,null,null,"NIS / NISN",null,null,null,":",{"$f":"VLOOKUP($AJ$1,siswa,2,0)&$A$3&VLOOKUP($AJ$1,siswa,3,0)","v":""},null,null,null,null,null,null,null,null,null,"Semester",null,":",{"$f":"sekolah!$E$21","v":"Genap"}]
[null,null,null,"Nama Madrasah",null,null,null,":",{"$f":"sekolah!$E$5","v":"MTs Nurul Hidayah"},null,null,null,null,null,null,null,null,null,null,"Tahun Pelajaran",null,":",{"$f":"sekolah!$E$22","v":"2017 / 2018"},null,null,null,null,"Nama Madrasah",null,null,null,":",{"$f":"sekolah!$E$5","v":"MTs Nurul Hidayah"},null,null,null,null,null,null,null,null,null,"Tahun Pelajaran",null,":",{"$f":"sekolah!$E$22","v":"2017 / 2018"}]
[null,null,null,"Alamat Madrasah",null,null,null,":",{"$f":"sekolah!$E$10","v":"Dusun Rominah Desa Rohayu Kedungdung Sampang"},null,null,null,null,null,null,null,null,null,null,null,null,null,null,null,null,null,null,"Alamat Madrasah",null,null,null,":",{"$f":"sekolah!$E$10","v":"Dusun Rominah Desa Rohayu Kedungdung Sampang"}]
[]
[]
[null,null,null,"A.SIKAP",null,null,null,null,null,null,null,null,null,null,null,null,null,null,null,null,null,null,null,null,null,null,null,"A.SIKAP"]
[null,null,null,"Deskripsi",null,null,null,null,null,null,null,null,null,null,null,null,null,null,null,null,null,null,null,null,null,null,null,"Deskripsi"]
[null,null,null,"1. Sikap Spiritual",null,null,null,null,null,{"$f":"IF($W$8=\"ganjil\",VLOOKUP($AJ$1,sosial1,9,0),VLOOKUP($AJ$1,sosial2,9,0))","v":""},null,null,null,null,null,null,null,null,null,null,null,null,null,null,null,null,null,"1. Sikap Spiritual",null,null,null,null,null,{"$f":"IF($W$8=\"ganjil\",VLOOKUP($AJ$1,sosial1,9,0),VLOOKUP($AJ$1,sosial2,9,0))","v":""}]
[null,null,null,"2. Sikap Sosial",null,null,null,null,null,{"$f":"IF($W$8=\"ganjil\",VLOOKUP($AJ$1,sosial1,17,0),VLOOKUP($AJ$1,sosial2,17,0))","v":""},null,null,null,null,null,null,null,null,null,null,null,null,null,null,null,null,null,"2. Sikap Sosial",null,null,null,null,null,{"$f":"IF($W$8=\"ganjil\",VLOOKUP($AJ$1,sosial1,17,0),VLOOKUP($AJ$1,sosial2,17,0))","v":""}]
[]
[{"$f":"sekolah!$I$3","v":0},null,null,"B. PENGETAHUAN DAN KETRAMPILAN",null,null,null,null,null,null,null,null,null,null,null,null,null,null,null,null,null,null,null,null,null,null,null,"B. PENGETAHUAN DAN KETRAMPILAN"]
[]
[null,null,null,null,null,null,null,null,null,null,null,null,null,null,null,null,null,null,null,null,null,null,null,null,null,null,null,{"$f":"\"KKM Satuan Pendidikan : \"&kur!$N$5","v":"KKM Satuan Pendidikan : 75"}]
[{"$f":"sekolah!$E$20","v":9},null,null,"No","Muatan Pelajaran",null,null,null,null,"KKM","Pengetahuan",null,null,null,null,null,null,null,"Ketrampilan",null,null,null,null,null,null,null,null,"No","Muatan Pelajaran",null,null,null,null,"Pengetahuan",null,null,null,null,null,null,null,"Ketrampilan"]
[null,null,null,null,null,null,null,null,null,null,"Nilai","Predikat","Deskripsi",null,null,null,null,null,"Nilai","Predikat","Deskripsi",null,null,null,null,null,null,null,null,null,null,null,null,"Nilai","Predikat","Deskripsi",null,null,null,null,null,"Nilai","Predikat","Deskripsi"]
[null,null,null,1,"Pendidikan Agama Islam",null,null,null,null,null,null,null,null,null,null,null,null,null,null,null,null,null,null,null,null,null,null,1,"Pendidikan Agama Islam",null,null,null,null,null,null,null,null,null,null,null,null,null,null,null,null,null,null,null,null,null,null,null,null,null,null,"PENGETAHUAN",null,null,null,"KETRAMPILAN"]
[null,null,null,null,"a. Al-Qur'an Hadits",null,null,null,null,{"$f":"kur!$H6","v":45},{"$f":"IF($W$8=\"ganjil\",VLOOKUP($AJ$1,nil.ganjil,3,0),VLOOKUP($AJ$1,nil.genap,3,0))","v":67},{"$f":"IF(K24>=$A91,\"A\",IF(K24>=$B91,\"B\",IF(K24>=$C91,\"C\",\"D\")))","v":"B"},{"$f":"IFERROR(CONCATENATE(\"Ananda\",\" \",$BA24,\" \",$BC24,\" dalam \",INDEX(deskripsi,MATCH(INDEX(mupel,MATCH($BB24,INDEX(mupel,0,2),0),1) & TEXT($A$4,\"00\") & $AK$1,indeks,0),$BE24),\" dan \",$BC24,\" dalam \",INDEX(deskripsi,MATCH(INDEX(mupel,MATCH($BB24,INDEX(mupel,0,2),0),1) & TEXT($A$4,\"00\") & $AK$1,indeks,0),$BF24),\".\"),\"\")","v":"Ananda risal BAIK dalam memahami ketentuan hukum mad lazim mukhaffaf kilmi, musaqqal kilmi, mad lazim musaqqal harfi, dan mad lazim mukhaffaa harfi dalam Al-Qur`an  dan BAIK dalam memahami keterkaitan isi kandungan hadis riwayat Al-Bukhari dari Abdullah bin Umar\nكُنْفِيالدُّنْيَا كَأَنَّكَغَرِيْب...tentang perilaku menghargai waktu dan hadis riwayat Ibnu majah dari Anas bin Malik طَلَبُالْعِلْمِفَرِيْضَةٌعَلَىكُلِمُسْلِمٍ."},null,null,null,null,null,{"$f":"IF($W$8=\"ganjil\",VLOOKUP($AJ$1,nil.ganjil,19,0),VLOOKUP($AJ$1,nil.genap,19,0))","v":69},{"$f":"IF(S24>=$A91,\"A\",IF(S24>=$B91,\"B\",IF(S24>=$C91,\"C\",\"D\")))","v":"B"},{"$f":"IFERROR(CONCATENATE(\"Ananda\",\" \",$BA24,\" \",$BG24,\" dalam \",INDEX(deskripsi4,MATCH(INDEX(mupel,MATCH($BB24,INDEX(mupel,0,2),0),1) & TEXT($A$4,\"00\") & $AK$1,indeks,0),$BI24),\" dan \",$BG24,\" dalam \",INDEX(deskripsi4,MATCH(INDEX(mupel,MATCH($BB24,INDEX(mupel,0,2),0),1) & TEXT($A$4,\"00\") & $AK$1,indeks,0),$BJ24),\".\"),\"\")","v":"Ananda risal BAIK dalam menyajikan data  tentang pemanfaatan waktu dan menuntut ilmu sesuai  isi kandungan Q.S. al-‘Asr (03) dan Q.S. al-‘Alaq (96)  dan BAIK dalam mempraktikkan hukum mad lazim mukhaffaf kilmi, musaqqal kilmi, mad lazim musaqqal harfi, dan mad lazim mukhaffaa harfi dalam Al-Qur`an."},null,null,null,null,null,null,null,"a. Al-Qur'an Hadits",null,null,null,null,{"$f":"IF($W$8=\"ganjil\",VLOOKUP($AJ$1,nil.ganjil,3,0),VLOOKUP($AJ$1,nil.genap,3,0))","v":67},{"$f":"IF(AH24>=$A91,\"A\",IF(AH24>=$B91,\"B\",IF(AH24>=$C91,\"C\",\"D\")))","v":"B"},{"$f":"IFERROR(CONCATENATE(\"Ananda\",\" \",$BA24,\" \",$BC24,\" dalam \",INDEX(deskripsi,MATCH(INDEX(mupel,MATCH($BB24,INDEX(mupel,0,2),0),1) & TEXT($A$4,\"00\") & $AK$1,indeks,0),$BE24),\" dan \",$BC24,\" dalam \",INDEX(deskripsi,MATCH(INDEX(mupel,MATCH($BB24,INDEX(mupel,0,2),0),1) & TEXT($A$4,\"00\") & $AK$1,indeks,0),$BF24),\".\"),\"\")","v":"Ananda risal BAIK dalam memahami ketentuan hukum mad lazim mukhaffaf kilmi, musaqqal kilmi, mad lazim musaqqal harfi, dan mad lazim mukhaffaa harfi dalam Al-Qur`an  dan BAIK dalam memahami keterkaitan isi kandungan hadis riwayat Al-Bukhari dari Abdullah bin Umar\nكُنْفِيالدُّنْيَا كَأَنَّكَغَرِيْب...tentang perilaku menghargai waktu dan hadis riwayat Ibnu majah dari Anas bin Malik طَلَبُالْعِلْمِفَرِيْضَةٌعَلَىكُلِمُسْلِمٍ."},null,null,null,null,null,{"$f":"IF($W$8=\"ganjil\",VLOOKUP($AJ$1,nil.ganjil,19,0),VLOOKUP($AJ$1,nil.genap,19,0))","v":69},{"$f":"IF(AP24>=$A91,\"A\",IF(AP24>=$B91,\"B\",IF(AP24>=$C91,\"C\",\"D\")))","v":"B"},{"$f":"IFERROR(CONCATENATE(\"Ananda\",\" \",$BA24,\" \",$BG24,\" dalam \",INDEX(deskripsi4,MATCH(INDEX(mupel,MATCH($BB24,INDEX(mupel,0,2),0),1) & TEXT($A$4,\"00\") & $AK$1,indeks,0),$BI24),\" dan \",$BG24,\" dalam \",INDEX(deskripsi4,MATCH(INDEX(mupel,MATCH($BB24,INDEX(mupel,0,2),0),1) & TEXT($A$4,\"00\") & $AK$1,indeks,0),$BJ24),\".\"),\"\")","v":"Ananda risal BAIK dalam menyajikan data  tentang pemanfaatan waktu dan menuntut ilmu sesuai  isi kandungan Q.S. al-‘Asr (03) dan Q.S. al-‘Alaq (96)  dan BAIK dalam mempraktikkan hukum mad lazim mukhaffaf kilmi, musaqqal kilmi, mad lazim musaqqal harfi, dan mad lazim mukhaffaa harfi dalam Al-Qur`an."},null,null,null,null,null,null,null,null,{"$f":"$I$7","v":"risal"},{"$f":"IF(kur!$D6=\"\",\"\",kur!$D6)","v":"Al-Qur'an Hadits"},{"$f":"IF(L24=\"A\",\"SANGAT BAIK\",IF(L24=\"B\",\"BAIK\",IF(L24=\"C\",\"CUKUP BAIK\",\"PERLU BIMBINGAN\")))","v":"BAIK"},{"$f":"IFERROR(INDEX(data3,MATCH(INDEX(mupel,MATCH($BB24,INDEX(mupel,0,2),0),1) & TEXT($A$4,\"00\") & $AK$1,indeks,0),COLUMNS(data3)),\"\")","v":3},{"$f":"IF(LEN($BD24),AcakIndeksBaris(0,$BD24),\"\")","v":1},{"$f":"IF(LEN($BE24),AcakIndeksBaris($BE24,$BD24),\"\")","v":3},{"$f":"IF(T24=\"A\",\"SANGAT BAIK\",IF(T24=\"B\",\"BAIK\",IF(T24=\"C\",\"CUKUP BAIK\",\"PERLU BIMBINGAN\")))","v":"BAIK"},{"$f":"IFERROR(INDEX(data4,MATCH(INDEX(mupel,MATCH($BB24,INDEX(mupel,0,2),0),1) & TEXT($A$4,\"00\") & $AK$1,indeks4,0),COLUMNS(data4)),\"\")","v":3},{"$f":"IF(LEN($BH24),AcakIndeksBaris(0,$BH24),\"\")","v":2},{"$f":"IF(LEN($BI24),AcakIndeksBaris($BI24,$BH24),\"\")","v":1}]
[null,null,null,null,"b.Akidah Akhlak",null,null,null,null,{"$f":"kur!$H7","v":56},{"$f":"IF($W$8=\"ganjil\",VLOOKUP($AJ$1,nil.ganjil,4,0),VLOOKUP($AJ$1,nil.genap,4,0))","v":76},{"$f":"IF(K25>=$A92,\"A\",IF(K25>=$B92,\"B\",IF(K25>=$C92,\"C\",\"D\")))","v":"B"},{"$f":"IFERROR(CONCATENATE(\"Ananda\",\" \",$BA25,\" \",$BC25,\" dalam \",INDEX(deskripsi,MATCH(INDEX(mupel,MATCH($BB25,INDEX(mupel,0,2),0),1) & TEXT($A$4,\"00\") & $AK$1,indeks,0),$BE25),\" dan \",$BC25,\" dalam \",INDEX(deskripsi,MATCH(INDEX(mupel,MATCH($BB25,INDEX(mupel,0,2),0),1) & TEXT($A$4,\"00\") & $AK$1,indeks,0),$BF25),\".\"),\"\")","v":"Ananda risal BAIK dalam menganalisis kisah keteladanan sahabat Usman bin Affan r.a, dan Ali bin Abi Talib k.w. dan BAIK dalam memahami adab terhadap lingkungan, yaitu kepada binatang dan tumbuhan di tempat umum, dan di jalan."},null,null,null,null,null,{"$f":"IF($W$8=\"ganjil\",VLOOKUP($AJ$1,nil.ganjil,20,0),VLOOKUP($AJ$1,nil.genap,20,0))","v":78},{"$f":"IF(S25>=$A92,\"A\",IF(S25>=$B92,\"B\",IF(S25>=$C92,\"C\",\"D\")))","v":"B"},{"$f":"IFERROR(CONCATENATE(\"Ananda\",\" \",$BA25,\" \",$BG25,\" dalam \",INDEX(deskripsi4,MATCH(INDEX(mupel,MATCH($BB25,INDEX(mupel,0,2),0),1) & TEXT($A$4,\"00\") & $AK$1,indeks,0),$BI25),\" dan \",$BG25,\" dalam \",INDEX(deskripsi4,MATCH(INDEX(mupel,MATCH($BB25,INDEX(mupel,0,2),0),1) & TEXT($A$4,\"00\") & $AK$1,indeks,0),$BJ25),\".\"),\"\")","v":"Ananda risal BAIK dalam mensimulasikan adab terhadap lingkungan, yaitu kepada binatang dan tumbuhan di tempat umum dan di jalan dan BAIK dalam mensimulasikan contoh perilaku terpujidan dampak negatif perilaku tercela dalam pergaulan remaja."},null,null,null,null,null,null,null,"b.Akidah Akhlak",null,null,null,null,{"$f":"IF($W$8=\"ganjil\",VLOOKUP($AJ$1,nil.ganjil,4,0),VLOOKUP($AJ$1,nil.genap,4,0))","v":76},{"$f":"IF(AH25>=$A92,\"A\",IF(AH25>=$B92,\"B\",IF(AH25>=$C92,\"C\",\"D\")))","v":"B"},{"$f":"IFERROR(CONCATENATE(\"Ananda\",\" \",$BA25,\" \",$BC25,\" dalam \",INDEX(deskripsi,MATCH(INDEX(mupel,MATCH($BB25,INDEX(mupel,0,2),0),1) & TEXT($A$4,\"00\") & $AK$1,indeks,0),$BE25),\" dan \",$BC25,\" dalam \",INDEX(deskripsi,MATCH(INDEX(mupel,MATCH($BB25,INDEX(mupel,0,2),0),1) & TEXT($A$4,\"00\") & $AK$1,indeks,0),$BF25),\".\"),\"\")","v":"Ananda risal BAIK dalam menganalisis kisah keteladanan sahabat Usman bin Affan r.a, dan Ali bin Abi Talib k.w. dan BAIK dalam memahami adab terhadap lingkungan, yaitu kepada binatang dan tumbuhan di tempat umum, dan di jalan."},null,null,null,null,null,{"$f":"IF($W$8=\"ganjil\",VLOOKUP($AJ$1,nil.ganjil,20,0),VLOOKUP($AJ$1,nil.genap,20,0))","v":78},{"$f":"IF(AP25>=$A92,\"A\",IF(AP25>=$B92,\"B\",IF(AP25>=$C92,\"C\",\"D\")))","v":"B"},{"$f":"IFERROR(CONCATENATE(\"Ananda\",\" \",$BA25,\" \",$BG25,\" dalam \",INDEX(deskripsi4,MATCH(INDEX(mupel,MATCH($BB25,INDEX(mupel,0,2),0),1) & TEXT($A$4,\"00\") & $AK$1,indeks,0),$BI25),\" dan \",$BG25,\" dalam \",INDEX(deskripsi4,MATCH(INDEX(mupel,MATCH($BB25,INDEX(mupel,0,2),0),1) & TEXT($A$4,\"00\") & $AK$1,indeks,0),$BJ25),\".\"),\"\")","v":"Ananda risal BAIK dalam mensimulasikan adab terhadap lingkungan, yaitu kepada binatang dan tumbuhan di tempat umum dan di jalan dan BAIK dalam mensimulasikan contoh perilaku terpujidan dampak negatif perilaku tercela dalam pergaulan remaja."},null,null,null,null,null,null,null,null,{"$f":"$I$7","v":"risal"},{"$f":"IF(kur!$D7=\"\",\"\",kur!$D7)","v":"Akidah Akhlak"},{"$f":"IF(L25=\"A\",\"SANGAT BAIK\",IF(L25=\"B\",\"BAIK\",IF(L25=\"C\",\"CUKUP BAIK\",\"PERLU BIMBINGAN\")))","v":"BAIK"},{"$f":"IFERROR(INDEX(data3,MATCH(INDEX(mupel,MATCH($BB25,INDEX(mupel,0,2),0),1) & TEXT($A$4,\"00\") & $AK$1,indeks,0),COLUMNS(data3)),\"\")","v":4},{"$f":"IF(LEN($BD25),AcakIndeksBaris(0,$BD25),\"\")","v":4},{"$f":"IF(LEN($BE25),AcakIndeksBaris($BE25,$BD25),\"\")","v":3},{"$f":"IF(T25=\"A\",\"SANGAT BAIK\",IF(T25=\"B\",\"BAIK\",IF(T25=\"C\",\"CUKUP BAIK\",\"PERLU BIMBINGAN\")))","v":"BAIK"},{"$f":"IFERROR(INDEX(data4,MATCH(INDEX(mupel,MATCH($BB25,INDEX(mupel,0,2),0),1) & TEXT($A$4,\"00\") & $AK$1,indeks4,0),COLUMNS(data4)),\"\")","v":4},{"$f":"IF(LEN($BH25),AcakIndeksBaris(0,$BH25),\"\")","v":3},{"$f":"IF(LEN($BI25),AcakIndeksBaris($BI25,$BH25),\"\")","v":2}]
[null,null,null,null,"c. Fikih",null,null,null,null,{"$f":"kur!$H8","v":76},{"$f":"IF($W$8=\"ganjil\",VLOOKUP($AJ$1,nil.ganjil,5,0),VLOOKUP($AJ$1,nil.genap,5,0))","v":74},{"$f":"IF(K26>=$A93,\"A\",IF(K26>=$B93,\"B\",IF(K26>=$C93,\"C\",\"D\")))","v":"D"},{"$f":"IFERROR(CONCATENATE(\"Ananda\",\" \",$BA26,\" \",$BC26,\" dalam \",INDEX(deskripsi,MATCH(INDEX(mupel,MATCH($BB26,INDEX(mupel,0,2),0),1) & TEXT($A$4,\"00\") & $AK$1,indeks,0),$BE26),\" dan \",$BC26,\" dalam \",INDEX(deskripsi,MATCH(INDEX(mupel,MATCH($BB26,INDEX(mupel,0,2),0),1) & TEXT($A$4,\"00\") & $AK$1,indeks,0),$BF26),\".\"),\"\")","v":"Ananda risal PERLU BIMBINGAN dalam memahami ketentuan waris dan PERLU BIMBINGAN dalam memahami ketentuan pinjam- meminjam ."},null,null,null,null,null,{"$f":"IF($W$8=\"ganjil\",VLOOKUP($AJ$1,nil.ganjil,21,0),VLOOKUP($AJ$1,nil.genap,21,0))","v":76},{"$f":"IF(S26>=$A93,\"A\",IF(S26>=$B93,\"B\",IF(S26>=$C93,\"C\",\"D\")))","v":"C"},{"$f":"IFERROR(CONCATENATE(\"Ananda\",\" \",$BA26,\" \",$BG26,\" dalam \",INDEX(deskripsi4,MATCH(INDEX(mupel,MATCH($BB26,INDEX(mupel,0,2),0),1) & TEXT($A$4,\"00\") & $AK$1,indeks,0),$BI26),\" dan \",$BG26,\" dalam \",INDEX(deskripsi4,MATCH(INDEX(mupel,MATCH($BB26,INDEX(mupel,0,2),0),1) & TEXT($A$4,\"00\") & $AK$1,indeks,0),$BJ26),\".\"),\"\")","v":"Ananda risal CUKUP BAIK dalam mensimulasikan tata cara pelaksanaan pemberian upah dan CUKUP BAIK dalam mendemonstrasikan pelaksanaan pinjam-meminjam ."},null,null,null,null,null,null,null,"c. Fikih",null,null,null,null,{"$f":"IF($W$8=\"ganjil\",VLOOKUP($AJ$1,nil.ganjil,5,0),VLOOKUP($AJ$1,nil.genap,5,0))","v":74},{"$f":"IF(AH26>=$A93,\"A\",IF(AH26>=$B93,\"B\",IF(AH26>=$C93,\"C\",\"D\")))","v":"D"},{"$f":"IFERROR(CONCATENATE(\"Ananda\",\" \",$BA26,\" \",$BC26,\" dalam \",INDEX(deskripsi,MATCH(INDEX(mupel,MATCH($BB26,INDEX(mupel,0,2),0),1) & TEXT($A$4,\"00\") & $AK$1,indeks,0),$BE26),\" dan \",$BC26,\" dalam \",INDEX(deskripsi,MATCH(INDEX(mupel,MATCH($BB26,INDEX(mupel,0,2),0),1) & TEXT($A$4,\"00\") & $AK$1,indeks,0),$BF26),\".\"),\"\")","v":"Ananda risal PERLU BIMBINGAN dalam memahami ketentuan waris dan PERLU BIMBINGAN dalam memahami ketentuan pinjam- meminjam ."},null,null,null,null,null,{"$f":"IF($W$8=\"ganjil\",VLOOKUP($AJ$1,nil.ganjil,21,0),VLOOKUP($AJ$1,nil.genap,21,0))","v":76},{"$f":"IF(AP26>=$A93,\"A\",IF(AP26>=$B93,\"B\",IF(AP26>=$C93,\"C\",\"D\")))","v":"C"},{"$f":"IFERROR(CONCATENATE(\"Ananda\",\" \",$BA26,\" \",$BG26,\" dalam \",INDEX(deskripsi4,MATCH(INDEX(mupel,MATCH($BB26,INDEX(mupel,0,2),0),1) & TEXT($A$4,\"00\") & $AK$1,indeks,0),$BI26),\" dan \",$BG26,\" dalam \",INDEX(deskripsi4,MATCH(INDEX(mupel,MATCH($BB26,INDEX(mupel,0,2),0),1) & TEXT($A$4,\"00\") & $AK$1,indeks,0),$BJ26),\".\"),\"\")","v":"Ananda risal CUKUP BAIK dalam mensimulasikan tata cara pelaksanaan pemberian upah dan CUKUP BAIK dalam mendemonstrasikan pelaksanaan pinjam-meminjam ."},null,null,null,null,null,null,null,null,"risal",{"$f":"IF(kur!$D8=\"\",\"\",kur!$D8)","v":"Fikih"},{"$f":"IF(L26=\"A\",\"SANGAT BAIK\",IF(L26=\"B\",\"BAIK\",IF(L26=\"C\",\"CUKUP BAIK\",\"PERLU BIMBINGAN\")))","v":"PERLU BIMBINGAN"},{"$f":"IFERROR(INDEX(data3,MATCH(INDEX(mupel,MATCH($BB26,INDEX(mupel,0,2),0),1) & TEXT($A$4,\"00\") & $AK$1,indeks,0),COLUMNS(data3)),\"\")","v":6},{"$f":"IF(LEN($BD26),AcakIndeksBaris(0,$BD26),\"\")","v":6},{"$f":"IF(LEN($BE26),AcakIndeksBaris($BE26,$BD26),\"\")","v":1},{"$f":"IF(T26=\"A\",\"SANGAT BAIK\",IF(T26=\"B\",\"BAIK\",IF(T26=\"C\",\"CUKUP BAIK\",\"PERLU BIMBINGAN\")))","v":"CUKUP BAIK"},{"$f":"IFERROR(INDEX(data4,MATCH(INDEX(mupel,MATCH($BB26,INDEX(mupel,0,2),0),1) & TEXT($A$4,\"00\") & $AK$1,indeks4,0),COLUMNS(data4)),\"\")","v":6},{"$f":"IF(LEN($BH26),AcakIndeksBaris(0,$BH26),\"\")","v":4},{"$f":"IF(LEN($BI26),AcakIndeksBaris($BI26,$BH26),\"\")","v":1}]
[null,null,null,null,{"$f":"IF($A$4<3,\"\",\"d. Sejarah Kebudayan Islam\")","v":"d. Sejarah Kebudayan Islam"},null,null,null,null,{"$f":"IF(E27=\"\",\"\",kur!$H10)","v":56},{"$f":"IF(E27=\"\",\"\",IF($W$8=\"ganjil\",VLOOKUP($AJ$1,nil.ganjil,7,0),VLOOKUP($AJ$1,nil.genap,7,0)))","v":67},{"$f":"IF(E27=\"\",\"\",IF(K27>=$A95,\"A\",IF(K27>=$B95,\"B\",IF(K27>=$C95,\"C\",\"D\"))))","v":"C"},{"$f":"IFERROR(CONCATENATE(\"Ananda\",\" \",$BA27,\" \",$BC27,\" dalam \",INDEX(deskripsi,MATCH(INDEX(mupel,MATCH($BB27,INDEX(mupel,0,2),0),1) & TEXT($A$4,\"00\") & $AK$1,indeks,0),$BE27),\" dan \",$BC27,\" dalam \",INDEX(deskripsi,MATCH(INDEX(mupel,MATCH($BB27,INDEX(mupel,0,2),0),1) & TEXT($A$4,\"00\") & $AK$1,indeks,0),$BF27),\".\"),\"\")","v":"Ananda risal CUKUP BAIK dalam memahami bentuk tradisi umat Islam (Jawa, Sunda, Melayu, Bugis, Minang, Madura) dan CUKUP BAIK dalam memahami bentuk seni budaya lokal(Wayang, Kasidah, dan Hadrah)."},null,null,null,null,null,{"$f":"IF($W$8=\"ganjil\",VLOOKUP($AJ$1,nil.ganjil,23,0),VLOOKUP($AJ$1,nil.genap,23,0))","v":69},{"$f":"IF(M27=\"\",\"\",IF(S27>=$A95,\"A\",IF(S27>=$B95,\"B\",IF(S27>=$C95,\"C\",\"D\"))))","v":"C"},{"$f":"IFERROR(CONCATENATE(\"Ananda\",\" \",$BA27,\" \",$BG27,\" dalam \",INDEX(deskripsi4,MATCH(INDEX(mupel,MATCH($BB27,INDEX(mupel,0,2),0),1) & TEXT($A$4,\"00\") & $AK$1,indeks,0),$BI27),\" dan \",$BG27,\" dalam \",INDEX(deskripsi4,MATCH(INDEX(mupel,MATCH($BB27,INDEX(mupel,0,2),0),1) & TEXT($A$4,\"00\") & $AK$1,indeks,0),$BJ27),\".\"),\"\")","v":"Ananda risal CUKUP BAIK dalam memaparkan bentuk tradisi umat Islam (di Jawa, Sunda, Melayu, Bugis, Minang, Madura) dan CUKUP BAIK dalam mensimulasikan contoh seni budaya lokal(Wayang, Kasidah, dan Hadrah)."},null,null,null,null,null,null,null,{"$f":"IF($A$4<3,\"\",\"d. Sejarah Kebudayan Islam\")","v":"d. Sejarah Kebudayan Islam"},null,null,null,null,{"$f":"IF(AC27=\"\",\"\",IF($W$8=\"ganjil\",VLOOKUP($AJ$1,nil.ganjil,7,0),VLOOKUP($AJ$1,nil.genap,7,0)))","v":67},{"$f":"IF(AC27=\"\",\"\",IF(AH27>=$A95,\"A\",IF(AH27>=$B95,\"B\",IF(AH27>=$C95,\"C\",\"D\"))))","v":"C"},{"$f":"IFERROR(CONCATENATE(\"Ananda\",\" \",$BA27,\" \",$BC27,\" dalam \",INDEX(deskripsi,MATCH(INDEX(mupel,MATCH($BB27,INDEX(mupel,0,2),0),1) & TEXT($A$4,\"00\") & $AK$1,indeks,0),$BE27),\" dan \",$BC27,\" dalam \",INDEX(deskripsi,MATCH(INDEX(mupel,MATCH($BB27,INDEX(mupel,0,2),0),1) & TEXT($A$4,\"00\") & $AK$1,indeks,0),$BF27),\".\"),\"\")","v":"Ananda risal CUKUP BAIK dalam memahami bentuk tradisi umat Islam (Jawa, Sunda, Melayu, Bugis, Minang, Madura) dan CUKUP BAIK dalam memahami bentuk seni budaya lokal(Wayang, Kasidah, dan Hadrah)."},null,null,null,null,null,{"$f":"IF($W$8=\"ganjil\",VLOOKUP($AJ$1,nil.ganjil,23,0),VLOOKUP($AJ$1,nil.genap,23,0))","v":69},{"$f":"IF(AJ27=\"\",\"\",IF(AP27>=$A95,\"A\",IF(AP27>=$B95,\"B\",IF(AP27>=$C95,\"C\",\"D\"))))","v":"C"},{"$f":"IFERROR(CONCATENATE(\"Ananda\",\" \",$BA27,\" \",$BG27,\" dalam \",INDEX(deskripsi4,MATCH(INDEX(mupel,MATCH($BB27,INDEX(mupel,0,2),0),1) & TEXT($A$4,\"00\") & $AK$1,indeks,0),$BI27),\" dan \",$BG27,\" dalam \",INDEX(deskripsi4,MATCH(INDEX(mupel,MATCH($BB27,INDEX(mupel,0,2),0),1) & TEXT($A$4,\"00\") & $AK$1,indeks,0),$BJ27),\".\"),\"\")","v":"Ananda risal CUKUP BAIK dalam memaparkan bentuk tradisi umat Islam (di Jawa, Sunda, Melayu, Bugis, Minang, Madura) dan CUKUP BAIK dalam mensimulasikan contoh seni budaya lokal(Wayang, Kasidah, dan Hadrah)."},null,null,null,null,null,null,null,null,"risal",{"$f":"IF(kur!$D10=\"\",\"\",kur!$D10)","v":"Sejarah Kebudayaan Islam"},{"$f":"IF(L27=\"A\",\"SANGAT BAIK\",IF(L27=\"B\",\"BAIK\",IF(L27=\"C\",\"CUKUP BAIK\",\"PERLU BIMBINGAN\")))","v":"CUKUP BAIK"},{"$f":"IFERROR(INDEX(data3,MATCH(INDEX(mupel,MATCH($BB27,INDEX(mupel,0,2),0),1) & TEXT($A$4,\"00\") & $AK$1,indeks,0),COLUMNS(data3)),\"\")","v":4},{"$f":"IF(LEN($BD27),AcakIndeksBaris(0,$BD27),\"\")","v":2},{"$f":"IF(LEN($BE27),AcakIndeksBaris($BE27,$BD27),\"\")","v":1},{"$f":"IF(T27=\"A\",\"SANGAT BAIK\",IF(T27=\"B\",\"BAIK\",IF(T27=\"C\",\"CUKUP BAIK\",\"PERLU BIMBINGAN\")))","v":"CUKUP BAIK"},{"$f":"IFERROR(INDEX(data4,MATCH(INDEX(mupel,MATCH($BB27,INDEX(mupel,0,2),0),1) & TEXT($A$4,\"00\") & $AK$1,indeks4,0),COLUMNS(data4)),\"\")","v":4},{"$f":"IF(LEN($BH27),AcakIndeksBaris(0,$BH27),\"\")","v":2},{"$f":"IF(LEN($BI27),AcakIndeksBaris($BI27,$BH27),\"\")","v":3}]
[]
[null,null,null,"No","Muatan Pelajaran",null,null,null,null,"KKM","Pengetahuan",null,null,null,null,null,null,null,"Ketrampilan",null,null,null,null,null,null,null,null,"No","Muatan Pelajaran",null,null,null,null,"Pengetahuan",null,null,null,null,null,null,null,"Ketrampilan"]
[null,null,null,null,null,null,null,null,null,null,"Nilai","Predikat","Deskripsi",null,null,null,null,null,"Nilai","Predikat","Deskripsi",null,null,null,null,null,null,null,null,null,null,null,null,"Nilai","Predikat","Deskripsi",null,null,null,null,null,"Nilai","Predikat","Deskripsi"]
[2,null,null,2,"Pendidikan Pancasila dan Kewarganegaraan",null,null,null,null,{"$f":"kur!$H12","v":74},{"$f":"IF($W$8=\"ganjil\",VLOOKUP($AJ$1,nil.ganjil,8,0),VLOOKUP($AJ$1,nil.genap,8,0))","v":76},{"$f":"IF(K31>=$A96,\"A\",IF(K31>=$B96,\"B\",IF(K31>=$C96,\"C\",\"D\")))","v":"C"},{"$f":"IFERROR(CONCATENATE(\"Ananda\",\" \",$BA31,\" \",$BC31,\" dalam \",INDEX(deskripsi,MATCH(INDEX(mupel,MATCH($BB31,INDEX(mupel,0,2),0),1) & TEXT($A$4,\"00\") & $AK$1,indeks,0),$BE31),\" dan \",$BC31,\" dalam \",INDEX(deskripsi,MATCH(INDEX(mupel,MATCH($BB31,INDEX(mupel,0,2),0),1) & TEXT($A$4,\"00\") & $AK$1,indeks,0),$BF31),\".\"),\"\")","v":"Ananda risal CUKUP BAIK dalam menganalisis prinsip harmoni dalam keberagaman suku, agama, ras, dan antargolongan (SARA) sosial, budaya, ekonomi, dan gender dalam bingkai Bhinneka Tunggal Ika  dan CUKUP BAIK dalam memahami prinsip-prinsip kedaulatan sesuai Undang-Undang Dasar Negara Republik Indonesia Tahun 1945 ."},null,null,null,null,null,{"$f":"IF($W$8=\"ganjil\",VLOOKUP($AJ$1,nil.ganjil,24,0),VLOOKUP($AJ$1,nil.genap,24,0))","v":78},{"$f":"IF(S31>=$A96,\"A\",IF(S31>=$B96,\"B\",IF(S31>=$C96,\"C\",\"D\")))","v":"C"},{"$f":"IFERROR(CONCATENATE(\"Ananda\",\" \",$BA31,\" \",$BG31,\" dalam \",INDEX(deskripsi4,MATCH(INDEX(mupel,MATCH($BB31,INDEX(mupel,0,2),0),1) & TEXT($A$4,\"00\") & $AK$1,indeks,0),$BI31),\" dan \",$BG31,\" dalam \",INDEX(deskripsi4,MATCH(INDEX(mupel,MATCH($BB31,INDEX(mupel,0,2),0),1) & TEXT($A$4,\"00\") & $AK$1,indeks,0),$BJ31),\".\"),\"\")","v":"Ananda risal CUKUP BAIK dalam mendukung peran mediator  penyelesaian masalah keberagaman suku, agama, ras, dan antargolongan (SARA) dalam bingkai Bhinneka Tunggal Ika dan CUKUP BAIK dalam mewujudkan prinsip-prinsip kedaulatan sesuai Undang-Undang Dasar Negara Republik Indonesia Tahun 1945."},null,null,null,null,null,null,2,"Pendidikan Pancasila dan Kewarganegaraan",null,null,null,null,{"$f":"IF($W$8=\"ganjil\",VLOOKUP($AJ$1,nil.ganjil,8,0),VLOOKUP($AJ$1,nil.genap,8,0))","v":76},{"$f":"IF(AH31>=$A96,\"A\",IF(AH31>=$B96,\"B\",IF(AH31>=$C96,\"C\",\"D\")))","v":"C"},{"$f":"IFERROR(CONCATENATE(\"Ananda\",\" \",$BA31,\" \",$BC31,\" dalam \",INDEX(deskripsi,MATCH(INDEX(mupel,MATCH($BB31,INDEX(mupel,0,2),0),1) & TEXT($A$4,\"00\") & $AK$1,indeks,0),$BE31),\" dan \",$BC31,\" dalam \",INDEX(deskripsi,MATCH(INDEX(mupel,MATCH($BB31,INDEX(mupel,0,2),0),1) & TEXT($A$4,\"00\") & $AK$1,indeks,0),$BF31),\".\"),\"\")","v":"Ananda risal CUKUP BAIK dalam menganalisis prinsip harmoni dalam keberagaman suku, agama, ras, dan antargolongan (SARA) sosial, budaya, ekonomi, dan gender dalam bingkai Bhinneka Tunggal Ika  dan CUKUP BAIK dalam memahami prinsip-prinsip kedaulatan sesuai Undang-Undang Dasar Negara Republik Indonesia Tahun 1945 ."},null,null,null,null,null,{"$f":"IF($W$8=\"ganjil\",VLOOKUP($AJ$1,nil.ganjil,24,0),VLOOKUP($AJ$1,nil.genap,24,0))","v":78},{"$f":"IF(AP31>=$A96,\"A\",IF(AP31>=$B96,\"B\",IF(AP31>=$C96,\"C\",\"D\")))","v":"C"},{"$f":"IFERROR(CONCATENATE(\"Ananda\",\" \",$BA31,\" \",$BG31,\" dalam \",INDEX(deskripsi4,MATCH(INDEX(mupel,MATCH($BB31,INDEX(mupel,0,2),0),1) & TEXT($A$4,\"00\") & $AK$1,indeks,0),$BI31),\" dan \",$BG31,\" dalam \",INDEX(deskripsi4,MATCH(INDEX(mupel,MATCH($BB31,INDEX(mupel,0,2),0),1) & TEXT($A$4,\"00\") & $AK$1,indeks,0),$BJ31),\".\"),\"\")","v":"Ananda risal CUKUP BAIK dalam mendukung peran mediator  penyelesaian masalah keberagaman suku, agama, ras, dan antargolongan (SARA) dalam bingkai Bhinneka Tunggal Ika dan CUKUP BAIK dalam mewujudkan prinsip-prinsip kedaulatan sesuai Undang-Undang Dasar Negara Republik Indonesia Tahun 1945."},null,null,null,null,null,null,null,null,"risal",{"$f":"IF(kur!$D12=\"\",\"\",kur!$D12)","v":"Pendidikan Pancasila dan Kewarganegaaraan"},{"$f":"IF(L31=\"A\",\"SANGAT BAIK\",IF(L31=\"B\",\"BAIK\",IF(L31=\"C\",\"CUKUP BAIK\",\"PERLU BIMBINGAN\")))","v":"CUKUP BAIK"},{"$f":"IFERROR(INDEX(data3,MATCH(INDEX(mupel,MATCH($BB31,INDEX(mupel,0,2),0),1) & TEXT($A$4,\"00\") & $AK$1,indeks,0),COLUMNS(data3)),\"\")","v":6},{"$f":"IF(LEN($BD31),AcakIndeksBaris(0,$BD31),\"\")","v":5},{"$f":"IF(LEN($BE31),AcakIndeksBaris($BE31,$BD31),\"\")","v":3},{"$f":"IF(T31=\"A\",\"SANGAT BAIK\",IF(T31=\"B\",\"BAIK\",IF(T31=\"C\",\"CUKUP BAIK\",\"PERLU BIMBINGAN\")))","v":"CUKUP BAIK"},{"$f":"IFERROR(INDEX(data4,MATCH(INDEX(mupel,MATCH($BB31,INDEX(mupel,0,2),0),1) & TEXT($A$4,\"00\") & $AK$1,indeks4,0),COLUMNS(data4)),\"\")","v":6},{"$f":"IF(LEN($BH31),AcakIndeksBaris(0,$BH31),\"\")","v":4},{"$f":"IF(LEN($BI31),AcakIndeksBaris($BI31,$BH31),\"\")","v":3}]
[{"$f":"IF(E32=\"\",\"\",MAX($A$31:A31)+1)","v":3},null,null,{"$f":"A32","v":3},"Bahasa Indonesia",null,null,null,null,{"$f":"kur!$H13","v":75},{"$f":"IF($W$8=\"ganjil\",VLOOKUP($AJ$1,nil.ganjil,9,0),VLOOKUP($AJ$1,nil.genap,9,0))","v":74},{"$f":"IF(K32>=$A97,\"A\",IF(K32>=$B97,\"B\",IF(K32>=$C97,\"C\",\"D\")))","v":"D"},"Ananda risal PERLU BIMBINGAN dalam Menelaah  struktur dan kebahasaan  dari teks tanggapan (lingkungan hidup, kondisi sosial, dan/atau keragaman budaya, dll) berupa kritik, sanggahan, atau pujian yang didengar dan/atau  dibaca  dan PERLU BIMBINGAN dalam Mengidentifikasi  unsur pembangun karya sastra dalam teks cerita pendek yang dibaca atau didengar.",null,null,null,null,null,{"$f":"IF($W$8=\"ganjil\",VLOOKUP($AJ$1,nil.ganjil,25,0),VLOOKUP($AJ$1,nil.genap,25,0))","v":76},{"$f":"IF(S32>=$A97,\"A\",IF(S32>=$B97,\"B\",IF(S32>=$C97,\"C\",\"D\")))","v":"C"},"Ananda risal CUKUP BAIK dalam menyimpulkan isi teks  tanggapan berupa  kritik, sanggahan, atau pujian  (mengenai lingkungan hidup, kondisi sosial, dan/atau keragaman budaya) yang didengar dan dibaca  dan CUKUP BAIK dalam menyajikan gagasan/pendapat, argumen yang mendukung dan yang kontra serta solusi atas permasalahan aktual  dalam teks diskusi dengan memperhatikan struktur dan aspek  kebahasaan, dan aspek lisan (intonasi, gesture, pelafalan) .",null,null,null,null,null,null,{"$f":"A32","v":3},"Bahasa Indonesia",null,null,null,null,{"$f":"IF($W$8=\"ganjil\",VLOOKUP($AJ$1,nil.ganjil,9,0),VLOOKUP($AJ$1,nil.genap,9,0))","v":74},{"$f":"IF(AH32>=$A97,\"A\",IF(AH32>=$B97,\"B\",IF(AH32>=$C97,\"C\",\"D\")))","v":"D"},"Ananda risal PERLU BIMBINGAN dalam Menelaah  struktur dan kebahasaan  dari teks tanggapan (lingkungan hidup, kondisi sosial, dan/atau keragaman budaya, dll) berupa kritik, sanggahan, atau pujian yang didengar dan/atau  dibaca  dan PERLU BIMBINGAN dalam Mengidentifikasi  unsur pembangun karya sastra dalam teks cerita pendek yang dibaca atau didengar.",null,null,null,null,null,{"$f":"IF($W$8=\"ganjil\",VLOOKUP($AJ$1,nil.ganjil,25,0),VLOOKUP($AJ$1,nil.genap,25,0))","v":76},{"$f":"IF(AP32>=$A97,\"A\",IF(AP32>=$B97,\"B\",IF(AP32>=$C97,\"C\",\"D\")))","v":"C"},"Ananda risal CUKUP BAIK dalam menyimpulkan isi teks  tanggapan berupa  kritik, sanggahan, atau pujian  (mengenai lingkungan hidup, kondisi sosial, dan/atau keragaman budaya) yang didengar dan dibaca  dan CUKUP BAIK dalam menyajikan gagasan/pendapat, argumen yang mendukung dan yang kontra serta solusi atas permasalahan aktual  dalam teks diskusi dengan memperhatikan struktur dan aspek  kebahasaan, dan aspek lisan (intonasi, gesture, pelafalan) .",null,null,null,null,null,null,null,null,"risal",{"$f":"IF(kur!$D13=\"\",\"\",kur!$D13)","v":"Bahasa Indonesia"},"PERLU BIMBINGAN",10,{"$f":"IF(LEN($BD32),AcakIndeksBaris(0,$BD32),\"\")","v":8},{"$f":"IF(LEN($BE32),AcakIndeksBaris($BE32,$BD32),\"\")","v":5},"CUKUP BAIK",10,{"$f":"IF(LEN($BH32),AcakIndeksBaris(0,$BH32),\"\")","v":7},{"$f":"IF(LEN($BI32),AcakIndeksBaris($BI32,$BH32),\"\")","v":10}]
[{"$f":"IF(E33=\"\",\"\",MAX($A$31:A32)+1)","v":4},null,null,{"$f":"A33","v":4},"Bahasa Arab",null,null,null,null,{"$f":"kur!$H9","v":72},{"$f":"IF($W$8=\"ganjil\",VLOOKUP($AJ$1,nil.ganjil,6,0),VLOOKUP($AJ$1,nil.genap,6,0))","v":78},{"$f":"IF(K33>=$A94,\"A\",IF(K33>=$B94,\"B\",IF(K33>=$C94,\"C\",\"D\")))","v":"C"},"Ananda risal CUKUP BAIK dalam memahami bunyi, makna, dan gagasan dari kata, frase, kalimat bahasa Arab sesuai dengan struktur kalimat yang berkaitan dengan topik : خالقالعالم baik secara lisan maupun tertulis dan CUKUP BAIK dalam memahami bunyi, makna, dan gagasan dari kata, frase, kalimat bahasa Arab sesuai dengan struktur kalimat yang berkaitan dengan topik :جمالالطبيعة baik secara lisan maupun tertulis .",null,null,null,null,null,{"$f":"IF($W$8=\"ganjil\",VLOOKUP($AJ$1,nil.ganjil,22,0),VLOOKUP($AJ$1,nil.genap,22,0))","v":80},{"$f":"IF(S33>=$A94,\"A\",IF(S33>=$B94,\"B\",IF(S33>=$C94,\"C\",\"D\")))","v":"C"},"Ananda risal CUKUP BAIK dalam mendemonstrasikan ungkapan informasi lisan dan tulisan sederhana tentang topik\nنزولالقرآنوالعيدان dengan memperhatikan struktur teks dan unsur kebahasaan yang benar dan sesuai konteks dan CUKUP BAIK dalam mendemonstrasikan ungkapan informasi lisan dan tulisan sederhana tentang topik\nرأسالسنةالهجرية dengan memperhatikan struktur teks dan unsur kebahasaan yang benar dan sesuai konteks.",null,null,null,null,null,null,{"$f":"A33","v":4},"Bahasa Arab",null,null,null,null,{"$f":"IF($W$8=\"ganjil\",VLOOKUP($AJ$1,nil.ganjil,6,0),VLOOKUP($AJ$1,nil.genap,6,0))","v":78},{"$f":"IF(AH33>=$A94,\"A\",IF(AH33>=$B94,\"B\",IF(AH33>=$C94,\"C\",\"D\")))","v":"C"},"Ananda risal CUKUP BAIK dalam memahami bunyi, makna, dan gagasan dari kata, frase, kalimat bahasa Arab sesuai dengan struktur kalimat yang berkaitan dengan topik : خالقالعالم baik secara lisan maupun tertulis dan CUKUP BAIK dalam memahami bunyi, makna, dan gagasan dari kata, frase, kalimat bahasa Arab sesuai dengan struktur kalimat yang berkaitan dengan topik :جمالالطبيعة baik secara lisan maupun tertulis .",null,null,null,null,null,{"$f":"IF($W$8=\"ganjil\",VLOOKUP($AJ$1,nil.ganjil,22,0),VLOOKUP($AJ$1,nil.genap,22,0))","v":80},{"$f":"IF(AP33>=$A94,\"A\",IF(AP33>=$B94,\"B\",IF(AP33>=$C94,\"C\",\"D\")))","v":"C"},"Ananda risal CUKUP BAIK dalam mendemonstrasikan ungkapan informasi lisan dan tulisan sederhana tentang topik\nنزولالقرآنوالعيدان dengan memperhatikan struktur teks dan unsur kebahasaan yang benar dan sesuai konteks dan CUKUP BAIK dalam mendemonstrasikan ungkapan informasi lisan dan tulisan sederhana tentang topik\nرأسالسنةالهجرية dengan memperhatikan struktur teks dan unsur kebahasaan yang benar dan sesuai konteks.",null,null,null,null,null,null,null,null,"risal",{"$f":"IF(kur!$D9=\"\",\"\",kur!$D9)","v":"Bahasa Arab"},"CUKUP BAIK",3,{"$f":"IF(LEN($BD33),AcakIndeksBaris(0,$BD33),\"\")","v":2},{"$f":"IF(LEN($BE33),AcakIndeksBaris($BE33,$BD33),\"\")","v":1},"CUKUP BAIK",3,{"$f":"IF(LEN($BH33),AcakIndeksBaris(0,$BH33),\"\")","v":3},{"$f":"IF(LEN($BI33),AcakIndeksBaris($BI33,$BH33),\"\")","v":1}]
[{"$f":"IF(E34=\"\",\"\",MAX($A$31:A33)+1)","v":5},null,null,{"$f":"A34","v":5},"Matematika",null,null,null,null,{"$f":"kur!$H14","v":56},{"$f":"IF($W$8=\"ganjil\",VLOOKUP($AJ$1,nil.ganjil,10,0),VLOOKUP($AJ$1,nil.genap,10,0))","v":78},{"$f":"IF(K34>=$A98,\"A\",IF(K34>=$B98,\"B\",IF(K34>=$C98,\"C\",\"D\")))","v":"B"},"Ananda risal BAIK dalam menjelaskan persamaan kuadrat dan karakteristiknya berdasarkan akar-akarnya serta cara penyelesaiannya dan BAIK dalam membuat generalisasi luas permukaan dan volume berbagai bangun ruang sisi lengkung (tabung, kerucut, dan bola)   \n.",null,null,null,null,null,{"$f":"IF($W$8=\"ganjil\",VLOOKUP($AJ$1,nil.ganjil,26,0),VLOOKUP($AJ$1,nil.genap,26,0))","v":80},{"$f":"IF(S34>=$A98,\"A\",IF(S34>=$B98,\"B\",IF(S34>=$C98,\"C\",\"D\")))","v":"B"},"Ananda risal BAIK dalam menyelesaikan masalah yang berkaitan dengan kesebangunan dan kekongruenan antar bangun datar   dan BAIK dalam menyajikan fungsi kuadrat  menggunakan tabel, persamaan, dan grafik .",null,null,null,null,null,null,5,"Matematika",null,null,null,null,{"$f":"IF($W$8=\"ganjil\",VLOOKUP($AJ$1,nil.ganjil,10,0),VLOOKUP($AJ$1,nil.genap,10,0))","v":78},{"$f":"IF(AH34>=$A98,\"A\",IF(AH34>=$B98,\"B\",IF(AH34>=$C98,\"C\",\"D\")))","v":"B"},"Ananda risal BAIK dalam menjelaskan persamaan kuadrat dan karakteristiknya berdasarkan akar-akarnya serta cara penyelesaiannya dan BAIK dalam membuat generalisasi luas permukaan dan volume berbagai bangun ruang sisi lengkung (tabung, kerucut, dan bola)   \n.",null,null,null,null,null,{"$f":"IF($W$8=\"ganjil\",VLOOKUP($AJ$1,nil.ganjil,26,0),VLOOKUP($AJ$1,nil.genap,26,0))","v":80},{"$f":"IF(AP34>=$A98,\"A\",IF(AP34>=$B98,\"B\",IF(AP34>=$C98,\"C\",\"D\")))","v":"B"},"Ananda risal BAIK dalam menyelesaikan masalah yang berkaitan dengan kesebangunan dan kekongruenan antar bangun datar   dan BAIK dalam menyajikan fungsi kuadrat  menggunakan tabel, persamaan, dan grafik .",null,null,null,null,null,null,null,null,"risal",{"$f":"IF(kur!$D14=\"\",\"\",kur!$D14)","v":"Matematika"},"BAIK",7,{"$f":"IF(LEN($BD34),AcakIndeksBaris(0,$BD34),\"\")","v":2},{"$f":"IF(LEN($BE34),AcakIndeksBaris($BE34,$BD34),\"\")","v":7},"BAIK",7,{"$f":"IF(LEN($BH34),AcakIndeksBaris(0,$BH34),\"\")","v":6},{"$f":"IF(LEN($BI34),AcakIndeksBaris($BI34,$BH34),\"\")","v":3}]
[{"$f":"IF(E35=\"\",\"\",MAX($A$31:A34)+1)","v":6},null,null,6,{"$f":"IF($A$4<4,\"\",\"Ilmu Pengetahuan Alam\")","v":"Ilmu Pengetahuan Alam"},null,null,null,null,{"$f":"kur!$H15","v":77},{"$f":"IF($W$8=\"ganjil\",VLOOKUP($AJ$1,nil.ganjil,11,0),VLOOKUP($AJ$1,nil.genap,11,0))","v":45},"D","Ananda risal PERLU BIMBINGAN dalam menerapkan konsep bioteknologi dan perannya dalam kehidupan manusia  dan PERLU BIMBINGAN dalam menerapkan konsep kemagnetan, induksi elektromagnetik, dan pemanfaatan medan magnet dalam kehidupan sehari-hari termasuk  pergerakan/navigasi hewan untuk mencari makanan dan migrasi .",null,null,null,null,null,{"$f":"IF($W$8=\"ganjil\",VLOOKUP($AJ$1,nil.ganjil,27,0),VLOOKUP($AJ$1,nil.genap,27,0))","v":47},"D","Ananda risal PERLU BIMBINGAN dalam menyajikan hasil penyelidikan tentang sifat dan pemanfaatan bahan dalam kehidupan sehari-hari  dan PERLU BIMBINGAN dalam menyajikan hasil penyelidikan tentang sifat-sifat tanah dan pentingnya tanah bagi kehidupan \n.",null,null,null,null,null,null,6,{"$f":"IF($A$4<4,\"\",\"Ilmu Pengetahuan Alam\")","v":"Ilmu Pengetahuan Alam"},null,null,null,null,{"$f":"IF($W$8=\"ganjil\",VLOOKUP($AJ$1,nil.ganjil,11,0),VLOOKUP($AJ$1,nil.genap,11,0))","v":45},"D","Ananda risal PERLU BIMBINGAN dalam menerapkan konsep bioteknologi dan perannya dalam kehidupan manusia  dan PERLU BIMBINGAN dalam menerapkan konsep kemagnetan, induksi elektromagnetik, dan pemanfaatan medan magnet dalam kehidupan sehari-hari termasuk  pergerakan/navigasi hewan untuk mencari makanan dan migrasi .",null,null,null,null,null,{"$f":"IF($W$8=\"ganjil\",VLOOKUP($AJ$1,nil.ganjil,27,0),VLOOKUP($AJ$1,nil.genap,27,0))","v":47},"D","Ananda risal PERLU BIMBINGAN dalam menyajikan hasil penyelidikan tentang sifat dan pemanfaatan bahan dalam kehidupan sehari-hari  dan PERLU BIMBINGAN dalam menyajikan hasil penyelidikan tentang sifat-sifat tanah dan pentingnya tanah bagi kehidupan \n.",null,null,null,null,null,null,null,null,"risal",{"$f":"IF(kur!$D15=\"\",\"\",kur!$D15)","v":"Ilmu Pengetahuan Alam"},"PERLU BIMBINGAN",10,{"$f":"IF(LEN($BD35),AcakIndeksBaris(0,$BD35),\"\")","v":7},{"$f":"IF(LEN($BE35),AcakIndeksBaris($BE35,$BD35),\"\")","v":6},"PERLU BIMBINGAN",10,{"$f":"IF(LEN($BH35),AcakIndeksBaris(0,$BH35),\"\")","v":8},{"$f":"IF(LEN($BI35),AcakIndeksBaris($BI35,$BH35),\"\")","v":9}]
[{"$f":"IF(E36=\"\",\"\",MAX($A$31:A35)+1)","v":7},null,null,7,{"$f":"IF($A$4<4,\"\",\"Ilmu Pengetahuan Sosial\")","v":"Ilmu Pengetahuan Sosial"},null,null,null,null,{"$f":"kur!$H16","v":78},{"$f":"IF($W$8=\"ganjil\",VLOOKUP($AJ$1,nil.ganjil,12,0),VLOOKUP($AJ$1,nil.genap,12,0))","v":76},"D","Ananda risal PERLU BIMBINGAN dalam menganalisis perubahan kehidupan sosial budaya Bangsa Indonesia dalam menghadapi arus globalisasi untuk memperkokoh kehidupan kebangsaan  dan PERLU BIMBINGAN dalam menelaah perubahan keruangan dan interaksi antarruang negara-negara Asia dan benua lainnya yang diakibatkan faktor alam, manusia dan pengaruhnya terhadap keberlangsungan kehidupan manusia dalam ekonomi, sosial, pendidikan dan politik.",null,null,null,null,null,{"$f":"IF($W$8=\"ganjil\",VLOOKUP($AJ$1,nil.ganjil,28,0),VLOOKUP($AJ$1,nil.genap,28,0))","v":78},"C","Ananda risal CUKUP BAIK dalam menyajikan hasil analisis tentang perubahan kehidupan sosial budaya Bangsa Indonesia dalam menghadapi arus globalisasi untuk memperkokoh kehidupan kebangsaan   dan CUKUP BAIK dalam menyajikan hasil analisis kronologi, perubahan dan kesinambungan ruang (geografis, politik, ekonomi, pendidikan, sosial, budaya) dari awal kemerdekaan sampai awal reformasi .",null,null,null,null,null,null,7,{"$f":"IF($A$4<4,\"\",\"Ilmu Pengetahuan Sosial\")","v":"Ilmu Pengetahuan Sosial"},null,null,null,null,{"$f":"IF($W$8=\"ganjil\",VLOOKUP($AJ$1,nil.ganjil,12,0),VLOOKUP($AJ$1,nil.genap,12,0))","v":76},"D","Ananda risal PERLU BIMBINGAN dalam menganalisis perubahan kehidupan sosial budaya Bangsa Indonesia dalam menghadapi arus globalisasi untuk memperkokoh kehidupan kebangsaan  dan PERLU BIMBINGAN dalam menelaah perubahan keruangan dan interaksi antarruang negara-negara Asia dan benua lainnya yang diakibatkan faktor alam, manusia dan pengaruhnya terhadap keberlangsungan kehidupan manusia dalam ekonomi, sosial, pendidikan dan politik.",null,null,null,null,null,{"$f":"IF($W$8=\"ganjil\",VLOOKUP($AJ$1,nil.ganjil,28,0),VLOOKUP($AJ$1,nil.genap,28,0))","v":78},"C","Ananda risal CUKUP BAIK dalam menyajikan hasil analisis tentang perubahan kehidupan sosial budaya Bangsa Indonesia dalam menghadapi arus globalisasi untuk memperkokoh kehidupan kebangsaan   dan CUKUP BAIK dalam menyajikan hasil analisis kronologi, perubahan dan kesinambungan ruang (geografis, politik, ekonomi, pendidikan, sosial, budaya) dari awal kemerdekaan sampai awal reformasi .",null,null,null,null,null,null,null,null,"risal",{"$f":"IF(kur!$D16=\"\",\"\",kur!$D16)","v":"Ilmu Pengetahuan Sosial"},"PERLU BIMBINGAN",4,{"$f":"IF(LEN($BD36),AcakIndeksBaris(0,$BD36),\"\")","v":2},{"$f":"IF(LEN($BE36),AcakIndeksBaris($BE36,$BD36),\"\")","v":1},"CUKUP BAIK",4,{"$f":"IF(LEN($BH36),AcakIndeksBaris(0,$BH36),\"\")","v":2},{"$f":"IF(LEN($BI36),AcakIndeksBaris($BI36,$BH36),\"\")","v":4}]
[{"$f":"IF(E37=\"\",\"\",MAX($A$31:A36)+1)","v":8},null,null,8,"Seni Budaya dan Prakarya",null,null,null,null,{"$f":"kur!$H17","v":79},{"$f":"IF($W$8=\"ganjil\",VLOOKUP($AJ$1,nil.ganjil,13,0),VLOOKUP($AJ$1,nil.genap,13,0))","v":74},"D","Ananda risal PERLU BIMBINGAN dalam memahami pementasan drama musikal dan atau operet sesuai konsep, teknik dan prosedur \n dan PERLU BIMBINGAN dalam memahami penerapan pola lantai dan unsur pendukung gerak tari kreasi .",null,null,null,null,null,{"$f":"IF($W$8=\"ganjil\",VLOOKUP($AJ$1,nil.ganjil,29,0),VLOOKUP($AJ$1,nil.genap,29,0))","v":76},"D","Ananda risal PERLU BIMBINGAN dalam  membuat karya seni lukis dengan berbagai bahan dan teknik \n\n dan PERLU BIMBINGAN dalam memeragakan cara menerapkan gerak tari kreasi berdasarkan pola lantai dengan menggunakan unsur pendukung tari \n.",null,null,null,null,null,null,8,"Seni Budaya dan Prakarya",null,null,null,null,{"$f":"IF($W$8=\"ganjil\",VLOOKUP($AJ$1,nil.ganjil,13,0),VLOOKUP($AJ$1,nil.genap,13,0))","v":74},"D","Ananda risal PERLU BIMBINGAN dalam memahami pementasan drama musikal dan atau operet sesuai konsep, teknik dan prosedur \n dan PERLU BIMBINGAN dalam memahami penerapan pola lantai dan unsur pendukung gerak tari kreasi .",null,null,null,null,null,{"$f":"IF($W$8=\"ganjil\",VLOOKUP($AJ$1,nil.ganjil,29,0),VLOOKUP($AJ$1,nil.genap,29,0))","v":76},"D","Ananda risal PERLU BIMBINGAN dalam  membuat karya seni lukis dengan berbagai bahan dan teknik \n\n dan PERLU BIMBINGAN dalam memeragakan cara menerapkan gerak tari kreasi berdasarkan pola lantai dengan menggunakan unsur pendukung tari \n.",null,null,null,null,null,null,null,null,"risal",{"$f":"IF(kur!$D17=\"\",\"\",kur!$D17)","v":"Seni Budaya "},"PERLU BIMBINGAN",4,{"$f":"IF(LEN($BD37),AcakIndeksBaris(0,$BD37),\"\")","v":4},{"$f":"IF(LEN($BE37),AcakIndeksBaris($BE37,$BD37),\"\")","v":3},"PERLU BIMBINGAN",4,{"$f":"IF(LEN($BH37),AcakIndeksBaris(0,$BH37),\"\")","v":1},{"$f":"IF(LEN($BI37),AcakIndeksBaris($BI37,$BH37),\"\")","v":3}]
[{"$f":"IF(E38=\"\",\"\",MAX($A$31:A37)+1)","v":9},null,null,9,"Pendidikan Jasmani,Olah Raga & Kesehatan",null,null,null,null,{"$f":"kur!$H18","v":34},{"$f":"IF($W$8=\"ganjil\",VLOOKUP($AJ$1,nil.ganjil,14,0),VLOOKUP($AJ$1,nil.genap,14,0))","v":78},"A","Ananda risal SANGAT BAIK dalam memahami variasi dan kombinasi gerak spesifik dalam berbagai permainan bola besar sederhana  dan atau tradisional  dan SANGAT BAIK dalam memahami kombinasi  keterampilan berbentuk rangkaian gerak sederhana  secara konsisten, tepat, dan terkontrol dalam aktivitas spesifik senam lantai .",null,null,null,null,null,{"$f":"IF($W$8=\"ganjil\",VLOOKUP($AJ$1,nil.ganjil,30,0),VLOOKUP($AJ$1,nil.genap,30,0))","v":80},"A","Ananda risal SANGAT BAIK dalam mempraktikkan variasi dan kombinasi gerak berbentuk rangkaian langkah dan ayunan lengan mengikuti irama (ketukan) tanpa/dengan musik sebagai pembentuk gerak pemanasan, inti latihan, dan pendinginan dalam aktivitas gerak berirama \n dan SANGAT BAIK dalam mempraktikkan variasi dan kombinasigerak spesifik dalam berbagai permainan bola besar sederhana dan atau tradisional \n\n\n\n.",null,null,null,null,null,null,9,"Pendidikan Jasmani,Olah Raga & Kesehatan",null,null,null,null,{"$f":"IF($W$8=\"ganjil\",VLOOKUP($AJ$1,nil.ganjil,14,0),VLOOKUP($AJ$1,nil.genap,14,0))","v":78},"A","Ananda risal SANGAT BAIK dalam memahami variasi dan kombinasi gerak spesifik dalam berbagai permainan bola besar sederhana  dan atau tradisional  dan SANGAT BAIK dalam memahami kombinasi  keterampilan berbentuk rangkaian gerak sederhana  secara konsisten, tepat, dan terkontrol dalam aktivitas spesifik senam lantai .",null,null,null,null,null,{"$f":"IF($W$8=\"ganjil\",VLOOKUP($AJ$1,nil.ganjil,30,0),VLOOKUP($AJ$1,nil.genap,30,0))","v":80},"A","Ananda risal SANGAT BAIK dalam mempraktikkan variasi dan kombinasi gerak berbentuk rangkaian langkah dan ayunan lengan mengikuti irama (ketukan) tanpa/dengan musik sebagai pembentuk gerak pemanasan, inti latihan, dan pendinginan dalam aktivitas gerak berirama \n dan SANGAT BAIK dalam mempraktikkan variasi dan kombinasigerak spesifik dalam berbagai permainan bola besar sederhana dan atau tradisional \n\n\n\n.",null,null,null,null,null,null,null,null,"risal",{"$f":"IF(kur!$D18=\"\",\"\",kur!$D18)","v":"Pendidikan Jasmani,Olahraga danKesehatan"},"SANGAT BAIK",10,{"$f":"IF(LEN($BD38),AcakIndeksBaris(0,$BD38),\"\")","v":1},{"$f":"IF(LEN($BE38),AcakIndeksBaris($BE38,$BD38),\"\")","v":6},"SANGAT BAIK",10,{"$f":"IF(LEN($BH38),AcakIndeksBaris(0,$BH38),\"\")","v":7},{"$f":"IF(LEN($BI38),AcakIndeksBaris($BI38,$BH38),\"\")","v":1}]
[{"$f":"IF(E39=\"\",\"\",MAX($A$31:A38)+1)","v":10},null,null,10,{"$f":"IF($A$4<7,\"\",\"Bahasa Inggris\")","v":"Bahasa Inggris"},null,null,null,null,{"$f":"kur!$H19","v":81},{"$f":"IF($W$8=\"ganjil\",VLOOKUP($AJ$1,nil.ganjil,15,0),VLOOKUP($AJ$1,nil.genap,15,0))","v":45},"D","Ananda risal PERLU BIMBINGAN dalam membandingkan fungsi sosial, struktur teks, dan unsur kebahasaan beberapa teks khususdalam bentuk label, dengan meminta dan memberi informasi terkait obat/makanan/minuman, sesuai dengan konteks penggunaannya dan PERLU BIMBINGAN dalam menerapkan fungsi sosial, struktur teks, dan unsur kebahasaan teks interaksi transaksional lisan dan tulis yang melibatkan tindakan memberi dan meminta informasi terkait keadaan/tindakan/ kegiatan/ kejadian yang sudah/telah dilakukan/terjadi di waktu lampau dikaitkan dengan keadaan sekarang, tanpa menyebutkan waktu terjadinya secara spesifik, sesuai dengan konteks penggunaannya (perhatikan unsur kebahasaan present   perfect   tense).",null,null,null,null,null,{"$f":"IF($W$8=\"ganjil\",VLOOKUP($AJ$1,nil.ganjil,31,0),VLOOKUP($AJ$1,nil.genap,31,0))","v":47},"D","Ananda risal PERLU BIMBINGAN dalam menyusun teks interaksi interpersonal lisan dan tulis sangat pendek dan sederhana yang melibatkan tindakan menyatakan harapan, doa, dan ucapan selamat atas suatu kebahagiaan dan prestasi, dan menanggapinya, dengan memperhatikan fungsi sosial, struktur teks, dan unsur kebahasaan yang benar dan sesuai konteks dan PERLU BIMBINGAN dalam menyusun teks interaksi transaksional lisan dan tulis sangat pendek dan sederhana yang melibatkan tindakan   memberi dan meminta informasi terkait keadaan/tindakan/ kegiatan/kejadian yang sedang dilakukan/terjadi pada saat ini, waktu lampau, dan waktu yang akan datang, dengan memperhatikan fungsi sosial, struktur teks, dan unsur kebahasaan yang benar dan sesuai konteks.",null,null,null,null,null,null,10,{"$f":"IF($A$4<7,\"\",\"Bahasa Inggris\")","v":"Bahasa Inggris"},null,null,null,null,{"$f":"IF($W$8=\"ganjil\",VLOOKUP($AJ$1,nil.ganjil,15,0),VLOOKUP($AJ$1,nil.genap,15,0))","v":45},"D","Ananda risal PERLU BIMBINGAN dalam membandingkan fungsi sosial, struktur teks, dan unsur kebahasaan beberapa teks khususdalam bentuk label, dengan meminta dan memberi informasi terkait obat/makanan/minuman, sesuai dengan konteks penggunaannya dan PERLU BIMBINGAN dalam menerapkan fungsi sosial, struktur teks, dan unsur kebahasaan teks interaksi transaksional lisan dan tulis yang melibatkan tindakan memberi dan meminta informasi terkait keadaan/tindakan/ kegiatan/ kejadian yang sudah/telah dilakukan/terjadi di waktu lampau dikaitkan dengan keadaan sekarang, tanpa menyebutkan waktu terjadinya secara spesifik, sesuai dengan konteks penggunaannya (perhatikan unsur kebahasaan present   perfect   tense).",null,null,null,null,null,{"$f":"IF($W$8=\"ganjil\",VLOOKUP($AJ$1,nil.ganjil,31,0),VLOOKUP($AJ$1,nil.genap,31,0))","v":47},"D","Ananda risal PERLU BIMBINGAN dalam menyusun teks interaksi interpersonal lisan dan tulis sangat pendek dan sederhana yang melibatkan tindakan menyatakan harapan, doa, dan ucapan selamat atas suatu kebahagiaan dan prestasi, dan menanggapinya, dengan memperhatikan fungsi sosial, struktur teks, dan unsur kebahasaan yang benar dan sesuai konteks dan PERLU BIMBINGAN dalam menyusun teks interaksi transaksional lisan dan tulis sangat pendek dan sederhana yang melibatkan tindakan   memberi dan meminta informasi terkait keadaan/tindakan/ kegiatan/kejadian yang sedang dilakukan/terjadi pada saat ini, waktu lampau, dan waktu yang akan datang, dengan memperhatikan fungsi sosial, struktur teks, dan unsur kebahasaan yang benar dan sesuai konteks.",null,null,null,null,null,null,null,null,"risal",{"$f":"IF(kur!$D19=\"\",\"\",kur!$D19)","v":"Bahasa Inggris"},"PERLU BIMBINGAN",7,{"$f":"IF(LEN($BD39),AcakIndeksBaris(0,$BD39),\"\")","v":3},{"$f":"IF(LEN($BE39),AcakIndeksBaris($BE39,$BD39),\"\")","v":6},"PERLU BIMBINGAN",7,{"$f":"IF(LEN($BH39),AcakIndeksBaris(0,$BH39),\"\")","v":1},{"$f":"IF(LEN($BI39),AcakIndeksBaris($BI39,$BH39),\"\")","v":5}]
[{"$f":"IF(E40=\"\",\"\",MAX($A$31:A39)+1)","v":11},null,null,11,"Muatan Lokal",null,null,null,null,null,null,null,null,null,null,null,null,null,null,null,null,null,null,null,null,null,null,11,"Muatan Lokal",null,null,null,null,null,null,null,null,null,null,null,null,null,null,null,null,null,null,null,null,null,null,null,null,null,"PERLU BIMBINGAN","",{"$f":"IF(LEN($BD40),AcakIndeksBaris(0,$BD40),\"\")","v":""},{"$f":"IF(LEN($BE40),AcakIndeksBaris($BE40,$BD40),\"\")","v":""},"PERLU BIMBINGAN","",{"$f":"IF(LEN($BH40),AcakIndeksBaris(0,$BH40),\"\")","v":""},{"$f":"IF(LEN($BI40),AcakIndeksBaris($BI40,$BH40),\"\")","v":""}]
[null,null,null,null,{"$f":"IF(kur!$D21=\"\",\"\",\"a. \"&kur!$D21)","v":"a. Bahasa Madura"},null,null,null,null,{"$f":"kur!$H21","v":76},{"$f":"IF($W$8=\"ganjil\",VLOOKUP($AJ$1,nil.ganjil,16,0),VLOOKUP($AJ$1,nil.genap,16,0))","v":84},{"$f":"IF(K41>=$A104,\"A\",IF(K41>=$B104,\"B\",IF(K41>=$C104,\"C\",\"D\")))","v":"B"},{"$f":"IFERROR(CONCATENATE(\"Ananda\",\" \",$BA41,\" \",$BC41,\" dalam \",INDEX(deskripsi,MATCH(INDEX(mupel,MATCH($BB41,INDEX(mupel,0,2),0),1) & TEXT($A$4,\"00\") & $AK$1,indeks,0),$BE41),\" dan \",$BC41,\" dalam \",INDEX(deskripsi,MATCH(INDEX(mupel,MATCH($BB41,INDEX(mupel,0,2),0),1) & TEXT($A$4,\"00\") & $AK$1,indeks,0),$BF41),\".\"),\"\")","v":"Ananda risal BAIK dalam memahami struktur teks dan unsur kebahasaan dari teks pidato dan teks pewara dan BAIK dalam memahami struktur teks,unsur kebahasaan dan pesan moral dari teks drama modern."},null,null,null,null,null,{"$f":"IF($W$8=\"ganjil\",VLOOKUP($AJ$1,nil.ganjil,32,0),VLOOKUP($AJ$1,nil.genap,32,0))","v":86},{"$f":"IF(S41>=$A104,\"A\",IF(S41>=$B104,\"B\",IF(S41>=$C104,\"C\",\"D\")))","v":"B"},{"$f":"IFERROR(CONCATENATE(\"Ananda\",\" \",$BA41,\" \",$BG41,\" dalam \",INDEX(deskripsi4,MATCH(INDEX(mupel,MATCH($BB41,INDEX(mupel,0,2),0),1) & TEXT($A$4,\"00\") & $AK$1,indeks,0),$BI41),\" dan \",$BG41,\" dalam \",INDEX(deskripsi4,MATCH(INDEX(mupel,MATCH($BB41,INDEX(mupel,0,2),0),1) & TEXT($A$4,\"00\") & $AK$1,indeks,0),$BJ41),\".\"),\"\")","v":"Ananda risal BAIK dalam melakukan kegiatan bermain peran drana tradisional (wayang/topeng dhalang/kethoprak/ludruk) dan BAIK dalam berpidato atau menjadi pewara pada suatu kegiatan sekolah sesuai konteks."},null,null,null,null,null,null,null,{"$f":"IF(kur!$D21=\"\",\"\",\"a. \"&kur!$D21)","v":"a. Bahasa Madura"},null,null,null,null,{"$f":"IF($W$8=\"ganjil\",VLOOKUP($AJ$1,nil.ganjil,16,0),VLOOKUP($AJ$1,nil.genap,16,0))","v":84},{"$f":"IF(AH41>=$A104,\"A\",IF(AH41>=$B104,\"B\",IF(AH41>=$C104,\"C\",\"D\")))","v":"B"},{"$f":"IFERROR(CONCATENATE(\"Ananda\",\" \",$BA41,\" \",$BC41,\" dalam \",INDEX(deskripsi,MATCH(INDEX(mupel,MATCH($BB41,INDEX(mupel,0,2),0),1) & TEXT($A$4,\"00\") & $AK$1,indeks,0),$BE41),\" dan \",$BC41,\" dalam \",INDEX(deskripsi,MATCH(INDEX(mupel,MATCH($BB41,INDEX(mupel,0,2),0),1) & TEXT($A$4,\"00\") & $AK$1,indeks,0),$BF41),\".\"),\"\")","v":"Ananda risal BAIK dalam memahami struktur teks dan unsur kebahasaan dari teks pidato dan teks pewara dan BAIK dalam memahami struktur teks,unsur kebahasaan dan pesan moral dari teks drama modern."},null,null,null,null,null,{"$f":"IF($W$8=\"ganjil\",VLOOKUP($AJ$1,nil.ganjil,32,0),VLOOKUP($AJ$1,nil.genap,32,0))","v":86},{"$f":"IF(AP41>=$A104,\"A\",IF(AP41>=$B104,\"B\",IF(AP41>=$C104,\"C\",\"D\")))","v":"B"},{"$f":"IFERROR(CONCATENATE(\"Ananda\",\" \",$BA41,\" \",$BG41,\" dalam \",INDEX(deskripsi4,MATCH(INDEX(mupel,MATCH($BB41,INDEX(mupel,0,2),0),1) & TEXT($A$4,\"00\") & $AK$1,indeks,0),$BI41),\" dan \",$BG41,\" dalam \",INDEX(deskripsi4,MATCH(INDEX(mupel,MATCH($BB41,INDEX(mupel,0,2),0),1) & TEXT($A$4,\"00\") & $AK$1,indeks,0),$BJ41),\".\"),\"\")","v":"Ananda risal BAIK dalam melakukan kegiatan bermain peran drana tradisional (wayang/topeng dhalang/kethoprak/ludruk) dan BAIK dalam berpidato atau menjadi pewara pada suatu kegiatan sekolah sesuai konteks."},null,null,null,null,null,null,null,null,"risal",{"$f":"IF(kur!$D21=\"\",\"\",kur!$D21)","v":"Bahasa Madura"},"BAIK",5,{"$f":"IF(LEN($BD41),AcakIndeksBaris(0,$BD41),\"\")","v":4},{"$f":"IF(LEN($BE41),AcakIndeksBaris($BE41,$BD41),\"\")","v":3},"BAIK",5,{"$f":"IF(LEN($BH41),AcakIndeksBaris(0,$BH41),\"\")","v":2},{"$f":"IF(LEN($BI41),AcakIndeksBaris($BI41,$BH41),\"\")","v":4}]
[{"$f":"IF(E42=\"\",1,)","v":1},null,null,null,{"$f":"IF(kur!$D22=\"\",\"\",\"b. \"&kur!$D22)","v":""},null,null,null,null,{"$f":"IF(E42=\"\",\"\",kur!$H22)","v":""},{"$f":"IF(J42=\"\",\"\",IF($W$8=\"ganjil\",VLOOKUP($AJ$1,nil.ganjil,17,0),VLOOKUP($AJ$1,nil.genap,17,0)))","v":""},{"$f":"IF(K42=\"\",\"\",IF(K42>=$A105,\"A\",IF(K42>=$B105,\"B\",IF(K42>=$C105,\"C\",\"D\"))))","v":""},{"$f":"IF(E42=\"\",\"\",IFERROR(CONCATENATE(\"Ananda\",\" \",$BA42,\" \",$BC42,\" dalam \",INDEX(deskripsi,MATCH(INDEX(mupel,MATCH($BB42,INDEX(mupel,0,2),0),1) & TEXT($A$4,\"00\") & $AK$1,indeks,0),$BE42),\" dan \",$BC42,\" dalam \",INDEX(deskripsi,MATCH(INDEX(mupel,MATCH($BB42,INDEX(mupel,0,2),0),1) & TEXT($A$4,\"00\") & $AK$1,indeks,0),$BF42),\".\"),\"\"))","v":""},null,null,null,null,null,{"$f":"IF($W$8=\"ganjil\",VLOOKUP($AJ$1,nil.ganjil,33,0),VLOOKUP($AJ$1,nil.genap,33,0))","v":""},{"$f":"IF(E42=\"\",\"\",IF(S42>=$A105,\"A\",IF(S42>=$B105,\"B\",IF(S42>=$C105,\"C\",\"D\"))))","v":""},{"$f":"IFERROR(CONCATENATE(\"Ananda\",\" \",$BA42,\" \",$BG42,\" dalam \",INDEX(deskripsi4,MATCH(INDEX(mupel,MATCH($BB42,INDEX(mupel,0,2),0),1) & TEXT($A$4,\"00\") & $AK$1,indeks,0),$BI42),\" dan \",$BG42,\" dalam \",INDEX(deskripsi4,MATCH(INDEX(mupel,MATCH($BB42,INDEX(mupel,0,2),0),1) & TEXT($A$4,\"00\") & $AK$1,indeks,0),$BJ42),\".\"),\"\")","v":""},null,null,null,null,null,null,null,{"$f":"IF(kur!$D22=\"\",\"\",\"b. \"&kur!$D22)","v":""},null,null,null,null,{"$f":"IF($AC42=\"\",\"\",IF($W$8=\"ganjil\",VLOOKUP($AJ$1,nil.ganjil,17,0),VLOOKUP($AJ$1,nil.genap,17,0)))","v":""},{"$f":"IF(AH42=\"\",\"\",IF(AH42>=$A105,\"A\",IF(AH42>=$B105,\"B\",IF(AH42>=$C105,\"C\",\"D\"))))","v":""},{"$f":"IF(AC42=\"\",\"\",IFERROR(CONCATENATE(\"Ananda\",\" \",$BA42,\" \",$BC42,\" dalam \",INDEX(deskripsi,MATCH(INDEX(mupel,MATCH($BB42,INDEX(mupel,0,2),0),1) & TEXT($A$4,\"00\") & $AK$1,indeks,0),$BE42),\" dan \",$BC42,\" dalam \",INDEX(deskripsi,MATCH(INDEX(mupel,MATCH($BB42,INDEX(mupel,0,2),0),1) & TEXT($A$4,\"00\") & $AK$1,indeks,0),$BF42),\".\"),\"\"))","v":""},null,null,null,null,null,{"$f":"IF($W$8=\"ganjil\",VLOOKUP($AJ$1,nil.ganjil,33,0),VLOOKUP($AJ$1,nil.genap,33,0))","v":""},{"$f":"IF(AC42=\"\",\"\",IF(AP42>=$A105,\"A\",IF(AP42>=$B105,\"B\",IF(AP42>=$C105,\"C\",\"D\"))))","v":""},{"$f":"IFERROR(CONCATENATE(\"Ananda\",\" \",$BA42,\" \",$BG42,\" dalam \",INDEX(deskripsi4,MATCH(INDEX(mupel,MATCH($BB42,INDEX(mupel,0,2),0),1) & TEXT($A$4,\"00\") & $AK$1,indeks,0),$BI42),\" dan \",$BG42,\" dalam \",INDEX(deskripsi4,MATCH(INDEX(mupel,MATCH($BB42,INDEX(mupel,0,2),0),1) & TEXT($A$4,\"00\") & $AK$1,indeks,0),$BJ42),\".\"),\"\")","v":""},null,null,null,null,null,null,null,null,"risal",{"$f":"IF(kur!$D22=\"\",\"\",kur!$D22)","v":""},"PERLU BIMBINGAN",0,{"$f":"IF(LEN($BD42),AcakIndeksBaris(0,$BD42),\"\")","v":0},{"$f":"IF(LEN($BE42),AcakIndeksBaris($BE42,$BD42),\"\")","v":0},"PERLU BIMBINGAN",0,{"$f":"IF(LEN($BH42),AcakIndeksBaris(0,$BH42),\"\")","v":0},{"$f":"IF(LEN($BI42),AcakIndeksBaris($BI42,$BH42),\"\")","v":0}]
[{"$f":"IF(E43=\"\",1,)","v":1},null,null,null,{"$f":"IF(kur!$D23=\"\",\"\",\"a. \"&kur!$D23)","v":""},null,null,null,null,{"$f":"IF(E43=\"\",\"\",kur!$H23)","v":""},{"$f":"IF(J43=\"\",\"\",IF($W$8=\"ganjil\",VLOOKUP($AJ$1,nil.ganjil,18,0),VLOOKUP($AJ$1,nil.genap,18,0)))","v":""},{"$f":"IF(K43=\"\",\"\",IF(K43>=$A106,\"A\",IF(K43>=$B106,\"B\",IF(K43>=$C106,\"C\",\"D\"))))","v":""},{"$f":"IF(E43=\"\",\"\",IFERROR(CONCATENATE(\"Ananda\",\" \",$BA43,\" \",$BC43,\" dalam \",INDEX(deskripsi,MATCH(INDEX(mupel,MATCH($BB43,INDEX(mupel,0,2),0),1) & TEXT($A$4,\"00\") & $AK$1,indeks,0),$BE43),\" dan \",$BC43,\" dalam \",INDEX(deskripsi,MATCH(INDEX(mupel,MATCH($BB43,INDEX(mupel,0,2),0),1) & TEXT($A$4,\"00\") & $AK$1,indeks,0),$BF43),\".\"),\"\"))","v":""},null,null,null,null,null,{"$f":"IF($W$8=\"ganjil\",VLOOKUP($AJ$1,nil.ganjil,34,0),VLOOKUP($AJ$1,nil.genap,34,0))","v":""},{"$f":"IF(E43=\"\",\"\",IF(S43>=$A106,\"A\",IF(S43>=$B106,\"B\",IF(S43>=$C106,\"C\",\"D\"))))","v":""},{"$f":"IFERROR(CONCATENATE(\"Ananda\",\" \",$BA43,\" \",$BG43,\" dalam \",INDEX(deskripsi4,MATCH(INDEX(mupel,MATCH($BB43,INDEX(mupel,0,2),0),1) & TEXT($A$4,\"00\") & $AK$1,indeks,0),$BI43),\" dan \",$BG43,\" dalam \",INDEX(deskripsi4,MATCH(INDEX(mupel,MATCH($BB43,INDEX(mupel,0,2),0),1) & TEXT($A$4,\"00\") & $AK$1,indeks,0),$BJ43),\".\"),\"\")","v":""},null,null,null,null,null,null,null,{"$f":"IF(kur!$D23=\"\",\"\",\"a. \"&kur!$D23)","v":""},null,null,null,null,{"$f":"IF($AC43=\"\",\"\",IF($W$8=\"ganjil\",VLOOKUP($AJ$1,nil.ganjil,18,0),VLOOKUP($AJ$1,nil.genap,18,0)))","v":""},{"$f":"IF(AH43=\"\",\"\",IF(AH43>=$A106,\"A\",IF(AH43>=$B106,\"B\",IF(AH43>=$C106,\"C\",\"D\"))))","v":""},{"$f":"IF(AC43=\"\",\"\",IFERROR(CONCATENATE(\"Ananda\",\" \",$BA43,\" \",$BC43,\" dalam \",INDEX(deskripsi,MATCH(INDEX(mupel,MATCH($BB43,INDEX(mupel,0,2),0),1) & TEXT($A$4,\"00\") & $AK$1,indeks,0),$BE43),\" dan \",$BC43,\" dalam \",INDEX(deskripsi,MATCH(INDEX(mupel,MATCH($BB43,INDEX(mupel,0,2),0),1) & TEXT($A$4,\"00\") & $AK$1,indeks,0),$BF43),\".\"),\"\"))","v":""},null,null,null,null,null,{"$f":"IF($W$8=\"ganjil\",VLOOKUP($AJ$1,nil.ganjil,34,0),VLOOKUP($AJ$1,nil.genap,34,0))","v":""},{"$f":"IF(AC43=\"\",\"\",IF(AP43>=$A106,\"A\",IF(AP43>=$B106,\"B\",IF(AP43>=$C106,\"C\",\"D\"))))","v":""},{"$f":"IFERROR(CONCATENATE(\"Ananda\",\" \",$BA43,\" \",$BG43,\" dalam \",INDEX(deskripsi4,MATCH(INDEX(mupel,MATCH($BB43,INDEX(mupel,0,2),0),1) & TEXT($A$4,\"00\") & $AK$1,indeks,0),$BI43),\" dan \",$BG43,\" dalam \",INDEX(deskripsi4,MATCH(INDEX(mupel,MATCH($BB43,INDEX(mupel,0,2),0),1) & TEXT($A$4,\"00\") & $AK$1,indeks,0),$BJ43),\".\"),\"\")","v":""},null,null,null,null,null,null,null,null,"risal",{"$f":"IF(kur!$D23=\"\",\"\",kur!$D23)","v":""},"PERLU BIMBINGAN",0,{"$f":"IF(LEN($BD43),AcakIndeksBaris(0,$BD43),\"\")","v":0},{"$f":"IF(LEN($BE43),AcakIndeksBaris($BE43,$BD43),\"\")","v":0},"PERLU BIMBINGAN",0,{"$f":"IF(LEN($BH43),AcakIndeksBaris(0,$BH43),\"\")","v":0},{"$f":"IF(LEN($BI43),AcakIndeksBaris($BI43,$BH43),\"\")","v":0}]
[]
[null,null,null,"C. PENGEMBANGAN DIRI",null,null,null,null,null,null,null,null,null,null,null,null,null,null,null,null,null,null,null,null,null,null,null,"C. PENGEMBANGAN DIRI"]
[null,null,null,"No","Nama Kegiatan",null,null,null,null,null,"Nilai","Deskripsi",null,null,null,null,null,null,null,null,null,null,null,null,null,null,null,"No","Nama Kegiatan",null,null,null,null,null,"Nilai","Deskripsi"]
[{"$f":"IF(catatan!$F$6=\"\",\"\",catatan!$F$6)","v":"FERS"},{"$f":"IF(catatan!$H$6=\"\",\"\",catatan!$H$6)","v":""},{"$f":"IF(catatan!$J$6=\"\",\"\",catatan!$J$6)","v":""},{"$f":"IF(E47=\"\",\"\",1)","v":1},{"$f":"IF($W$8=\"GANJIL\",$A$47,$A$48)","v":0},null,null,null,null,null,{"$f":"UPPER(IF($A49=0,\"\",$A49))","v":""},{"$f":"IF($B49=0,\"\",$B49)","v":""},null,null,null,null,null,null,null,null,null,null,null,null,null,null,null,{"$f":"IF(AC47=\"\",\"\",1)","v":1},{"$f":"IF($W$8=\"GANJIL\",$A$47,$A$48)","v":0},null,null,null,null,null,{"$f":"IF($A49=0,\"\",$A49)","v":""},{"$f":"IF($B49=0,\"\",$B49)","v":""}]
[{"$f":"IF(catatan!$AG$6=\"\",\"\",catatan!$AG$6)","v":0},{"$f":"IF(catatan!$AI$6=\"\",\"\",catatan!$AI$6)","v":""},{"$f":"IF(catatan!$AK$6=\"\",\"\",catatan!$AK$6)","v":""},{"$f":"IF(E48=\"\",\"\",MAX($D$47:$D47)+1)","v":""},{"$f":"IF($W$8=\"GANJIL\",$B$47,$B$48)","v":""},null,null,null,null,null,{"$f":"UPPER(IF($A50=0,\"\",$A50))","v":""},{"$f":"IF($B50=0,\"\",$B50)","v":""},null,null,null,null,null,null,null,null,null,null,null,null,null,null,null,{"$f":"IF(AC48=\"\",\"\",MAX($AB$47:$AB47)+1)","v":""},{"$f":"IF($W$8=\"GANJIL\",$B$47,$B$48)","v":""},null,null,null,null,null,{"$f":"IF($A50=0,\"\",$A50)","v":""},{"$f":"IF($B50=0,\"\",$B50)","v":""}]
[{"$f":"IFERROR(IF($W$8=\"ganjil\",VLOOKUP($AJ$1,cat.ganjil,6,0),VLOOKUP($AJ$1,cat.genap,6,0)),\"\")","v":0},{"$f":"IFERROR(IF($W$8=\"ganjil\",VLOOKUP($AJ$1,cat.ganjil,7,0),VLOOKUP($AJ$1,cat.genap,7,0)),\"\")","v":0},null,{"$f":"IF(E49=\"\",\"\",MAX($D$47:$D48)+1)","v":""},{"$f":"IF($W$8=\"GANJIL\",$C$47,$C$48)","v":""},null,null,null,null,null,{"$f":"UPPER(IF($A51=0,\"\",$A51))","v":""},{"$f":"IF($B51=0,\"\",$B51)","v":""},null,null,null,null,null,null,null,null,null,null,null,null,null,null,null,{"$f":"IF(AC49=\"\",\"\",MAX($AB$47:$AB48)+1)","v":""},{"$f":"IF($W$8=\"GANJIL\",$C$47,$C$48)","v":""},null,null,null,null,null,{"$f":"IF($A51=0,\"\",$A51)","v":""},{"$f":"IF($B51=0,\"\",$B51)","v":""}]
[{"$f":"IFERROR(IF($W$8=\"ganjil\",VLOOKUP($AJ$1,cat.ganjil,8,0),VLOOKUP($AJ$1,cat.genap,8,0)),\"\")","v":0},{"$f":"IFERROR(IF($W$8=\"ganjil\",VLOOKUP($AJ$1,cat.ganjil,9,0),VLOOKUP($AJ$1,cat.genap,9,0)),\"\")","v":0}]
[{"$f":"IFERROR(IF($W$8=\"ganjil\",VLOOKUP($AJ$1,cat.ganjil,10,0),VLOOKUP($AJ$1,cat.genap,10,0)),\"\")","v":0},{"$f":"IFERROR(IF($W$8=\"ganjil\",VLOOKUP($AJ$1,cat.ganjil,11,0),VLOOKUP($AJ$1,cat.genap,11,0)),\"\")","v":0},null,"D. EKSTRAKURIKULER",null,null,null,null,null,null,null,null,null,null,null,null,null,null,null,null,null,null,null,null,null,null,null,"D. EKSTRAKURIKULER"]
[null,null,null,"No","Kegiatan Ekstrakurikuler",null,null,null,null,null,"Nilai","Deskripsi",null,null,null,null,null,null,null,null,null,null,null,null,null,null,null,"No","Kegiatan Ekstrakurikuler",null,null,null,null,null,"Nilai","Deskripsi"]
[{"$f":"IF(catatan!$L$6=\"\",\"\",catatan!$L$6)","v":""},{"$f":"IF(catatan!$N$6=\"\",\"\",catatan!$N$6)","v":""},{"$f":"IF(catatan!$P$6=\"\",\"\",catatan!$P$6)","v":""},{"$f":"IF(E53=\"\",\"\",1)","v":""},{"$f":"IF($W$8=\"GANJIL\",$A$53,$A$54)","v":""},null,null,null,null,null,{"$f":"UPPER(IF($A55=0,\"\",$A55))","v":""},{"$f":"IF($B55=0,\"\",$B55)","v":""},null,null,null,null,null,null,null,null,null,null,null,null,null,null,null,{"$f":"IF(AC53=\"\",\"\",1)","v":""},{"$f":"IF($W$8=\"GANJIL\",$A$53,$A$54)","v":""},null,null,null,null,null,{"$f":"UPPER(IF($A55=0,\"\",$A55))","v":""},{"$f":"IF($B55=0,\"\",$B55)","v":""}]
[{"$f":"IF(catatan!$AM$6=\"\",\"\",catatan!$AM$6)","v":""},{"$f":"IF(catatan!$AO$6=\"\",\"\",catatan!$AO$6)","v":""},{"$f":"IF(catatan!$AQ$6=\"\",\"\",catatan!$AQ$6)","v":""},{"$f":"IF(E54=\"\",\"\",MAX($D$53:$D53)+1)","v":""},{"$f":"IF($W$8=\"GANJIL\",$B$53,$B$54)","v":""},null,null,null,null,null,{"$f":"UPPER(IF($A56=0,\"\",$A56))","v":""},{"$f":"IF($B56=0,\"\",$B56)","v":""},null,null,null,null,null,null,null,null,null,null,null,null,null,null,null,{"$f":"IF(AC54=\"\",\"\",MAX($AB$53:$AB53)+1)","v":""},{"$f":"IF($W$8=\"GANJIL\",$B$53,$B$54)","v":""},null,null,null,null,null,{"$f":"UPPER(IF($A56=0,\"\",$A56))","v":""},{"$f":"IF($B56=0,\"\",$B56)","v":""}]
[{"$f":"IFERROR(IF($W$8=\"GANJIL\",VLOOKUP($AJ$1,cat.ganjil,12,0),VLOOKUP($AJ$1,cat.genap,12,0)),\"\")","v":0},{"$f":"IF($W$8=\"GANJIL\",VLOOKUP($AJ$1,cat.ganjil,13,0),VLOOKUP($AJ$1,cat.genap,13,0))","v":0},null,{"$f":"IF(E55=\"\",\"\",MAX($D$53:$D54)+1)","v":""},{"$f":"IF($W$8=\"GANJIL\",$C$53,$C$54)","v":""},null,null,null,null,null,{"$f":"UPPER(IF($A57=0,\"\",$A57))","v":""},{"$f":"IF($B57=0,\"\",$B57)","v":""},null,null,null,null,null,null,null,null,null,null,null,null,null,null,null,{"$f":"IF(AC55=\"\",\"\",MAX($AB$53:$AB54)+1)","v":""},{"$f":"IF($W$8=\"GANJIL\",$C$53,$C$54)","v":""},null,null,null,null,null,{"$f":"UPPER(IF($A57=0,\"\",$A57))","v":""},{"$f":"IF($B57=0,\"\",$B57)","v":""}]
[{"$f":"IFERROR(IF($W$8=\"GANJIL\",VLOOKUP($AJ$1,cat.ganjil,14,0),VLOOKUP($AJ$1,cat.genap,14,0)),\"\")","v":0},{"$f":"IF($W$8=\"GANJIL\",VLOOKUP($AJ$1,cat.ganjil,15,0),VLOOKUP($AJ$1,cat.genap,15,0))","v":0}]
[{"$f":"IFERROR(IF($W$8=\"GANJIL\",VLOOKUP($AJ$1,cat.ganjil,16,0),VLOOKUP($AJ$1,cat.genap,16,0)),\"\")","v":0},{"$f":"IF($W$8=\"GANJIL\",VLOOKUP($AJ$1,cat.ganjil,17,0),VLOOKUP($AJ$1,cat.genap,17,0))","v":0},null,"E. SARAN - SARAN",null,null,null,null,null,null,null,null,null,null,null,null,null,null,null,null,null,null,null,null,null,null,null,"E. SARAN - SARAN"]
[null,null,null,{"$f":"IF($A59=0,\"\",$A59)","v":""},null,null,null,null,null,null,null,null,null,null,null,null,null,null,null,null,null,null,null,null,null,null,null,{"$f":"IF($A59=0,\"\",$A59)","v":""}]
[{"$f":"IF($W$8=\"GANJIL\",VLOOKUP($AJ$1,cat.ganjil,18,0),VLOOKUP($AJ$1,cat.genap,18,0))","v":0}]
[]
[]
[null,null,null,"F. TINGGI DAN BERAT BADAN",null,null,null,null,null,null,null,null,null,null,null,null,null,null,null,null,null,null,null,null,null,null,null,"F. TINGGI DAN BERAT BADAN"]
[null,null,null,"No","Aspek yang dinilai",null,null,null,null,null,"Semester  1",null,null,null,null,null,null,null,"Semester  2",null,null,null,null,null,null,null,null,"No","Aspek yang dinilai",null,null,null,null,null,"Semester  1",null,null,null,null,null,null,null,"Semester  2"]
[{"$f":"catatan!$S$7","v":"Tinggi badan"},null,null,1,"Tinggi Badan",null,null,null,null,null,{"$f":"IF(VLOOKUP($AJ$1,cat.ganjil,19,0)=\"\",\"\",VLOOKUP($AJ$1,cat.ganjil,19,0))","v":""},null,null,null,null,null,null,null,{"$f":"IF(VLOOKUP($AJ$1,cat.genap,19,0)=\"\",\"\",VLOOKUP($AJ$1,cat.genap,19,0))","v":""},null,null,null,null,null,null,null,null,1,"Tinggi Badan",null,null,null,null,null,{"$f":"IF(VLOOKUP($AJ$1,cat.ganjil,19,0)=\"\",\"\",VLOOKUP($AJ$1,cat.ganjil,19,0))","v":""},null,null,null,null,null,null,null,{"$f":"IF(VLOOKUP($AJ$1,cat.genap,19,0)=\"\",\"\",VLOOKUP($AJ$1,cat.genap,19,0))","v":""}]
[null,null,null,2,"Berat Badan",null,null,null,null,null,{"$f":"IF(VLOOKUP($AJ$1,cat.ganjil,20,0)=\"\",\"\",VLOOKUP($AJ$1,cat.ganjil,20,0))","v":""},null,null,null,null,null,null,null,{"$f":"IF(VLOOKUP($AJ$1,cat.genap,20,0)=\"\",\"\",VLOOKUP($AJ$1,cat.genap,20,0))","v":""},null,null,null,null,null,null,null,null,2,"Berat Badan",null,null,null,null,null,{"$f":"IF(VLOOKUP($AJ$1,cat.ganjil,20,0)=\"\",\"\",VLOOKUP($AJ$1,cat.ganjil,20,0))","v":""},null,null,null,null,null,null,null,{"$f":"IF(VLOOKUP($AJ$1,cat.genap,20,0)=\"\",\"\",VLOOKUP($AJ$1,cat.genap,20,0))","v":""}]
[]
[null,null,null,"G. KONDISI KESEHATAN",null,null,null,null,null,null,null,null,null,null,null,null,null,null,null,null,null,null,null,null,null,null,null,"G. KONDISI KESEHATAN"]
[null,null,null,"No","Aspek Fisik",null,null,null,null,null,"Keterangan",null,null,null,null,null,null,null,null,null,null,null,null,null,null,null,null,"No","Aspek Fisik",null,null,null,null,null,"Keterangan"]
[{"$f":"IF($W$8=\"GANJIL\",VLOOKUP($AJ$1,cat.ganjil,21,0),VLOOKUP($AJ$1,cat.genap,21,0))","v":0},null,null,{"$f":"IF(E69=\"\",\"\",1)","v":1},{"$f":"IF($W$8=\"GANJIL\",catatan!$U6,catatan!$AV$6)","v":"Pendengaran"},null,null,null,null,null,{"$f":"IF($A69=0,\"\",$A69)","v":""},null,null,null,null,null,null,null,null,null,null,null,null,null,null,null,null,{"$f":"IF(AC69=\"\",\"\",1)","v":1},{"$f":"IF($W$8=\"GANJIL\",catatan!$U6,catatan!$AV$6)","v":"Pendengaran"},null,null,null,null,null,{"$f":"IF($A69=0,\"\",$A69)","v":""}]
[{"$f":"IF($W$8=\"GANJIL\",VLOOKUP($AJ$1,cat.ganjil,22,0),VLOOKUP($AJ$1,cat.genap,22,0))","v":0},null,null,{"$f":"IF(E70=\"\",\"\",MAX($D$69:D69)+1)","v":2},{"$f":"IF($W$8=\"GANJIL\",catatan!$V$6,catatan!$AW$6)","v":"Penglihatan"},null,null,null,null,null,{"$f":"IF($A70=0,\"\",$A70)","v":""},null,null,null,null,null,null,null,null,null,null,null,null,null,null,null,null,{"$f":"IF(AC70=\"\",\"\",MAX($AB$69:AB69)+1)","v":2},{"$f":"IF($W$8=\"GANJIL\",catatan!$V$6,catatan!$AW$6)","v":"Penglihatan"},null,null,null,null,null,{"$f":"IF($A70=0,\"\",$A70)","v":""}]
[{"$f":"IF($W$8=\"GANJIL\",VLOOKUP($AJ$1,cat.ganjil,23,0),VLOOKUP($AJ$1,cat.genap,23,0))","v":0},null,null,{"$f":"IF(E71=\"\",\"\",MAX($D$69:D70)+1)","v":3},{"$f":"IF($W$8=\"GANJIL\",catatan!$W$6,catatan!$AX$6)","v":"Gigi"},null,null,null,null,null,{"$f":"IF($A71=0,\"\",$A71)","v":""},null,null,null,null,null,null,null,null,null,null,null,null,null,null,null,null,{"$f":"IF(AC71=\"\",\"\",MAX($AB$69:AB70)+1)","v":3},{"$f":"IF($W$8=\"GANJIL\",catatan!$W$6,catatan!$AX$6)","v":"Gigi"},null,null,null,null,null,{"$f":"IF($A71=0,\"\",$A71)","v":""}]
[{"$f":"IF($W$8=\"GANJIL\",VLOOKUP($AJ$1,cat.ganjil,24,0),VLOOKUP($AJ$1,cat.genap,24,0))","v":0},null,null,{"$f":"IF(E72=\"\",\"\",MAX($D$69:D71)+1)","v":4},{"$f":"IF($W$8=\"GANJIL\",catatan!$X$6,catatan!$AY$6)","v":"Lainnya"},null,null,null,null,null,{"$f":"IF($A72=0,\"\",$A72)","v":""},null,null,null,null,null,null,null,null,null,null,null,null,null,null,null,null,{"$f":"IF(AC72=\"\",\"\",MAX($AB$69:AB71)+1)","v":4},{"$f":"IF($W$8=\"GANJIL\",catatan!$X$6,catatan!$AY$6)","v":"Lainnya"},null,null,null,null,null,{"$f":"IF($A72=0,\"\",$A72)","v":""}]
[]
[null,null,null,"H. PRESTASI",null,null,null,null,null,null,null,null,null,null,null,null,null,null,null,null,null,null,null,null,null,null,null,"H. PRESTASI"]
[null,null,null,"No","Jenis Kegiatan",null,null,null,null,null,"Keterangan",null,null,null,null,null,null,null,null,null,null,null,null,null,null,null,null,"No","Jenis Kegiatan",null,null,null,null,null,"Keterangan"]
[{"$f":"IF($W$8=\"ganjil\",catatan!Y6,catatan!AZ6)","v":""},{"$f":"IF($W$8=\"GANJIL\",VLOOKUP($AJ$1,cat.ganjil,25,0),VLOOKUP($AJ$1,cat.genap,25,0))","v":0},null,{"$f":"IF($E76=\"\",\"\",1)","v":""},{"$f":"IF($A76=0,\"\",$A76)","v":""},null,null,null,null,null,{"$f":"IF($B76=0,\"\",$B76)","v":""},null,null,null,null,null,null,null,null,null,null,null,null,null,null,null,null,{"$f":"IF($AC76=\"\",\"\",1)","v":""},{"$f":"IF($A76=0,\"\",$A76)","v":""},null,null,null,null,null,{"$f":"IF($B76=0,\"\",$B76)","v":""}]
[{"$f":"IF($W$8=\"ganjil\",catatan!Z6,catatan!BA6)","v":""},{"$f":"IF($W$8=\"GANJIL\",VLOOKUP($AJ$1,cat.ganjil,26,0),VLOOKUP($AJ$1,cat.genap,26,0))","v":0},null,{"$f":"IF(E77=\"\",\"\",MAX($D$76:D76)+1)","v":""},{"$f":"IF($A77=0,\"\",$A77)","v":""},null,null,null,null,null,{"$f":"IF($B77=0,\"\",$B77)","v":""},null,null,null,null,null,null,null,null,null,null,null,null,null,null,null,null,{"$f":"IF(AC77=\"\",\"\",MAX($AB$76:AB76)+1)","v":""},{"$f":"IF($A77=0,\"\",$A77)","v":""},null,null,null,null,null,{"$f":"IF($B77=0,\"\",$B77)","v":""}]
[{"$f":"IF($W$8=\"ganjil\",catatan!AA6,catatan!BB6)","v":""},{"$f":"IF($W$8=\"GANJIL\",VLOOKUP($AJ$1,cat.ganjil,27,0),VLOOKUP($AJ$1,cat.genap,27,0))","v":0},null,{"$f":"IF(E78=\"\",\"\",MAX($D$76:D77)+1)","v":""},{"$f":"IF($A78=0,\"\",$A78)","v":""},null,null,null,null,null,{"$f":"IF($B78=0,\"\",$B78)","v":""},null,null,null,null,null,null,null,null,null,null,null,null,null,null,null,null,{"$f":"IF(AC78=\"\",\"\",MAX($AB$76:AB77)+1)","v":""},{"$f":"IF($A78=0,\"\",$A78)","v":""},null,null,null,null,null,{"$f":"IF($B78=0,\"\",$B78)","v":""}]
[]
[null,null,null,"I. KETIDAKHADIRAN",null,null,null,null,null,null,null,null,null,null,null,null,null,null,"Keputusan  :",null,null,null,null,null,null,null,null,null,"I. KETIDAKHADIRAN",null,null,null,null,null,null,null,null,null,null,null,null,"Keputusan  :"]
[{"$f":"IF($W$8=\"GANJIL\",VLOOKUP($AJ$1,cat.ganjil,3,0),VLOOKUP($AJ$1,cat.genap,3,0))","v":"-"},"hari",null,"Sakit",null,null,null,null,null,null,{"$f":"IF($A81=0,\"\",$A81&\"    \"&$B$81)","v":"-    hari"},null,null,null,null,null,null,null,{"$f":"IF($W$8=\"ganjil\",\"\",\"Berdasarkan pencapaian kompetensi pada semester  ke-1 dan ke-2,ananda \"&$I$7&\" ditetapkan :\")","v":"Berdasarkan pencapaian kompetensi pada semester  ke-1 dan ke-2,ananda risal ditetapkan :"},null,null,null,null,null,null,null,null,"Sakit",null,null,null,null,null,null,{"$f":"IF($A81=0,\"\",$A81&\"    \"&$B$81)","v":"-    hari"},null,null,null,null,null,null,{"$f":"IF($W$8=\"ganjil\",\"\",\"Berdasarkan pencapaian kompetensi pada semester  ke-1 dan ke-2,ananda \"&$I$7&\" ditetapkan :\")","v":"Berdasarkan pencapaian kompetensi pada semester  ke-1 dan ke-2,ananda risal ditetapkan :"}]
[{"$f":"IF($W$8=\"GANJIL\",VLOOKUP($AJ$1,cat.ganjil,4,0),VLOOKUP($AJ$1,cat.genap,4,0))","v":"-"},null,null,"Izin",null,null,null,null,null,null,{"$f":"IF($A82=0,\"\",$A82&\"    \"&$B$81)","v":"-    hari"},null,null,null,null,null,null,null,null,null,null,null,null,null,null,null,null,"Izin",null,null,null,null,null,null,{"$f":"IF($A82=0,\"\",$A82&\"    \"&$B$81)","v":"-    hari"}]
[{"$f":"IF($W$8=\"GANJIL\",VLOOKUP($AJ$1,cat.ganjil,5,0),VLOOKUP($AJ$1,cat.genap,5,0))","v":"-"},null,null,"Tanpa Keterangan",null,null,null,null,null,null,{"$f":"IF($A83=0,\"\",$A83&\"    \"&$B$81)","v":"-    hari"},null,null,null,null,null,null,null,{"$f":"IF($W$8=\"ganjil\",\"\",\"Naik Ke kelas    \"&$BB$83)","v":"Naik Ke kelas     "},null,null,null,null,null,null,null,null,"Tanpa Keterangan",null,null,null,null,null,null,{"$f":"IF($A83=0,\"\",$A83&\"    \"&$B$81)","v":"-    hari"},null,null,null,null,null,null,{"$f":"IF($W$8=\"ganjil\",\"\",\"Naik Ke kelas    \"&$BB$83)","v":"Naik Ke kelas     "},null,null,null,null,null,null,null,null,null,null,null,{"$f":"IF($AT$2=\"NAIK\",BE83&BF83,\" \")","v":" "},null,null,{"$f":"$A$4+1","v":10},{"$f":"\"  ( \"&VLOOKUP($BE$83,kelasku,2,0)&\" )\"","v":"  ( Sepuluh )"}]
[null,null,null,null,null,null,null,null,null,null,null,null,null,null,null,null,null,null,{"$f":"IF($W$8=\"ganjil\",\"\",\"Tinggal di kelas   \"&$BB$84&$BC$84)","v":"Tinggal di kelas   9  ( Sembilan )"},null,null,null,null,null,null,null,null,null,null,null,null,null,null,null,null,null,null,null,null,null,null,{"$f":"IF($W$8=\"ganjil\",\"\",\"Tinggal di kelas   \"&BB84&$BC$84)","v":"Tinggal di kelas   9  ( Sembilan )"},null,null,null,null,null,null,null,null,null,null,null,{"$f":"IF($AT$2=\"TIDAK NAIK\",sekolah!$E$20,\"\")","v":9},{"$f":"IF($AT$2=\"TIDAK NAIK\",BF84,\"\")","v":"  ( Sembilan )"},null,null,{"$f":"\"  ( \"&VLOOKUP($BB$84,kelasku,2,0)&\" )\"","v":"  ( Sembilan )"}]
[]
[null,null,null,null,null,null,null,null,null,null,null,null,null,null,null,null,null,null,null,{"$f":"IF($W$8=\"ganjil\",sekolah!$E$26,sekolah!$E$27)","v":"Sampang, 17 Juni 2019"},null,null,null,null,null,null,null,null,null,null,null,null,null,null,null,null,null,null,null,null,null,null,{"$f":"IF($W$8=\"ganjil\",sekolah!$E$26,sekolah!$E$27)","v":"Sampang, 17 Juni 2019"}]
[null,null,null,null,null,null,"Orang tua / wali",null,null,null,null,null,null,null,null,null,null,null,null,{"$f":"IF($A$4<7,\"Guru Kelas  \"&sekolah!$E$20,\"Wali Kelas   \"&$A$7)","v":"Wali Kelas   9 C"},null,null,null,null,null,null,null,null,null,"Orang tua / wali",null,null,null,null,null,null,null,null,null,null,null,null,{"$f":"IF($A$4<7,\"Guru Kelas  \"&sekolah!$E$20,\"Wali Kelas   \"&$A$7)","v":"Wali Kelas   9 C"}]
[]
[{"$f":"kur!L5","v":92},{"$f":"kur!M5","v":84},{"$f":"kur!N5","v":75}]
["A","B"]
[{"$f":"IF($A$1=\"SATU KKM\",$A$89,kur!F6)","v":82},{"$f":"IF($A$1=\"SATU KKM\",$B$89,kur!G6)","v":64},{"$f":"IF($A$1=\"SATU KKM\",$C$89,kur!H6)","v":45}]
[{"$f":"IF($A$1=\"SATU KKM\",$A$89,kur!F7)","v":85},{"$f":"IF($A$1=\"SATU KKM\",$B$89,kur!G7)","v":70},{"$f":"IF($A$1=\"SATU KKM\",$C$89,kur!H7)","v":56},null,null,"………………………………..",null,null,null,null,null,null,null,null,null,null,null,null,null,{"$f":"sekolah!$E$23","v":"Rusli,MPd"},null,null,null,null,null,null,null,null,null,"………………………………..",null,null,null,null,null,null,null,null,null,null,null,null,{"$f":"sekolah!$E$23","v":"Rusli,MPd"}]
[{"$f":"IF($A$1=\"SATU KKM\",$A$89,kur!F8)","v":92},{"$f":"IF($A$1=\"SATU KKM\",$B$89,kur!G8)","v":84},{"$f":"IF($A$1=\"SATU KKM\",$C$89,kur!H8)","v":76},null,null,null,null,null,null,null,null,null,null,null,null,null,null,null,null,{"$f":"\"NIP. \"&sekolah!$E$24","v":"NIP. "},null,null,null,null,null,null,null,null,null,null,null,null,null,null,null,null,null,null,null,null,null,null,{"$f":"\"NIP. \"&sekolah!$E$24","v":"NIP. "}]
[{"$f":"IF($A$1=\"SATU KKM\",$A$89,kur!F9)","v":91},{"$f":"IF($A$1=\"SATU KKM\",$B$89,kur!G9)","v":82},{"$f":"IF($A$1=\"SATU KKM\",$C$89,kur!H9)","v":72}]
[{"$f":"IF($A$1=\"SATU KKM\",$A$89,kur!F10)","v":85},{"$f":"IF($A$1=\"SATU KKM\",$B$89,kur!G10)","v":70},{"$f":"IF($A$1=\"SATU KKM\",$C$89,kur!H10)","v":56},null,null,null,null,null,null,null,null,null,null,"Mengetahui",null,null,null,null,null,null,null,null,null,null,null,null,null,null,null,null,null,null,null,null,null,null,null,"Mengetahui"]
[{"$f":"IF($A$1=\"SATU KKM\",$A$89,kur!F12)","v":91},{"$f":"IF($A$1=\"SATU KKM\",$B$89,kur!G12)","v":82},{"$f":"IF($A$1=\"SATU KKM\",$C$89,kur!H12)","v":74},null,null,null,null,null,null,null,null,null,null,{"$f":"\"Kepala \"&sekolah!$E$5","v":"Kepala MTs Nurul Hidayah"},null,null,null,null,null,null,null,null,null,null,null,null,null,null,null,null,null,null,null,null,null,null,null,{"$f":"\"Kepala \"&sekolah!$E$5","v":"Kepala MTs Nurul Hidayah"}]
[{"$f":"IF($A$1=\"SATU KKM\",$A$89,kur!F13)","v":92},{"$f":"IF($A$1=\"SATU KKM\",$B$89,kur!G13)","v":84},{"$f":"IF($A$1=\"SATU KKM\",$C$89,kur!H13)","v":75}]
[{"$f":"IF($A$1=\"SATU KKM\",$A$89,kur!F14)","v":85},{"$f":"IF($A$1=\"SATU KKM\",$B$89,kur!G14)","v":70},{"$f":"IF($A$1=\"SATU KKM\",$C$89,kur!H14)","v":56}]
[{"$f":"IF($A$1=\"SATU KKM\",$A$89,kur!F15)","v":92},{"$f":"IF($A$1=\"SATU KKM\",$B$89,kur!G15)","v":84},{"$f":"IF($A$1=\"SATU KKM\",$C$89,kur!H15)","v":77}]
[{"$f":"IF($A$1=\"SATU KKM\",$A$89,kur!F16)","v":93},{"$f":"IF($A$1=\"SATU KKM\",$B$89,kur!G16)","v":86},{"$f":"IF($A$1=\"SATU KKM\",$C$89,kur!H16)","v":78}]
[{"$f":"IF($A$1=\"SATU KKM\",$A$89,kur!F17)","v":93},{"$f":"IF($A$1=\"SATU KKM\",$B$89,kur!G17)","v":86},{"$f":"IF($A$1=\"SATU KKM\",$C$89,kur!H17)","v":79},null,null,null,null,null,null,null,null,null,null,{"$f":"sekolah!$E$18","v":"Syafaruddin,M.MPd"},null,null,null,null,null,null,null,null,null,null,null,null,null,null,null,null,null,null,null,null,null,null,null,{"$f":"sekolah!$E$18","v":"Syafaruddin,M.MPd"}]
[{"$f":"IF($A$1=\"SATU KKM\",$A$89,kur!F18)","v":78},{"$f":"IF($A$1=\"SATU KKM\",$B$89,kur!G18)","v":56},{"$f":"IF($A$1=\"SATU KKM\",$C$89,kur!H18)","v":34},null,null,null,null,null,null,null,null,null,null,{"$f":"\"NIP. \"&sekolah!$E$19","v":"NIP. 198112102005011004"},null,null,null,null,null,null,null,null,null,null,null,null,null,null,null,null,null,null,null,null,null,null,null,{"$f":"\"NIP. \"&sekolah!$E$19","v":"NIP. 198112102005011004"}]
[{"$f":"IF($A$1=\"SATU KKM\",$A$89,kur!F19)","v":94},{"$f":"IF($A$1=\"SATU KKM\",$B$89,kur!G19)","v":88},{"$f":"IF($A$1=\"SATU KKM\",$C$89,kur!H19)","v":81}]
[{"$f":"IF($A$1=\"SATU KKM\",$A$89,kur!F21)","v":92},{"$f":"IF($A$1=\"SATU KKM\",$B$89,kur!G21)","v":84},{"$f":"IF($A$1=\"SATU KKM\",$C$89,kur!H21)","v":76}]
[{"$f":"IF($A$1=\"SATU KKM\",$A$89,kur!F22)","v":""},{"$f":"IF($A$1=\"SATU KKM\",$B$89,kur!G22)","v":""},{"$f":"IF($A$1=\"SATU KKM\",$C$89,kur!H22)","v":0}]
[{"$f":"IF($A$1=\"SATU KKM\",$A$89,kur!F23)","v":""},{"$f":"IF($A$1=\"SATU KKM\",$B$89,kur!G23)","v":""},{"$f":"IF($A$1=\"SATU KKM\",$C$89,kur!H23)","v":0}]

{"sheet":"pts","index":15,"n_rows":50,"n_cols":57,"rows_kept":50,"cut":false,"hidden":true,"merged":[[30,36,30,43],[30,46,30,60],[33,35,33,41],[33,42,33,43],[33,45,35,60],[34,35,34,41],[34,42,34,43],[35,35,35,41],[35,42,35,43],[26,36,26,43],[26,46,26,60],[27,36,27,60],[28,36,28,43],[28,46,28,60],[29,36,29,43],[29,46,29,60],[23,36,23,43],[23,46,23,60],[24,36,24,43],[24,46,24,60],[25,36,25,43],[25,46,25,60],[20,36,20,43],[20,46,20,60],[21,36,21,43],[21,46,21,60],[22,36,22,43],[22,46,22,60],[16,46,16,60],[17,36,17,43],[17,46,17,60],[18,36,18,43],[18,46,18,60],[19,36,19,43],[19,46,19,60],[8,41,8,58],[12,35,12,43],[12,46,12,60],[13,35,16,35],[13,36,13,60],[14,36,14,43],[14,46,14,60],[15,36,15,43],[15,46,15,60],[16,36,16,43],[3,35,3,60],[5,41,5,50],[5,56,5,60],[6,41,6,50],[6,56,6,60],[7,41,7,50],[7,56,7,60],[20,19,20,33],[21,19,21,33],[14,19,14,33],[15,19,15,33],[16,19,16,33],[17,19,17,33],[18,19,18,33],[19,19,19,33],[7,13,7,23],[8,13,8,31],[5,29,5,33],[6,29,6,33],[7,29,7,33],[13,8,13,33],[12,7,12,15],[12,19,12,33],[13,7,16,7],[30,19,30,33],[22,19,22,33],[23,19,23,33],[24,19,24,33],[25,19,25,33],[26,19,26,33],[28,19,28,33],[27,8,27,33],[28,8,28,15],[29,8,29,15],[30,8,30,15],[14,8,14,15],[33,18,35,33],[3,7,3,33],[33,7,33,13],[34,7,34,13],[35,7,35,13],[33,14,33,16],[34,14,34,16],[35,14,35,16],[5,13,5,23],[6,13,6,23],[21,8,21,15],[22,8,22,15],[23,8,23,15],[24,8,24,15],[25,8,25,15],[26,8,26,15],[15,8,15,15],[16,8,16,15],[17,8,17,15],[18,8,18,15],[19,8,19,15],[20,8,20,15],[29,19,29,33]]}
[{"$f":"VLOOKUP($W$1,siswa,3,0)","v":0},null,null,null,null,null,null,null,null,null,null,null,null,null,null,null,null,null,null,null,null,null,6]
[{"$f":"IF($A$1=0,\"\",\" / \")","v":""}]
[]
[{"$f":"kur!$I$1","v":"MULTI KKM"},null,null,null,null,null,null,"LAPORAN HASIL PENILAIAN TENGAH SEMESTER ( PTS )",null,null,null,null,null,null,null,null,null,null,null,null,null,null,null,null,null,null,null,null,null,null,null,null,null,null,null,"LAPORAN HASIL PENILAIAN TENGAH SEMESTER ( PTS )"]
[{"$f":"sekolah!$E$20","v":9}]
[null,null,null,null,null,null,null,"Nama Peserta Didik",null,null,null,null,":",{"$f":"VLOOKUP($W$1,siswa,4,0)","v":"risal"},null,null,null,null,null,null,null,null,null,null,"Kelas",null,null,null,":",{"$f":"sekolah!$E$20&\"  ( \"&data!$J$4&\" )\"","v":"9  ( Sembilan )"},null,null,null,null,null,"Nama Peserta Didik",null,null,null,null,":",{"$f":"VLOOKUP($W$1,siswa,4,0)","v":"risal"},null,null,null,null,null,null,null,null,null,"Kelas",null,null,null,":",{"$f":"sekolah!$E$20&\"  ( \"&data!$J$4&\" )\"","v":"9  ( Sembilan )"}]
[null,null,null,null,null,null,null,"NIS / NISN",null,null,null,null,":",{"$f":"VLOOKUP($W$1,siswa,2,0)&$A$2&VLOOKUP($W$1,siswa,3,0)","v":""},null,null,null,null,null,null,null,null,null,null,"Semester",null,null,null,":",{"$f":"sekolah!$E$21","v":"Genap"},null,null,null,null,null,"NIS / NISN",null,null,null,null,":",{"$f":"VLOOKUP($W$1,siswa,2,0)&$A$2&VLOOKUP($W$1,siswa,3,0)","v":""},null,null,null,null,null,null,null,null,null,"Semester",null,null,null,":",{"$f":"sekolah!$E$21","v":"Genap"}]
[null,null,null,null,null,null,null,"Nama Madrasah",null,null,null,null,":",{"$f":"sekolah!$E$5","v":"MTs Nurul Hidayah"},null,null,null,null,null,null,null,null,null,null,"Tahun Pelajaran",null,null,null,":",{"$f":"sekolah!$E$22","v":"2017 / 2018"},null,null,null,null,null,"Nama Madrasah",null,null,null,null,":",{"$f":"sekolah!$E$5","v":"MTs Nurul Hidayah"},null,null,null,null,null,null,null,null,null,"Tahun Pelajaran",null,null,null,":",{"$f":"sekolah!$E$22","v":"2017 / 2018"}]
[null,null,null,null,null,null,null,"Alamat Madrasah",null,null,null,null,":",{"$f":"sekolah!$E$10","v":"Dusun Rominah Desa Rohayu Kedungdung Sampang"},null,null,null,null,null,null,null,null,null,null,null,null,null,null,null,null,null,null,null,null,null,"Alamat Madrasah",null,null,null,null,":",{"$f":"sekolah!$E$10","v":"Dusun Rominah Desa Rohayu Kedungdung Sampang"}]
[]
[null,null,null,null,null,null,null,"A. Kompetensi Pengetahuan",null,null,null,null,null,null,null,null,null,null,null,null,null,null,null,null,null,null,null,null,null,null,null,null,null,null,null,"A. Kompetensi Pengetahuan"]
[null,null,null,null,null,null,null,null,null,null,null,null,null,null,null,null,null,null,null,null,null,null,null,null,null,null,null,null,null,null,null,null,null,null,null,{"$f":"\"KKM Satuan Pendidikan :  \"&$C$14","v":"KKM Satuan Pendidikan :  75"}]
[null,null,null,null,null,null,null,"Muatan Pelajaran",null,null,null,null,null,null,null,null,"KKM","Nilai","Predikat","Deskripsi",null,null,null,null,null,null,null,null,null,null,null,null,null,null,null,"Muatan Pelajaran",null,null,null,null,null,null,null,null,"Nilai","Predikat","Deskripsi"]
[{"$f":"kur!L$5","v":92},{"$f":"kur!M$5","v":84},{"$f":"kur!N$5","v":75},null,null,null,null,1,"Pendidikan Agama Islam",null,null,null,null,null,null,null,null,null,null,null,null,null,null,null,null,null,null,null,null,null,null,null,null,null,null,1,"Pendidikan Agama Islam"]
[{"$f":"IF($A$4=\"SATU KKM\",A$14,kur!F6)","v":82},{"$f":"IF($A$4=\"SATU KKM\",B$14,kur!G6)","v":64},{"$f":"IF($A$4=\"SATU KKM\",C$14,kur!H6)","v":45},{"$f":"kur!$D6","v":"Al-Qur'an Hadits"},{"$f":"IF(S15=\"A\",\" SANGAT BAIK \",IF(S15=\"b\",\" BAIK \",IF(S15=\"C\",\" CUKUP BAIK \",\" PERLU PENDAMPINGAN \")))","v":" BAIK "},{"$f":"IF($AD$7=\"GANJIL\",VLOOKUP($W$1,uts.ganjil,3,0),VLOOKUP($W$1,uts.genap,3,0))","v":67},null,null,"a. Al-Qur'an Hadits",null,null,null,null,null,null,null,{"$f":"kur!$H6","v":45},{"$f":"IF($F15=0,\"\",$F15)","v":67},{"$f":"IF($R15=\"\",\"\",IF($R15>=$A15,\"A\",IF($R15>=$B15,\"B\",IF($R15>=$C15,\"C\",\"D\"))))","v":"B"},{"$f":"IF($S15=\"\",\"\",\"Ananda \"&$N$6&$E15&\"dalam mengingat dan memahami isi materi \"&$D15)","v":"Ananda risal BAIK dalam mengingat dan memahami isi materi Al-Qur'an Hadits"},null,null,null,null,null,null,null,null,null,null,null,null,null,null,null,null,"a. Al-Qur'an Hadits",null,null,null,null,null,null,null,{"$f":"$R15","v":67},{"$f":"$S15","v":"B"},{"$f":"$T15","v":"Ananda risal BAIK dalam mengingat dan memahami isi materi Al-Qur'an Hadits"}]
[{"$f":"IF($A$4=\"SATU KKM\",A$14,kur!F7)","v":85},{"$f":"IF($A$4=\"SATU KKM\",B$14,kur!G7)","v":70},{"$f":"IF($A$4=\"SATU KKM\",C$14,kur!H7)","v":56},{"$f":"kur!$D7","v":"Akidah Akhlak"},{"$f":"IF(S16=\"A\",\" SANGAT BAIK \",IF(S16=\"b\",\" BAIK \",IF(S16=\"C\",\" CUKUP BAIK \",\" PERLU PENDAMPINGAN \")))","v":" BAIK "},{"$f":"IF($AD$7=\"GANJIL\",VLOOKUP($W$1,uts.ganjil,4,0),VLOOKUP($W$1,uts.genap,4,0))","v":76},null,null,"b. Akidah Akhlak",null,null,null,null,null,null,null,{"$f":"kur!$H7","v":56},{"$f":"IF($F16=0,\"\",$F16)","v":76},{"$f":"IF($R16=\"\",\"\",IF($R16>=$A16,\"A\",IF($R16>=$B16,\"B\",IF($R16>=$C16,\"C\",\"D\"))))","v":"B"},{"$f":"IF($S16=\"\",\"\",\"Ananda \"&$N$6&$E16&\"dalam mengingat dan memahami isi materi \"&$D16)","v":"Ananda risal BAIK dalam mengingat dan memahami isi materi Akidah Akhlak"},null,null,null,null,null,null,null,null,null,null,null,null,null,null,null,null,"b. Akidah Akhlak",null,null,null,null,null,null,null,{"$f":"$R16","v":76},{"$f":"$S16","v":"B"},{"$f":"$T16","v":"Ananda risal BAIK dalam mengingat dan memahami isi materi Akidah Akhlak"}]
[{"$f":"IF($A$4=\"SATU KKM\",A$14,kur!F8)","v":92},{"$f":"IF($A$4=\"SATU KKM\",B$14,kur!G8)","v":84},{"$f":"IF($A$4=\"SATU KKM\",C$14,kur!H8)","v":76},{"$f":"kur!$D8","v":"Fikih"}," PERLU PENDAMPINGAN ",{"$f":"IF($AD$7=\"GANJIL\",VLOOKUP($W$1,uts.ganjil,5,0),VLOOKUP($W$1,uts.genap,5,0))","v":74},null,null,"c. Fikih",null,null,null,null,null,null,null,{"$f":"kur!$H8","v":76},74,"D","Ananda risal PERLU PENDAMPINGAN dalam mengingat dan memahami isi materi Fikih",null,null,null,null,null,null,null,null,null,null,null,null,null,null,null,null,"c. Fikih",null,null,null,null,null,null,null,74,"D","Ananda risal PERLU PENDAMPINGAN dalam mengingat dan memahami isi materi Fikih"]
[{"$f":"IF($A$4=\"SATU KKM\",A$14,kur!F10)","v":85},{"$f":"IF($A$4=\"SATU KKM\",B$14,kur!G10)","v":70},{"$f":"IF($A$4=\"SATU KKM\",C$14,kur!H10)","v":56},{"$f":"kur!$D10","v":"Sejarah Kebudayaan Islam"}," CUKUP BAIK ",{"$f":"IF($AD$7=\"GANJIL\",VLOOKUP($W$1,uts.ganjil,7,0),VLOOKUP($W$1,uts.genap,7,0))","v":67},null,null,{"$f":"IF($A$5<3,\"\",\"d. Sejarah Kebudayaan Islam\")","v":"d. Sejarah Kebudayaan Islam"},null,null,null,null,null,null,null,{"$f":"IF($I18=\"\",\"\",kur!$H10)","v":56},67,"C","Ananda risal CUKUP BAIK dalam mengingat dan memahami isi materi Sejarah Kebudayaan Islam",null,null,null,null,null,null,null,null,null,null,null,null,null,null,null,null,{"$f":"IF($A$5<3,\"\",\"d. Sejarah Kebudayaan Islam\")","v":"d. Sejarah Kebudayaan Islam"},null,null,null,null,null,null,null,67,"C","Ananda risal CUKUP BAIK dalam mengingat dan memahami isi materi Sejarah Kebudayaan Islam"]
[{"$f":"IF($A$4=\"SATU KKM\",A$14,kur!F12)","v":91},{"$f":"IF($A$4=\"SATU KKM\",B$14,kur!G12)","v":82},{"$f":"IF($A$4=\"SATU KKM\",C$14,kur!H12)","v":74},{"$f":"kur!$D12","v":"Pendidikan Pancasila dan Kewarganegaaraan"}," CUKUP BAIK ",{"$f":"IF($AD$7=\"GANJIL\",VLOOKUP($W$1,uts.ganjil,8,0),VLOOKUP($W$1,uts.genap,8,0))","v":76},null,2,"Pendidikan Pancasila dan Kewarganegaraan",null,null,null,null,null,null,null,{"$f":"kur!$H12","v":74},76,"C","Ananda risal CUKUP BAIK dalam mengingat dan memahami isi materi Pendidikan Pancasila dan Kewarganegaaraan",null,null,null,null,null,null,null,null,null,null,null,null,null,null,null,2,"Pendidikan Pancasila dan Kewarganegaraan",null,null,null,null,null,null,null,76,"C","Ananda risal CUKUP BAIK dalam mengingat dan memahami isi materi Pendidikan Pancasila dan Kewarganegaaraan"]
[{"$f":"IF($A$4=\"SATU KKM\",A$14,kur!F13)","v":92},{"$f":"IF($A$4=\"SATU KKM\",B$14,kur!G13)","v":84},{"$f":"IF($A$4=\"SATU KKM\",C$14,kur!H13)","v":75},{"$f":"kur!$D13","v":"Bahasa Indonesia"}," PERLU PENDAMPINGAN ",{"$f":"IF($AD$7=\"GANJIL\",VLOOKUP($W$1,uts.ganjil,9,0),VLOOKUP($W$1,uts.genap,9,0))","v":74},null,3,"Bahasa Indonesia",null,null,null,null,null,null,null,{"$f":"kur!$H13","v":75},74,"D","Ananda risal PERLU PENDAMPINGAN dalam mengingat dan memahami isi materi Bahasa Indonesia",null,null,null,null,null,null,null,null,null,null,null,null,null,null,null,3,"Bahasa Indonesia",null,null,null,null,null,null,null,74,"D","Ananda risal PERLU PENDAMPINGAN dalam mengingat dan memahami isi materi Bahasa Indonesia"]
[{"$f":"IF($A$4=\"SATU KKM\",A$14,kur!F9)","v":91},{"$f":"IF($A$4=\"SATU KKM\",B$14,kur!G9)","v":82},{"$f":"IF($A$4=\"SATU KKM\",C$14,kur!H9)","v":72},{"$f":"kur!$D9","v":"Bahasa Arab"}," CUKUP BAIK ",{"$f":"IF($AD$7=\"GANJIL\",VLOOKUP($W$1,uts.ganjil,6,0),VLOOKUP($W$1,uts.genap,6,0))","v":78},null,4,"Bahasa Arab",null,null,null,null,null,null,null,{"$f":"kur!$H9","v":72},78,"C","Ananda risal CUKUP BAIK dalam mengingat dan memahami isi materi Bahasa Arab",null,null,null,null,null,null,null,null,null,null,null,null,null,null,null,4,"Bahasa Arab",null,null,null,null,null,null,null,78,"C","Ananda risal CUKUP BAIK dalam mengingat dan memahami isi materi Bahasa Arab"]
[{"$f":"IF($A$4=\"SATU KKM\",A$14,kur!F14)","v":85},{"$f":"IF($A$4=\"SATU KKM\",B$14,kur!G14)","v":70},{"$f":"IF($A$4=\"SATU KKM\",C$14,kur!H14)","v":56},{"$f":"kur!$D14","v":"Matematika"}," BAIK ",{"$f":"IF($AD$7=\"GANJIL\",VLOOKUP($W$1,uts.ganjil,10,0),VLOOKUP($W$1,uts.genap,10,0))","v":78},null,5,"Matematika",null,null,null,null,null,null,null,{"$f":"kur!$H14","v":56},78,"B","Ananda risal BAIK dalam mengingat dan memahami isi materi Matematika",null,null,null,null,null,null,null,null,null,null,null,null,null,null,null,5,"Matematika",null,null,null,null,null,null,null,78,"B","Ananda risal BAIK dalam mengingat dan memahami isi materi Matematika"]
[{"$f":"IF($A$4=\"SATU KKM\",A$14,kur!F15)","v":92},{"$f":"IF($A$4=\"SATU KKM\",B$14,kur!G15)","v":84},{"$f":"IF($A$4=\"SATU KKM\",C$14,kur!H15)","v":77},{"$f":"kur!$D15","v":"Ilmu Pengetahuan Alam"}," PERLU PENDAMPINGAN ",{"$f":"IF($AD$7=\"GANJIL\",VLOOKUP($W$1,uts.ganjil,11,0),VLOOKUP($W$1,uts.genap,11,0))","v":45},null,{"$f":"IF(I23=\"\",\"\",MAX($H$14:H22)+1)","v":6},{"$f":"IF($A$5<4,\"\",\"Ilmu Pengetahuan Alam\")","v":"Ilmu Pengetahuan Alam"},null,null,null,null,null,null,null,{"$f":"kur!$H15","v":77},45,"D","Ananda risal PERLU PENDAMPINGAN dalam mengingat dan memahami isi materi Ilmu Pengetahuan Alam",null,null,null,null,null,null,null,null,null,null,null,null,null,null,null,{"$f":"IF(AK23=\"\",\"\",MAX($AJ$14:AJ22)+1)","v":6},{"$f":"IF($A$5<4,\"\",\"Ilmu Pengetahuan Alam\")","v":"Ilmu Pengetahuan Alam"},null,null,null,null,null,null,null,45,"D","Ananda risal PERLU PENDAMPINGAN dalam mengingat dan memahami isi materi Ilmu Pengetahuan Alam"]
[{"$f":"IF($A$4=\"SATU KKM\",A$14,kur!F16)","v":93},{"$f":"IF($A$4=\"SATU KKM\",B$14,kur!G16)","v":86},{"$f":"IF($A$4=\"SATU KKM\",C$14,kur!H16)","v":78},{"$f":"kur!$D16","v":"Ilmu Pengetahuan Sosial"}," PERLU PENDAMPINGAN ",{"$f":"IF($AD$7=\"GANJIL\",VLOOKUP($W$1,uts.ganjil,12,0),VLOOKUP($W$1,uts.genap,12,0))","v":76},null,{"$f":"IF(I24=\"\",\"\",MAX($H$14:H23)+1)","v":7},{"$f":"IF($A$5<4,\"\",\"Ilmu Pengetahuan Sosial\")","v":"Ilmu Pengetahuan Sosial"},null,null,null,null,null,null,null,{"$f":"kur!$H16","v":78},76,"D","Ananda risal PERLU PENDAMPINGAN dalam mengingat dan memahami isi materi Ilmu Pengetahuan Sosial",null,null,null,null,null,null,null,null,null,null,null,null,null,null,null,{"$f":"IF(AK24=\"\",\"\",MAX($AJ$14:AJ23)+1)","v":7},{"$f":"IF($A$5<4,\"\",\"Ilmu Pengetahuan Sosial\")","v":"Ilmu Pengetahuan Sosial"},null,null,null,null,null,null,null,76,"D","Ananda risal PERLU PENDAMPINGAN dalam mengingat dan memahami isi materi Ilmu Pengetahuan Sosial"]
[{"$f":"IF($A$4=\"SATU KKM\",A$14,kur!F17)","v":93},{"$f":"IF($A$4=\"SATU KKM\",B$14,kur!G17)","v":86},{"$f":"IF($A$4=\"SATU KKM\",C$14,kur!H17)","v":79},{"$f":"kur!$D17","v":"Seni Budaya "}," PERLU PENDAMPINGAN ",{"$f":"IF($AD$7=\"GANJIL\",VLOOKUP($W$1,uts.ganjil,13,0),VLOOKUP($W$1,uts.genap,13,0))","v":74},null,{"$f":"IF(I25=\"\",\"\",MAX($H$14:H24)+1)","v":8},"Seni Budaya",null,null,null,null,null,null,null,{"$f":"kur!$H17","v":79},74,"D","Ananda risal PERLU PENDAMPINGAN dalam mengingat dan memahami isi materi Seni Budaya ",null,null,null,null,null,null,null,null,null,null,null,null,null,null,null,{"$f":"IF(AK25=\"\",\"\",MAX($AJ$14:AJ24)+1)","v":8},"Seni Budaya",null,null,null,null,null,null,null,74,"D","Ananda risal PERLU PENDAMPINGAN dalam mengingat dan memahami isi materi Seni Budaya "]
[{"$f":"IF($A$4=\"SATU KKM\",A$14,kur!F18)","v":78},{"$f":"IF($A$4=\"SATU KKM\",B$14,kur!G18)","v":56},{"$f":"IF($A$4=\"SATU KKM\",C$14,kur!H18)","v":34},{"$f":"kur!$D18","v":"Pendidikan Jasmani,Olahraga danKesehatan"}," SANGAT BAIK ",{"$f":"IF($AD$7=\"GANJIL\",VLOOKUP($W$1,uts.ganjil,14,0),VLOOKUP($W$1,uts.genap,14,0))","v":78},null,{"$f":"IF(I26=\"\",\"\",MAX($H$14:H25)+1)","v":9},"Pendidikan Jasmani,Olahraga dan Kesehatan",null,null,null,null,null,null,null,{"$f":"kur!$H18","v":34},78,"A","Ananda risal SANGAT BAIK dalam mengingat dan memahami isi materi Pendidikan Jasmani,Olahraga danKesehatan",null,null,null,null,null,null,null,null,null,null,null,null,null,null,null,{"$f":"IF(AK26=\"\",\"\",MAX($AJ$14:AJ25)+1)","v":9},"Pendidikan Jasmani,Olahraga dan Kesehatan",null,null,null,null,null,null,null,78,"A","Ananda risal SANGAT BAIK dalam mengingat dan memahami isi materi Pendidikan Jasmani,Olahraga danKesehatan"]
[{"$f":"IF($A$4=\"SATU KKM\",A$14,kur!F19)","v":94},{"$f":"IF($A$4=\"SATU KKM\",B$14,kur!G19)","v":88},{"$f":"IF($A$4=\"SATU KKM\",C$14,kur!H19)","v":81},{"$f":"kur!$D19","v":"Bahasa Inggris"}," PERLU PENDAMPINGAN ",{"$f":"IF($AD$7=\"GANJIL\",VLOOKUP($W$1,uts.ganjil,15,0),VLOOKUP($W$1,uts.genap,15,0))","v":45},null,{"$f":"IF(I27=\"\",\"\",MAX($H$14:H26)+1)","v":10},{"$f":"IF($A$5<7,\"\",\"Bahasa Inggris\")","v":"Bahasa Inggris"},null,null,null,null,null,null,null,{"$f":"IF($I27=\"\",\"\",kur!$H19)","v":81},45,"D","Ananda risal PERLU PENDAMPINGAN dalam mengingat dan memahami isi materi Bahasa Inggris",null,null,null,null,null,null,null,null,null,null,null,null,null,null,null,{"$f":"IF(AK27=\"\",\"\",MAX($AJ$14:AJ26)+1)","v":10},{"$f":"IF($A$5<7,\"\",\"Bahasa Inggris\")","v":"Bahasa Inggris"},null,null,null,null,null,null,null,45,"D","Ananda risal PERLU PENDAMPINGAN dalam mengingat dan memahami isi materi Bahasa Inggris"]
[null,null,null,null,null,null,null,{"$f":"IF(I28=\"\",\"\",MAX($H$14:H27)+1)","v":11},"Muatan Lokal",null,null,null,null,null,null,null,null,null,null,null,null,null,null,null,null,null,null,null,null,null,null,null,null,null,null,{"$f":"IF(AK28=\"\",\"\",MAX($AJ$14:AJ27)+1)","v":11},"Muatan Lokal"]
[{"$f":"IF($A$4=\"SATU KKM\",A$14,kur!F21)","v":92},{"$f":"IF($A$4=\"SATU KKM\",B$14,kur!G21)","v":84},{"$f":"IF($A$4=\"SATU KKM\",C$14,kur!H21)","v":76},{"$f":"kur!$D21","v":"Bahasa Madura"}," BAIK ",{"$f":"IF($I29=\"\",\"\",IF($AD$7=\"GANJIL\",VLOOKUP($W$1,uts.ganjil,16,0),VLOOKUP($W$1,uts.genap,16,0)))","v":84},null,null,{"$f":"IF(kur!$D21=\"\",\"\",\"a. \"&kur!$D21)","v":"a. Bahasa Madura"},null,null,null,null,null,null,null,{"$f":"IF($I29=\"\",\"\",kur!$H21)","v":76},84,{"$f":"IF($R29=\"\",\"\",IF($R29>=$A29,\"A\",IF($R29>=$B29,\"B\",IF($R29>=$C29,\"C\",\"D\"))))","v":"B"},{"$f":"IF($S29=\"\",\"\",\"Ananda \"&$N$6&$E29&\"dalam mengingat dan memahami isi materi \"&$D29)","v":"Ananda risal BAIK dalam mengingat dan memahami isi materi Bahasa Madura"},null,null,null,null,null,null,null,null,null,null,null,null,null,null,null,null,{"$f":"IF(kur!$D21=\"\",\"\",\"a. \"&kur!$D21)","v":"a. Bahasa Madura"},null,null,null,null,null,null,null,{"$f":"$R29","v":84},"B","Ananda risal BAIK dalam mengingat dan memahami isi materi Bahasa Madura"]
[{"$f":"IF($A$4=\"SATU KKM\",A$14,kur!F22)","v":""},{"$f":"IF($A$4=\"SATU KKM\",B$14,kur!G22)","v":""},{"$f":"IF($A$4=\"SATU KKM\",C$14,kur!H22)","v":0},{"$f":"kur!$D22","v":0}," PERLU PENDAMPINGAN ",{"$f":"IF($I30=\"\",\"\",IF($AD$7=\"GANJIL\",VLOOKUP($W$1,uts.ganjil,17,0),VLOOKUP($W$1,uts.genap,17,0)))","v":""},null,null,{"$f":"IF(kur!$D22=\"\",\"\",\"b. \"&kur!$D22)","v":""},null,null,null,null,null,null,null,{"$f":"IF($I30=\"\",\"\",kur!$H22)","v":""},{"$f":"IF($I30=\"\",\"\",IF($F30=0,\"\",$F30))","v":""},{"$f":"IF($R30=\"\",\"\",IF($R30>=$A30,\"A\",IF($R30>=$B30,\"B\",IF($R30>=$C30,\"C\",\"D\"))))","v":""},{"$f":"IF($S30=\"\",\"\",\"Ananda \"&$N$6&$E30&\"dalam mengingat dan memahami isi materi \"&$D30)","v":""},null,null,null,null,null,null,null,null,null,null,null,null,null,null,null,null,{"$f":"IF(kur!$D22=\"\",\"\",\"b. \"&kur!$D22)","v":""},null,null,null,null,null,null,null,{"$f":"$R30","v":""},"",""]
[{"$f":"IF($A$4=\"SATU KKM\",A$14,kur!F23)","v":""},{"$f":"IF($A$4=\"SATU KKM\",B$14,kur!G23)","v":""},{"$f":"IF($A$4=\"SATU KKM\",C$14,kur!H23)","v":0},{"$f":"kur!$D23","v":0}," PERLU PENDAMPINGAN ",{"$f":"IF($I31=\"\",\"\",IF($AD$7=\"GANJIL\",VLOOKUP($W$1,uts.ganjil,18,0),VLOOKUP($W$1,uts.genap,18,0)))","v":""},null,null,{"$f":"IF(kur!$D23=\"\",\"\",\"c. \"&kur!$D23)","v":""},null,null,null,null,null,null,null,{"$f":"IF($I31=\"\",\"\",kur!$H23)","v":""},{"$f":"IF($I31=\"\",\"\",IF($F31=0,\"\",$F31))","v":""},{"$f":"IF($R31=\"\",\"\",IF($R31>=$A31,\"A\",IF($R31>=$B31,\"B\",IF($R31>=$C31,\"C\",\"D\"))))","v":""},{"$f":"IF($S31=\"\",\"\",\"Ananda \"&$N$6&$E31&\"dalam mengingat dan memahami isi materi \"&$D31)","v":""},null,null,null,null,null,null,null,null,null,null,null,null,null,null,null,null,{"$f":"IF(kur!$D23=\"\",\"\",\"c. \"&kur!$D23)","v":""},null,null,null,null,null,null,null,{"$f":"$R31","v":""},"",{"$f":"$T31","v":""}]
[]
[null,null,null,null,null,null,null,"B. Ketidakhadiran",null,null,null,null,null,null,null,null,null,null,"C. Saran - saran",null,null,null,null,null,null,null,null,null,null,null,null,null,null,null,null,"B. Ketidakhadiran",null,null,null,null,null,null,null,null,null,"C. Saran - saran"]
[null,null,null,null,null,null,null,"Sakit",null,null,null,null,null,null,{"$f":"IF(AD$7=\"ganjil\",VLOOKUP($W$1,uts.ganjil,19,0)&\"  hari\",VLOOKUP($W$1,uts.genap,19,0)&\"  hari\")","v":"-  hari"},null,null,null,{"$f":"IF($D$35=0,\"\",$D$35)","v":""},null,null,null,null,null,null,null,null,null,null,null,null,null,null,null,null,"Sakit",null,null,null,null,null,null,{"$f":"IF(AD$7=\"ganjil\",VLOOKUP($W$1,uts.ganjil,19,0)&\"  hari\",VLOOKUP($W$1,uts.genap,19,0)&\"  hari\")","v":"-  hari"},null,null,{"$f":"IF($D$35=0,\"\",$D$35)","v":""}]
[null,null,null,{"$f":"IF(AD7=\"ganjil\",VLOOKUP($W$1,uts.ganjil,22,0),VLOOKUP($W$1,uts.genap,22,0))","v":0},null,null,null,"Izin",null,null,null,null,null,null,{"$f":"IF(AD$7=\"ganjil\",VLOOKUP($W$1,uts.ganjil,20,0)&\"  hari\",VLOOKUP($W$1,uts.genap,20,0)&\"  hari\")","v":"-  hari"},null,null,null,null,null,null,null,null,null,null,null,null,null,null,null,null,null,null,null,null,"Izin",null,null,null,null,null,null,{"$f":"IF(AD$7=\"ganjil\",VLOOKUP($W$1,uts.ganjil,20,0)&\"  hari\",VLOOKUP($W$1,uts.genap,20,0)&\"  hari\")","v":"-  hari"}]
[null,null,null,null,null,null,null,"Tanpa Keterangan",null,null,null,null,null,null,{"$f":"IF(AD$7=\"ganjil\",VLOOKUP($W$1,uts.ganjil,21,0)&\"  hari\",VLOOKUP($W$1,uts.genap,21,0)&\"  hari\")","v":"-  hari"},null,null,null,null,null,null,null,null,null,null,null,null,null,null,null,null,null,null,null,null,"Tanpa Keterangan",null,null,null,null,null,null,{"$f":"IF(AD$7=\"ganjil\",VLOOKUP($W$1,uts.ganjil,21,0)&\"  hari\",VLOOKUP($W$1,uts.genap,21,0)&\"  hari\")","v":"-  hari"}]
[]
[null,null,null,null,null,null,null,null,null,null,null,null,null,null,null,null,null,null,null,null,null,null,null,null,null,{"$f":"IF($AD$7=\"ganjil\",sekolah!$E$28,sekolah!$E$29)","v":"Sampang, 17 maret 2019"},null,null,null,null,null,null,null,null,null,null,null,null,null,null,null,null,null,null,null,null,null,null,null,null,null,null,{"$f":"IF($AD$7=\"ganjil\",sekolah!$E$28,sekolah!$E$29)","v":"Sampang, 17 maret 2019"}]
[null,null,null,null,null,null,null,null,null,"Orang tua / wali",null,null,null,null,null,null,null,null,null,null,null,null,null,null,null,{"$f":"IF($A$5<7,\"Guru Kelas  \"&sekolah!$E$20,\"Wali Kelas   \"&sekolah!$E$20)","v":"Wali Kelas   9"},null,null,null,null,null,null,null,null,null,null,null,"Orang tua / wali",null,null,null,null,null,null,null,null,null,null,null,null,null,null,{"$f":"IF($A$5<7,\"Guru Kelas  \"&sekolah!$E$20,\"Wali Kelas   \"&sekolah!$E$20)","v":"Wali Kelas   9"}]
[]
[]
[]
[null,null,null,null,null,null,null,null,null,"………………………….",null,null,null,null,null,null,null,null,null,null,null,null,null,null,null,{"$f":"sekolah!$E$23","v":"Rusli,MPd"},null,null,null,null,null,null,null,null,null,null,null,"………………………….",null,null,null,null,null,null,null,null,null,null,null,null,null,null,{"$f":"sekolah!$E$23","v":"Rusli,MPd"}]
[null,null,null,null,null,null,null,null,null,null,null,null,null,null,null,null,null,null,null,"Mengetahui",null,null,null,null,null,{"$f":"\"NIP. \"&sekolah!$E$24","v":"NIP. "},null,null,null,null,null,null,null,null,null,null,null,null,null,null,null,null,null,null,null,null,"Mengetahui",null,null,null,null,null,{"$f":"\"NIP. \"&sekolah!$E$24","v":"NIP. "}]
[null,null,null,null,null,null,null,null,null,null,null,null,null,null,null,null,null,null,null,{"$f":"\"Kepala \"&sekolah!$E$5","v":"Kepala MTs Nurul Hidayah"},null,null,null,null,null,null,null,null,null,null,null,null,null,null,null,null,null,null,null,null,null,null,null,null,null,null,{"$f":"\"Kepala \"&sekolah!$E$5","v":"Kepala MTs Nurul Hidayah"}]
[]
[]
[]
[null,null,null,null,null,null,null,null,null,null,null,null,null,null,null,null,null,null,null,{"$f":"sekolah!$E$18","v":"Syafaruddin,M.MPd"},null,null,null,null,null,null,null,null,null,null,null,null,null,null,null,null,null,null,null,null,null,null,null,null,null,null,{"$f":"sekolah!$E$18","v":"Syafaruddin,M.MPd"}]
[null,null,null,null,null,null,null,null,null,null,null,null,null,null,null,null,null,null,null,{"$f":"\"NIP. \"&sekolah!$E$19","v":"NIP. 198112102005011004"},null,null,null,null,null,null,null,null,null,null,null,null,null,null,null,null,null,null,null,null,null,null,null,null,null,null,{"$f":"\"NIP. \"&sekolah!$E$19","v":"NIP. 198112102005011004"}]

{"sheet":"mutasi","index":16,"n_rows":0,"n_cols":0,"rows_kept":0,"cut":false,"hidden":true,"merged":[]}

{"sheet":"raport2","index":17,"n_rows":0,"n_cols":0,"rows_kept":0,"cut":false,"hidden":true,"merged":[]}

{"sheet":"raport3","index":18,"n_rows":0,"n_cols":0,"rows_kept":0,"cut":false,"hidden":true,"merged":[]}